{"text_format":"1","workbook":"xlsx","n_sheets":14,"sheets":["Lists","EULA","HOME","SETUP","ADDERS","GCS","ESTIMATE","REPORTING","INSPECTION CHECKLIST","SUMMARY COST PROPOSAL","DETAIL COST PROPOSAL","SCOPE PROPOSAL ","BLANK PROPOSAL","GC SOFT COST REPORT"],"not_rendered":{"charts":0,"images":24,"macros":1,"external_links":1,"defined_names":185,"comments":0,"pivot_tables":0},"unopened":[],"bounds":{"document_bytes":16777216,"sheet_cells":100000,"rows_first":2000,"rows_last":500,"rows_between":2000,"halvings":0,"cell_chars":16384,"cell_head_chars":4096},"cells_cut":0,"cells_raw":0,"read":"whole","date_system":"1900"}

{"sheet":"Lists","index":0,"n_rows":73,"n_cols":53,"rows_kept":73,"cut":false,"hidden":true,"merged":[[70,32,70,41],[71,32,71,41],[72,32,72,41],[61,32,61,41],[62,32,62,41],[63,32,63,41],[64,32,64,41],[65,32,65,41],[66,32,66,41],[67,32,67,41],[68,32,68,41],[69,32,69,41],[52,32,52,41],[53,32,53,41],[54,32,54,41],[55,32,55,41],[56,32,56,41],[57,32,57,41],[58,32,58,41],[59,32,59,41],[60,32,60,41],[43,32,43,41],[44,32,44,41],[45,32,45,41],[46,32,46,41],[47,32,47,41],[48,32,48,41],[49,32,49,41],[50,32,50,41],[51,32,51,41],[34,32,34,41],[35,32,35,41],[36,32,36,41],[37,32,37,41],[38,32,38,41],[39,32,39,41],[40,32,40,41],[41,32,41,41],[42,32,42,41],[25,32,25,41],[26,32,26,41],[27,32,27,41],[28,32,28,41],[29,32,29,41],[30,32,30,41],[31,32,31,41],[32,32,32,41],[33,32,33,41],[401,17,402,18],[403,17,404,18],[405,17,406,18],[407,17,408,18],[409,17,410,18],[411,17,412,18],[389,17,390,18],[437,19,439,49],[425,17,426,18],[427,17,428,18],[429,17,430,18],[431,17,432,18],[433,17,434,18],[435,17,436,18],[413,17,414,18],[415,17,416,18],[417,17,418,18],[419,17,420,18],[421,17,422,18],[423,17,424,18],[391,17,392,18],[393,17,394,18],[395,17,396,18],[397,17,398,18],[399,17,400,18],[377,17,378,18],[379,17,380,18],[381,17,382,18],[383,17,384,18],[385,17,386,18],[387,17,388,18],[365,17,366,18],[367,17,368,18],[369,17,370,18],[371,17,372,18],[373,17,374,18],[375,17,376,18],[353,17,354,18],[355,17,356,18],[357,17,358,18],[359,17,360,18],[361,17,362,18],[363,17,364,18],[341,17,342,18],[343,17,344,18],[345,17,346,18],[347,17,348,18],[349,17,350,18],[351,17,352,18],[329,17,330,18],[331,17,332,18],[333,17,334,18],[335,17,336,18],[337,17,338,18],[339,17,340,18],[317,17,318,18],[319,17,320,18],[321,17,322,18],[323,17,324,18],[325,17,326,18],[327,17,328,18],[305,17,306,18],[307,17,308,18],[309,17,310,18],[311,17,312,18],[313,17,314,18],[315,17,316,18],[293,17,294,18],[295,17,296,18],[297,17,298,18],[299,17,300,18],[301,17,302,18],[303,17,304,18],[281,17,282,18],[283,17,284,18],[285,17,286,18],[287,17,288,18],[289,17,290,18],[291,17,292,18],[269,17,270,18],[271,17,272,18],[273,17,274,18],[275,17,276,18],[277,17,278,18],[279,17,280,18],[257,17,258,18],[259,17,260,18],[261,17,262,18],[263,17,264,18],[265,17,266,18],[267,17,268,18],[245,17,246,18],[247,17,248,18],[249,17,250,18],[251,17,252,18],[253,17,254,18],[255,17,256,18],[233,17,234,18],[235,17,236,18],[237,17,238,18],[239,17,240,18],[241,17,242,18],[243,17,244,18],[221,17,222,18],[223,17,224,18],[225,17,226,18],[227,17,228,18],[229,17,230,18],[231,17,232,18],[209,17,210,18],[211,17,212,18],[213,17,214,18],[215,17,216,18],[217,17,218,18],[219,17,220,18],[197,17,198,18],[199,17,200,18],[201,17,202,18],[203,17,204,18],[205,17,206,18],[207,17,208,18],[185,17,186,18],[187,17,188,18],[189,17,190,18],[191,17,192,18],[193,17,194,18],[195,17,196,18],[173,17,174,18],[175,17,176,18],[177,17,178,18],[179,17,180,18],[181,17,182,18],[183,17,184,18],[161,17,162,18],[163,17,164,18],[165,17,166,18],[167,17,168,18],[169,17,170,18],[171,17,172,18],[149,17,150,18],[151,17,152,18],[153,17,154,18],[155,17,156,18],[157,17,158,18],[159,17,160,18],[137,17,138,18],[139,17,140,18],[141,17,142,18],[143,17,144,18],[145,17,146,18],[147,17,148,18],[125,17,126,18],[127,17,128,18],[129,17,130,18],[131,17,132,18],[133,17,134,18],[135,17,136,18],[113,17,114,18],[115,17,116,18],[117,17,118,18],[119,17,120,18],[121,17,122,18],[123,17,124,18],[101,17,102,18],[103,17,104,18],[105,17,106,18],[107,17,108,18],[109,17,110,18],[111,17,112,18],[89,17,90,18],[91,17,92,18],[93,17,94,18],[95,17,96,18],[97,17,98,18],[99,17,100,18],[77,17,78,18],[79,17,80,18],[81,17,82,18],[83,17,84,18],[85,17,86,18],[87,17,88,18],[65,17,66,18],[67,17,68,18],[69,17,70,18],[71,17,72,18],[73,17,74,18],[75,17,76,18],[59,17,60,18],[61,17,62,18],[63,17,64,18],[48,17,49,18],[48,21,48,30],[49,21,49,30],[55,17,56,18],[55,21,55,30],[57,17,58,18],[42,17,43,18],[42,21,42,30],[43,21,43,30],[52,17,53,18],[52,21,52,30],[53,21,53,30],[54,17,54,18],[54,21,54,30],[56,21,56,30],[57,21,57,30],[58,21,58,30],[50,17,51,18],[50,21,50,30],[51,21,51,30],[40,17,41,18],[40,21,40,30],[41,21,41,30],[46,17,47,18],[46,21,46,30],[47,21,47,30],[44,17,45,18],[44,21,44,30],[45,21,45,30],[34,17,35,18],[34,21,34,30],[35,21,35,30],[32,17,33,18],[32,21,32,30],[33,21,33,30],[38,17,39,18],[38,21,38,30],[39,21,39,30],[36,17,37,18],[36,21,36,30],[37,21,37,30],[24,17,25,18],[24,21,24,30],[25,21,25,30],[26,17,27,18],[26,21,26,30],[27,21,27,30],[30,17,31,18],[30,21,30,30],[31,21,31,30],[28,17,29,18],[28,21,28,30],[29,21,29,30],[18,17,19,18],[18,21,18,30],[19,21,19,30],[22,21,22,30],[23,21,23,30],[20,17,21,18],[20,21,20,30],[21,21,21,30],[22,17,23,18],[10,17,11,18],[10,21,10,30],[11,21,11,30],[12,17,13,18],[12,21,12,30],[13,21,13,30],[16,17,17,18],[16,21,16,30],[17,21,17,30],[14,17,15,18],[14,21,14,30],[15,21,15,30],[0,19,0,71],[2,17,3,18],[3,21,4,30],[4,17,5,18],[5,21,5,30],[8,17,9,18],[8,21,8,30],[9,21,9,30],[6,17,7,18],[6,21,6,30],[7,21,7,30],[5,32,5,41],[6,32,6,41],[7,32,7,41],[9,32,9,41],[59,21,59,30],[60,21,60,30],[61,21,61,30],[62,21,62,30],[63,21,63,30],[64,21,64,30],[65,21,65,30],[66,21,66,30],[67,21,67,30],[25,52,25,61],[6,52,6,61],[7,52,7,61],[8,52,8,61],[9,52,9,61],[10,52,10,61],[11,52,11,61],[12,52,12,61],[13,52,13,61],[14,52,14,61],[10,32,10,41],[17,52,17,61],[18,52,18,61],[19,52,19,61],[20,52,20,61],[21,52,21,61],[22,52,22,61],[23,52,23,61],[24,52,24,61],[12,32,12,41],[13,32,13,41],[15,32,15,41],[16,32,16,41],[17,32,17,41],[19,32,19,41],[20,32,20,41],[22,32,22,41],[23,32,23,41],[24,32,24,41]]}
[null,null,null,null,null,null,null,null,null,null,null,null,null,null,null,null,null,null,null,"Lists"]
[]
[]
[null,null,null,null,null,null,null,null,null,null,null,null,null,null,null,null,null,null,null,null,null,"States"]
[]
[null,null,null,null,null,null,null,null,null,null,null,null,null,null,null,null,null,null,null,null,null,"Alabama","Alabama","Alabama","Alabama","Alabama","Alabama","Alabama","Alabama","Alabama","Alabama",null,"Lump Sum",null,null,null,null,null,null,null,null,null,null,null,null,null,null,null,null,null,null,null,"Type of Project"]
[null,null,null,null,null,null,null,null,null,null,null,null,null,null,null,null,null,null,null,null,null,"Alaska","Alaska","Alaska","Alaska","Alaska","Alaska","Alaska","Alaska","Alaska","Alaska",null,"%",null,null,null,null,null,null,null,null,null,null,null,null,null,null,null,null,null,null,null,"New Construction"]
[null,null,null,null,null,null,null,null,null,null,null,null,null,null,null,null,null,null,null,null,null,"Arizona","Arizona","Arizona","Arizona","Arizona","Arizona","Arizona","Arizona","Arizona","Arizona",null,null,null,null,null,null,null,null,null,null,null,null,null,null,null,null,null,null,null,null,null,"Addition"]
[null,null,null,null,null,null,null,null,null,null,null,null,null,null,null,null,null,null,null,null,null,"Arkansas","Arkansas","Arkansas","Arkansas","Arkansas","Arkansas","Arkansas","Arkansas","Arkansas","Arkansas",null,null,null,null,null,null,null,null,null,null,null,null,null,null,null,null,null,null,null,null,null,"Complete Rehab"]
[null,null,null,null,null,null,null,null,null,null,null,null,null,null,null,null,null,null,null,null,null,"California","California","California","California","California","California","California","California","California","California",null,"Yes",null,null,null,null,null,null,null,null,null,null,null,null,null,null,null,null,null,null,null,"Exterior Remodel"]
[null,null,null,null,null,null,null,null,null,null,null,null,null,null,null,null,null,null,null,null,null,"Colorado","Colorado","Colorado","Colorado","Colorado","Colorado","Colorado","Colorado","Colorado","Colorado",null,"No",null,null,null,null,null,null,null,null,null,null,null,null,null,null,null,null,null,null,null,"Kitchen Remodel"]
[null,null,null,null,null,null,null,null,null,null,null,null,null,null,null,null,null,null,null,null,null,"Connecticut","Connecticut","Connecticut","Connecticut","Connecticut","Connecticut","Connecticut","Connecticut","Connecticut","Connecticut",null,null,null,null,null,null,null,null,null,null,null,null,null,null,null,null,null,null,null,null,null,"Bathroom Remodel"]
[null,null,null,null,null,null,null,null,null,null,null,null,null,null,null,null,null,null,null,null,null,"Delaware","Delaware","Delaware","Delaware","Delaware","Delaware","Delaware","Delaware","Delaware","Delaware",null,"wks",null,null,null,null,null,null,null,null,null,null,null,null,null,null,null,null,null,null,null,"Interior Finishes"]
[null,null,null,null,null,null,null,null,null,null,null,null,null,null,null,null,null,null,null,null,null,"Florida","Florida","Florida","Florida","Florida","Florida","Florida","Florida","Florida","Florida",null,"mos",null,null,null,null,null,null,null,null,null,null,null,null,null,null,null,null,null,null,null,"Landscaping"]
[null,null,null,null,null,null,null,null,null,null,null,null,null,null,null,null,null,null,null,null,null,"Georgia","Georgia","Georgia","Georgia","Georgia","Georgia","Georgia","Georgia","Georgia","Georgia",null,null,null,null,null,null,null,null,null,null,null,null,null,null,null,null,null,null,null,null,null,"Other"]
[null,null,null,null,null,null,null,null,null,null,null,null,null,null,null,null,null,null,null,null,null,"Hawaii","Hawaii","Hawaii","Hawaii","Hawaii","Hawaii","Hawaii","Hawaii","Hawaii","Hawaii",null,"Estimate Subtotal"]
[null,null,null,null,null,null,null,null,null,null,null,null,null,null,null,null,null,null,null,null,null,"Idaho","Idaho","Idaho","Idaho","Idaho","Idaho","Idaho","Idaho","Idaho","Idaho",null,"Total Estimate",null,null,null,null,null,null,null,null,null,null,null,null,null,null,null,null,null,null,null,"Property Types"]
[null,null,null,null,null,null,null,null,null,null,null,null,null,null,null,null,null,null,null,null,null,"Illinois","Illinois","Illinois","Illinois","Illinois","Illinois","Illinois","Illinois","Illinois","Illinois",null,null,null,null,null,null,null,null,null,null,null,null,null,null,null,null,null,null,null,null,null,"Single Family Home"]
[null,null,null,null,null,null,null,null,null,null,null,null,null,null,null,null,null,null,null,null,null,"Indiana","Indiana","Indiana","Indiana","Indiana","Indiana","Indiana","Indiana","Indiana","Indiana",null,null,null,null,null,null,null,null,null,null,null,null,null,null,null,null,null,null,null,null,null,"Duplex"]
[null,null,null,null,null,null,null,null,null,null,null,null,null,null,null,null,null,null,null,null,null,"Iowa","Iowa","Iowa","Iowa","Iowa","Iowa","Iowa","Iowa","Iowa","Iowa",null,"Internal Report",null,null,null,null,null,null,null,null,null,null,null,null,null,null,null,null,null,null,null,"Triplex"]
[null,null,null,null,null,null,null,null,null,null,null,null,null,null,null,null,null,null,null,null,null,"Kansas","Kansas","Kansas","Kansas","Kansas","Kansas","Kansas","Kansas","Kansas","Kansas",null,"Client Proposal",null,null,null,null,null,null,null,null,null,null,null,null,null,null,null,null,null,null,null,"Fourplex"]
[null,null,null,null,null,null,null,null,null,null,null,null,null,null,null,null,null,null,null,null,null,"Kentucky","Kentucky","Kentucky","Kentucky","Kentucky","Kentucky","Kentucky","Kentucky","Kentucky","Kentucky",null,null,null,null,null,null,null,null,null,null,null,null,null,null,null,null,null,null,null,null,null,"Multiplex"]
[null,null,null,null,null,null,null,null,null,null,null,null,null,null,null,null,null,null,null,null,null,"Louisiana","Louisiana","Louisiana","Louisiana","Louisiana","Louisiana","Louisiana","Louisiana","Louisiana","Louisiana",null,1.25,null,null,null,null,null,null,null,null,null,null,null,null,null,null,null,null,null,null,null,"Apartment"]
[null,null,null,null,null,null,null,null,null,null,null,null,null,null,null,null,null,null,null,null,null,"Maine","Maine","Maine","Maine","Maine","Maine","Maine","Maine","Maine","Maine",null,1.24,null,null,null,null,null,null,null,null,null,null,null,null,null,null,null,null,null,null,null,"Condominum"]
[null,null,null,null,null,null,null,null,null,null,null,null,null,null,null,null,null,null,null,null,null,"Maryland","Maryland","Maryland","Maryland","Maryland","Maryland","Maryland","Maryland","Maryland","Maryland",null,1.23,null,null,null,null,null,null,null,null,null,null,null,null,null,null,null,null,null,null,null,"Townhouse"]
[null,null,null,null,null,null,null,null,null,null,null,null,null,null,null,null,null,null,null,null,null,"Massachusetts","Massachusetts","Massachusetts","Massachusetts","Massachusetts","Massachusetts","Massachusetts","Massachusetts","Massachusetts","Massachusetts",null,1.22,null,null,null,null,null,null,null,null,null,null,null,null,null,null,null,null,null,null,null,"Other"]
[null,null,null,null,null,null,null,null,null,null,null,null,null,null,null,null,null,null,null,null,null,"Michigan","Michigan","Michigan","Michigan","Michigan","Michigan","Michigan","Michigan","Michigan","Michigan",null,1.21]
[null,null,null,null,null,null,null,null,null,null,null,null,null,null,null,null,null,null,null,null,null,"Minnesota","Minnesota","Minnesota","Minnesota","Minnesota","Minnesota","Minnesota","Minnesota","Minnesota","Minnesota",null,1.2]
[null,null,null,null,null,null,null,null,null,null,null,null,null,null,null,null,null,null,null,null,null,"Mississippi","Mississippi","Mississippi","Mississippi","Mississippi","Mississippi","Mississippi","Mississippi","Mississippi","Mississippi",null,1.19]
[null,null,null,null,null,null,null,null,null,null,null,null,null,null,null,null,null,null,null,null,null,"Missouri","Missouri","Missouri","Missouri","Missouri","Missouri","Missouri","Missouri","Missouri","Missouri",null,1.18]
[null,null,null,null,null,null,null,null,null,null,null,null,null,null,null,null,null,null,null,null,null,"Montana","Montana","Montana","Montana","Montana","Montana","Montana","Montana","Montana","Montana",null,1.17]
[null,null,null,null,null,null,null,null,null,null,null,null,null,null,null,null,null,null,null,null,null,"Nebraska","Nebraska","Nebraska","Nebraska","Nebraska","Nebraska","Nebraska","Nebraska","Nebraska","Nebraska",null,1.1599999999999999]
[null,null,null,null,null,null,null,null,null,null,null,null,null,null,null,null,null,null,null,null,null,"Nevada","Nevada","Nevada","Nevada","Nevada","Nevada","Nevada","Nevada","Nevada","Nevada",null,1.1499999999999999]
[null,null,null,null,null,null,null,null,null,null,null,null,null,null,null,null,null,null,null,null,null,"New Hampshire","New Hampshire","New Hampshire","New Hampshire","New Hampshire","New Hampshire","New Hampshire","New Hampshire","New Hampshire","New Hampshire",null,1.1399999999999999]
[null,null,null,null,null,null,null,null,null,null,null,null,null,null,null,null,null,null,null,null,null,"New Jersey","New Jersey","New Jersey","New Jersey","New Jersey","New Jersey","New Jersey","New Jersey","New Jersey","New Jersey",null,1.1299999999999999]
[null,null,null,null,null,null,null,null,null,null,null,null,null,null,null,null,null,null,null,null,null,"New Mexico","New Mexico","New Mexico","New Mexico","New Mexico","New Mexico","New Mexico","New Mexico","New Mexico","New Mexico",null,1.1200000000000001]
[null,null,null,null,null,null,null,null,null,null,null,null,null,null,null,null,null,null,null,null,null,"New York","New York","New York","New York","New York","New York","New York","New York","New York","New York",null,1.1100000000000001]
[null,null,null,null,null,null,null,null,null,null,null,null,null,null,null,null,null,null,null,null,null,"North Carolina","North Carolina","North Carolina","North Carolina","North Carolina","North Carolina","North Carolina","North Carolina","North Carolina","North Carolina",null,1.1000000000000001]
[null,null,null,null,null,null,null,null,null,null,null,null,null,null,null,null,null,null,null,null,null,"North Dakota","North Dakota","North Dakota","North Dakota","North Dakota","North Dakota","North Dakota","North Dakota","North Dakota","North Dakota",null,1.0900000000000001]
[null,null,null,null,null,null,null,null,null,null,null,null,null,null,null,null,null,null,null,null,null,"Ohio","Ohio","Ohio","Ohio","Ohio","Ohio","Ohio","Ohio","Ohio","Ohio",null,1.08]
[null,null,null,null,null,null,null,null,null,null,null,null,null,null,null,null,null,null,null,null,null,"Oklahoma","Oklahoma","Oklahoma","Oklahoma","Oklahoma","Oklahoma","Oklahoma","Oklahoma","Oklahoma","Oklahoma",null,1.07]
[null,null,null,null,null,null,null,null,null,null,null,null,null,null,null,null,null,null,null,null,null,"Oregon","Oregon","Oregon","Oregon","Oregon","Oregon","Oregon","Oregon","Oregon","Oregon",null,1.06]
[null,null,null,null,null,null,null,null,null,null,null,null,null,null,null,null,null,null,null,null,null,"Pennsylvania","Pennsylvania","Pennsylvania","Pennsylvania","Pennsylvania","Pennsylvania","Pennsylvania","Pennsylvania","Pennsylvania","Pennsylvania",null,1.05]
[null,null,null,null,null,null,null,null,null,null,null,null,null,null,null,null,null,null,null,null,null,"Rhode Island","Rhode Island","Rhode Island","Rhode Island","Rhode Island","Rhode Island","Rhode Island","Rhode Island","Rhode Island","Rhode Island",null,1.04]
[null,null,null,null,null,null,null,null,null,null,null,null,null,null,null,null,null,null,null,null,null,"South Carolina","South Carolina","South Carolina","South Carolina","South Carolina","South Carolina","South Carolina","South Carolina","South Carolina","South Carolina",null,1.03]
[null,null,null,null,null,null,null,null,null,null,null,null,null,null,null,null,null,null,null,null,null,"South Dakota","South Dakota","South Dakota","South Dakota","South Dakota","South Dakota","South Dakota","South Dakota","South Dakota","South Dakota",null,1.02]
[null,null,null,null,null,null,null,null,null,null,null,null,null,null,null,null,null,null,null,null,null,"Tennessee","Tennessee","Tennessee","Tennessee","Tennessee","Tennessee","Tennessee","Tennessee","Tennessee","Tennessee",null,1.01]
[null,null,null,null,null,null,null,null,null,null,null,null,null,null,null,null,null,null,null,null,null,"Texas","Texas","Texas","Texas","Texas","Texas","Texas","Texas","Texas","Texas",null,1]
[null,null,null,null,null,null,null,null,null,null,null,null,null,null,null,null,null,null,null,null,null,"Utah","Utah","Utah","Utah","Utah","Utah","Utah","Utah","Utah","Utah",null,0.99]
[null,null,null,null,null,null,null,null,null,null,null,null,null,null,null,null,null,null,null,null,null,"Vermont","Vermont","Vermont","Vermont","Vermont","Vermont","Vermont","Vermont","Vermont","Vermont",null,0.98]
[null,null,null,null,null,null,null,null,null,null,null,null,null,null,null,null,null,null,null,null,null,"Virginia","Virginia","Virginia","Virginia","Virginia","Virginia","Virginia","Virginia","Virginia","Virginia",null,0.97]
[null,null,null,null,null,null,null,null,null,null,null,null,null,null,null,null,null,null,null,null,null,"Washington","Washington","Washington","Washington","Washington","Washington","Washington","Washington","Washington","Washington",null,0.96]
[null,null,null,null,null,null,null,null,null,null,null,null,null,null,null,null,null,null,null,null,null,"West Virginia","West Virginia","West Virginia","West Virginia","West Virginia","West Virginia","West Virginia","West Virginia","West Virginia","West Virginia",null,0.95]
[null,null,null,null,null,null,null,null,null,null,null,null,null,null,null,null,null,null,null,null,null,"Wisconsin","Wisconsin","Wisconsin","Wisconsin","Wisconsin","Wisconsin","Wisconsin","Wisconsin","Wisconsin","Wisconsin",null,0.94]
[null,null,null,null,null,null,null,null,null,null,null,null,null,null,null,null,null,null,null,null,null,"Wyoming","Wyoming","Wyoming","Wyoming","Wyoming","Wyoming","Wyoming","Wyoming","Wyoming","Wyoming",null,0.93]
[null,null,null,null,null,null,null,null,null,null,null,null,null,null,null,null,null,null,null,null,null,null,null,null,null,null,null,null,null,null,null,null,0.92]
[null,null,null,null,null,null,null,null,null,null,null,null,null,null,null,null,null,null,null,null,null,"ls",null,null,null,null,null,null,null,null,null,null,0.91]
[null,null,null,null,null,null,null,null,null,null,null,null,null,null,null,null,null,null,null,null,null,"ea",null,null,null,null,null,null,null,null,null,null,0.9]
[null,null,null,null,null,null,null,null,null,null,null,null,null,null,null,null,null,null,null,null,null,"lf",null,null,null,null,null,null,null,null,null,null,0.89]
[null,null,null,null,null,null,null,null,null,null,null,null,null,null,null,null,null,null,null,null,null,"sf",null,null,null,null,null,null,null,null,null,null,0.88]
[null,null,null,null,null,null,null,null,null,null,null,null,null,null,null,null,null,null,null,null,null,"sy",null,null,null,null,null,null,null,null,null,null,0.87]
[null,null,null,null,null,null,null,null,null,null,null,null,null,null,null,null,null,null,null,null,null,"cy",null,null,null,null,null,null,null,null,null,null,0.86]
[null,null,null,null,null,null,null,null,null,null,null,null,null,null,null,null,null,null,null,null,null,"sq",null,null,null,null,null,null,null,null,null,null,0.85]
[null,null,null,null,null,null,null,null,null,null,null,null,null,null,null,null,null,null,null,null,null,"hrs",null,null,null,null,null,null,null,null,null,null,0.84]
[null,null,null,null,null,null,null,null,null,null,null,null,null,null,null,null,null,null,null,null,null,"weeks",null,null,null,null,null,null,null,null,null,null,0.83]
[null,null,null,null,null,null,null,null,null,null,null,null,null,null,null,null,null,null,null,null,null,"months",null,null,null,null,null,null,null,null,null,null,0.82]
[null,null,null,null,null,null,null,null,null,null,null,null,null,null,null,null,null,null,null,null,null,"sheet",null,null,null,null,null,null,null,null,null,null,0.81]
[null,null,null,null,null,null,null,null,null,null,null,null,null,null,null,null,null,null,null,null,null,"gallon",null,null,null,null,null,null,null,null,null,null,0.8]
[null,null,null,null,null,null,null,null,null,null,null,null,null,null,null,null,null,null,null,null,null,null,null,null,null,null,null,null,null,null,null,null,0.79]
[null,null,null,null,null,null,null,null,null,null,null,null,null,null,null,null,null,null,null,null,null,null,null,null,null,null,null,null,null,null,null,null,0.78]
[null,null,null,null,null,null,null,null,null,null,null,null,null,null,null,null,null,null,null,null,null,null,null,null,null,null,null,null,null,null,null,null,0.77]
[null,null,null,null,null,null,null,null,null,null,null,null,null,null,null,null,null,null,null,null,null,null,null,null,null,null,null,null,null,null,null,null,0.76]
[null,null,null,null,null,null,null,null,null,null,null,null,null,null,null,null,null,null,null,null,null,null,null,null,null,null,null,null,null,null,null,null,0.75]

{"sheet":"EULA","index":1,"n_rows":18,"n_cols":4,"rows_kept":18,"cut":false,"hidden":false,"merged":[[17,2,17,11],[3,3,5,6],[16,3,16,10],[7,3,7,10],[8,3,8,10],[9,3,9,10],[10,3,10,10],[11,3,11,10],[12,3,12,10],[13,3,13,10],[14,3,14,10],[15,3,15,10]]}
[]
[]
[]
[null,null,null,"END-USER LICENSE AGREEMENT"]
[]
[]
[]
[null,null,null,"IMPORTANT—READ CAREFULLY:   This End-User License Agreement (“EULA”) is a legal agreement between you and remodelcostspreadsheet.com that covers all products made by remodelcostspreadsheet.com. By downloading, accessing or otherwise using any spreadsheets you agree to be bound by the terms of this EULA. "]
[null,null,null,"Spreadsheet License"]
[null,null,null,"Each spreadsheet is protected by copyright laws and international copyright treaties, as well as other intellectual property laws and treaties. "]
[null,null,null,"1. GRANT OF LICENSE.  This EULA grants you the right to use this spreadsheet for personal or business use only and it may not be distributed outside of your organization.  You may not sell, resell, license, rent, lease, lend, or otherwise transfer for value.  You may not remove or alter any logo, trademark, copyright, hyperlinks, disclaimers, terms of use, or other proprietary notices within the spreadsheet.  "]
[null,null,null,"2. TERMINATION.  Without prejudice to any other rights, remodelcostspreadsheet.com may terminate this EULA if you fail to comply with the terms and conditions of this EULA.  In such event, you must destroy all copies of any spreadsheet.  "]
[null,null,null,"3. DISCLAIMER.  Real property businesses and earnings derived therefrom, have unknown risks \ninvolved, and are not suitable for everyone.  Making decisions based on any information presented in our products or on our website, should be done only with the knowledge that you could experience significant losses, or make no money at all.  Only risk capital should be used.\n\n"]
[null,null,null,"All products and services of our company are for educational and informational purposes only and are provided \"As-Is\" without warranty of any kind.  remodelcostspreadsheet.com hereby disclaim all warranties and conditions with regard to the products, including all implied warranties and conditions of merchantability, fitness for a particular purpose, title and non-infringement.  In no event shall remodelcostspreadsheet.com be liable for any special, indirect or consequential damages or any damages whatsoever resulting from loss of use, data or profits, whether in action of the contract, negligence or other tortious action, arising out of or in connection with the products.  Use caution and seek the advice of qualified professionals.  Check with your accountant, lawyer or professional advisor, before acting on this or any information."]
[null,null,null,"Users of our products, services and website are advised to do their own due diligence when it comes to making business decisions and all information, programs, products and services that have been provided should be independently verified by your own qualified professionals.  Our information, products and services should be carefully considered and evaluated before reaching a business decision, or whether to rely on them.  "]
[null,null,null,"You agree that our company is not responsible for the success or failure of your business decisions relating to any information presented by our company, or our company products and/or services."]
[null,null,null,"4. MISCELLANEOUS. Some states do not allow the limitation or exclusion of liability for incidental or consequential damages, so the above limitation may not apply to you."]
[null,null,"© 2017 by RemodelCostSpreadsheet.com. All rights reserved"]

{"sheet":"HOME","index":2,"n_rows":35,"n_cols":60,"rows_kept":35,"cut":false,"hidden":false,"merged":[[31,32,31,40],[14,14,14,20],[14,55,14,63],[3,13,4,29],[8,2,9,8],[11,2,12,8],[34,10,35,73],[5,1,6,9],[7,2,7,8],[10,2,10,8],[14,22,14,28],[14,33,14,39],[31,41,31,49],[31,50,31,58],[31,59,31,67],[14,43,14,52],[19,13,20,29],[31,14,31,22],[31,23,31,31]]}
[]
[]
[]
[null,null,null,null,null,null,null,null,null,null,null,null,null,"Welcome"]
[]
[null,"Sheet Settings"]
[]
[null,null,"Zoom Settings"]
[null,null,1]
[]
[null,null,"# of Licenses"]
[null,null,"+1 License"]
[]
[]
[null,null,null,null,null,null,null,null,null,null,null,null,null,null,"Get Started",null,null,null,null,null,null,null,"Project Setup",null,null,null,null,null,null,null,null,null,null,"Estimator",null,null,null,null,null,null,null,null,null,"General Conditions",null,null,null,null,null,null,null,null,null,null,null,"Adders"]
[]
[]
[]
[]
[null,null,null,null,null,null,null,null,null,null,null,null,null,"Estimate Reports"]
[]
[]
[]
[]
[]
[]
[]
[]
[]
[]
[]
[null,null,null,null,null,null,null,null,null,null,null,null,null,null,"Inspection Checklist",null,null,null,null,null,null,null,null,"Summary Proposal",null,null,null,null,null,null,null,null,"Detailed Proposal",null,null,null,null,null,null,null,null,"Scope Proposal",null,null,null,null,null,null,null,null,"Blank Proposal",null,null,null,null,null,null,null,null,"GC & Soft Cost Proposal"]
[]
[]
[null,null,null,null,null,null,null,null,null,null,"© 2017 by RemodelCostSpreadsheet.com. All rights reserved"]

{"sheet":"SETUP","index":3,"n_rows":46,"n_cols":66,"rows_kept":46,"cut":false,"hidden":false,"merged":[[31,18,32,32],[35,18,36,32],[31,33,32,69],[35,33,36,69],[26,33,27,69],[33,18,34,32],[33,33,34,69],[20,18,21,69],[22,18,23,32],[22,33,23,69],[26,18,27,32],[29,18,30,69],[24,18,25,32],[24,33,25,47],[24,48,25,52],[24,53,25,69],[45,37,46,69],[43,33,44,69],[37,33,38,69],[41,18,42,32],[37,18,38,32],[39,33,40,69],[43,18,44,32],[41,33,42,47],[41,48,42,52],[41,53,42,69],[39,18,40,32],[2,18,3,69],[14,18,16,32],[12,33,13,69],[17,55,18,60],[17,47,18,54],[4,18,5,32],[10,18,11,32],[6,18,7,32],[6,33,7,69],[12,18,13,32],[4,33,5,69],[10,33,11,69],[8,18,9,32],[8,33,9,69],[17,18,18,32],[17,33,18,40],[17,41,18,46],[17,61,18,69],[14,45,16,56],[14,33,16,44],[14,57,16,63],[15,65,15,68]]}
[]
[]
[null,null,null,null,null,null,null,null,null,null,null,null,null,null,null,null,null,null,"Project Information:"]
[]
[null,null,null,null,null,null,null,null,null,null,null,null,null,null,null,null,null,null,"Job Name:",null,null,null,null,null,null,null,null,null,null,null,null,null,null,"Test Project"]
[]
[null,null,null,null,null,null,null,null,null,null,null,null,null,null,null,null,null,null,"Project Type:"]
[]
[null,null,null,null,null,null,null,null,null,null,null,null,null,null,null,null,null,null,"Property Type:",null,null,null,null,null,null,null,null,null,null,null,null,null,null,"Single Family Home"]
[]
[null,null,null,null,null,null,null,null,null,null,null,null,null,null,null,null,null,null,"Project Address:",null,null,null,null,null,null,null,null,null,null,null,null,null,null,"1234 N. Main St"]
[]
[null,null,null,null,null,null,null,null,null,null,null,null,null,null,null,null,null,null,"City/State/Zip Code:",null,null,null,null,null,null,null,null,null,null,null,null,null,null,"Kansas City, MO 64116"]
[]
[null,null,null,null,null,null,null,null,null,null,null,null,null,null,null,null,null,null,"Project Size:",null,null,null,null,null,null,null,null,null,null,null,null,null,null,null,null,null,null,null,null,null,null,null,null,null,null,"Project Duration: "]
[null,null,null,null,null,null,null,null,null,null,null,null,null,null,null,null,null,null,null,null,null,null,null,null,null,null,null,null,null,null,null,null,null,null,null,null,null,null,null,null,null,null,null,null,null,null,null,null,null,null,null,null,null,null,null,null,null,null,null,null,null,null,null,null,null,"wks"]
[]
[null,null,null,null,null,null,null,null,null,null,null,null,null,null,null,null,null,null,"# of Stories:",null,null,null,null,null,null,null,null,null,null,null,null,null,null,null,null,null,null,null,null,null,null,"# of Beds: ",null,null,null,null,null,null,null,null,null,null,null,null,null,"# of Baths: "]
[]
[]
[null,null,null,null,null,null,null,null,null,null,null,null,null,null,null,null,null,null,"Client Information:"]
[]
[null,null,null,null,null,null,null,null,null,null,null,null,null,null,null,null,null,null,"Client Name:",null,null,null,null,null,null,null,null,null,null,null,null,null,null,"Test Client"]
[]
[null,null,null,null,null,null,null,null,null,null,null,null,null,null,null,null,null,null,"Phone (D):",null,null,null,null,null,null,null,null,null,null,null,null,null,null,8161234567,null,null,null,null,null,null,null,null,null,null,null,null,null,null,"Cell:"]
[]
[null,null,null,null,null,null,null,null,null,null,null,null,null,null,null,null,null,null,"Email:"]
[]
[]
[null,null,null,null,null,null,null,null,null,null,null,null,null,null,null,null,null,null,"Company Information:"]
[]
[null,null,null,null,null,null,null,null,null,null,null,null,null,null,null,null,null,null,"Company Name:",null,null,null,null,null,null,null,null,null,null,null,null,null,null,"Test Company"]
[]
[null,null,null,null,null,null,null,null,null,null,null,null,null,null,null,null,null,null,"Company Contact:",null,null,null,null,null,null,null,null,null,null,null,null,null,null,"Test Contact"]
[]
[null,null,null,null,null,null,null,null,null,null,null,null,null,null,null,null,null,null,"Street Address:",null,null,null,null,null,null,null,null,null,null,null,null,null,null,"Test Street Address"]
[]
[null,null,null,null,null,null,null,null,null,null,null,null,null,null,null,null,null,null,"City/State/Zip:",null,null,null,null,null,null,null,null,null,null,null,null,null,null,"Test City, State, Zip Code"]
[]
[null,null,null,null,null,null,null,null,null,null,null,null,null,null,null,null,null,null,"Email:",null,null,null,null,null,null,null,null,null,null,null,null,null,null,"Test@test.com"]
[]
[null,null,null,null,null,null,null,null,null,null,null,null,null,null,null,null,null,null,"Phone:",null,null,null,null,null,null,null,null,null,null,null,null,null,null,null,null,null,null,null,null,null,null,null,null,null,null,null,null,null,"Fax:"]
[]
[null,null,null,null,null,null,null,null,null,null,null,null,null,null,null,null,null,null,"Website:"]
[]
[null,null,null,null,null,null,null,null,null,null,null,null,null,null,null,null,null,null,null,null,null,null,null,null,null,null,null,null,null,null,null,null,null,null,null,null,null,"© 2015 by RemodelCostSpreadsheet.com. All rights reserved"]

{"sheet":"ADDERS","index":4,"n_rows":60,"n_cols":86,"rows_kept":60,"cut":false,"hidden":true,"merged":[[48,85,48,102],[51,85,51,102],[54,85,54,102],[9,48,9,56],[12,48,12,56],[15,48,15,56],[18,48,18,56],[21,48,21,56],[24,48,24,56],[27,48,27,56],[30,48,30,56],[33,48,33,56],[45,48,45,56],[48,48,48,56],[51,48,51,56],[24,85,24,102],[27,85,27,102],[30,85,30,102],[33,85,33,102],[45,85,45,102],[9,85,9,102],[12,85,12,102],[15,85,15,102],[18,85,18,102],[21,85,21,102],[54,76,54,83],[57,68,57,75],[57,76,57,83],[59,10,59,47],[54,48,54,56],[59,68,59,75],[59,76,59,83],[30,76,30,83],[33,76,33,83],[45,76,45,83],[48,76,48,83],[51,76,51,83],[48,62,48,66],[48,68,48,75],[51,62,51,66],[51,68,51,75],[54,62,54,66],[54,68,54,75],[30,62,30,66],[30,68,30,75],[33,62,33,66],[33,68,33,75],[45,62,45,66],[15,76,15,83],[18,76,18,83],[21,76,21,83],[24,76,24,83],[27,76,27,83],[9,76,9,83],[12,76,12,83],[2,9,3,84],[4,61,6,84],[5,48,5,56],[7,61,7,67],[7,68,7,75],[7,76,7,83],[9,62,9,66],[9,68,9,75],[5,34,5,47],[7,9,7,28],[7,29,7,37],[7,38,7,47],[7,48,7,56],[14,9,16,28],[11,9,13,28],[12,30,12,36],[18,30,18,36],[45,68,45,75],[21,62,21,66],[21,68,21,75],[24,62,24,66],[24,68,24,75],[27,62,27,66],[27,68,27,75],[12,62,12,66],[12,68,12,75],[15,62,15,66],[15,68,15,75],[18,62,18,66],[18,68,18,75],[39,62,39,66],[39,68,39,75],[36,62,36,66],[36,68,36,75],[60,34,61,47],[9,39,9,46],[44,9,46,28],[29,9,31,28],[32,9,34,28],[54,30,54,36],[54,39,54,46],[53,9,55,28],[51,30,51,36],[57,33,57,47],[47,9,49,28],[45,30,45,36],[56,9,57,28],[50,9,52,28],[51,39,51,46],[33,30,33,36],[48,39,48,46],[8,9,10,28],[9,30,9,36],[24,39,24,46],[27,39,27,46],[30,39,30,46],[33,39,33,46],[45,39,45,46],[57,48,57,55],[59,48,59,55],[33,57,33,60],[9,57,9,60],[48,57,48,60],[51,57,51,60],[57,57,57,60],[59,57,59,60],[54,57,54,60],[39,48,39,56],[36,48,36,56],[12,39,12,46],[17,9,19,28],[23,9,25,28],[26,9,28,28],[48,30,48,36],[15,30,15,36],[15,39,15,46],[18,39,18,46],[21,30,21,36],[24,30,24,36],[27,30,27,36],[30,30,30,36],[20,9,22,28],[21,39,21,46],[38,9,40,28],[39,30,39,36],[39,39,39,46],[35,9,37,28],[36,30,36,36],[36,39,36,46],[5,57,5,60],[15,57,15,60],[18,57,18,60],[21,57,21,60],[24,57,24,60],[27,57,27,60],[30,57,30,60],[7,57,7,60],[45,57,45,60],[12,57,12,60],[39,57,39,60],[36,57,36,60],[36,76,36,83],[36,85,36,102],[39,76,39,83],[39,85,39,102],[41,9,43,28],[42,30,42,36],[42,39,42,46],[42,48,42,56],[42,57,42,60],[42,62,42,66],[42,68,42,75],[42,76,42,83],[42,85,42,102]]}
[]
[]
[null,null,null,null,null,null,null,null,null,"SOFT COSTS: FEES, INSURANCE, OVERHEAD & PROFIT"]
[]
[null,null,null,null,null,null,null,null,null,null,null,null,null,null,null,null,null,null,null,null,null,null,null,null,null,null,null,null,null,null,null,null,null,null,null,null,null,null,null,null,null,null,null,null,null,null,null,null,null,null,null,null,null,null,null,null,null,null,null,null,null,"<- Raw Estimated Costs without Adders Allocated"]
[null,null,null,null,null,null,null,null,null,null,null,null,null,null,null,null,null,null,null,null,null,null,null,null,null,null,null,null,null,null,null,null,null,null,"SUBTOTAL ESTIMATE",null,null,null,null,null,null,null,null,null,null,null,null,null,{"$f":"ESTIMATE!AP13","v":0},null,null,null,null,null,null,null,null,{"$f":"IFERROR(AW6/$AW$60,0)","v":0}]
[]
[null,null,null,null,null,null,null,null,null,"Description",null,null,null,null,null,null,null,null,null,null,null,null,null,null,null,null,null,null,null,"Lump Sum or %",null,null,null,null,null,null,null,null,"Rate / Amount",null,null,null,null,null,null,null,null,null,null,null,null,null,null,null,null,null,null,"%",null,null,null,"Allocate",null,null,null,null,null,null,"Allocated Costs",null,null,null,null,null,null,null,"Shown Costs"]
[null,null,null,null,null,null,null,null,null,"General Conditions",null,null,null,null,null,null,null,null,null,null,null,null,null,null,null,null,null,null,null,null,null,null,null,null,null,null,null,null,null,5]
[null,null,null,null,null,null,null,null,null,null,null,null,null,null,null,null,null,null,null,null,null,null,null,null,null,null,null,null,null,null,"from GCs sheet",null,null,null,null,null,null,null,null,{"$f":"GCS!AU3","v":0},null,null,null,null,null,null,null,null,{"$f":"AN10","v":0},null,null,null,null,null,null,null,null,{"$f":"IFERROR(AW10/AW60,0)","v":0},null,null,null,null,null,null,null,null,null,null,{"$f":"IF(BK10=\"Yes\",AW10,0)","v":0},null,null,null,null,null,null,null,{"$f":"IF(BK10=\"Yes\",0,AW10)","v":0},null,null,null,null,null,null,null,null,{"$f":"IF(BK10=\"Yes\",CONCATENATE(J9,\" costs are being allocated to Construction Costs\"),\"\")","v":""}]
[]
[null,null,null,null,null,null,null,null,null,{"$f":"IF(AE13=\"%\",\"Building Permit (% of Subtotal Estimate)\",\"Building Permit (Lump Sum)\")","v":"Building Permit (Lump Sum)"}]
[null,null,null,null,null,null,null,null,null,null,null,null,null,null,null,null,null,null,null,null,null,null,null,null,null,null,null,null,null,null,"Lump Sum",null,null,null,null,null,null,null,null,null,null,null,null,null,null,null,null,null,{"$f":"IF(AE13=\"%\",AN13*$AW$6,AN13)","v":0},null,null,null,null,null,null,null,null,{"$f":"IFERROR(AW13/$AW$60,0)","v":0},null,null,null,null,null,null,null,null,null,null,{"$f":"IF(BK13=\"Yes\",AW13,0)","v":0},null,null,null,null,null,null,null,{"$f":"IF(BK13=\"Yes\",0,AW13)","v":0},null,null,null,null,null,null,null,null,{"$f":"IF(BK13=\"Yes\",CONCATENATE(J12,\" costs are being allocated to Construction Costs\"),\"\")","v":""}]
[]
[null,null,null,null,null,null,null,null,null,{"$f":"IF(AE16=\"%\",\"Estimating Contingency (% of Subtotal Estimate)\",\"Estimating Contingency (Lump Sum)\")","v":"Estimating Contingency (% of Subtotal Estimate)"}]
[null,null,null,null,null,null,null,null,null,null,null,null,null,null,null,null,null,null,null,null,null,null,null,null,null,null,null,null,null,null,"%",null,null,null,null,null,null,null,null,null,null,null,null,null,null,null,null,null,{"$f":"IF(AE16=\"%\",AN16*$AW$6,AN16)","v":0},null,null,null,null,null,null,null,null,{"$f":"IFERROR(AW16/$AW$60,0)","v":0},null,null,null,null,null,null,null,null,null,null,{"$f":"IF(BK16=\"Yes\",AW16,0)","v":0},null,null,null,null,null,null,null,{"$f":"IF(BK16=\"Yes\",0,AW16)","v":0},null,null,null,null,null,null,null,null,{"$f":"IF(BK16=\"Yes\",CONCATENATE(J15,\" costs are being allocated to Construction Costs\"),\"\")","v":""}]
[]
[null,null,null,null,null,null,null,null,null,{"$f":"IF(AE19=\"%\",\"Construction Contingency (% of Subtotal Estimate)\",\"Construction Contingency (Lump Sum)\")","v":"Construction Contingency (% of Subtotal Estimate)"}]
[null,null,null,null,null,null,null,null,null,null,null,null,null,null,null,null,null,null,null,null,null,null,null,null,null,null,null,null,null,null,"%",null,null,null,null,null,null,null,null,null,null,null,null,null,null,null,null,null,{"$f":"IF(AE19=\"%\",AN19*$AW$6,AN19)","v":0},null,null,null,null,null,null,null,null,{"$f":"IFERROR(AW19/$AW$60,0)","v":0},null,null,null,null,null,null,null,null,null,null,{"$f":"IF(BK19=\"Yes\",AW19,0)","v":0},null,null,null,null,null,null,null,{"$f":"IF(BK19=\"Yes\",0,AW19)","v":0},null,null,null,null,null,null,null,null,{"$f":"IF(BK19=\"Yes\",CONCATENATE(J18,\" costs are being allocated to Construction Costs\"),\"\")","v":""}]
[]
[null,null,null,null,null,null,null,null,null,{"$f":"IF(AE22=\"%\",\"Remodeling Tax (% of Subtotal Estimate)\",\"Remodeling Tax (Lump Sum)\")","v":"Remodeling Tax (% of Subtotal Estimate)"}]
[null,null,null,null,null,null,null,null,null,null,null,null,null,null,null,null,null,null,null,null,null,null,null,null,null,null,null,null,null,null,"%",null,null,null,null,null,null,null,null,null,null,null,null,null,null,null,null,null,{"$f":"IF(AE22=\"%\",AN22*$AW$6,AN22)","v":0},null,null,null,null,null,null,null,null,{"$f":"IFERROR(AW22/$AW$60,0)","v":0},null,null,null,null,null,null,null,null,null,null,{"$f":"IF(BK22=\"Yes\",AW22,0)","v":0},null,null,null,null,null,null,null,{"$f":"IF(BK22=\"Yes\",0,AW22)","v":0},null,null,null,null,null,null,null,null,{"$f":"IF(BK22=\"Yes\",CONCATENATE(J21,\" costs are being allocated to Construction Costs\"),\"\")","v":""}]
[]
[null,null,null,null,null,null,null,null,null,{"$f":"IF(AE25=\"%\",\"Warranty (% of Subtotal Estimate)\",\"Warranty (Lump Sum)\")","v":"Warranty (% of Subtotal Estimate)"}]
[null,null,null,null,null,null,null,null,null,null,null,null,null,null,null,null,null,null,null,null,null,null,null,null,null,null,null,null,null,null,"%",null,null,null,null,null,null,null,null,null,null,null,null,null,null,null,null,null,{"$f":"IF(AE25=\"%\",AN25*$AW$6,AN25)","v":0},null,null,null,null,null,null,null,null,{"$f":"IFERROR(AW25/$AW$60,0)","v":0},null,null,null,null,null,null,null,null,null,null,{"$f":"IF(BK25=\"Yes\",AW25,0)","v":0},null,null,null,null,null,null,null,{"$f":"IF(BK25=\"Yes\",0,AW25)","v":0},null,null,null,null,null,null,null,null,{"$f":"IF(BK25=\"Yes\",CONCATENATE(J24,\" costs are being allocated to Construction Costs\"),\"\")","v":""}]
[]
[null,null,null,null,null,null,null,null,null,{"$f":"IF(AE28=\"%\",\"General Liability Insurance (% of Subtotal Estimate)\",\"General Liability Insurance (Lump Sum)\")","v":"General Liability Insurance (% of Subtotal Estimate)"}]
[null,null,null,null,null,null,null,null,null,null,null,null,null,null,null,null,null,null,null,null,null,null,null,null,null,null,null,null,null,null,"%",null,null,null,null,null,null,null,null,null,null,null,null,null,null,null,null,null,{"$f":"IF(AE28=\"%\",AN28*$AW$6,AN28)","v":0},null,null,null,null,null,null,null,null,{"$f":"IFERROR(AW28/$AW$60,0)","v":0},null,null,null,null,null,null,null,null,null,null,{"$f":"IF(BK28=\"Yes\",AW28,0)","v":0},null,null,null,null,null,null,null,{"$f":"IF(BK28=\"Yes\",0,AW28)","v":0},null,null,null,null,null,null,null,null,{"$f":"IF(BK28=\"Yes\",CONCATENATE(J27,\" costs are being allocated to Construction Costs\"),\"\")","v":""}]
[]
[null,null,null,null,null,null,null,null,null,{"$f":"IF(AE31=\"%\",\"Builder's Risk Insurance (% of Subtotal Estimate)\",\"Builder's Risk Insurance (Lump Sum)\")","v":"Builder's Risk Insurance (% of Subtotal Estimate)"}]
[null,null,null,null,null,null,null,null,null,null,null,null,null,null,null,null,null,null,null,null,null,null,null,null,null,null,null,null,null,null,"%",null,null,null,null,null,null,null,null,null,null,null,null,null,null,null,null,null,{"$f":"IF(AE31=\"%\",AN31*$AW$6,AN31)","v":0},null,null,null,null,null,null,null,null,{"$f":"IFERROR(AW31/$AW$60,0)","v":0},null,null,null,null,null,null,null,null,null,null,{"$f":"IF(BK31=\"Yes\",AW31,0)","v":0},null,null,null,null,null,null,null,{"$f":"IF(BK31=\"Yes\",0,AW31)","v":0},null,null,null,null,null,null,null,null,{"$f":"IF(BK31=\"Yes\",CONCATENATE(J30,\" costs are being allocated to Construction Costs\"),\"\")","v":""}]
[]
[null,null,null,null,null,null,null,null,null,{"$f":"IF(AE34=\"%\",\"Contractor's Profit (% of Subtotal Estimate)\",\"Contractor's Profit (Lump Sum)\")","v":"Contractor's Profit (% of Subtotal Estimate)"}]
[null,null,null,null,null,null,null,null,null,null,null,null,null,null,null,null,null,null,null,null,null,null,null,null,null,null,null,null,null,null,"%",null,null,null,null,null,null,null,null,null,null,null,null,null,null,null,null,null,{"$f":"IF(AE34=\"%\",AN34*$AW$6,AN34)","v":0},null,null,null,null,null,null,null,null,{"$f":"IFERROR(AW34/$AW$60,0)","v":0},null,null,null,null,null,null,null,null,null,null,{"$f":"IF(BK34=\"Yes\",AW34,0)","v":0},null,null,null,null,null,null,null,{"$f":"IF(BK34=\"Yes\",0,AW34)","v":0},null,null,null,null,null,null,null,null,{"$f":"IF(BK34=\"Yes\",CONCATENATE(J33,\" costs are being allocated to Construction Costs\"),\"\")","v":""}]
[]
[null,null,null,null,null,null,null,null,null,{"$f":"IF(AE37=\"%\",\"Labor Markup (% of Labor Total)\",\"Labor Markup (Lump Sum)\")","v":"Labor Markup (% of Labor Total)"}]
[null,null,null,null,null,null,null,null,null,null,null,null,null,null,null,null,null,null,null,null,null,null,null,null,null,null,null,null,null,null,"%",null,null,null,null,null,null,null,null,null,null,null,null,null,null,null,null,null,{"$f":"IF(AE37=\"%\",AN37*Total_Detailed_Labor,AN37)","v":0},null,null,null,null,null,null,null,null,{"$f":"IFERROR(AW37/$AW$60,0)","v":0},null,null,null,null,null,null,null,null,null,null,{"$f":"IF(BK37=\"Yes\",AW37,0)","v":0},null,null,null,null,null,null,null,{"$f":"IF(BK37=\"Yes\",0,AW37)","v":0},null,null,null,null,null,null,null,null,{"$f":"IF(BK37=\"Yes\",CONCATENATE(J36,\" costs are being allocated to Construction Costs\"),\"\")","v":""}]
[]
[null,null,null,null,null,null,null,null,null,{"$f":"IF(AE40=\"%\",\"Material Markup (% of Material Total)\",\"Material Markup (Lump Sum)\")","v":"Material Markup (% of Material Total)"}]
[null,null,null,null,null,null,null,null,null,null,null,null,null,null,null,null,null,null,null,null,null,null,null,null,null,null,null,null,null,null,"%",null,null,null,null,null,null,null,null,null,null,null,null,null,null,null,null,null,{"$f":"IF(AE40=\"%\",AN40*Total_Detailed_Material,AN40)","v":0},null,null,null,null,null,null,null,null,{"$f":"IFERROR(AW40/$AW$60,0)","v":0},null,null,null,null,null,null,null,null,null,null,{"$f":"IF(BK40=\"Yes\",AW40,0)","v":0},null,null,null,null,null,null,null,{"$f":"IF(BK40=\"Yes\",0,AW40)","v":0},null,null,null,null,null,null,null,null,{"$f":"IF(BK40=\"Yes\",CONCATENATE(J39,\" costs are being allocated to Construction Costs\"),\"\")","v":""}]
[]
[null,null,null,null,null,null,null,null,null,{"$f":"IF(AE43=\"%\",\"Subcontractor  Markup (% of Sub Total)\",\"Subcontractor Markup (Lump Sum)\")","v":"Subcontractor  Markup (% of Sub Total)"}]
[null,null,null,null,null,null,null,null,null,null,null,null,null,null,null,null,null,null,null,null,null,null,null,null,null,null,null,null,null,null,"%",null,null,null,null,null,null,null,null,null,null,null,null,null,null,null,null,null,{"$f":"IF(AE43=\"%\",AN43*Total_Detailed_Sub,AN43)","v":0},null,null,null,null,null,null,null,null,{"$f":"IFERROR(AW43/$AW$60,0)","v":0},null,null,null,null,null,null,null,null,null,null,{"$f":"IF(BK43=\"Yes\",AW43,0)","v":0},null,null,null,null,null,null,null,{"$f":"IF(BK43=\"Yes\",0,AW43)","v":0},null,null,null,null,null,null,null,null,{"$f":"IF(BK43=\"Yes\",CONCATENATE(J42,\" costs are being allocated to Construction Costs\"),\"\")","v":""}]
[]
[null,null,null,null,null,null,null,null,null,{"$f":"IF(AE46=\"%\",\"P & P Bond (% of Subtotal Estimate)\",\"P & P Bond (Lump Sum)\")","v":"P & P Bond (% of Subtotal Estimate)"}]
[null,null,null,null,null,null,null,null,null,null,null,null,null,null,null,null,null,null,null,null,null,null,null,null,null,null,null,null,null,null,"%",null,null,null,null,null,null,null,null,null,null,null,null,null,null,null,null,null,{"$f":"IF(AE46=\"%\",AN46*$AW$6,AN46)","v":0},null,null,null,null,null,null,null,null,{"$f":"IFERROR(AW46/$AW$60,0)","v":0},null,null,null,null,null,null,null,null,null,null,{"$f":"IF(BK46=\"Yes\",AW46,0)","v":0},null,null,null,null,null,null,null,{"$f":"IF(BK46=\"Yes\",0,AW46)","v":0},null,null,null,null,null,null,null,null,{"$f":"IF(BK46=\"Yes\",CONCATENATE(J45,\" costs are being allocated to Construction Costs\"),\"\")","v":""}]
[]
[null,null,null,null,null,null,null,null,null,"Other 1"]
[null,null,null,null,null,null,null,null,null,null,null,null,null,null,null,null,null,null,null,null,null,null,null,null,null,null,null,null,null,null,null,null,null,null,null,null,null,null,null,null,null,null,null,null,null,null,null,null,{"$f":"IF(AE49=\"%\",AN49*$AW$6,AN49)","v":0},null,null,null,null,null,null,null,null,{"$f":"IFERROR(AW49/$AW$60,0)","v":0},null,null,null,null,null,null,null,null,null,null,{"$f":"IF(BK49=\"Yes\",AW49,0)","v":0},null,null,null,null,null,null,null,{"$f":"IF(BK49=\"Yes\",0,AW49)","v":0},null,null,null,null,null,null,null,null,{"$f":"IF(BK49=\"Yes\",CONCATENATE(J48,\" costs are being allocated to Construction Costs\"),\"\")","v":""}]
[]
[null,null,null,null,null,null,null,null,null,"Other 2"]
[null,null,null,null,null,null,null,null,null,null,null,null,null,null,null,null,null,null,null,null,null,null,null,null,null,null,null,null,null,null,null,null,null,null,null,null,null,null,null,null,null,null,null,null,null,null,null,null,{"$f":"IF(AE52=\"%\",AN52*$AW$6,AN52)","v":0},null,null,null,null,null,null,null,null,{"$f":"IFERROR(AW52/$AW$60,0)","v":0},null,null,null,null,null,null,null,null,null,null,{"$f":"IF(BK52=\"Yes\",AW52,0)","v":0},null,null,null,null,null,null,null,{"$f":"IF(BK52=\"Yes\",0,AW52)","v":0},null,null,null,null,null,null,null,null,{"$f":"IF(BK52=\"Yes\",CONCATENATE(J51,\" costs are being allocated to Construction Costs\"),\"\")","v":""}]
[]
[null,null,null,null,null,null,null,null,null,"Other 3"]
[null,null,null,null,null,null,null,null,null,null,null,null,null,null,null,null,null,null,null,null,null,null,null,null,null,null,null,null,null,null,null,null,null,null,null,null,null,null,null,null,null,null,null,null,null,null,null,null,{"$f":"IF(AE55=\"%\",AN55*$AW$6,AN55)","v":0},null,null,null,null,null,null,null,null,{"$f":"IFERROR(AW55/$AW$60,0)","v":0},null,null,null,null,null,null,null,null,null,null,{"$f":"IF(BK55=\"Yes\",AW55,0)","v":0},null,null,null,null,null,null,null,{"$f":"IF(BK55=\"Yes\",0,AW55)","v":0},null,null,null,null,null,null,null,null,{"$f":"IF(BK55=\"Yes\",CONCATENATE(J54,\" costs are being allocated to Construction Costs\"),\"\")","v":""}]
[]
[]
[null,null,null,null,null,null,null,null,null,null,null,null,null,null,null,null,null,null,null,null,null,null,null,null,null,null,null,null,null,null,null,null,null,"TOTAL SOFT COSTS",null,null,null,null,null,null,null,null,null,null,null,null,null,null,{"$f":"SUM(AW10:BD57)","v":0},null,null,null,null,null,null,null,null,{"$f":"IFERROR(AW58/$AW$60,0)","v":0},null,null,null,null,null,null,null,null,null,null,{"$f":"SUM(BQ10:BX57)","v":0},null,null,null,null,null,null,null,{"$f":"SUM(BY10:CF57)","v":0}]
[]
[null,null,null,null,null,null,null,null,null,null,"TOTAL ESTIMATE W/ SOFT COSTS",null,null,null,null,null,null,null,null,null,null,null,null,null,null,null,null,null,null,null,null,null,null,null,null,null,null,null,null,null,null,null,null,null,null,null,null,null,{"$f":"AW6+AW58","v":0},null,null,null,null,null,null,null,null,{"$f":"BF6+BF58","v":0},null,null,null,null,null,null,null,null,null,null,{"$f":"AW6+BQ58","v":0},null,null,null,null,null,null,null,{"$f":"BY6+BY58","v":0}]

{"sheet":"GCS","index":5,"n_rows":219,"n_cols":86,"rows_kept":219,"cut":false,"hidden":true,"merged":[[37,21,37,23],[38,21,38,23],[39,21,39,23],[2,40,2,44],[2,35,2,39],[2,30,2,34],[3,21,3,23],[180,1,180,3],[180,4,180,6],[180,7,180,10],[180,11,180,13],[176,1,176,3],[176,4,176,6],[176,7,176,10],[176,11,176,13],[177,1,177,3],[177,4,177,6],[177,7,177,10],[177,11,177,13],[174,1,174,3],[174,4,174,6],[174,7,174,10],[174,11,174,13],[175,7,175,10],[175,11,175,13],[172,1,172,3],[172,4,172,6],[172,7,172,10],[172,11,172,13],[173,1,173,3],[173,4,173,6],[173,7,173,10],[181,1,181,3],[181,4,181,6],[181,7,181,10],[181,11,181,13],[178,1,178,3],[178,4,178,6],[178,7,178,10],[186,1,186,3],[186,4,186,6],[186,7,186,10],[186,11,186,13],[184,1,184,3],[184,4,184,6],[184,7,184,10],[184,11,184,13],[185,1,185,3],[185,4,185,6],[185,7,185,10],[185,11,185,13],[182,1,182,3],[182,4,182,6],[182,7,182,10],[182,11,182,13],[183,1,183,3],[183,4,183,6],[183,7,183,10],[183,11,183,13],[178,11,178,13],[179,1,179,3],[179,4,179,6],[179,7,179,10],[179,11,179,13],[173,11,173,13],[170,1,170,3],[170,4,170,6],[170,7,170,10],[170,11,170,13],[171,1,171,3],[171,4,171,6],[171,7,171,10],[171,11,171,13],[175,1,175,3],[175,4,175,6],[168,1,168,3],[168,4,168,6],[168,7,168,10],[168,11,168,13],[169,1,169,3],[169,4,169,6],[169,7,169,10],[169,11,169,13],[166,1,166,3],[166,4,166,6],[166,7,166,10],[166,11,166,13],[167,1,167,3],[167,4,167,6],[167,7,167,10],[167,11,167,13],[164,1,164,3],[164,4,164,6],[164,7,164,10],[164,11,164,13],[165,1,165,3],[165,4,165,6],[165,7,165,10],[165,11,165,13],[162,1,162,3],[162,4,162,6],[162,7,162,10],[162,11,162,13],[163,1,163,3],[163,4,163,6],[163,7,163,10],[163,11,163,13],[160,1,160,3],[160,4,160,6],[160,7,160,10],[160,11,160,13],[161,1,161,3],[161,4,161,6],[161,7,161,10],[161,11,161,13],[158,1,158,3],[158,4,158,6],[158,7,158,10],[158,11,158,13],[159,1,159,3],[159,4,159,6],[159,7,159,10],[159,11,159,13],[156,1,156,3],[156,4,156,6],[156,7,156,10],[156,11,156,13],[157,1,157,3],[157,4,157,6],[157,7,157,10],[157,11,157,13],[135,46,135,51],[140,46,140,51],[155,4,155,6],[155,7,155,10],[155,11,155,13],[136,40,136,44],[136,46,136,51],[136,30,136,34],[136,35,136,39],[133,1,133,15],[133,16,133,18],[133,19,133,20],[133,21,133,23],[132,35,132,39],[132,40,132,44],[132,46,132,51],[132,30,132,34],[132,1,132,15],[132,16,132,18],[132,19,132,20],[132,21,132,23],[133,24,133,26],[134,21,134,23],[133,40,133,44],[133,46,133,51],[133,30,133,34],[133,35,133,39],[134,40,134,44],[134,46,134,51],[134,30,134,34],[134,35,134,39],[134,1,134,15],[134,16,134,18],[134,19,134,20],[129,40,129,44],[129,46,129,51],[129,30,129,34],[129,35,129,39],[129,1,129,15],[129,16,129,18],[129,19,129,20],[129,21,129,23],[130,40,130,44],[130,46,130,51],[130,30,130,34],[130,35,130,39],[130,1,130,15],[130,16,130,18],[130,19,130,20],[130,21,130,23],[131,40,131,44],[131,46,131,51],[131,35,131,39],[131,1,131,15],[131,16,131,18],[131,19,131,20],[131,21,131,23],[131,30,131,34],[129,24,129,26],[130,24,130,26],[131,24,131,26],[132,24,132,26],[134,24,134,26],[126,40,126,44],[126,46,126,51],[126,30,126,34],[126,35,126,39],[126,1,126,15],[126,16,126,18],[126,19,126,20],[126,21,126,23],[127,40,127,44],[127,46,127,51],[127,35,127,39],[127,1,127,15],[127,16,127,18],[127,19,127,20],[127,21,127,23],[127,30,127,34],[128,35,128,39],[128,40,128,44],[128,46,128,51],[128,30,128,34],[128,1,128,15],[128,16,128,18],[128,19,128,20],[128,21,128,23],[126,24,126,26],[127,24,127,26],[128,24,128,26],[123,35,123,39],[123,16,123,18],[123,19,123,20],[123,21,123,23],[123,30,123,34],[122,40,122,44],[123,40,123,44],[124,35,124,39],[124,40,124,44],[124,46,124,51],[124,30,124,34],[124,16,124,18],[124,19,124,20],[124,21,124,23],[125,40,125,44],[125,46,125,51],[125,30,125,34],[125,35,125,39],[125,16,125,18],[125,19,125,20],[125,21,125,23],[124,24,124,26],[125,24,125,26],[123,1,123,15],[125,1,125,15],[124,1,124,15],[116,46,116,51],[119,1,119,15],[119,16,119,18],[119,19,119,20],[119,21,119,23],[120,24,120,26],[122,35,122,39],[122,16,122,18],[122,19,122,20],[122,21,122,23],[123,24,123,26],[115,1,115,15],[115,16,115,18],[115,19,115,20],[117,30,117,34],[117,35,117,39],[119,40,119,44],[119,46,119,51],[119,35,119,39],[119,30,119,34],[117,40,117,44],[117,46,117,51],[123,46,123,51],[121,16,121,18],[121,19,121,20],[121,21,121,23],[122,24,122,26],[120,35,120,39],[120,40,120,44],[115,21,115,23],[114,35,114,39],[114,40,114,44],[114,46,114,51],[114,30,114,34],[114,1,114,15],[114,16,114,18],[114,19,114,20],[114,21,114,23],[115,24,115,26],[115,40,115,44],[115,46,115,51],[115,30,115,34],[115,35,115,39],[120,1,120,15],[121,1,121,15],[122,1,122,15],[120,46,120,51],[120,30,120,34],[120,16,120,18],[120,19,120,20],[120,21,120,23],[121,24,121,26],[122,46,122,51],[122,30,122,34],[121,40,121,44],[121,46,121,51],[121,30,121,34],[121,35,121,39],[114,24,114,26],[119,24,119,26],[114,27,114,29],[112,40,112,44],[112,46,112,51],[112,30,112,34],[112,35,112,39],[112,1,112,15],[112,16,112,18],[112,19,112,20],[112,21,112,23],[112,24,112,26],[113,40,113,44],[113,46,113,51],[113,35,113,39],[113,1,113,15],[113,16,113,18],[113,19,113,20],[113,21,113,23],[113,30,113,34],[113,24,113,26],[112,27,112,29],[113,27,113,29],[110,35,110,39],[110,40,110,44],[110,46,110,51],[110,30,110,34],[110,1,110,15],[110,16,110,18],[110,19,110,20],[110,21,110,23],[110,24,110,26],[111,40,111,44],[111,46,111,51],[111,30,111,34],[111,35,111,39],[111,1,111,15],[111,16,111,18],[111,19,111,20],[111,21,111,23],[111,24,111,26],[110,27,110,29],[111,27,111,29],[107,1,107,15],[107,16,107,18],[107,19,107,20],[107,21,107,23],[107,24,107,26],[108,40,108,44],[108,46,108,51],[108,30,108,34],[108,35,108,39],[108,1,108,15],[108,16,108,18],[108,19,108,20],[108,21,108,23],[108,24,108,26],[109,40,109,44],[109,46,109,51],[109,35,109,39],[109,1,109,15],[109,16,109,18],[109,19,109,20],[109,21,109,23],[109,30,109,34],[109,24,109,26],[108,27,108,29],[109,27,109,29],[105,40,105,44],[105,46,105,51],[105,35,105,39],[105,16,105,18],[105,19,105,20],[105,21,105,23],[105,30,105,34],[105,24,105,26],[106,35,106,39],[106,40,106,44],[106,46,106,51],[106,30,106,34],[106,16,106,18],[106,19,106,20],[106,21,106,23],[106,24,106,26],[107,40,107,44],[107,46,107,51],[107,30,107,34],[107,35,107,39],[106,27,106,29],[107,27,107,29],[102,19,102,20],[102,21,102,23],[103,24,103,26],[103,40,103,44],[103,46,103,51],[103,30,103,34],[103,35,103,39],[103,16,103,18],[103,19,103,20],[103,21,103,23],[104,40,104,44],[104,46,104,51],[104,30,104,34],[104,35,104,39],[104,16,104,18],[104,19,104,20],[104,21,104,23],[101,1,101,15],[102,1,102,15],[103,1,103,15],[105,1,105,15],[104,1,104,15],[106,1,106,15],[97,46,97,51],[100,35,100,39],[100,1,100,15],[100,16,100,18],[100,19,100,20],[100,21,100,23],[101,24,101,26],[98,40,98,44],[98,46,98,51],[98,30,98,34],[102,35,102,39],[102,40,102,44],[102,46,102,51],[101,16,101,18],[101,19,101,20],[101,21,101,23],[101,30,101,34],[100,40,100,44],[100,46,100,51],[100,30,100,34],[98,35,98,39],[101,40,101,44],[101,46,101,51],[101,35,101,39],[102,30,102,34],[102,16,102,18],[95,1,95,15],[95,16,95,18],[95,19,95,20],[95,21,95,23],[94,35,94,39],[94,40,94,44],[94,46,94,51],[94,30,94,34],[94,1,94,15],[94,16,94,18],[94,19,94,20],[94,21,94,23],[95,24,95,26],[96,21,96,23],[95,40,95,44],[95,46,95,51],[95,30,95,34],[95,35,95,39],[96,40,96,44],[96,46,96,51],[96,30,96,34],[96,35,96,39],[96,1,96,15],[96,16,96,18],[96,19,96,20],[94,24,94,26],[96,24,96,26],[94,27,94,29],[95,27,95,29],[96,27,96,29],[91,40,91,44],[91,46,91,51],[91,30,91,34],[91,35,91,39],[91,1,91,15],[91,16,91,18],[91,19,91,20],[91,21,91,23],[92,40,92,44],[92,46,92,51],[92,30,92,34],[92,35,92,39],[92,1,92,15],[92,16,92,18],[92,19,92,20],[92,21,92,23],[93,40,93,44],[93,46,93,51],[93,35,93,39],[93,1,93,15],[93,16,93,18],[93,19,93,20],[93,21,93,23],[93,30,93,34],[91,24,91,26],[92,24,92,26],[93,24,93,26],[91,27,91,29],[92,27,92,29],[93,27,93,29],[88,40,88,44],[88,46,88,51],[88,30,88,34],[88,35,88,39],[88,1,88,15],[88,16,88,18],[88,19,88,20],[88,21,88,23],[89,40,89,44],[89,46,89,51],[89,35,89,39],[89,1,89,15],[89,16,89,18],[89,19,89,20],[89,21,89,23],[89,30,89,34],[90,35,90,39],[90,40,90,44],[90,46,90,51],[90,30,90,34],[90,1,90,15],[90,16,90,18],[90,19,90,20],[90,21,90,23],[88,24,88,26],[89,24,89,26],[90,24,90,26],[88,27,88,29],[89,27,89,29],[90,27,90,29],[85,35,85,39],[85,16,85,18],[85,19,85,20],[85,21,85,23],[85,30,85,34],[84,40,84,44],[85,40,85,44],[86,35,86,39],[86,40,86,44],[86,46,86,51],[86,30,86,34],[86,16,86,18],[86,19,86,20],[86,21,86,23],[87,40,87,44],[87,46,87,51],[87,30,87,34],[87,35,87,39],[87,16,87,18],[87,19,87,20],[87,21,87,23],[86,24,86,26],[87,24,87,26],[84,27,84,29],[85,27,85,29],[86,27,86,29],[87,27,87,29],[85,1,85,15],[87,1,87,15],[86,1,86,15],[78,46,78,51],[81,1,81,15],[81,16,81,18],[81,19,81,20],[81,21,81,23],[82,24,82,26],[84,35,84,39],[84,16,84,18],[84,19,84,20],[84,21,84,23],[85,24,85,26],[77,1,77,15],[77,16,77,18],[77,19,77,20],[79,30,79,34],[79,35,79,39],[81,40,81,44],[81,46,81,51],[81,35,81,39],[81,30,81,34],[79,40,79,44],[79,46,79,51],[85,46,85,51],[83,16,83,18],[83,19,83,20],[83,21,83,23],[84,24,84,26],[82,35,82,39],[82,40,82,44],[82,1,82,15],[83,1,83,15],[84,1,84,15],[82,46,82,51],[82,30,82,34],[82,16,82,18],[82,19,82,20],[82,21,82,23],[83,24,83,26],[84,46,84,51],[84,30,84,34],[83,40,83,44],[83,46,83,51],[83,30,83,34],[83,35,83,39],[76,24,76,26],[81,24,81,26],[76,27,76,29],[83,27,83,29],[75,40,75,44],[75,46,75,51],[75,35,75,39],[75,1,75,15],[75,16,75,18],[75,19,75,20],[75,21,75,23],[75,30,75,34],[75,24,75,26],[75,27,75,29],[77,21,77,23],[76,35,76,39],[76,40,76,44],[76,46,76,51],[76,30,76,34],[76,1,76,15],[76,16,76,18],[76,19,76,20],[76,21,76,23],[77,24,77,26],[77,40,77,44],[77,46,77,51],[77,30,77,34],[77,35,77,39],[77,27,77,29],[73,40,73,44],[73,46,73,51],[73,30,73,34],[73,35,73,39],[73,1,73,15],[73,16,73,18],[73,19,73,20],[73,21,73,23],[73,24,73,26],[74,40,74,44],[74,46,74,51],[74,30,74,34],[74,35,74,39],[74,1,74,15],[74,16,74,18],[74,19,74,20],[74,21,74,23],[74,24,74,26],[71,40,71,44],[71,46,71,51],[71,35,71,39],[71,1,71,15],[71,16,71,18],[71,19,71,20],[71,21,71,23],[71,30,71,34],[71,24,71,26],[72,35,72,39],[72,40,72,44],[72,46,72,51],[72,30,72,34],[72,1,72,15],[72,16,72,18],[72,19,72,20],[72,21,72,23],[72,24,72,26],[69,40,69,44],[69,46,69,51],[69,30,69,34],[69,35,69,39],[69,1,69,15],[69,16,69,18],[69,19,69,20],[69,21,69,23],[69,24,69,26],[70,40,70,44],[70,46,70,51],[70,30,70,34],[70,35,70,39],[70,1,70,15],[70,16,70,18],[70,19,70,20],[70,21,70,23],[70,24,70,26],[66,40,66,44],[66,46,66,51],[66,30,66,34],[66,35,66,39],[66,16,66,18],[66,19,66,20],[66,21,66,23],[66,24,66,26],[67,40,67,44],[67,46,67,51],[67,35,67,39],[67,16,67,18],[67,19,67,20],[67,21,67,23],[67,30,67,34],[67,24,67,26],[68,35,68,39],[68,40,68,44],[68,46,68,51],[68,30,68,34],[68,16,68,18],[68,19,68,20],[68,21,68,23],[68,24,68,26],[62,46,62,51],[62,30,62,34],[60,35,60,39],[63,40,63,44],[63,46,63,51],[63,35,63,39],[64,30,64,34],[64,16,64,18],[64,19,64,20],[64,21,64,23],[65,24,65,26],[65,40,65,44],[65,46,65,51],[65,30,65,34],[65,35,65,39],[65,16,65,18],[65,19,65,20],[65,21,65,23],[64,24,64,26],[60,1,60,29],[58,40,58,44],[58,46,58,51],[58,30,58,34],[58,35,58,39],[58,27,58,29],[58,1,58,15],[58,16,58,18],[58,19,58,20],[63,1,63,15],[64,1,64,15],[65,1,65,15],[67,1,67,15],[66,1,66,15],[68,1,68,15],[59,46,59,51],[62,35,62,39],[62,1,62,15],[62,16,62,18],[62,19,62,20],[62,21,62,23],[63,24,63,26],[60,40,60,44],[60,46,60,51],[60,30,60,34],[64,35,64,39],[64,40,64,44],[64,46,64,51],[63,16,63,18],[63,19,63,20],[63,21,63,23],[63,30,63,34],[62,40,62,44],[55,40,55,44],[55,46,55,51],[55,35,55,39],[55,1,55,15],[55,16,55,18],[55,19,55,20],[55,21,55,23],[55,30,55,34],[57,1,57,15],[57,16,57,18],[57,19,57,20],[57,21,57,23],[56,35,56,39],[56,40,56,44],[56,46,56,51],[56,30,56,34],[56,1,56,15],[56,16,56,18],[56,19,56,20],[56,21,56,23],[57,24,57,26],[57,40,57,44],[57,46,57,51],[57,30,57,34],[57,35,57,39],[52,35,52,39],[52,40,52,44],[52,46,52,51],[52,30,52,34],[52,1,52,15],[52,16,52,18],[52,19,52,20],[52,21,52,23],[53,40,53,44],[53,46,53,51],[53,30,53,34],[53,35,53,39],[53,1,53,15],[53,16,53,18],[53,19,53,20],[53,21,53,23],[54,40,54,44],[54,46,54,51],[54,30,54,34],[54,35,54,39],[54,1,54,15],[54,16,54,18],[54,19,54,20],[54,21,54,23],[49,40,49,44],[49,46,49,51],[49,30,49,34],[49,35,49,39],[49,16,49,18],[49,19,49,20],[49,21,49,23],[50,40,50,44],[50,46,50,51],[50,30,50,34],[50,35,50,39],[50,1,50,15],[50,16,50,18],[50,19,50,20],[50,21,50,23],[51,40,51,44],[51,46,51,51],[51,35,51,39],[51,1,51,15],[51,16,51,18],[51,19,51,20],[51,21,51,23],[51,30,51,34],[46,46,46,51],[46,30,46,34],[46,35,46,39],[46,16,46,18],[46,19,46,20],[46,21,46,23],[47,40,47,44],[47,46,47,51],[47,35,47,39],[47,16,47,18],[47,19,47,20],[47,21,47,23],[47,30,47,34],[48,35,48,39],[48,40,48,44],[48,46,48,51],[48,30,48,34],[48,16,48,18],[48,19,48,20],[48,21,48,23],[43,30,43,34],[41,40,41,44],[41,46,41,51],[44,35,44,39],[44,40,44,44],[44,46,44,51],[44,30,44,34],[49,1,49,15],[48,1,48,15],[40,46,40,51],[41,30,41,34],[41,35,41,39],[43,40,43,44],[43,46,43,51],[43,35,43,39],[43,1,43,15],[43,16,43,18],[43,19,43,20],[43,21,43,23],[44,24,44,26],[44,16,44,18],[44,19,44,20],[44,21,44,23],[45,24,45,26],[45,40,45,44],[45,46,45,51],[45,30,45,34],[45,35,45,39],[45,16,45,18],[45,19,45,20],[45,21,45,23],[46,40,46,44],[36,40,36,44],[36,46,36,51],[36,30,36,34],[36,21,36,23],[36,35,36,39],[36,1,36,15],[36,16,36,18],[36,19,36,20],[36,24,36,26],[39,40,39,44],[37,40,37,44],[37,46,37,51],[37,35,37,39],[37,1,37,15],[37,16,37,18],[37,19,37,20],[38,24,38,26],[37,30,37,34],[38,35,38,39],[38,40,38,44],[38,46,38,51],[38,30,38,34],[38,1,38,15],[38,16,38,18],[38,19,38,20],[39,24,39,26],[39,46,39,51],[39,30,39,34],[39,35,39,39],[39,1,39,15],[39,16,39,18],[39,19,39,20],[33,40,33,44],[33,46,33,51],[33,35,33,39],[33,1,33,15],[33,16,33,18],[33,19,33,20],[33,21,33,23],[33,30,33,34],[34,35,34,39],[34,40,34,44],[34,46,34,51],[34,30,34,34],[34,1,34,15],[34,16,34,18],[34,19,34,20],[34,21,34,23],[35,40,35,44],[35,46,35,51],[35,30,35,34],[35,35,35,39],[35,21,35,23],[35,1,35,15],[35,16,35,18],[35,19,35,20],[35,24,35,26],[33,24,33,26],[34,24,34,26],[30,35,30,39],[30,40,30,44],[30,46,30,51],[30,30,30,34],[30,1,30,15],[30,16,30,18],[30,19,30,20],[30,21,30,23],[31,40,31,44],[31,46,31,51],[31,30,31,34],[31,35,31,39],[31,1,31,15],[31,16,31,18],[31,19,31,20],[31,21,31,23],[32,40,32,44],[32,46,32,51],[32,30,32,34],[32,35,32,39],[32,1,32,15],[32,16,32,18],[32,19,32,20],[32,21,32,23],[30,24,30,26],[31,24,31,26],[32,24,32,26],[27,40,27,44],[27,46,27,51],[27,30,27,34],[27,35,27,39],[27,1,27,15],[27,16,27,18],[27,19,27,20],[27,21,27,23],[28,40,28,44],[28,46,28,51],[28,30,28,34],[28,35,28,39],[28,1,28,15],[28,16,28,18],[28,19,28,20],[28,21,28,23],[29,40,29,44],[29,46,29,51],[29,35,29,39],[29,1,29,15],[29,16,29,18],[29,19,29,20],[29,21,29,23]],"merged_total":1322,"flags":["merged_cut"]}
[]
[]
[null,"DESCRIPTION OF WORK",null,null,null,null,null,null,null,null,null,null,null,null,null,null,"QTY",null,null,"UNIT",null,"UNIT COST",null,null,null,null,null,null,null,null,{"$f":"AE23+AE42+AE61+AE80+AE99+AE118+AE137","v":0},null,null,null,null,{"$f":"AJ23+AJ42+AJ61+AJ80+AJ99+AJ118+AJ137","v":0},null,null,null,null,{"$f":"AO23+AO42+AO61+AO80+AO99+AO118+AO137","v":0},null,null,null,null,null,{"$f":"AU23+AU42+AU61+AU80+AU99+AU118+AU137","v":0},null,null,null,null,null,{"$f":"BA23+BA42+BA61+BA80+BA99+BA118+BA137","v":0},null,"NOTES",null,"WORK BREAKDOWN BY SCOPE OF WORK",null,"CUSTOM SORT 1","CUSTOM SORT 2","CUSTOM SORT 3","CUSTOM SORT 4","LABOR, MATERIAL, SUB SORTER"]
[null,null,null,null,null,null,null,null,null,null,null,null,null,null,null,null,null,null,null,null,null,"LABOR/EQUIP",null,null,"MAT",null,null,"SUB",null,null,"LABOR/EQUIP",null,null,null,null,"MAT",null,null,null,null,"SUB",null,null,null,null,null,"GC TOTALS",null,null,null,null,null,"% of Cost",null,null,null,null,null,null,null,null,null,{"$f":"BK23+BK42+BK61+BK80+BK99+BK118+BK137+#REF!+#REF!+#REF!+#REF!+#REF!+#REF!+#REF!+#REF!+#REF!+#REF!+#REF!+#REF!+#REF!+#REF!+#REF!+#REF!+#REF!","v":{"$error":"#REF!"}},{"$f":"BL23+BL42+BL61+BL80+BL99+BL118+BL137+#REF!+#REF!+#REF!+#REF!+#REF!+#REF!+#REF!+#REF!+#REF!+#REF!+#REF!+#REF!+#REF!+#REF!+#REF!+#REF!+#REF!","v":{"$error":"#REF!"}},{"$f":"BM23+BM42+BM61+BM80+BM99+BM118+BM137+#REF!+#REF!+#REF!+#REF!+#REF!+#REF!+#REF!+#REF!+#REF!+#REF!+#REF!+#REF!+#REF!+#REF!+#REF!+#REF!+#REF!","v":{"$error":"#REF!"}},{"$f":"BN23+BN42+BN61+BN80+BN99+BN118+BN137+#REF!+#REF!+#REF!+#REF!+#REF!+#REF!+#REF!+#REF!+#REF!+#REF!+#REF!+#REF!+#REF!+#REF!+#REF!+#REF!+#REF!","v":{"$error":"#REF!"}},{"$f":"BO23+BO42+BO61+BO80+BO99+BO118+BO137+#REF!+#REF!+#REF!+#REF!+#REF!+#REF!+#REF!+#REF!+#REF!+#REF!+#REF!+#REF!+#REF!+#REF!+#REF!+#REF!+#REF!","v":{"$error":"#REF!"}},{"$f":"BP23+BP42+BP61+BP80+BP99+BP118+BP137+#REF!+#REF!+#REF!+#REF!+#REF!+#REF!+#REF!+#REF!+#REF!+#REF!+#REF!+#REF!+#REF!+#REF!+#REF!+#REF!+#REF!","v":{"$error":"#REF!"}},{"$f":"BQ23+BQ42+BQ61+BQ80+BQ99+BQ118+BQ137+#REF!+#REF!+#REF!+#REF!+#REF!+#REF!+#REF!+#REF!+#REF!+#REF!+#REF!+#REF!+#REF!+#REF!+#REF!+#REF!+#REF!","v":{"$error":"#REF!"}},{"$f":"BR23+BR42+BR61+BR80+BR99+BR118+BR137+#REF!+#REF!+#REF!+#REF!+#REF!+#REF!+#REF!+#REF!+#REF!+#REF!+#REF!+#REF!+#REF!+#REF!+#REF!+#REF!+#REF!","v":{"$error":"#REF!"}},{"$f":"BS23+BS42+BS61+BS80+BS99+BS118+BS137+#REF!+#REF!+#REF!+#REF!+#REF!+#REF!+#REF!+#REF!+#REF!+#REF!+#REF!+#REF!+#REF!+#REF!+#REF!+#REF!+#REF!","v":{"$error":"#REF!"}},{"$f":"BT23+BT42+BT61+BT80+BT99+BT118+BT137+#REF!+#REF!+#REF!+#REF!+#REF!+#REF!+#REF!+#REF!+#REF!+#REF!+#REF!+#REF!+#REF!+#REF!+#REF!+#REF!","v":{"$error":"#REF!"}},{"$f":"BU23+BU42+BU61+BU80+BU99+BU118+BU137+#REF!+#REF!+#REF!+#REF!+#REF!+#REF!+#REF!+#REF!+#REF!+#REF!+#REF!+#REF!+#REF!+#REF!+#REF!+#REF!+#REF!","v":{"$error":"#REF!"}},{"$f":"BV23+BV42+BV61+BV80+BV99+BV118+BV137+#REF!+#REF!+#REF!+#REF!+#REF!+#REF!+#REF!+#REF!+#REF!+#REF!+#REF!+#REF!+#REF!+#REF!+#REF!+#REF!+#REF!","v":{"$error":"#REF!"}},{"$f":"BW23+BW42+BW61+BW80+BW99+BW118+BW137+#REF!+#REF!+#REF!+#REF!+#REF!+#REF!+#REF!+#REF!+#REF!+#REF!+#REF!+#REF!+#REF!+#REF!+#REF!+#REF!","v":{"$error":"#REF!"}},{"$f":"BX23+BX42+BX61+BX80+BX99+BX118+BX137+#REF!+#REF!+#REF!+#REF!+#REF!+#REF!+#REF!+#REF!+#REF!+#REF!+#REF!+#REF!+#REF!+#REF!+#REF!+#REF!+#REF!","v":{"$error":"#REF!"}},{"$f":"BY23+BY42+BY61+BY80+BY99+BY118+BY137+#REF!+#REF!+#REF!+#REF!+#REF!+#REF!+#REF!+#REF!+#REF!+#REF!+#REF!+#REF!+#REF!+#REF!+#REF!+#REF!+#REF!","v":{"$error":"#REF!"}},{"$f":"BZ23+BZ42+BZ61+BZ80+BZ99+BZ118+BZ137+#REF!+#REF!+#REF!+#REF!+#REF!+#REF!+#REF!+#REF!+#REF!+#REF!+#REF!+#REF!+#REF!+#REF!+#REF!+#REF!","v":{"$error":"#REF!"}},{"$f":"CA23+CA42+CA61+CA80+CA99+CA118+CA137+#REF!+#REF!+#REF!+#REF!+#REF!+#REF!+#REF!+#REF!+#REF!+#REF!+#REF!+#REF!+#REF!+#REF!+#REF!+#REF!+#REF!","v":{"$error":"#REF!"}},{"$f":"CB23+CB42+CB61+CB80+CB99+CB118+CB137+#REF!+#REF!+#REF!+#REF!+#REF!+#REF!+#REF!+#REF!+#REF!+#REF!+#REF!+#REF!+#REF!+#REF!+#REF!+#REF!+#REF!","v":{"$error":"#REF!"}}]
[]
[null,"OFFICE PERSONNEL",null,null,null,null,null,null,null,null,null,null,null,null,null,null,null,null,null,null,null,null,null,null,null,null,null,null,null,null,null,null,null,null,null,null,null,null,null,null,null,null,null,null,null,null,null,null,null,null,null,null,null,null,null,null,{"$f":"$B$6","v":"OFFICE PERSONNEL"},null,null,null,null,null,{"$f":"SUM(BK7:BK21)","v":0},0,{"$error":"#REF!"},0,{"$error":"#REF!"},{"$error":"#REF!"},{"$error":"#REF!"},{"$error":"#REF!"},{"$error":"#REF!"},{"$error":"#REF!"},{"$error":"#REF!"},{"$error":"#REF!"},{"$error":"#REF!"},{"$error":"#REF!"},{"$error":"#REF!"},{"$error":"#REF!"},{"$error":"#REF!"},{"$error":"#REF!"},{"$f":"CONCATENATE(T6,\"/\", \"MH\")","v":"/MH"},{"$f":"CONCATENATE(\"MH\",\"/\",T6)","v":"MH/"}]
[null,"Project Manager 1",null,null,null,null,null,null,null,null,null,null,null,null,null,null,null,null,null,"hrs","hrs",null,null,null,null,null,null,null,null,null,{"$f":"V7*Q7","v":0},null,null,null,null,{"$f":"Q7*Y7","v":0},null,null,null,null,{"$f":"Q7*AB7","v":0},null,null,null,null,null,{"$f":"AE7+AJ7+AO7","v":0},null,null,null,null,{"$f":"SUM(#REF!)","v":{"$error":"#REF!"}},{"$f":"IFERROR(AU7/Total_Detailed_Estimate,0)","v":0},null,null,null,"OFFICE PERSONNEL",null,null,null,null,null,{"$f":"AE7","v":0},{"$f":"AJ7","v":0},{"$f":"#REF!","v":{"$error":"#REF!"}},{"$f":"AO7","v":0},{"$f":"SUM(BK7:BN7)","v":{"$error":"#REF!"}},{"$f":"AU7/#REF!","v":{"$error":"#REF!"}},{"$f":"AE7/#REF!","v":{"$error":"#REF!"}},{"$f":"BQ7*#REF!","v":{"$error":"#REF!"}},{"$f":"BR7+AE7","v":{"$error":"#REF!"}},{"$f":"AJ7/#REF!","v":{"$error":"#REF!"}},{"$f":"BT7*#REF!","v":{"$error":"#REF!"}},{"$f":"BU7+AJ7","v":{"$error":"#REF!"}},{"$f":"#REF!/#REF!","v":{"$error":"#REF!"}},{"$f":"BW7*#REF!","v":{"$error":"#REF!"}},{"$f":"BX7+#REF!","v":{"$error":"#REF!"}},{"$f":"AO7/#REF!","v":{"$error":"#REF!"}},{"$f":"BZ7*#REF!","v":{"$error":"#REF!"}},{"$f":"CA7+AO7","v":{"$error":"#REF!"}},"hrs/MH","MH/hrs",null,{"$f":"T(#REF!)","v":{"$error":"#REF!"}},{"$f":"#REF!","v":{"$error":"#REF!"}},{"$f":"AE7","v":0}]
[null,"Project Manager 2",null,null,null,null,null,null,null,null,null,null,null,null,null,null,null,null,null,"hrs","ls",null,null,null,null,null,null,null,null,null,{"$f":"V8*Q8","v":0},null,null,null,null,{"$f":"Q8*Y8","v":0},null,null,null,null,{"$f":"Q8*AB8","v":0},null,null,null,null,null,{"$f":"AE8+AJ8+AO8","v":0},null,null,null,null,{"$f":"SUM(#REF!)","v":{"$error":"#REF!"}},0,null,null,null,"OFFICE PERSONNEL",null,null,null,null,null,0,0,{"$f":"#REF!","v":{"$error":"#REF!"}},0,{"$error":"#REF!"},{"$f":"AU8/#REF!","v":{"$error":"#REF!"}},{"$f":"AE8/#REF!","v":{"$error":"#REF!"}},{"$f":"BQ8*#REF!","v":{"$error":"#REF!"}},{"$error":"#REF!"},{"$f":"AJ8/#REF!","v":{"$error":"#REF!"}},{"$f":"BT8*#REF!","v":{"$error":"#REF!"}},{"$error":"#REF!"},{"$f":"#REF!/#REF!","v":{"$error":"#REF!"}},{"$f":"BW8*#REF!","v":{"$error":"#REF!"}},{"$f":"BX8+#REF!","v":{"$error":"#REF!"}},{"$f":"AO8/#REF!","v":{"$error":"#REF!"}},{"$f":"BZ8*#REF!","v":{"$error":"#REF!"}},{"$error":"#REF!"},"hrs/MH","MH/hrs",null,{"$f":"T(#REF!)","v":{"$error":"#REF!"}},{"$f":"#REF!","v":{"$error":"#REF!"}},0]
[null,"Project Manager 3",null,null,null,null,null,null,null,null,null,null,null,null,null,null,null,null,null,"hrs",null,null,null,null,null,null,null,null,null,null,0,null,null,null,null,0,null,null,null,null,0,null,null,null,null,null,0,null,null,null,null,{"$f":"SUM(#REF!)","v":{"$error":"#REF!"}},0,null,null,null,"OFFICE PERSONNEL",null,null,null,null,null,0,0,{"$f":"#REF!","v":{"$error":"#REF!"}},0,{"$error":"#REF!"},{"$f":"AU9/#REF!","v":{"$error":"#REF!"}},{"$f":"AE9/#REF!","v":{"$error":"#REF!"}},{"$f":"BQ9*#REF!","v":{"$error":"#REF!"}},{"$error":"#REF!"},{"$f":"AJ9/#REF!","v":{"$error":"#REF!"}},{"$f":"BT9*#REF!","v":{"$error":"#REF!"}},{"$error":"#REF!"},{"$f":"#REF!/#REF!","v":{"$error":"#REF!"}},{"$f":"BW9*#REF!","v":{"$error":"#REF!"}},{"$f":"BX9+#REF!","v":{"$error":"#REF!"}},{"$f":"AO9/#REF!","v":{"$error":"#REF!"}},{"$f":"BZ9*#REF!","v":{"$error":"#REF!"}},{"$error":"#REF!"},"hrs/MH","MH/hrs",null,{"$f":"T(#REF!)","v":{"$error":"#REF!"}},{"$f":"#REF!","v":{"$error":"#REF!"}},0]
[null,"Project Engineer",null,null,null,null,null,null,null,null,null,null,null,null,null,null,null,null,null,"hrs",null,null,null,null,null,null,null,null,null,null,0,null,null,null,null,0,null,null,null,null,0,null,null,null,null,null,0,null,null,null,null,{"$f":"SUM(#REF!)","v":{"$error":"#REF!"}},0,null,null,null,"OFFICE PERSONNEL",null,null,null,null,null,0,0,{"$f":"#REF!","v":{"$error":"#REF!"}},0,{"$error":"#REF!"},{"$f":"AU10/#REF!","v":{"$error":"#REF!"}},{"$f":"AE10/#REF!","v":{"$error":"#REF!"}},{"$f":"BQ10*#REF!","v":{"$error":"#REF!"}},{"$error":"#REF!"},{"$f":"AJ10/#REF!","v":{"$error":"#REF!"}},{"$f":"BT10*#REF!","v":{"$error":"#REF!"}},{"$error":"#REF!"},{"$f":"#REF!/#REF!","v":{"$error":"#REF!"}},{"$f":"BW10*#REF!","v":{"$error":"#REF!"}},{"$f":"BX10+#REF!","v":{"$error":"#REF!"}},{"$f":"AO10/#REF!","v":{"$error":"#REF!"}},{"$f":"BZ10*#REF!","v":{"$error":"#REF!"}},{"$error":"#REF!"},"hrs/MH","MH/hrs",null,{"$f":"T(#REF!)","v":{"$error":"#REF!"}},{"$f":"#REF!","v":{"$error":"#REF!"}},0]
[null,"Project Designer",null,null,null,null,null,null,null,null,null,null,null,null,null,null,null,null,null,"hrs",null,null,null,null,null,null,null,null,null,null,0,null,null,null,null,0,null,null,null,null,0,null,null,null,null,null,0,null,null,null,null,{"$f":"SUM(#REF!)","v":{"$error":"#REF!"}},0,null,null,null,"OFFICE PERSONNEL",null,null,null,null,null,0,0,{"$f":"#REF!","v":{"$error":"#REF!"}},0,{"$error":"#REF!"},{"$f":"AU11/#REF!","v":{"$error":"#REF!"}},{"$f":"AE11/#REF!","v":{"$error":"#REF!"}},{"$f":"BQ11*#REF!","v":{"$error":"#REF!"}},{"$error":"#REF!"},{"$f":"AJ11/#REF!","v":{"$error":"#REF!"}},{"$f":"BT11*#REF!","v":{"$error":"#REF!"}},{"$error":"#REF!"},{"$f":"#REF!/#REF!","v":{"$error":"#REF!"}},{"$f":"BW11*#REF!","v":{"$error":"#REF!"}},{"$f":"BX11+#REF!","v":{"$error":"#REF!"}},{"$f":"AO11/#REF!","v":{"$error":"#REF!"}},{"$f":"BZ11*#REF!","v":{"$error":"#REF!"}},{"$error":"#REF!"},"hrs/MH","MH/hrs",null,{"$f":"T(#REF!)","v":{"$error":"#REF!"}},{"$f":"#REF!","v":{"$error":"#REF!"}},0]
[null,"Project Estimator",null,null,null,null,null,null,null,null,null,null,null,null,null,null,null,null,null,"hrs",null,null,null,null,null,null,null,null,null,null,0,null,null,null,null,0,null,null,null,null,0,null,null,null,null,null,0,null,null,null,null,{"$f":"SUM(#REF!)","v":{"$error":"#REF!"}},0,null,null,null,"OFFICE PERSONNEL",null,null,null,null,null,0,0,{"$f":"#REF!","v":{"$error":"#REF!"}},0,{"$error":"#REF!"},{"$f":"AU12/#REF!","v":{"$error":"#REF!"}},{"$f":"AE12/#REF!","v":{"$error":"#REF!"}},{"$f":"BQ12*#REF!","v":{"$error":"#REF!"}},{"$error":"#REF!"},{"$f":"AJ12/#REF!","v":{"$error":"#REF!"}},{"$f":"BT12*#REF!","v":{"$error":"#REF!"}},{"$error":"#REF!"},{"$f":"#REF!/#REF!","v":{"$error":"#REF!"}},{"$f":"BW12*#REF!","v":{"$error":"#REF!"}},{"$f":"BX12+#REF!","v":{"$error":"#REF!"}},{"$f":"AO12/#REF!","v":{"$error":"#REF!"}},{"$f":"BZ12*#REF!","v":{"$error":"#REF!"}},{"$error":"#REF!"},"hrs/MH","MH/hrs",null,{"$f":"T(#REF!)","v":{"$error":"#REF!"}},{"$f":"#REF!","v":{"$error":"#REF!"}},0]
[null,"Project Administrator",null,null,null,null,null,null,null,null,null,null,null,null,null,null,null,null,null,"hrs",null,null,null,null,null,null,null,null,null,null,0,null,null,null,null,0,null,null,null,null,0,null,null,null,null,null,0,null,null,null,null,{"$f":"SUM(#REF!)","v":{"$error":"#REF!"}},0,null,null,null,"OFFICE PERSONNEL",null,null,null,null,null,0,0,{"$f":"#REF!","v":{"$error":"#REF!"}},0,{"$error":"#REF!"},{"$f":"AU13/#REF!","v":{"$error":"#REF!"}},{"$f":"AE13/#REF!","v":{"$error":"#REF!"}},{"$f":"BQ13*#REF!","v":{"$error":"#REF!"}},{"$error":"#REF!"},{"$f":"AJ13/#REF!","v":{"$error":"#REF!"}},{"$f":"BT13*#REF!","v":{"$error":"#REF!"}},{"$error":"#REF!"},{"$f":"#REF!/#REF!","v":{"$error":"#REF!"}},{"$f":"BW13*#REF!","v":{"$error":"#REF!"}},{"$f":"BX13+#REF!","v":{"$error":"#REF!"}},{"$f":"AO13/#REF!","v":{"$error":"#REF!"}},{"$f":"BZ13*#REF!","v":{"$error":"#REF!"}},{"$error":"#REF!"},"hrs/MH","MH/hrs",null,{"$f":"T(#REF!)","v":{"$error":"#REF!"}},{"$f":"#REF!","v":{"$error":"#REF!"}},0]
[null,"Other Office Personnel 1",null,null,null,null,null,null,null,null,null,null,null,null,null,null,null,null,null,"hrs",null,null,null,null,null,null,null,null,null,null,0,null,null,null,null,0,null,null,null,null,0,null,null,null,null,null,0,null,null,null,null,{"$f":"SUM(#REF!)","v":{"$error":"#REF!"}},0,null,null,null,"OFFICE PERSONNEL",null,null,null,null,null,0,0,{"$f":"#REF!","v":{"$error":"#REF!"}},0,{"$error":"#REF!"},{"$f":"AU14/#REF!","v":{"$error":"#REF!"}},{"$f":"AE14/#REF!","v":{"$error":"#REF!"}},{"$f":"BQ14*#REF!","v":{"$error":"#REF!"}},{"$error":"#REF!"},{"$f":"AJ14/#REF!","v":{"$error":"#REF!"}},{"$f":"BT14*#REF!","v":{"$error":"#REF!"}},{"$error":"#REF!"},{"$f":"#REF!/#REF!","v":{"$error":"#REF!"}},{"$f":"BW14*#REF!","v":{"$error":"#REF!"}},{"$f":"BX14+#REF!","v":{"$error":"#REF!"}},{"$f":"AO14/#REF!","v":{"$error":"#REF!"}},{"$f":"BZ14*#REF!","v":{"$error":"#REF!"}},{"$error":"#REF!"},"hrs/MH","MH/hrs",null,{"$f":"T(#REF!)","v":{"$error":"#REF!"}},{"$f":"#REF!","v":{"$error":"#REF!"}},0]
[null,"Other Office Personnel 2",null,null,null,null,null,null,null,null,null,null,null,null,null,null,null,null,null,"hrs",null,null,null,null,null,null,null,null,null,null,0,null,null,null,null,0,null,null,null,null,0,null,null,null,null,null,0,null,null,null,null,{"$f":"SUM(#REF!)","v":{"$error":"#REF!"}},0,null,null,null,"OFFICE PERSONNEL",null,null,null,null,null,0,0,{"$f":"#REF!","v":{"$error":"#REF!"}},0,{"$error":"#REF!"},{"$f":"AU15/#REF!","v":{"$error":"#REF!"}},{"$f":"AE15/#REF!","v":{"$error":"#REF!"}},{"$f":"BQ15*#REF!","v":{"$error":"#REF!"}},{"$error":"#REF!"},{"$f":"AJ15/#REF!","v":{"$error":"#REF!"}},{"$f":"BT15*#REF!","v":{"$error":"#REF!"}},{"$error":"#REF!"},{"$f":"#REF!/#REF!","v":{"$error":"#REF!"}},{"$f":"BW15*#REF!","v":{"$error":"#REF!"}},{"$f":"BX15+#REF!","v":{"$error":"#REF!"}},{"$f":"AO15/#REF!","v":{"$error":"#REF!"}},{"$f":"BZ15*#REF!","v":{"$error":"#REF!"}},{"$error":"#REF!"},"hrs/MH","MH/hrs",null,{"$f":"T(#REF!)","v":{"$error":"#REF!"}},{"$f":"#REF!","v":{"$error":"#REF!"}},0]
[null,"Other Office Personnel 2",null,null,null,null,null,null,null,null,null,null,null,null,null,null,null,null,null,"hrs",null,null,null,null,null,null,null,null,null,null,0,null,null,null,null,0,null,null,null,null,0,null,null,null,null,null,0,null,null,null,null,{"$f":"SUM(#REF!)","v":{"$error":"#REF!"}},0,null,null,null,"OFFICE PERSONNEL",null,null,null,null,null,0,0,{"$f":"#REF!","v":{"$error":"#REF!"}},0,{"$error":"#REF!"},{"$f":"AU16/#REF!","v":{"$error":"#REF!"}},{"$f":"AE16/#REF!","v":{"$error":"#REF!"}},{"$f":"BQ16*#REF!","v":{"$error":"#REF!"}},{"$error":"#REF!"},{"$f":"AJ16/#REF!","v":{"$error":"#REF!"}},{"$f":"BT16*#REF!","v":{"$error":"#REF!"}},{"$error":"#REF!"},{"$f":"#REF!/#REF!","v":{"$error":"#REF!"}},{"$f":"BW16*#REF!","v":{"$error":"#REF!"}},{"$f":"BX16+#REF!","v":{"$error":"#REF!"}},{"$f":"AO16/#REF!","v":{"$error":"#REF!"}},{"$f":"BZ16*#REF!","v":{"$error":"#REF!"}},{"$error":"#REF!"},"hrs/MH","MH/hrs",null,{"$f":"T(#REF!)","v":{"$error":"#REF!"}},{"$f":"#REF!","v":{"$error":"#REF!"}},0]
[null,null,null,null,null,null,null,null,null,null,null,null,null,null,null,null,null,null,null,null,null,null,null,null,null,null,null,null,null,null,0,null,null,null,null,0,null,null,null,null,0,null,null,null,null,null,0,null,null,null,null,{"$f":"SUM(#REF!)","v":{"$error":"#REF!"}},0,null,null,null,"OFFICE PERSONNEL",null,null,null,null,null,0,0,{"$f":"#REF!","v":{"$error":"#REF!"}},0,{"$error":"#REF!"},{"$f":"AU17/#REF!","v":{"$error":"#REF!"}},{"$f":"AE17/#REF!","v":{"$error":"#REF!"}},{"$f":"BQ17*#REF!","v":{"$error":"#REF!"}},{"$error":"#REF!"},{"$f":"AJ17/#REF!","v":{"$error":"#REF!"}},{"$f":"BT17*#REF!","v":{"$error":"#REF!"}},{"$error":"#REF!"},{"$f":"#REF!/#REF!","v":{"$error":"#REF!"}},{"$f":"BW17*#REF!","v":{"$error":"#REF!"}},{"$f":"BX17+#REF!","v":{"$error":"#REF!"}},{"$f":"AO17/#REF!","v":{"$error":"#REF!"}},{"$f":"BZ17*#REF!","v":{"$error":"#REF!"}},{"$error":"#REF!"},"/MH","MH/",null,{"$f":"T(#REF!)","v":{"$error":"#REF!"}},{"$f":"#REF!","v":{"$error":"#REF!"}},0]
[null,null,null,null,null,null,null,null,null,null,null,null,null,null,null,null,null,null,null,null,null,null,null,null,null,null,null,null,null,null,0,null,null,null,null,0,null,null,null,null,0,null,null,null,null,null,0,null,null,null,null,{"$f":"SUM(#REF!)","v":{"$error":"#REF!"}},0,null,null,null,"OFFICE PERSONNEL",null,null,null,null,null,0,0,{"$f":"#REF!","v":{"$error":"#REF!"}},0,{"$error":"#REF!"},{"$f":"AU18/#REF!","v":{"$error":"#REF!"}},{"$f":"AE18/#REF!","v":{"$error":"#REF!"}},{"$f":"BQ18*#REF!","v":{"$error":"#REF!"}},{"$error":"#REF!"},{"$f":"AJ18/#REF!","v":{"$error":"#REF!"}},{"$f":"BT18*#REF!","v":{"$error":"#REF!"}},{"$error":"#REF!"},{"$f":"#REF!/#REF!","v":{"$error":"#REF!"}},{"$f":"BW18*#REF!","v":{"$error":"#REF!"}},{"$f":"BX18+#REF!","v":{"$error":"#REF!"}},{"$f":"AO18/#REF!","v":{"$error":"#REF!"}},{"$f":"BZ18*#REF!","v":{"$error":"#REF!"}},{"$error":"#REF!"},"/MH","MH/",null,{"$f":"T(#REF!)","v":{"$error":"#REF!"}},{"$f":"#REF!","v":{"$error":"#REF!"}},0]
[null,null,null,null,null,null,null,null,null,null,null,null,null,null,null,null,null,null,null,null,null,null,null,null,null,null,null,null,null,null,0,null,null,null,null,0,null,null,null,null,0,null,null,null,null,null,0,null,null,null,null,{"$f":"SUM(#REF!)","v":{"$error":"#REF!"}},0,null,null,null,"OFFICE PERSONNEL",null,null,null,null,null,0,0,{"$f":"#REF!","v":{"$error":"#REF!"}},0,{"$error":"#REF!"},{"$f":"AU19/#REF!","v":{"$error":"#REF!"}},{"$f":"AE19/#REF!","v":{"$error":"#REF!"}},{"$f":"BQ19*#REF!","v":{"$error":"#REF!"}},{"$error":"#REF!"},{"$f":"AJ19/#REF!","v":{"$error":"#REF!"}},{"$f":"BT19*#REF!","v":{"$error":"#REF!"}},{"$error":"#REF!"},{"$f":"#REF!/#REF!","v":{"$error":"#REF!"}},{"$f":"BW19*#REF!","v":{"$error":"#REF!"}},{"$f":"BX19+#REF!","v":{"$error":"#REF!"}},{"$f":"AO19/#REF!","v":{"$error":"#REF!"}},{"$f":"BZ19*#REF!","v":{"$error":"#REF!"}},{"$error":"#REF!"},"/MH","MH/",null,{"$f":"T(#REF!)","v":{"$error":"#REF!"}},{"$f":"#REF!","v":{"$error":"#REF!"}},0]
[null,null,null,null,null,null,null,null,null,null,null,null,null,null,null,null,null,null,null,null,null,null,null,null,null,null,null,null,null,null,0,null,null,null,null,0,null,null,null,null,0,null,null,null,null,null,0,null,null,null,null,{"$f":"SUM(#REF!)","v":{"$error":"#REF!"}},0,null,null,null,"OFFICE PERSONNEL",null,null,null,null,null,0,0,{"$f":"#REF!","v":{"$error":"#REF!"}},0,{"$error":"#REF!"},{"$f":"AU20/#REF!","v":{"$error":"#REF!"}},{"$f":"AE20/#REF!","v":{"$error":"#REF!"}},{"$f":"BQ20*#REF!","v":{"$error":"#REF!"}},{"$error":"#REF!"},{"$f":"AJ20/#REF!","v":{"$error":"#REF!"}},{"$f":"BT20*#REF!","v":{"$error":"#REF!"}},{"$error":"#REF!"},{"$f":"#REF!/#REF!","v":{"$error":"#REF!"}},{"$f":"BW20*#REF!","v":{"$error":"#REF!"}},{"$f":"BX20+#REF!","v":{"$error":"#REF!"}},{"$f":"AO20/#REF!","v":{"$error":"#REF!"}},{"$f":"BZ20*#REF!","v":{"$error":"#REF!"}},{"$error":"#REF!"},"/MH","MH/",null,{"$f":"T(#REF!)","v":{"$error":"#REF!"}},{"$f":"#REF!","v":{"$error":"#REF!"}},0]
[null,null,null,null,null,null,null,null,null,null,null,null,null,null,null,null,null,null,null,null,null,null,null,null,null,null,null,null,null,null,0,null,null,null,null,0,null,null,null,null,0,null,null,null,null,null,0,null,null,null,null,{"$f":"SUM(#REF!)","v":{"$error":"#REF!"}},0,null,null,null,"OFFICE PERSONNEL",null,null,null,null,null,0,0,{"$f":"#REF!","v":{"$error":"#REF!"}},0,{"$error":"#REF!"},{"$f":"AU21/#REF!","v":{"$error":"#REF!"}},{"$f":"AE21/#REF!","v":{"$error":"#REF!"}},{"$f":"BQ21*#REF!","v":{"$error":"#REF!"}},{"$error":"#REF!"},{"$f":"AJ21/#REF!","v":{"$error":"#REF!"}},{"$f":"BT21*#REF!","v":{"$error":"#REF!"}},{"$error":"#REF!"},{"$f":"#REF!/#REF!","v":{"$error":"#REF!"}},{"$f":"BW21*#REF!","v":{"$error":"#REF!"}},{"$f":"BX21+#REF!","v":{"$error":"#REF!"}},{"$f":"AO21/#REF!","v":{"$error":"#REF!"}},{"$f":"BZ21*#REF!","v":{"$error":"#REF!"}},{"$error":"#REF!"},"/MH","MH/",null,{"$f":"T(#REF!)","v":{"$error":"#REF!"}},{"$f":"#REF!","v":{"$error":"#REF!"}},0]
[null,null,null,null,null,null,null,null,null,null,null,null,null,null,null,null,null,null,null,null,null,null,null,null,null,null,null,null,null,null,null,null,null,null,null,null,null,null,null,null,null,null,null,null,null,null,null,null,null,null,null,null,null,null,null,null,"OFFICE PERSONNEL",null,null,null,null,null,{"$f":"BK6","v":0},{"$f":"BL6","v":0},{"$f":"BM6","v":{"$error":"#REF!"}},{"$f":"BN6","v":0},{"$f":"BO6","v":{"$error":"#REF!"}},{"$f":"AU22/TOTAL_REMODEL_ESTIMATE","v":{"$error":"#NAME?"}},{"$f":"#REF!/TOTAL_REMODEL_ESTIMATE","v":{"$error":"#REF!"}},{"$f":"#REF!/TOTAL_REMODEL_ESTIMATE","v":{"$error":"#REF!"}},{"$f":"#REF!/TOTAL_REMODEL_ESTIMATE","v":{"$error":"#REF!"}},{"$f":"#REF!/TOTAL_REMODEL_ESTIMATE","v":{"$error":"#REF!"}},{"$f":"#REF!/TOTAL_REMODEL_ESTIMATE","v":{"$error":"#REF!"}},{"$f":"#REF!/TOTAL_REMODEL_ESTIMATE","v":{"$error":"#REF!"}},{"$f":"#REF!/TOTAL_REMODEL_ESTIMATE","v":{"$error":"#REF!"}},{"$f":"#REF!/TOTAL_REMODEL_ESTIMATE","v":{"$error":"#REF!"}},{"$f":"#REF!/TOTAL_REMODEL_ESTIMATE","v":{"$error":"#REF!"}},{"$f":"#REF!/TOTAL_REMODEL_ESTIMATE","v":{"$error":"#REF!"}},{"$f":"#REF!/TOTAL_REMODEL_ESTIMATE","v":{"$error":"#REF!"}},{"$f":"#REF!/TOTAL_REMODEL_ESTIMATE","v":{"$error":"#REF!"}},{"$f":"#REF!/TOTAL_REMODEL_ESTIMATE","v":{"$error":"#REF!"}},{"$f":"#REF!/TOTAL_REMODEL_ESTIMATE","v":{"$error":"#REF!"}}]
[null,{"$f":"T(CONCATENATE(B6,\" \",\"TOTAL\"))","v":"OFFICE PERSONNEL TOTAL"},null,null,null,null,null,null,null,null,null,null,null,null,null,null,null,null,null,null,null,null,null,null,null,null,null,null,null,null,{"$f":"SUBTOTAL(9,AE6:AI22)","v":0},null,null,null,null,{"$f":"SUBTOTAL(9,AJ6:AN22)","v":0},null,null,null,null,{"$f":"SUBTOTAL(9,AO6:AS21)","v":0},null,null,null,null,null,{"$f":"SUBTOTAL(9,AU6:AY22)","v":0},null,null,null,null,null,{"$f":"SUBTOTAL(9,BA6:BA22)","v":0},null,null,null,"OFFICE PERSONNEL",null,null,null,null,null,{"$f":"BK6","v":0},0,{"$error":"#REF!"},0,{"$error":"#REF!"},{"$error":"#REF!"},{"$error":"#REF!"},{"$error":"#REF!"},{"$error":"#REF!"},{"$error":"#REF!"},{"$error":"#REF!"},{"$error":"#REF!"},{"$error":"#REF!"},{"$error":"#REF!"},{"$error":"#REF!"},{"$error":"#REF!"},{"$error":"#REF!"},{"$error":"#REF!"}]
[null,null,null,null,null,null,null,null,null,null,null,null,null,null,null,null,null,null,null,null,null,null,null,null,null,null,null,null,null,null,null,null,null,null,null,null,null,null,null,null,null,null,null,null,null,null,null,null,null,null,null,null,null,null,null,null,"OFFICE PERSONNEL",null,null,null,null,null,{"$f":"BK6","v":0},{"$f":"BL6","v":0},{"$f":"BM6","v":{"$error":"#REF!"}},{"$f":"BN6","v":0},{"$f":"BO6","v":{"$error":"#REF!"}},{"$f":"AU24/TOTAL_REMODEL_ESTIMATE","v":{"$error":"#NAME?"}},{"$f":"#REF!/TOTAL_REMODEL_ESTIMATE","v":{"$error":"#REF!"}},{"$f":"#REF!/TOTAL_REMODEL_ESTIMATE","v":{"$error":"#REF!"}},{"$f":"#REF!/TOTAL_REMODEL_ESTIMATE","v":{"$error":"#REF!"}},{"$f":"#REF!/TOTAL_REMODEL_ESTIMATE","v":{"$error":"#REF!"}},{"$f":"#REF!/TOTAL_REMODEL_ESTIMATE","v":{"$error":"#REF!"}},{"$f":"#REF!/TOTAL_REMODEL_ESTIMATE","v":{"$error":"#REF!"}},{"$f":"#REF!/TOTAL_REMODEL_ESTIMATE","v":{"$error":"#REF!"}},{"$f":"#REF!/TOTAL_REMODEL_ESTIMATE","v":{"$error":"#REF!"}},{"$f":"#REF!/TOTAL_REMODEL_ESTIMATE","v":{"$error":"#REF!"}},{"$f":"#REF!/TOTAL_REMODEL_ESTIMATE","v":{"$error":"#REF!"}},{"$f":"#REF!/TOTAL_REMODEL_ESTIMATE","v":{"$error":"#REF!"}},{"$f":"#REF!/TOTAL_REMODEL_ESTIMATE","v":{"$error":"#REF!"}},{"$f":"#REF!/TOTAL_REMODEL_ESTIMATE","v":{"$error":"#REF!"}},{"$f":"#REF!/TOTAL_REMODEL_ESTIMATE","v":{"$error":"#REF!"}}]
[null,"FIELD PERSONNEL",null,null,null,null,null,null,null,null,null,null,null,null,null,null,null,null,null,null,null,null,null,null,null,null,null,null,null,null,null,null,null,null,null,null,null,null,null,null,null,null,null,null,null,null,null,null,null,null,null,null,null,null,null,null,{"$f":"$B$25","v":"FIELD PERSONNEL"},null,null,null,null,null,{"$f":"SUM(BK26:BK40)","v":0},0,{"$error":"#REF!"},0,{"$error":"#REF!"},{"$error":"#REF!"},{"$error":"#REF!"},{"$error":"#REF!"},{"$error":"#REF!"},{"$error":"#REF!"},{"$error":"#REF!"},{"$error":"#REF!"},{"$error":"#REF!"},{"$error":"#REF!"},{"$error":"#REF!"},{"$error":"#REF!"},{"$error":"#REF!"},{"$error":"#REF!"},{"$f":"CONCATENATE(T25,\"/\", \"MH\")","v":"/MH"},{"$f":"CONCATENATE(\"MH\",\"/\",T25)","v":"MH/"}]
[null,"Superintendent 1",null,null,null,null,null,null,null,null,null,null,null,null,null,null,null,null,null,"hrs",null,null,null,null,null,null,null,null,null,null,{"$f":"V26*Q26","v":0},null,null,null,null,{"$f":"Q26*Y26","v":0},null,null,null,null,{"$f":"Q26*AB26","v":0},null,null,null,null,null,{"$f":"AE26+AJ26+AO26","v":0},null,null,null,null,{"$f":"SUM(#REF!)","v":{"$error":"#REF!"}},{"$f":"IFERROR(AU26/Total_Detailed_Estimate,0)","v":0},null,null,null,"FIELD PERSONNEL",null,null,null,null,null,{"$f":"AE26","v":0},{"$f":"AJ26","v":0},{"$f":"#REF!","v":{"$error":"#REF!"}},{"$f":"AO26","v":0},{"$f":"SUM(BK26:BN26)","v":{"$error":"#REF!"}},{"$f":"AU26/#REF!","v":{"$error":"#REF!"}},{"$f":"AE26/#REF!","v":{"$error":"#REF!"}},{"$f":"BQ26*#REF!","v":{"$error":"#REF!"}},{"$f":"BR26+AE26","v":{"$error":"#REF!"}},{"$f":"AJ26/#REF!","v":{"$error":"#REF!"}},{"$f":"BT26*#REF!","v":{"$error":"#REF!"}},{"$f":"BU26+AJ26","v":{"$error":"#REF!"}},{"$f":"#REF!/#REF!","v":{"$error":"#REF!"}},{"$f":"BW26*#REF!","v":{"$error":"#REF!"}},{"$f":"BX26+#REF!","v":{"$error":"#REF!"}},{"$f":"AO26/#REF!","v":{"$error":"#REF!"}},{"$f":"BZ26*#REF!","v":{"$error":"#REF!"}},{"$f":"CA26+AO26","v":{"$error":"#REF!"}},"hrs/MH","MH/hrs",null,{"$f":"T(#REF!)","v":{"$error":"#REF!"}},{"$f":"#REF!","v":{"$error":"#REF!"}},{"$f":"AE26","v":0}]
[null,"Superintendent 2",null,null,null,null,null,null,null,null,null,null,null,null,null,null,null,null,null,"hrs",null,null,null,null,null,null,null,null,null,null,0,null,null,null,null,0,null,null,null,null,{"$f":"Q27*AB27","v":0},null,null,null,null,null,0,null,null,null,null,{"$f":"SUM(#REF!)","v":{"$error":"#REF!"}},0,null,null,null,"FIELD PERSONNEL",null,null,null,null,null,0,0,{"$f":"#REF!","v":{"$error":"#REF!"}},0,{"$error":"#REF!"},{"$f":"AU27/#REF!","v":{"$error":"#REF!"}},{"$f":"AE27/#REF!","v":{"$error":"#REF!"}},{"$f":"BQ27*#REF!","v":{"$error":"#REF!"}},{"$error":"#REF!"},{"$f":"AJ27/#REF!","v":{"$error":"#REF!"}},{"$f":"BT27*#REF!","v":{"$error":"#REF!"}},{"$error":"#REF!"},{"$f":"#REF!/#REF!","v":{"$error":"#REF!"}},{"$f":"BW27*#REF!","v":{"$error":"#REF!"}},{"$f":"BX27+#REF!","v":{"$error":"#REF!"}},{"$f":"AO27/#REF!","v":{"$error":"#REF!"}},{"$f":"BZ27*#REF!","v":{"$error":"#REF!"}},{"$error":"#REF!"},"hrs/MH","MH/hrs",null,{"$f":"T(#REF!)","v":{"$error":"#REF!"}},{"$f":"#REF!","v":{"$error":"#REF!"}},0]
[null,"Superintendent 3",null,null,null,null,null,null,null,null,null,null,null,null,null,null,null,null,null,"hrs",null,null,null,null,null,null,null,null,null,null,0,null,null,null,null,0,null,null,null,null,0,null,null,null,null,null,0,null,null,null,null,{"$f":"SUM(#REF!)","v":{"$error":"#REF!"}},0,null,null,null,"FIELD PERSONNEL",null,null,null,null,null,0,0,{"$f":"#REF!","v":{"$error":"#REF!"}},0,{"$error":"#REF!"},{"$f":"AU28/#REF!","v":{"$error":"#REF!"}},{"$f":"AE28/#REF!","v":{"$error":"#REF!"}},{"$f":"BQ28*#REF!","v":{"$error":"#REF!"}},{"$error":"#REF!"},{"$f":"AJ28/#REF!","v":{"$error":"#REF!"}},{"$f":"BT28*#REF!","v":{"$error":"#REF!"}},{"$error":"#REF!"},{"$f":"#REF!/#REF!","v":{"$error":"#REF!"}},{"$f":"BW28*#REF!","v":{"$error":"#REF!"}},{"$f":"BX28+#REF!","v":{"$error":"#REF!"}},{"$f":"AO28/#REF!","v":{"$error":"#REF!"}},{"$f":"BZ28*#REF!","v":{"$error":"#REF!"}},{"$error":"#REF!"},"hrs/MH","MH/hrs",null,{"$f":"T(#REF!)","v":{"$error":"#REF!"}},{"$f":"#REF!","v":{"$error":"#REF!"}},0]
[null,"Field Project Engineer",null,null,null,null,null,null,null,null,null,null,null,null,null,null,null,null,null,"hrs",null,null,null,null,null,null,null,null,null,null,0,null,null,null,null,0,null,null,null,null,0,null,null,null,null,null,0,null,null,null,null,{"$f":"SUM(#REF!)","v":{"$error":"#REF!"}},0,null,null,null,"FIELD PERSONNEL",null,null,null,null,null,0,0,{"$f":"#REF!","v":{"$error":"#REF!"}},0,{"$error":"#REF!"},{"$f":"AU29/#REF!","v":{"$error":"#REF!"}},{"$f":"AE29/#REF!","v":{"$error":"#REF!"}},{"$f":"BQ29*#REF!","v":{"$error":"#REF!"}},{"$error":"#REF!"},{"$f":"AJ29/#REF!","v":{"$error":"#REF!"}},{"$f":"BT29*#REF!","v":{"$error":"#REF!"}},{"$error":"#REF!"},{"$f":"#REF!/#REF!","v":{"$error":"#REF!"}},{"$f":"BW29*#REF!","v":{"$error":"#REF!"}},{"$f":"BX29+#REF!","v":{"$error":"#REF!"}},{"$f":"AO29/#REF!","v":{"$error":"#REF!"}},{"$f":"BZ29*#REF!","v":{"$error":"#REF!"}},{"$error":"#REF!"},"hrs/MH","MH/hrs",null,{"$f":"T(#REF!)","v":{"$error":"#REF!"}},{"$f":"#REF!","v":{"$error":"#REF!"}},0]
[null,"Foreman",null,null,null,null,null,null,null,null,null,null,null,null,null,null,null,null,null,"hrs",null,null,null,null,null,null,null,null,null,null,0,null,null,null,null,0,null,null,null,null,0,null,null,null,null,null,0,null,null,null,null,{"$f":"SUM(#REF!)","v":{"$error":"#REF!"}},0,null,null,null,"FIELD PERSONNEL",null,null,null,null,null,0,0,{"$f":"#REF!","v":{"$error":"#REF!"}},0,{"$error":"#REF!"},{"$f":"AU30/#REF!","v":{"$error":"#REF!"}},{"$f":"AE30/#REF!","v":{"$error":"#REF!"}},{"$f":"BQ30*#REF!","v":{"$error":"#REF!"}},{"$error":"#REF!"},{"$f":"AJ30/#REF!","v":{"$error":"#REF!"}},{"$f":"BT30*#REF!","v":{"$error":"#REF!"}},{"$error":"#REF!"},{"$f":"#REF!/#REF!","v":{"$error":"#REF!"}},{"$f":"BW30*#REF!","v":{"$error":"#REF!"}},{"$f":"BX30+#REF!","v":{"$error":"#REF!"}},{"$f":"AO30/#REF!","v":{"$error":"#REF!"}},{"$f":"BZ30*#REF!","v":{"$error":"#REF!"}},{"$error":"#REF!"},"hrs/MH","MH/hrs",null,{"$f":"T(#REF!)","v":{"$error":"#REF!"}},{"$f":"#REF!","v":{"$error":"#REF!"}},0]
[null,"Apprentice",null,null,null,null,null,null,null,null,null,null,null,null,null,null,null,null,null,"hrs",null,null,null,null,null,null,null,null,null,null,0,null,null,null,null,0,null,null,null,null,0,null,null,null,null,null,0,null,null,null,null,{"$f":"SUM(#REF!)","v":{"$error":"#REF!"}},0,null,null,null,"FIELD PERSONNEL",null,null,null,null,null,0,0,{"$f":"#REF!","v":{"$error":"#REF!"}},0,{"$error":"#REF!"},{"$f":"AU31/#REF!","v":{"$error":"#REF!"}},{"$f":"AE31/#REF!","v":{"$error":"#REF!"}},{"$f":"BQ31*#REF!","v":{"$error":"#REF!"}},{"$error":"#REF!"},{"$f":"AJ31/#REF!","v":{"$error":"#REF!"}},{"$f":"BT31*#REF!","v":{"$error":"#REF!"}},{"$error":"#REF!"},{"$f":"#REF!/#REF!","v":{"$error":"#REF!"}},{"$f":"BW31*#REF!","v":{"$error":"#REF!"}},{"$f":"BX31+#REF!","v":{"$error":"#REF!"}},{"$f":"AO31/#REF!","v":{"$error":"#REF!"}},{"$f":"BZ31*#REF!","v":{"$error":"#REF!"}},{"$error":"#REF!"},"hrs/MH","MH/hrs",null,{"$f":"T(#REF!)","v":{"$error":"#REF!"}},{"$f":"#REF!","v":{"$error":"#REF!"}},0]
[null,"Other Field Personnel 1",null,null,null,null,null,null,null,null,null,null,null,null,null,null,null,null,null,"hrs",null,null,null,null,null,null,null,null,null,null,0,null,null,null,null,0,null,null,null,null,0,null,null,null,null,null,0,null,null,null,null,{"$f":"SUM(#REF!)","v":{"$error":"#REF!"}},0,null,null,null,"FIELD PERSONNEL",null,null,null,null,null,0,0,{"$f":"#REF!","v":{"$error":"#REF!"}},0,{"$error":"#REF!"},{"$f":"AU32/#REF!","v":{"$error":"#REF!"}},{"$f":"AE32/#REF!","v":{"$error":"#REF!"}},{"$f":"BQ32*#REF!","v":{"$error":"#REF!"}},{"$error":"#REF!"},{"$f":"AJ32/#REF!","v":{"$error":"#REF!"}},{"$f":"BT32*#REF!","v":{"$error":"#REF!"}},{"$error":"#REF!"},{"$f":"#REF!/#REF!","v":{"$error":"#REF!"}},{"$f":"BW32*#REF!","v":{"$error":"#REF!"}},{"$f":"BX32+#REF!","v":{"$error":"#REF!"}},{"$f":"AO32/#REF!","v":{"$error":"#REF!"}},{"$f":"BZ32*#REF!","v":{"$error":"#REF!"}},{"$error":"#REF!"},"hrs/MH","MH/hrs",null,{"$f":"T(#REF!)","v":{"$error":"#REF!"}},{"$f":"#REF!","v":{"$error":"#REF!"}},0]
[null,"Other Field Personnel 2",null,null,null,null,null,null,null,null,null,null,null,null,null,null,null,null,null,"hrs",null,null,null,null,null,null,null,null,null,null,0,null,null,null,null,0,null,null,null,null,0,null,null,null,null,null,0,null,null,null,null,{"$f":"SUM(#REF!)","v":{"$error":"#REF!"}},0,null,null,null,"FIELD PERSONNEL",null,null,null,null,null,0,0,{"$f":"#REF!","v":{"$error":"#REF!"}},0,{"$error":"#REF!"},{"$f":"AU33/#REF!","v":{"$error":"#REF!"}},{"$f":"AE33/#REF!","v":{"$error":"#REF!"}},{"$f":"BQ33*#REF!","v":{"$error":"#REF!"}},{"$error":"#REF!"},{"$f":"AJ33/#REF!","v":{"$error":"#REF!"}},{"$f":"BT33*#REF!","v":{"$error":"#REF!"}},{"$error":"#REF!"},{"$f":"#REF!/#REF!","v":{"$error":"#REF!"}},{"$f":"BW33*#REF!","v":{"$error":"#REF!"}},{"$f":"BX33+#REF!","v":{"$error":"#REF!"}},{"$f":"AO33/#REF!","v":{"$error":"#REF!"}},{"$f":"BZ33*#REF!","v":{"$error":"#REF!"}},{"$error":"#REF!"},"hrs/MH","MH/hrs",null,{"$f":"T(#REF!)","v":{"$error":"#REF!"}},{"$f":"#REF!","v":{"$error":"#REF!"}},0]
[null,"Other Field Personnel 3",null,null,null,null,null,null,null,null,null,null,null,null,null,null,null,null,null,"hrs",null,null,null,null,null,null,null,null,null,null,0,null,null,null,null,0,null,null,null,null,0,null,null,null,null,null,0,null,null,null,null,{"$f":"SUM(#REF!)","v":{"$error":"#REF!"}},0,null,null,null,"FIELD PERSONNEL",null,null,null,null,null,0,0,{"$f":"#REF!","v":{"$error":"#REF!"}},0,{"$error":"#REF!"},{"$f":"AU34/#REF!","v":{"$error":"#REF!"}},{"$f":"AE34/#REF!","v":{"$error":"#REF!"}},{"$f":"BQ34*#REF!","v":{"$error":"#REF!"}},{"$error":"#REF!"},{"$f":"AJ34/#REF!","v":{"$error":"#REF!"}},{"$f":"BT34*#REF!","v":{"$error":"#REF!"}},{"$error":"#REF!"},{"$f":"#REF!/#REF!","v":{"$error":"#REF!"}},{"$f":"BW34*#REF!","v":{"$error":"#REF!"}},{"$f":"BX34+#REF!","v":{"$error":"#REF!"}},{"$f":"AO34/#REF!","v":{"$error":"#REF!"}},{"$f":"BZ34*#REF!","v":{"$error":"#REF!"}},{"$error":"#REF!"},"hrs/MH","MH/hrs",null,{"$f":"T(#REF!)","v":{"$error":"#REF!"}},{"$f":"#REF!","v":{"$error":"#REF!"}},0]
[null,null,null,null,null,null,null,null,null,null,null,null,null,null,null,null,null,null,null,null,null,null,null,null,null,null,null,null,null,null,0,null,null,null,null,0,null,null,null,null,0,null,null,null,null,null,0,null,null,null,null,{"$f":"SUM(#REF!)","v":{"$error":"#REF!"}},0,null,null,null,"FIELD PERSONNEL",null,null,null,null,null,0,0,{"$f":"#REF!","v":{"$error":"#REF!"}},0,{"$error":"#REF!"},{"$f":"AU35/#REF!","v":{"$error":"#REF!"}},{"$f":"AE35/#REF!","v":{"$error":"#REF!"}},{"$f":"BQ35*#REF!","v":{"$error":"#REF!"}},{"$error":"#REF!"},{"$f":"AJ35/#REF!","v":{"$error":"#REF!"}},{"$f":"BT35*#REF!","v":{"$error":"#REF!"}},{"$error":"#REF!"},{"$f":"#REF!/#REF!","v":{"$error":"#REF!"}},{"$f":"BW35*#REF!","v":{"$error":"#REF!"}},{"$f":"BX35+#REF!","v":{"$error":"#REF!"}},{"$f":"AO35/#REF!","v":{"$error":"#REF!"}},{"$f":"BZ35*#REF!","v":{"$error":"#REF!"}},{"$error":"#REF!"},"/MH","MH/",null,{"$f":"T(#REF!)","v":{"$error":"#REF!"}},{"$f":"#REF!","v":{"$error":"#REF!"}},0]
[null,null,null,null,null,null,null,null,null,null,null,null,null,null,null,null,null,null,null,null,null,null,null,null,null,null,null,null,null,null,0,null,null,null,null,0,null,null,null,null,0,null,null,null,null,null,0,null,null,null,null,{"$f":"SUM(#REF!)","v":{"$error":"#REF!"}},0,null,null,null,"FIELD PERSONNEL",null,null,null,null,null,0,0,{"$f":"#REF!","v":{"$error":"#REF!"}},0,{"$error":"#REF!"},{"$f":"AU36/#REF!","v":{"$error":"#REF!"}},{"$f":"AE36/#REF!","v":{"$error":"#REF!"}},{"$f":"BQ36*#REF!","v":{"$error":"#REF!"}},{"$error":"#REF!"},{"$f":"AJ36/#REF!","v":{"$error":"#REF!"}},{"$f":"BT36*#REF!","v":{"$error":"#REF!"}},{"$error":"#REF!"},{"$f":"#REF!/#REF!","v":{"$error":"#REF!"}},{"$f":"BW36*#REF!","v":{"$error":"#REF!"}},{"$f":"BX36+#REF!","v":{"$error":"#REF!"}},{"$f":"AO36/#REF!","v":{"$error":"#REF!"}},{"$f":"BZ36*#REF!","v":{"$error":"#REF!"}},{"$error":"#REF!"},"/MH","MH/",null,{"$f":"T(#REF!)","v":{"$error":"#REF!"}},{"$f":"#REF!","v":{"$error":"#REF!"}},0]
[null,null,null,null,null,null,null,null,null,null,null,null,null,null,null,null,null,null,null,null,null,null,null,null,null,null,null,null,null,null,0,null,null,null,null,0,null,null,null,null,0,null,null,null,null,null,0,null,null,null,null,{"$f":"SUM(#REF!)","v":{"$error":"#REF!"}},0,null,null,null,"FIELD PERSONNEL",null,null,null,null,null,0,0,{"$f":"#REF!","v":{"$error":"#REF!"}},0,{"$error":"#REF!"},{"$f":"AU37/#REF!","v":{"$error":"#REF!"}},{"$f":"AE37/#REF!","v":{"$error":"#REF!"}},{"$f":"BQ37*#REF!","v":{"$error":"#REF!"}},{"$error":"#REF!"},{"$f":"AJ37/#REF!","v":{"$error":"#REF!"}},{"$f":"BT37*#REF!","v":{"$error":"#REF!"}},{"$error":"#REF!"},{"$f":"#REF!/#REF!","v":{"$error":"#REF!"}},{"$f":"BW37*#REF!","v":{"$error":"#REF!"}},{"$f":"BX37+#REF!","v":{"$error":"#REF!"}},{"$f":"AO37/#REF!","v":{"$error":"#REF!"}},{"$f":"BZ37*#REF!","v":{"$error":"#REF!"}},{"$error":"#REF!"},"/MH","MH/",null,{"$f":"T(#REF!)","v":{"$error":"#REF!"}},{"$f":"#REF!","v":{"$error":"#REF!"}},0]
[null,null,null,null,null,null,null,null,null,null,null,null,null,null,null,null,null,null,null,null,null,null,null,null,null,null,null,null,null,null,0,null,null,null,null,0,null,null,null,null,0,null,null,null,null,null,0,null,null,null,null,{"$f":"SUM(#REF!)","v":{"$error":"#REF!"}},0,null,null,null,"FIELD PERSONNEL",null,null,null,null,null,0,0,{"$f":"#REF!","v":{"$error":"#REF!"}},0,{"$error":"#REF!"},{"$f":"AU38/#REF!","v":{"$error":"#REF!"}},{"$f":"AE38/#REF!","v":{"$error":"#REF!"}},{"$f":"BQ38*#REF!","v":{"$error":"#REF!"}},{"$error":"#REF!"},{"$f":"AJ38/#REF!","v":{"$error":"#REF!"}},{"$f":"BT38*#REF!","v":{"$error":"#REF!"}},{"$error":"#REF!"},{"$f":"#REF!/#REF!","v":{"$error":"#REF!"}},{"$f":"BW38*#REF!","v":{"$error":"#REF!"}},{"$f":"BX38+#REF!","v":{"$error":"#REF!"}},{"$f":"AO38/#REF!","v":{"$error":"#REF!"}},{"$f":"BZ38*#REF!","v":{"$error":"#REF!"}},{"$error":"#REF!"},"/MH","MH/",null,{"$f":"T(#REF!)","v":{"$error":"#REF!"}},{"$f":"#REF!","v":{"$error":"#REF!"}},0]
[null,null,null,null,null,null,null,null,null,null,null,null,null,null,null,null,null,null,null,null,null,null,null,null,null,null,null,null,null,null,0,null,null,null,null,0,null,null,null,null,0,null,null,null,null,null,0,null,null,null,null,{"$f":"SUM(#REF!)","v":{"$error":"#REF!"}},0,null,null,null,"FIELD PERSONNEL",null,null,null,null,null,0,0,{"$f":"#REF!","v":{"$error":"#REF!"}},0,{"$error":"#REF!"},{"$f":"AU39/#REF!","v":{"$error":"#REF!"}},{"$f":"AE39/#REF!","v":{"$error":"#REF!"}},{"$f":"BQ39*#REF!","v":{"$error":"#REF!"}},{"$error":"#REF!"},{"$f":"AJ39/#REF!","v":{"$error":"#REF!"}},{"$f":"BT39*#REF!","v":{"$error":"#REF!"}},{"$error":"#REF!"},{"$f":"#REF!/#REF!","v":{"$error":"#REF!"}},{"$f":"BW39*#REF!","v":{"$error":"#REF!"}},{"$f":"BX39+#REF!","v":{"$error":"#REF!"}},{"$f":"AO39/#REF!","v":{"$error":"#REF!"}},{"$f":"BZ39*#REF!","v":{"$error":"#REF!"}},{"$error":"#REF!"},"/MH","MH/",null,{"$f":"T(#REF!)","v":{"$error":"#REF!"}},{"$f":"#REF!","v":{"$error":"#REF!"}},0]
[null,null,null,null,null,null,null,null,null,null,null,null,null,null,null,null,null,null,null,null,null,null,null,null,null,null,null,null,null,null,0,null,null,null,null,0,null,null,null,null,0,null,null,null,null,null,0,null,null,null,null,{"$f":"SUM(#REF!)","v":{"$error":"#REF!"}},0,null,null,null,"FIELD PERSONNEL",null,null,null,null,null,0,0,{"$f":"#REF!","v":{"$error":"#REF!"}},0,{"$error":"#REF!"},{"$f":"AU40/#REF!","v":{"$error":"#REF!"}},{"$f":"AE40/#REF!","v":{"$error":"#REF!"}},{"$f":"BQ40*#REF!","v":{"$error":"#REF!"}},{"$error":"#REF!"},{"$f":"AJ40/#REF!","v":{"$error":"#REF!"}},{"$f":"BT40*#REF!","v":{"$error":"#REF!"}},{"$error":"#REF!"},{"$f":"#REF!/#REF!","v":{"$error":"#REF!"}},{"$f":"BW40*#REF!","v":{"$error":"#REF!"}},{"$f":"BX40+#REF!","v":{"$error":"#REF!"}},{"$f":"AO40/#REF!","v":{"$error":"#REF!"}},{"$f":"BZ40*#REF!","v":{"$error":"#REF!"}},{"$error":"#REF!"},"/MH","MH/",null,{"$f":"T(#REF!)","v":{"$error":"#REF!"}},{"$f":"#REF!","v":{"$error":"#REF!"}},0]
[null,null,null,null,null,null,null,null,null,null,null,null,null,null,null,null,null,null,null,null,null,null,null,null,null,null,null,null,null,null,null,null,null,null,null,null,null,null,null,null,null,null,null,null,null,null,null,null,null,null,null,null,null,null,null,null,"FIELD PERSONNEL",null,null,null,null,null,{"$f":"BK25","v":0},{"$f":"BL25","v":0},{"$f":"BM25","v":{"$error":"#REF!"}},{"$f":"BN25","v":0},{"$f":"BO25","v":{"$error":"#REF!"}},{"$f":"AU41/TOTAL_REMODEL_ESTIMATE","v":{"$error":"#NAME?"}},{"$f":"#REF!/TOTAL_REMODEL_ESTIMATE","v":{"$error":"#REF!"}},{"$f":"#REF!/TOTAL_REMODEL_ESTIMATE","v":{"$error":"#REF!"}},{"$f":"#REF!/TOTAL_REMODEL_ESTIMATE","v":{"$error":"#REF!"}},{"$f":"#REF!/TOTAL_REMODEL_ESTIMATE","v":{"$error":"#REF!"}},{"$f":"#REF!/TOTAL_REMODEL_ESTIMATE","v":{"$error":"#REF!"}},{"$f":"#REF!/TOTAL_REMODEL_ESTIMATE","v":{"$error":"#REF!"}},{"$f":"#REF!/TOTAL_REMODEL_ESTIMATE","v":{"$error":"#REF!"}},{"$f":"#REF!/TOTAL_REMODEL_ESTIMATE","v":{"$error":"#REF!"}},{"$f":"#REF!/TOTAL_REMODEL_ESTIMATE","v":{"$error":"#REF!"}},{"$f":"#REF!/TOTAL_REMODEL_ESTIMATE","v":{"$error":"#REF!"}},{"$f":"#REF!/TOTAL_REMODEL_ESTIMATE","v":{"$error":"#REF!"}},{"$f":"#REF!/TOTAL_REMODEL_ESTIMATE","v":{"$error":"#REF!"}},{"$f":"#REF!/TOTAL_REMODEL_ESTIMATE","v":{"$error":"#REF!"}},{"$f":"#REF!/TOTAL_REMODEL_ESTIMATE","v":{"$error":"#REF!"}}]
[null,{"$f":"T(CONCATENATE(B25,\" \",\"TOTAL\"))","v":"FIELD PERSONNEL TOTAL"},null,null,null,null,null,null,null,null,null,null,null,null,null,null,null,null,null,null,null,null,null,null,null,null,null,null,null,null,{"$f":"SUBTOTAL(9,AE26:AE41)","v":0},null,null,null,null,{"$f":"SUBTOTAL(9,AJ25:AN41)","v":0},null,null,null,null,{"$f":"SUBTOTAL(9,AO25:AS40)","v":0},null,null,null,null,null,{"$f":"SUBTOTAL(9,AU25:AY41)","v":0},null,null,null,null,null,{"$f":"SUBTOTAL(9,BA25:BA41)","v":0},null,null,null,"FIELD PERSONNEL",null,null,null,null,null,{"$f":"BK25","v":0},0,{"$error":"#REF!"},0,{"$error":"#REF!"},{"$error":"#REF!"},{"$error":"#REF!"},{"$error":"#REF!"},{"$error":"#REF!"},{"$error":"#REF!"},{"$error":"#REF!"},{"$error":"#REF!"},{"$error":"#REF!"},{"$error":"#REF!"},{"$error":"#REF!"},{"$error":"#REF!"},{"$error":"#REF!"},{"$error":"#REF!"}]
[null,null,null,null,null,null,null,null,null,null,null,null,null,null,null,null,null,null,null,null,null,null,null,null,null,null,null,null,null,null,null,null,null,null,null,null,null,null,null,null,null,null,null,null,null,null,null,null,null,null,null,null,null,null,null,null,"FIELD PERSONNEL",null,null,null,null,null,{"$f":"BK25","v":0},{"$f":"BL25","v":0},{"$f":"BM25","v":{"$error":"#REF!"}},{"$f":"BN25","v":0},{"$f":"BO25","v":{"$error":"#REF!"}},{"$f":"AU43/TOTAL_REMODEL_ESTIMATE","v":{"$error":"#NAME?"}},{"$f":"#REF!/TOTAL_REMODEL_ESTIMATE","v":{"$error":"#REF!"}},{"$f":"#REF!/TOTAL_REMODEL_ESTIMATE","v":{"$error":"#REF!"}},{"$f":"#REF!/TOTAL_REMODEL_ESTIMATE","v":{"$error":"#REF!"}},{"$f":"#REF!/TOTAL_REMODEL_ESTIMATE","v":{"$error":"#REF!"}},{"$f":"#REF!/TOTAL_REMODEL_ESTIMATE","v":{"$error":"#REF!"}},{"$f":"#REF!/TOTAL_REMODEL_ESTIMATE","v":{"$error":"#REF!"}},{"$f":"#REF!/TOTAL_REMODEL_ESTIMATE","v":{"$error":"#REF!"}},{"$f":"#REF!/TOTAL_REMODEL_ESTIMATE","v":{"$error":"#REF!"}},{"$f":"#REF!/TOTAL_REMODEL_ESTIMATE","v":{"$error":"#REF!"}},{"$f":"#REF!/TOTAL_REMODEL_ESTIMATE","v":{"$error":"#REF!"}},{"$f":"#REF!/TOTAL_REMODEL_ESTIMATE","v":{"$error":"#REF!"}},{"$f":"#REF!/TOTAL_REMODEL_ESTIMATE","v":{"$error":"#REF!"}},{"$f":"#REF!/TOTAL_REMODEL_ESTIMATE","v":{"$error":"#REF!"}},{"$f":"#REF!/TOTAL_REMODEL_ESTIMATE","v":{"$error":"#REF!"}}]
[null,"TEMPORARY UTILITIES",null,null,null,null,null,null,null,null,null,null,null,null,null,null,null,null,null,null,null,null,null,null,null,null,null,null,null,null,null,null,null,null,null,null,null,null,null,null,null,null,null,null,null,null,null,null,null,null,null,null,null,null,null,null,{"$f":"$B$44","v":"TEMPORARY UTILITIES"},null,null,null,null,null,{"$f":"SUM(BK45:BK59)","v":0},0,{"$error":"#REF!"},0,{"$error":"#REF!"},{"$error":"#REF!"},{"$error":"#REF!"},{"$error":"#REF!"},{"$error":"#REF!"},{"$error":"#REF!"},{"$error":"#REF!"},{"$error":"#REF!"},{"$error":"#REF!"},{"$error":"#REF!"},{"$error":"#REF!"},{"$error":"#REF!"},{"$error":"#REF!"},{"$error":"#REF!"},{"$f":"CONCATENATE(T44,\"/\", \"MH\")","v":"/MH"},{"$f":"CONCATENATE(\"MH\",\"/\",T44)","v":"MH/"}]
[null,"Temporary Electrical Usage",null,null,null,null,null,null,null,null,null,null,null,null,null,null,null,null,null,"months","ls",null,null,null,null,null,null,null,null,null,{"$f":"V45*Q45","v":0},null,null,null,null,{"$f":"Q45*Y45","v":0},null,null,null,null,{"$f":"Q45*AB45","v":0},null,null,null,null,null,{"$f":"AE45+AJ45+AO45","v":0},null,null,null,null,{"$f":"SUM(#REF!)","v":{"$error":"#REF!"}},{"$f":"IFERROR(AU45/Total_Detailed_Estimate,0)","v":0},null,"Average cost for electricity for one month",null,"TEMPORARY UTILITIES",null,null,null,null,null,{"$f":"AE45","v":0},{"$f":"AJ45","v":0},{"$f":"#REF!","v":{"$error":"#REF!"}},{"$f":"AO45","v":0},{"$f":"SUM(BK45:BN45)","v":{"$error":"#REF!"}},{"$f":"AU45/#REF!","v":{"$error":"#REF!"}},{"$f":"AE45/#REF!","v":{"$error":"#REF!"}},{"$f":"BQ45*#REF!","v":{"$error":"#REF!"}},{"$f":"BR45+AE45","v":{"$error":"#REF!"}},{"$f":"AJ45/#REF!","v":{"$error":"#REF!"}},{"$f":"BT45*#REF!","v":{"$error":"#REF!"}},{"$f":"BU45+AJ45","v":{"$error":"#REF!"}},{"$f":"#REF!/#REF!","v":{"$error":"#REF!"}},{"$f":"BW45*#REF!","v":{"$error":"#REF!"}},{"$f":"BX45+#REF!","v":{"$error":"#REF!"}},{"$f":"AO45/#REF!","v":{"$error":"#REF!"}},{"$f":"BZ45*#REF!","v":{"$error":"#REF!"}},{"$f":"CA45+AO45","v":{"$error":"#REF!"}},"months/MH","MH/months",null,{"$f":"T(#REF!)","v":{"$error":"#REF!"}},{"$f":"#REF!","v":{"$error":"#REF!"}},{"$f":"AE45","v":0}]
[null,"Temporary Gas",null,null,null,null,null,null,null,null,null,null,null,null,null,null,null,null,null,"months","ls",null,null,null,null,null,null,null,null,null,0,null,null,null,null,0,null,null,null,null,{"$f":"Q46*AB46","v":0},null,null,null,null,null,0,null,null,null,null,{"$f":"SUM(#REF!)","v":{"$error":"#REF!"}},0,null,"Average cost for gas for one month",null,"TEMPORARY UTILITIES",null,null,null,null,null,0,0,{"$f":"#REF!","v":{"$error":"#REF!"}},0,{"$error":"#REF!"},{"$f":"AU46/#REF!","v":{"$error":"#REF!"}},{"$f":"AE46/#REF!","v":{"$error":"#REF!"}},{"$f":"BQ46*#REF!","v":{"$error":"#REF!"}},{"$error":"#REF!"},{"$f":"AJ46/#REF!","v":{"$error":"#REF!"}},{"$f":"BT46*#REF!","v":{"$error":"#REF!"}},{"$error":"#REF!"},{"$f":"#REF!/#REF!","v":{"$error":"#REF!"}},{"$f":"BW46*#REF!","v":{"$error":"#REF!"}},{"$f":"BX46+#REF!","v":{"$error":"#REF!"}},{"$f":"AO46/#REF!","v":{"$error":"#REF!"}},{"$f":"BZ46*#REF!","v":{"$error":"#REF!"}},{"$error":"#REF!"},"months/MH","MH/months",null,{"$f":"T(#REF!)","v":{"$error":"#REF!"}},{"$f":"#REF!","v":{"$error":"#REF!"}},0]
[null,"Temporary Water",null,null,null,null,null,null,null,null,null,null,null,null,null,null,null,null,null,"months","ls",null,null,null,null,null,null,null,null,null,0,null,null,null,null,0,null,null,null,null,0,null,null,null,null,null,0,null,null,null,null,{"$f":"SUM(#REF!)","v":{"$error":"#REF!"}},0,null,"Average cost for water for one month",null,"TEMPORARY UTILITIES",null,null,null,null,null,0,0,{"$f":"#REF!","v":{"$error":"#REF!"}},0,{"$error":"#REF!"},{"$f":"AU47/#REF!","v":{"$error":"#REF!"}},{"$f":"AE47/#REF!","v":{"$error":"#REF!"}},{"$f":"BQ47*#REF!","v":{"$error":"#REF!"}},{"$error":"#REF!"},{"$f":"AJ47/#REF!","v":{"$error":"#REF!"}},{"$f":"BT47*#REF!","v":{"$error":"#REF!"}},{"$error":"#REF!"},{"$f":"#REF!/#REF!","v":{"$error":"#REF!"}},{"$f":"BW47*#REF!","v":{"$error":"#REF!"}},{"$f":"BX47+#REF!","v":{"$error":"#REF!"}},{"$f":"AO47/#REF!","v":{"$error":"#REF!"}},{"$f":"BZ47*#REF!","v":{"$error":"#REF!"}},{"$error":"#REF!"},"months/MH","MH/months",null,{"$f":"T(#REF!)","v":{"$error":"#REF!"}},{"$f":"#REF!","v":{"$error":"#REF!"}},0]
[null,"Temporary Toilets",null,null,null,null,null,null,null,null,null,null,null,null,null,null,null,null,null,"months","ls",null,null,null,null,null,null,null,null,null,0,null,null,null,null,0,null,null,null,null,0,null,null,null,null,null,0,null,null,null,null,{"$f":"SUM(#REF!)","v":{"$error":"#REF!"}},0,null,"Monthly rental cost for portable toilet",null,"TEMPORARY UTILITIES",null,null,null,null,null,0,0,{"$f":"#REF!","v":{"$error":"#REF!"}},0,{"$error":"#REF!"},{"$f":"AU48/#REF!","v":{"$error":"#REF!"}},{"$f":"AE48/#REF!","v":{"$error":"#REF!"}},{"$f":"BQ48*#REF!","v":{"$error":"#REF!"}},{"$error":"#REF!"},{"$f":"AJ48/#REF!","v":{"$error":"#REF!"}},{"$f":"BT48*#REF!","v":{"$error":"#REF!"}},{"$error":"#REF!"},{"$f":"#REF!/#REF!","v":{"$error":"#REF!"}},{"$f":"BW48*#REF!","v":{"$error":"#REF!"}},{"$f":"BX48+#REF!","v":{"$error":"#REF!"}},{"$f":"AO48/#REF!","v":{"$error":"#REF!"}},{"$f":"BZ48*#REF!","v":{"$error":"#REF!"}},{"$error":"#REF!"},"months/MH","MH/months",null,{"$f":"T(#REF!)","v":{"$error":"#REF!"}},{"$f":"#REF!","v":{"$error":"#REF!"}},0]
[null,"Temporary Lighting",null,null,null,null,null,null,null,null,null,null,null,null,null,null,null,null,null,"months","ls",null,null,null,null,null,null,null,null,null,0,null,null,null,null,0,null,null,null,null,0,null,null,null,null,null,0,null,null,null,null,{"$f":"SUM(#REF!)","v":{"$error":"#REF!"}},0,null,"Average cost for temporary job site lighting rental",null,"TEMPORARY UTILITIES",null,null,null,null,null,0,0,{"$f":"#REF!","v":{"$error":"#REF!"}},0,{"$error":"#REF!"},{"$f":"AU49/#REF!","v":{"$error":"#REF!"}},{"$f":"AE49/#REF!","v":{"$error":"#REF!"}},{"$f":"BQ49*#REF!","v":{"$error":"#REF!"}},{"$error":"#REF!"},{"$f":"AJ49/#REF!","v":{"$error":"#REF!"}},{"$f":"BT49*#REF!","v":{"$error":"#REF!"}},{"$error":"#REF!"},{"$f":"#REF!/#REF!","v":{"$error":"#REF!"}},{"$f":"BW49*#REF!","v":{"$error":"#REF!"}},{"$f":"BX49+#REF!","v":{"$error":"#REF!"}},{"$f":"AO49/#REF!","v":{"$error":"#REF!"}},{"$f":"BZ49*#REF!","v":{"$error":"#REF!"}},{"$error":"#REF!"},"months/MH","MH/months",null,{"$f":"T(#REF!)","v":{"$error":"#REF!"}},{"$f":"#REF!","v":{"$error":"#REF!"}},0]
[null,"Temporary Heat",null,null,null,null,null,null,null,null,null,null,null,null,null,null,null,null,null,"months","ls",null,null,null,null,null,null,null,null,null,0,null,null,null,null,0,null,null,null,null,0,null,null,null,null,null,0,null,null,null,null,{"$f":"SUM(#REF!)","v":{"$error":"#REF!"}},0,null,"Average cost for temporary heater rentals",null,"TEMPORARY UTILITIES",null,null,null,null,null,0,0,{"$f":"#REF!","v":{"$error":"#REF!"}},0,{"$error":"#REF!"},{"$f":"AU50/#REF!","v":{"$error":"#REF!"}},{"$f":"AE50/#REF!","v":{"$error":"#REF!"}},{"$f":"BQ50*#REF!","v":{"$error":"#REF!"}},{"$error":"#REF!"},{"$f":"AJ50/#REF!","v":{"$error":"#REF!"}},{"$f":"BT50*#REF!","v":{"$error":"#REF!"}},{"$error":"#REF!"},{"$f":"#REF!/#REF!","v":{"$error":"#REF!"}},{"$f":"BW50*#REF!","v":{"$error":"#REF!"}},{"$f":"BX50+#REF!","v":{"$error":"#REF!"}},{"$f":"AO50/#REF!","v":{"$error":"#REF!"}},{"$f":"BZ50*#REF!","v":{"$error":"#REF!"}},{"$error":"#REF!"},"months/MH","MH/months",null,{"$f":"T(#REF!)","v":{"$error":"#REF!"}},{"$f":"#REF!","v":{"$error":"#REF!"}},0]
[null,null,null,null,null,null,null,null,null,null,null,null,null,null,null,null,null,null,null,null,null,null,null,null,null,null,null,null,null,null,0,null,null,null,null,0,null,null,null,null,0,null,null,null,null,null,0,null,null,null,null,{"$f":"SUM(#REF!)","v":{"$error":"#REF!"}},0,null,null,null,"TEMPORARY UTILITIES",null,null,null,null,null,0,0,{"$f":"#REF!","v":{"$error":"#REF!"}},0,{"$error":"#REF!"},{"$f":"AU51/#REF!","v":{"$error":"#REF!"}},{"$f":"AE51/#REF!","v":{"$error":"#REF!"}},{"$f":"BQ51*#REF!","v":{"$error":"#REF!"}},{"$error":"#REF!"},{"$f":"AJ51/#REF!","v":{"$error":"#REF!"}},{"$f":"BT51*#REF!","v":{"$error":"#REF!"}},{"$error":"#REF!"},{"$f":"#REF!/#REF!","v":{"$error":"#REF!"}},{"$f":"BW51*#REF!","v":{"$error":"#REF!"}},{"$f":"BX51+#REF!","v":{"$error":"#REF!"}},{"$f":"AO51/#REF!","v":{"$error":"#REF!"}},{"$f":"BZ51*#REF!","v":{"$error":"#REF!"}},{"$error":"#REF!"},"/MH","MH/",null,{"$f":"T(#REF!)","v":{"$error":"#REF!"}},{"$f":"#REF!","v":{"$error":"#REF!"}},0]
[null,null,null,null,null,null,null,null,null,null,null,null,null,null,null,null,null,null,null,null,null,null,null,null,null,null,null,null,null,null,0,null,null,null,null,0,null,null,null,null,0,null,null,null,null,null,0,null,null,null,null,{"$f":"SUM(#REF!)","v":{"$error":"#REF!"}},0,null,null,null,"TEMPORARY UTILITIES",null,null,null,null,null,0,0,{"$f":"#REF!","v":{"$error":"#REF!"}},0,{"$error":"#REF!"},{"$f":"AU52/#REF!","v":{"$error":"#REF!"}},{"$f":"AE52/#REF!","v":{"$error":"#REF!"}},{"$f":"BQ52*#REF!","v":{"$error":"#REF!"}},{"$error":"#REF!"},{"$f":"AJ52/#REF!","v":{"$error":"#REF!"}},{"$f":"BT52*#REF!","v":{"$error":"#REF!"}},{"$error":"#REF!"},{"$f":"#REF!/#REF!","v":{"$error":"#REF!"}},{"$f":"BW52*#REF!","v":{"$error":"#REF!"}},{"$f":"BX52+#REF!","v":{"$error":"#REF!"}},{"$f":"AO52/#REF!","v":{"$error":"#REF!"}},{"$f":"BZ52*#REF!","v":{"$error":"#REF!"}},{"$error":"#REF!"},"/MH","MH/",null,{"$f":"T(#REF!)","v":{"$error":"#REF!"}},{"$f":"#REF!","v":{"$error":"#REF!"}},0]
[null,null,null,null,null,null,null,null,null,null,null,null,null,null,null,null,null,null,null,null,null,null,null,null,null,null,null,null,null,null,0,null,null,null,null,0,null,null,null,null,0,null,null,null,null,null,0,null,null,null,null,{"$f":"SUM(#REF!)","v":{"$error":"#REF!"}},0,null,null,null,"TEMPORARY UTILITIES",null,null,null,null,null,0,0,{"$f":"#REF!","v":{"$error":"#REF!"}},0,{"$error":"#REF!"},{"$f":"AU53/#REF!","v":{"$error":"#REF!"}},{"$f":"AE53/#REF!","v":{"$error":"#REF!"}},{"$f":"BQ53*#REF!","v":{"$error":"#REF!"}},{"$error":"#REF!"},{"$f":"AJ53/#REF!","v":{"$error":"#REF!"}},{"$f":"BT53*#REF!","v":{"$error":"#REF!"}},{"$error":"#REF!"},{"$f":"#REF!/#REF!","v":{"$error":"#REF!"}},{"$f":"BW53*#REF!","v":{"$error":"#REF!"}},{"$f":"BX53+#REF!","v":{"$error":"#REF!"}},{"$f":"AO53/#REF!","v":{"$error":"#REF!"}},{"$f":"BZ53*#REF!","v":{"$error":"#REF!"}},{"$error":"#REF!"},"/MH","MH/",null,{"$f":"T(#REF!)","v":{"$error":"#REF!"}},{"$f":"#REF!","v":{"$error":"#REF!"}},0]
[null,null,null,null,null,null,null,null,null,null,null,null,null,null,null,null,null,null,null,null,null,null,null,null,null,null,null,null,null,null,0,null,null,null,null,0,null,null,null,null,0,null,null,null,null,null,0,null,null,null,null,{"$f":"SUM(#REF!)","v":{"$error":"#REF!"}},0,null,null,null,"TEMPORARY UTILITIES",null,null,null,null,null,0,0,{"$f":"#REF!","v":{"$error":"#REF!"}},0,{"$error":"#REF!"},{"$f":"AU54/#REF!","v":{"$error":"#REF!"}},{"$f":"AE54/#REF!","v":{"$error":"#REF!"}},{"$f":"BQ54*#REF!","v":{"$error":"#REF!"}},{"$error":"#REF!"},{"$f":"AJ54/#REF!","v":{"$error":"#REF!"}},{"$f":"BT54*#REF!","v":{"$error":"#REF!"}},{"$error":"#REF!"},{"$f":"#REF!/#REF!","v":{"$error":"#REF!"}},{"$f":"BW54*#REF!","v":{"$error":"#REF!"}},{"$f":"BX54+#REF!","v":{"$error":"#REF!"}},{"$f":"AO54/#REF!","v":{"$error":"#REF!"}},{"$f":"BZ54*#REF!","v":{"$error":"#REF!"}},{"$error":"#REF!"},"/MH","MH/",null,{"$f":"T(#REF!)","v":{"$error":"#REF!"}},{"$f":"#REF!","v":{"$error":"#REF!"}},0]
[null,null,null,null,null,null,null,null,null,null,null,null,null,null,null,null,null,null,null,null,null,null,null,null,null,null,null,null,null,null,0,null,null,null,null,0,null,null,null,null,0,null,null,null,null,null,0,null,null,null,null,{"$f":"SUM(#REF!)","v":{"$error":"#REF!"}},0,null,null,null,"TEMPORARY UTILITIES",null,null,null,null,null,0,0,{"$f":"#REF!","v":{"$error":"#REF!"}},0,{"$error":"#REF!"},{"$f":"AU55/#REF!","v":{"$error":"#REF!"}},{"$f":"AE55/#REF!","v":{"$error":"#REF!"}},{"$f":"BQ55*#REF!","v":{"$error":"#REF!"}},{"$error":"#REF!"},{"$f":"AJ55/#REF!","v":{"$error":"#REF!"}},{"$f":"BT55*#REF!","v":{"$error":"#REF!"}},{"$error":"#REF!"},{"$f":"#REF!/#REF!","v":{"$error":"#REF!"}},{"$f":"BW55*#REF!","v":{"$error":"#REF!"}},{"$f":"BX55+#REF!","v":{"$error":"#REF!"}},{"$f":"AO55/#REF!","v":{"$error":"#REF!"}},{"$f":"BZ55*#REF!","v":{"$error":"#REF!"}},{"$error":"#REF!"},"/MH","MH/",null,{"$f":"T(#REF!)","v":{"$error":"#REF!"}},{"$f":"#REF!","v":{"$error":"#REF!"}},0]
[null,null,null,null,null,null,null,null,null,null,null,null,null,null,null,null,null,null,null,null,null,null,null,null,null,null,null,null,null,null,0,null,null,null,null,0,null,null,null,null,0,null,null,null,null,null,0,null,null,null,null,{"$f":"SUM(#REF!)","v":{"$error":"#REF!"}},0,null,null,null,"TEMPORARY UTILITIES",null,null,null,null,null,0,0,{"$f":"#REF!","v":{"$error":"#REF!"}},0,{"$error":"#REF!"},{"$f":"AU56/#REF!","v":{"$error":"#REF!"}},{"$f":"AE56/#REF!","v":{"$error":"#REF!"}},{"$f":"BQ56*#REF!","v":{"$error":"#REF!"}},{"$error":"#REF!"},{"$f":"AJ56/#REF!","v":{"$error":"#REF!"}},{"$f":"BT56*#REF!","v":{"$error":"#REF!"}},{"$error":"#REF!"},{"$f":"#REF!/#REF!","v":{"$error":"#REF!"}},{"$f":"BW56*#REF!","v":{"$error":"#REF!"}},{"$f":"BX56+#REF!","v":{"$error":"#REF!"}},{"$f":"AO56/#REF!","v":{"$error":"#REF!"}},{"$f":"BZ56*#REF!","v":{"$error":"#REF!"}},{"$error":"#REF!"},"/MH","MH/",null,{"$f":"T(#REF!)","v":{"$error":"#REF!"}},{"$f":"#REF!","v":{"$error":"#REF!"}},0]
[null,null,null,null,null,null,null,null,null,null,null,null,null,null,null,null,null,null,null,null,null,null,null,null,null,null,null,null,null,null,0,null,null,null,null,0,null,null,null,null,0,null,null,null,null,null,0,null,null,null,null,{"$f":"SUM(#REF!)","v":{"$error":"#REF!"}},0,null,null,null,"TEMPORARY UTILITIES",null,null,null,null,null,0,0,{"$f":"#REF!","v":{"$error":"#REF!"}},0,{"$error":"#REF!"},{"$f":"AU57/#REF!","v":{"$error":"#REF!"}},{"$f":"AE57/#REF!","v":{"$error":"#REF!"}},{"$f":"BQ57*#REF!","v":{"$error":"#REF!"}},{"$error":"#REF!"},{"$f":"AJ57/#REF!","v":{"$error":"#REF!"}},{"$f":"BT57*#REF!","v":{"$error":"#REF!"}},{"$error":"#REF!"},{"$f":"#REF!/#REF!","v":{"$error":"#REF!"}},{"$f":"BW57*#REF!","v":{"$error":"#REF!"}},{"$f":"BX57+#REF!","v":{"$error":"#REF!"}},{"$f":"AO57/#REF!","v":{"$error":"#REF!"}},{"$f":"BZ57*#REF!","v":{"$error":"#REF!"}},{"$error":"#REF!"},"/MH","MH/",null,{"$f":"T(#REF!)","v":{"$error":"#REF!"}},{"$f":"#REF!","v":{"$error":"#REF!"}},0]
[null,null,null,null,null,null,null,null,null,null,null,null,null,null,null,null,null,null,null,null,null,null,null,null,null,null,null,null,null,null,0,null,null,null,null,0,null,null,null,null,0,null,null,null,null,null,0,null,null,null,null,{"$f":"SUM(#REF!)","v":{"$error":"#REF!"}},0,null,null,null,"TEMPORARY UTILITIES",null,null,null,null,null,0,0,{"$f":"#REF!","v":{"$error":"#REF!"}},0,{"$error":"#REF!"},{"$f":"AU58/#REF!","v":{"$error":"#REF!"}},{"$f":"AE58/#REF!","v":{"$error":"#REF!"}},{"$f":"BQ58*#REF!","v":{"$error":"#REF!"}},{"$error":"#REF!"},{"$f":"AJ58/#REF!","v":{"$error":"#REF!"}},{"$f":"BT58*#REF!","v":{"$error":"#REF!"}},{"$error":"#REF!"},{"$f":"#REF!/#REF!","v":{"$error":"#REF!"}},{"$f":"BW58*#REF!","v":{"$error":"#REF!"}},{"$f":"BX58+#REF!","v":{"$error":"#REF!"}},{"$f":"AO58/#REF!","v":{"$error":"#REF!"}},{"$f":"BZ58*#REF!","v":{"$error":"#REF!"}},{"$error":"#REF!"},"/MH","MH/",null,{"$f":"T(#REF!)","v":{"$error":"#REF!"}},{"$f":"#REF!","v":{"$error":"#REF!"}},0]
[null,null,null,null,null,null,null,null,null,null,null,null,null,null,null,null,null,null,null,null,null,null,null,null,null,null,null,null,null,null,0,null,null,null,null,0,null,null,null,null,0,null,null,null,null,null,0,null,null,null,null,{"$f":"SUM(#REF!)","v":{"$error":"#REF!"}},0,null,null,null,"TEMPORARY UTILITIES",null,null,null,null,null,0,0,{"$f":"#REF!","v":{"$error":"#REF!"}},0,{"$error":"#REF!"},{"$f":"AU59/#REF!","v":{"$error":"#REF!"}},{"$f":"AE59/#REF!","v":{"$error":"#REF!"}},{"$f":"BQ59*#REF!","v":{"$error":"#REF!"}},{"$error":"#REF!"},{"$f":"AJ59/#REF!","v":{"$error":"#REF!"}},{"$f":"BT59*#REF!","v":{"$error":"#REF!"}},{"$error":"#REF!"},{"$f":"#REF!/#REF!","v":{"$error":"#REF!"}},{"$f":"BW59*#REF!","v":{"$error":"#REF!"}},{"$f":"BX59+#REF!","v":{"$error":"#REF!"}},{"$f":"AO59/#REF!","v":{"$error":"#REF!"}},{"$f":"BZ59*#REF!","v":{"$error":"#REF!"}},{"$error":"#REF!"},"/MH","MH/",null,{"$f":"T(#REF!)","v":{"$error":"#REF!"}},{"$f":"#REF!","v":{"$error":"#REF!"}},0]
[null,null,null,null,null,null,null,null,null,null,null,null,null,null,null,null,null,null,null,null,null,null,null,null,null,null,null,null,null,null,null,null,null,null,null,null,null,null,null,null,null,null,null,null,null,null,null,null,null,null,null,null,null,null,null,null,"TEMPORARY UTILITIES",null,null,null,null,null,{"$f":"BK44","v":0},{"$f":"BL44","v":0},{"$f":"BM44","v":{"$error":"#REF!"}},{"$f":"BN44","v":0},{"$f":"BO44","v":{"$error":"#REF!"}},{"$f":"AU60/TOTAL_REMODEL_ESTIMATE","v":{"$error":"#NAME?"}},{"$f":"#REF!/TOTAL_REMODEL_ESTIMATE","v":{"$error":"#REF!"}},{"$f":"#REF!/TOTAL_REMODEL_ESTIMATE","v":{"$error":"#REF!"}},{"$f":"#REF!/TOTAL_REMODEL_ESTIMATE","v":{"$error":"#REF!"}},{"$f":"#REF!/TOTAL_REMODEL_ESTIMATE","v":{"$error":"#REF!"}},{"$f":"#REF!/TOTAL_REMODEL_ESTIMATE","v":{"$error":"#REF!"}},{"$f":"#REF!/TOTAL_REMODEL_ESTIMATE","v":{"$error":"#REF!"}},{"$f":"#REF!/TOTAL_REMODEL_ESTIMATE","v":{"$error":"#REF!"}},{"$f":"#REF!/TOTAL_REMODEL_ESTIMATE","v":{"$error":"#REF!"}},{"$f":"#REF!/TOTAL_REMODEL_ESTIMATE","v":{"$error":"#REF!"}},{"$f":"#REF!/TOTAL_REMODEL_ESTIMATE","v":{"$error":"#REF!"}},{"$f":"#REF!/TOTAL_REMODEL_ESTIMATE","v":{"$error":"#REF!"}},{"$f":"#REF!/TOTAL_REMODEL_ESTIMATE","v":{"$error":"#REF!"}},{"$f":"#REF!/TOTAL_REMODEL_ESTIMATE","v":{"$error":"#REF!"}},{"$f":"#REF!/TOTAL_REMODEL_ESTIMATE","v":{"$error":"#REF!"}}]
[null,{"$f":"T(CONCATENATE(B44,\" \",\"TOTAL\"))","v":"TEMPORARY UTILITIES TOTAL"},null,null,null,null,null,null,null,null,null,null,null,null,null,null,null,null,null,null,null,null,null,null,null,null,null,null,null,null,{"$f":"SUBTOTAL(9,AE45:AE60)","v":0},null,null,null,null,{"$f":"SUBTOTAL(9,AJ44:AN60)","v":0},null,null,null,null,{"$f":"SUBTOTAL(9,AO44:AS59)","v":0},null,null,null,null,null,{"$f":"SUBTOTAL(9,AU44:AY60)","v":0},null,null,null,null,null,{"$f":"SUBTOTAL(9,BA44:BA60)","v":0},null,null,null,"TEMPORARY UTILITIES",null,null,null,null,null,{"$f":"BK44","v":0},0,{"$error":"#REF!"},0,{"$error":"#REF!"},{"$error":"#REF!"},{"$error":"#REF!"},{"$error":"#REF!"},{"$error":"#REF!"},{"$error":"#REF!"},{"$error":"#REF!"},{"$error":"#REF!"},{"$error":"#REF!"},{"$error":"#REF!"},{"$error":"#REF!"},{"$error":"#REF!"},{"$error":"#REF!"},{"$error":"#REF!"}]
[null,null,null,null,null,null,null,null,null,null,null,null,null,null,null,null,null,null,null,null,null,null,null,null,null,null,null,null,null,null,null,null,null,null,null,null,null,null,null,null,null,null,null,null,null,null,null,null,null,null,null,null,null,null,null,null,"TEMPORARY UTILITIES",null,null,null,null,null,{"$f":"BK44","v":0},{"$f":"BL44","v":0},{"$f":"BM44","v":{"$error":"#REF!"}},{"$f":"BN44","v":0},{"$f":"BO44","v":{"$error":"#REF!"}},{"$f":"AU62/TOTAL_REMODEL_ESTIMATE","v":{"$error":"#NAME?"}},{"$f":"#REF!/TOTAL_REMODEL_ESTIMATE","v":{"$error":"#REF!"}},{"$f":"#REF!/TOTAL_REMODEL_ESTIMATE","v":{"$error":"#REF!"}},{"$f":"#REF!/TOTAL_REMODEL_ESTIMATE","v":{"$error":"#REF!"}},{"$f":"#REF!/TOTAL_REMODEL_ESTIMATE","v":{"$error":"#REF!"}},{"$f":"#REF!/TOTAL_REMODEL_ESTIMATE","v":{"$error":"#REF!"}},{"$f":"#REF!/TOTAL_REMODEL_ESTIMATE","v":{"$error":"#REF!"}},{"$f":"#REF!/TOTAL_REMODEL_ESTIMATE","v":{"$error":"#REF!"}},{"$f":"#REF!/TOTAL_REMODEL_ESTIMATE","v":{"$error":"#REF!"}},{"$f":"#REF!/TOTAL_REMODEL_ESTIMATE","v":{"$error":"#REF!"}},{"$f":"#REF!/TOTAL_REMODEL_ESTIMATE","v":{"$error":"#REF!"}},{"$f":"#REF!/TOTAL_REMODEL_ESTIMATE","v":{"$error":"#REF!"}},{"$f":"#REF!/TOTAL_REMODEL_ESTIMATE","v":{"$error":"#REF!"}},{"$f":"#REF!/TOTAL_REMODEL_ESTIMATE","v":{"$error":"#REF!"}},{"$f":"#REF!/TOTAL_REMODEL_ESTIMATE","v":{"$error":"#REF!"}}]
[null,"TEMPORARY PROJECT REQUIREMENTS",null,null,null,null,null,null,null,null,null,null,null,null,null,null,null,null,null,null,null,null,null,null,null,null,null,null,null,null,null,null,null,null,null,null,null,null,null,null,null,null,null,null,null,null,null,null,null,null,null,null,null,null,null,null,{"$f":"$B$63","v":"TEMPORARY PROJECT REQUIREMENTS"},null,null,null,null,null,{"$f":"SUM(BK64:BK78)","v":0},0,{"$error":"#REF!"},0,{"$error":"#REF!"},{"$error":"#REF!"},{"$error":"#REF!"},{"$error":"#REF!"},{"$error":"#REF!"},{"$error":"#REF!"},{"$error":"#REF!"},{"$error":"#REF!"},{"$error":"#REF!"},{"$error":"#REF!"},{"$error":"#REF!"},{"$error":"#REF!"},{"$error":"#REF!"},{"$error":"#REF!"},{"$f":"CONCATENATE(T63,\"/\", \"MH\")","v":"/MH"},{"$f":"CONCATENATE(\"MH\",\"/\",T63)","v":"MH/"}]
[null,"Office trailer, place & remove","Office trailer, place & remove","Office trailer, place & remove","Office trailer, place & remove","Office trailer, place & remove","Office trailer, place & remove","Office trailer, place & remove",null,"Office trailer, place & remove","Office trailer, place & remove","Office trailer, place & remove","Office trailer, place & remove","Office trailer, place & remove","Office trailer, place & remove","Office trailer, place & remove",null,null,null,"ea","ls",null,null,null,null,null,null,null,null,null,{"$f":"V64*Q64","v":0},null,null,null,null,{"$f":"Q64*Y64","v":0},null,null,null,null,{"$f":"Q64*AB64","v":0},null,null,null,null,null,{"$f":"AE64+AJ64+AO64","v":0},null,null,null,null,{"$f":"SUM(#REF!)","v":{"$error":"#REF!"}},{"$f":"IFERROR(AU64/Total_Detailed_Estimate,0)","v":0},null,"Cost to deliver,  place  and remove office trailer",null,"TEMPORARY PROJECT REQUIREMENTS",null,null,null,null,null,{"$f":"AE64","v":0},{"$f":"AJ64","v":0},{"$f":"#REF!","v":{"$error":"#REF!"}},{"$f":"AO64","v":0},{"$f":"SUM(BK64:BN64)","v":{"$error":"#REF!"}},{"$f":"AU64/#REF!","v":{"$error":"#REF!"}},{"$f":"AE64/#REF!","v":{"$error":"#REF!"}},{"$f":"BQ64*#REF!","v":{"$error":"#REF!"}},{"$f":"BR64+AE64","v":{"$error":"#REF!"}},{"$f":"AJ64/#REF!","v":{"$error":"#REF!"}},{"$f":"BT64*#REF!","v":{"$error":"#REF!"}},{"$f":"BU64+AJ64","v":{"$error":"#REF!"}},{"$f":"#REF!/#REF!","v":{"$error":"#REF!"}},{"$f":"BW64*#REF!","v":{"$error":"#REF!"}},{"$f":"BX64+#REF!","v":{"$error":"#REF!"}},{"$f":"AO64/#REF!","v":{"$error":"#REF!"}},{"$f":"BZ64*#REF!","v":{"$error":"#REF!"}},{"$f":"CA64+AO64","v":{"$error":"#REF!"}},"ea/MH","MH/ea",null,{"$f":"T(#REF!)","v":{"$error":"#REF!"}},{"$f":"#REF!","v":{"$error":"#REF!"}},{"$f":"AE64","v":0}]
[null,"Office trailer rental","Office trailer rental","Office trailer rental","Office trailer rental","Office trailer rental","Office trailer rental","Office trailer rental",null,"Office trailer rental","Office trailer rental","Office trailer rental","Office trailer rental","Office trailer rental","Office trailer rental","Office trailer rental",null,null,null,"months",null,null,null,null,null,null,null,null,null,null,0,null,null,null,null,0,null,null,null,null,{"$f":"Q65*AB65","v":0},null,null,null,null,null,0,null,null,null,null,{"$f":"SUM(#REF!)","v":{"$error":"#REF!"}},0,null,null,null,"TEMPORARY PROJECT REQUIREMENTS",null,null,null,null,null,0,0,{"$f":"#REF!","v":{"$error":"#REF!"}},0,{"$error":"#REF!"},{"$f":"AU65/#REF!","v":{"$error":"#REF!"}},{"$f":"AE65/#REF!","v":{"$error":"#REF!"}},{"$f":"BQ65*#REF!","v":{"$error":"#REF!"}},{"$error":"#REF!"},{"$f":"AJ65/#REF!","v":{"$error":"#REF!"}},{"$f":"BT65*#REF!","v":{"$error":"#REF!"}},{"$error":"#REF!"},{"$f":"#REF!/#REF!","v":{"$error":"#REF!"}},{"$f":"BW65*#REF!","v":{"$error":"#REF!"}},{"$f":"BX65+#REF!","v":{"$error":"#REF!"}},{"$f":"AO65/#REF!","v":{"$error":"#REF!"}},{"$f":"BZ65*#REF!","v":{"$error":"#REF!"}},{"$error":"#REF!"},"months/MH","MH/months",null,{"$f":"T(#REF!)","v":{"$error":"#REF!"}},{"$f":"#REF!","v":{"$error":"#REF!"}},0]
[null,"Storage container, place & remove","Storage container, place & remove","Storage container, place & remove","Storage container, place & remove","Storage container, place & remove","Storage container, place & remove","Storage container, place & remove",null,"Storage container, place & remove","Storage container, place & remove","Storage container, place & remove","Storage container, place & remove","Storage container, place & remove","Storage container, place & remove","Storage container, place & remove",null,null,null,"ea",null,null,null,null,null,null,null,null,null,null,0,null,null,null,null,0,null,null,null,null,0,null,null,null,null,null,0,null,null,null,null,{"$f":"SUM(#REF!)","v":{"$error":"#REF!"}},0,null,"Cost to deliver, place and remove storage unit",null,"TEMPORARY PROJECT REQUIREMENTS",null,null,null,null,null,0,0,{"$f":"#REF!","v":{"$error":"#REF!"}},0,{"$error":"#REF!"},{"$f":"AU66/#REF!","v":{"$error":"#REF!"}},{"$f":"AE66/#REF!","v":{"$error":"#REF!"}},{"$f":"BQ66*#REF!","v":{"$error":"#REF!"}},{"$error":"#REF!"},{"$f":"AJ66/#REF!","v":{"$error":"#REF!"}},{"$f":"BT66*#REF!","v":{"$error":"#REF!"}},{"$error":"#REF!"},{"$f":"#REF!/#REF!","v":{"$error":"#REF!"}},{"$f":"BW66*#REF!","v":{"$error":"#REF!"}},{"$f":"BX66+#REF!","v":{"$error":"#REF!"}},{"$f":"AO66/#REF!","v":{"$error":"#REF!"}},{"$f":"BZ66*#REF!","v":{"$error":"#REF!"}},{"$error":"#REF!"},"ea/MH","MH/ea",null,{"$f":"T(#REF!)","v":{"$error":"#REF!"}},{"$f":"#REF!","v":{"$error":"#REF!"}},0]
[null,"Storage container rental","Storage container rental","Storage container rental","Storage container rental","Storage container rental","Storage container rental","Storage container rental",null,"Storage container rental","Storage container rental","Storage container rental","Storage container rental","Storage container rental","Storage container rental","Storage container rental",null,null,null,"months",null,null,null,null,null,null,null,null,null,null,0,null,null,null,null,0,null,null,null,null,0,null,null,null,null,null,0,null,null,null,null,{"$f":"SUM(#REF!)","v":{"$error":"#REF!"}},0,null,null,null,"TEMPORARY PROJECT REQUIREMENTS",null,null,null,null,null,0,0,{"$f":"#REF!","v":{"$error":"#REF!"}},0,{"$error":"#REF!"},{"$f":"AU67/#REF!","v":{"$error":"#REF!"}},{"$f":"AE67/#REF!","v":{"$error":"#REF!"}},{"$f":"BQ67*#REF!","v":{"$error":"#REF!"}},{"$error":"#REF!"},{"$f":"AJ67/#REF!","v":{"$error":"#REF!"}},{"$f":"BT67*#REF!","v":{"$error":"#REF!"}},{"$error":"#REF!"},{"$f":"#REF!/#REF!","v":{"$error":"#REF!"}},{"$f":"BW67*#REF!","v":{"$error":"#REF!"}},{"$f":"BX67+#REF!","v":{"$error":"#REF!"}},{"$f":"AO67/#REF!","v":{"$error":"#REF!"}},{"$f":"BZ67*#REF!","v":{"$error":"#REF!"}},{"$error":"#REF!"},"months/MH","MH/months",null,{"$f":"T(#REF!)","v":{"$error":"#REF!"}},{"$f":"#REF!","v":{"$error":"#REF!"}},0]
[null,"Scaffolding, place & remove","Scaffolding, place & remove","Scaffolding, place & remove","Scaffolding, place & remove","Scaffolding, place & remove","Scaffolding, place & remove","Scaffolding, place & remove",null,"Scaffolding, place & remove","Scaffolding, place & remove","Scaffolding, place & remove","Scaffolding, place & remove","Scaffolding, place & remove","Scaffolding, place & remove","Scaffolding, place & remove",null,null,null,"months",null,null,null,null,null,null,null,null,null,null,0,null,null,null,null,0,null,null,null,null,0,null,null,null,null,null,0,null,null,null,null,{"$f":"SUM(#REF!)","v":{"$error":"#REF!"}},0,null,null,null,"TEMPORARY PROJECT REQUIREMENTS",null,null,null,null,null,0,0,{"$f":"#REF!","v":{"$error":"#REF!"}},0,{"$error":"#REF!"},{"$f":"AU68/#REF!","v":{"$error":"#REF!"}},{"$f":"AE68/#REF!","v":{"$error":"#REF!"}},{"$f":"BQ68*#REF!","v":{"$error":"#REF!"}},{"$error":"#REF!"},{"$f":"AJ68/#REF!","v":{"$error":"#REF!"}},{"$f":"BT68*#REF!","v":{"$error":"#REF!"}},{"$error":"#REF!"},{"$f":"#REF!/#REF!","v":{"$error":"#REF!"}},{"$f":"BW68*#REF!","v":{"$error":"#REF!"}},{"$f":"BX68+#REF!","v":{"$error":"#REF!"}},{"$f":"AO68/#REF!","v":{"$error":"#REF!"}},{"$f":"BZ68*#REF!","v":{"$error":"#REF!"}},{"$error":"#REF!"},"months/MH","MH/months",null,{"$f":"T(#REF!)","v":{"$error":"#REF!"}},{"$f":"#REF!","v":{"$error":"#REF!"}},0]
[null,"Scaffolding rental","Scaffolding rental","Scaffolding rental","Scaffolding rental","Scaffolding rental","Scaffolding rental","Scaffolding rental",null,"Scaffolding rental","Scaffolding rental","Scaffolding rental","Scaffolding rental","Scaffolding rental","Scaffolding rental","Scaffolding rental",null,null,null,"months",null,null,null,null,null,null,null,null,null,null,0,null,null,null,null,0,null,null,null,null,0,null,null,null,null,null,0,null,null,null,null,{"$f":"SUM(#REF!)","v":{"$error":"#REF!"}},0,null,null,null,"TEMPORARY PROJECT REQUIREMENTS",null,null,null,null,null,0,0,{"$f":"#REF!","v":{"$error":"#REF!"}},0,{"$error":"#REF!"},{"$f":"AU69/#REF!","v":{"$error":"#REF!"}},{"$f":"AE69/#REF!","v":{"$error":"#REF!"}},{"$f":"BQ69*#REF!","v":{"$error":"#REF!"}},{"$error":"#REF!"},{"$f":"AJ69/#REF!","v":{"$error":"#REF!"}},{"$f":"BT69*#REF!","v":{"$error":"#REF!"}},{"$error":"#REF!"},{"$f":"#REF!/#REF!","v":{"$error":"#REF!"}},{"$f":"BW69*#REF!","v":{"$error":"#REF!"}},{"$f":"BX69+#REF!","v":{"$error":"#REF!"}},{"$f":"AO69/#REF!","v":{"$error":"#REF!"}},{"$f":"BZ69*#REF!","v":{"$error":"#REF!"}},{"$error":"#REF!"},"months/MH","MH/months",null,{"$f":"T(#REF!)","v":{"$error":"#REF!"}},{"$f":"#REF!","v":{"$error":"#REF!"}},0]
[null,"Temporary Fencing","Temporary Fencing","Temporary Fencing","Temporary Fencing","Temporary Fencing","Temporary Fencing","Temporary Fencing",null,"Temporary Fencing","Temporary Fencing","Temporary Fencing","Temporary Fencing","Temporary Fencing","Temporary Fencing","Temporary Fencing",null,null,null,"lf",null,null,null,null,null,null,null,null,null,null,0,null,null,null,null,0,null,null,null,null,0,null,null,null,null,null,0,null,null,null,null,{"$f":"SUM(#REF!)","v":{"$error":"#REF!"}},0,null,"Cost to install temporary job site fencing",null,"TEMPORARY PROJECT REQUIREMENTS",null,null,null,null,null,0,0,{"$f":"#REF!","v":{"$error":"#REF!"}},0,{"$error":"#REF!"},{"$f":"AU70/#REF!","v":{"$error":"#REF!"}},{"$f":"AE70/#REF!","v":{"$error":"#REF!"}},{"$f":"BQ70*#REF!","v":{"$error":"#REF!"}},{"$error":"#REF!"},{"$f":"AJ70/#REF!","v":{"$error":"#REF!"}},{"$f":"BT70*#REF!","v":{"$error":"#REF!"}},{"$error":"#REF!"},{"$f":"#REF!/#REF!","v":{"$error":"#REF!"}},{"$f":"BW70*#REF!","v":{"$error":"#REF!"}},{"$f":"BX70+#REF!","v":{"$error":"#REF!"}},{"$f":"AO70/#REF!","v":{"$error":"#REF!"}},{"$f":"BZ70*#REF!","v":{"$error":"#REF!"}},{"$error":"#REF!"},"lf/MH","MH/lf",null,{"$f":"T(#REF!)","v":{"$error":"#REF!"}},{"$f":"#REF!","v":{"$error":"#REF!"}},0]
[null,"Zip-wall, plastic partitions","Zip-wall, plastic partitions","Zip-wall, plastic partitions","Zip-wall, plastic partitions","Zip-wall, plastic partitions","Zip-wall, plastic partitions","Zip-wall, plastic partitions",null,"Zip-wall, plastic partitions","Zip-wall, plastic partitions","Zip-wall, plastic partitions","Zip-wall, plastic partitions","Zip-wall, plastic partitions","Zip-wall, plastic partitions","Zip-wall, plastic partitions",null,null,null,"lf",null,null,null,null,null,null,null,null,null,null,0,null,null,null,null,0,null,null,null,null,0,null,null,null,null,null,0,null,null,null,null,{"$f":"SUM(#REF!)","v":{"$error":"#REF!"}},0,null,"Cost to install plastic zip-wall partitions/coverings",null,"TEMPORARY PROJECT REQUIREMENTS",null,null,null,null,null,0,0,{"$f":"#REF!","v":{"$error":"#REF!"}},0,{"$error":"#REF!"},{"$f":"AU71/#REF!","v":{"$error":"#REF!"}},{"$f":"AE71/#REF!","v":{"$error":"#REF!"}},{"$f":"BQ71*#REF!","v":{"$error":"#REF!"}},{"$error":"#REF!"},{"$f":"AJ71/#REF!","v":{"$error":"#REF!"}},{"$f":"BT71*#REF!","v":{"$error":"#REF!"}},{"$error":"#REF!"},{"$f":"#REF!/#REF!","v":{"$error":"#REF!"}},{"$f":"BW71*#REF!","v":{"$error":"#REF!"}},{"$f":"BX71+#REF!","v":{"$error":"#REF!"}},{"$f":"AO71/#REF!","v":{"$error":"#REF!"}},{"$f":"BZ71*#REF!","v":{"$error":"#REF!"}},{"$error":"#REF!"},"lf/MH","MH/lf",null,{"$f":"T(#REF!)","v":{"$error":"#REF!"}},{"$f":"#REF!","v":{"$error":"#REF!"}},0]
[null,"Temporary drywall partitions","Temporary drywall partitions","Temporary drywall partitions","Temporary drywall partitions","Temporary drywall partitions","Temporary drywall partitions","Temporary drywall partitions",null,"Temporary drywall partitions","Temporary drywall partitions","Temporary drywall partitions","Temporary drywall partitions","Temporary drywall partitions","Temporary drywall partitions","Temporary drywall partitions",null,null,null,"lf",null,null,null,null,null,null,null,null,null,null,0,null,null,null,null,0,null,null,null,null,0,null,null,null,null,null,0,null,null,null,null,{"$f":"SUM(#REF!)","v":{"$error":"#REF!"}},0,null,"Cost to install temp drywall partitions, install & remove",null,"TEMPORARY PROJECT REQUIREMENTS",null,null,null,null,null,0,0,{"$f":"#REF!","v":{"$error":"#REF!"}},0,{"$error":"#REF!"},{"$f":"AU72/#REF!","v":{"$error":"#REF!"}},{"$f":"AE72/#REF!","v":{"$error":"#REF!"}},{"$f":"BQ72*#REF!","v":{"$error":"#REF!"}},{"$error":"#REF!"},{"$f":"AJ72/#REF!","v":{"$error":"#REF!"}},{"$f":"BT72*#REF!","v":{"$error":"#REF!"}},{"$error":"#REF!"},{"$f":"#REF!/#REF!","v":{"$error":"#REF!"}},{"$f":"BW72*#REF!","v":{"$error":"#REF!"}},{"$f":"BX72+#REF!","v":{"$error":"#REF!"}},{"$f":"AO72/#REF!","v":{"$error":"#REF!"}},{"$f":"BZ72*#REF!","v":{"$error":"#REF!"}},{"$error":"#REF!"},"lf/MH","MH/lf",null,{"$f":"T(#REF!)","v":{"$error":"#REF!"}},{"$f":"#REF!","v":{"$error":"#REF!"}},0]
[null,"Temporary floor protection, RAM board","Temporary floor protection, RAM board","Temporary floor protection, RAM board","Temporary floor protection, RAM board","Temporary floor protection, RAM board","Temporary floor protection, RAM board","Temporary floor protection, RAM board",null,"Temporary floor protection, RAM board","Temporary floor protection, RAM board","Temporary floor protection, RAM board","Temporary floor protection, RAM board","Temporary floor protection, RAM board","Temporary floor protection, RAM board","Temporary floor protection, RAM board",null,null,null,"sf",null,null,null,null,null,null,null,null,null,null,0,null,null,null,null,0,null,null,null,null,0,null,null,null,null,null,0,null,null,null,null,{"$f":"SUM(#REF!)","v":{"$error":"#REF!"}},0,null,"Cost to install RAM board, floor protection, install & remove",null,"TEMPORARY PROJECT REQUIREMENTS",null,null,null,null,null,0,0,{"$f":"#REF!","v":{"$error":"#REF!"}},0,{"$error":"#REF!"},{"$f":"AU73/#REF!","v":{"$error":"#REF!"}},{"$f":"AE73/#REF!","v":{"$error":"#REF!"}},{"$f":"BQ73*#REF!","v":{"$error":"#REF!"}},{"$error":"#REF!"},{"$f":"AJ73/#REF!","v":{"$error":"#REF!"}},{"$f":"BT73*#REF!","v":{"$error":"#REF!"}},{"$error":"#REF!"},{"$f":"#REF!/#REF!","v":{"$error":"#REF!"}},{"$f":"BW73*#REF!","v":{"$error":"#REF!"}},{"$f":"BX73+#REF!","v":{"$error":"#REF!"}},{"$f":"AO73/#REF!","v":{"$error":"#REF!"}},{"$f":"BZ73*#REF!","v":{"$error":"#REF!"}},{"$error":"#REF!"},"sf/MH","MH/sf",null,{"$f":"T(#REF!)","v":{"$error":"#REF!"}},{"$f":"#REF!","v":{"$error":"#REF!"}},0]
[null,"Miscellaneous coverings/protections","Miscellaneous coverings/protections","Miscellaneous coverings/protections","Miscellaneous coverings/protections","Miscellaneous coverings/protections","Miscellaneous coverings/protections","Miscellaneous coverings/protections",null,"Miscellaneous coverings/protections","Miscellaneous coverings/protections","Miscellaneous coverings/protections","Miscellaneous coverings/protections","Miscellaneous coverings/protections","Miscellaneous coverings/protections","Miscellaneous coverings/protections",null,null,null,"sf",null,null,null,null,null,null,null,null,null,null,0,null,null,null,null,0,null,null,null,null,0,null,null,null,null,null,0,null,null,null,null,{"$f":"SUM(#REF!)","v":{"$error":"#REF!"}},0,null,null,null,"TEMPORARY PROJECT REQUIREMENTS",null,null,null,null,null,0,0,{"$f":"#REF!","v":{"$error":"#REF!"}},0,{"$error":"#REF!"},{"$f":"AU74/#REF!","v":{"$error":"#REF!"}},{"$f":"AE74/#REF!","v":{"$error":"#REF!"}},{"$f":"BQ74*#REF!","v":{"$error":"#REF!"}},{"$error":"#REF!"},{"$f":"AJ74/#REF!","v":{"$error":"#REF!"}},{"$f":"BT74*#REF!","v":{"$error":"#REF!"}},{"$error":"#REF!"},{"$f":"#REF!/#REF!","v":{"$error":"#REF!"}},{"$f":"BW74*#REF!","v":{"$error":"#REF!"}},{"$f":"BX74+#REF!","v":{"$error":"#REF!"}},{"$f":"AO74/#REF!","v":{"$error":"#REF!"}},{"$f":"BZ74*#REF!","v":{"$error":"#REF!"}},{"$error":"#REF!"},"sf/MH","MH/sf",null,{"$f":"T(#REF!)","v":{"$error":"#REF!"}},{"$f":"#REF!","v":{"$error":"#REF!"}},0]
[null,null,null,null,null,null,null,null,null,null,null,null,null,null,null,null,null,null,null,null,null,null,null,null,null,null,null,null,null,null,0,null,null,null,null,0,null,null,null,null,0,null,null,null,null,null,0,null,null,null,null,{"$f":"SUM(#REF!)","v":{"$error":"#REF!"}},0,null,null,null,"TEMPORARY PROJECT REQUIREMENTS",null,null,null,null,null,0,0,{"$f":"#REF!","v":{"$error":"#REF!"}},0,{"$error":"#REF!"},{"$f":"AU75/#REF!","v":{"$error":"#REF!"}},{"$f":"AE75/#REF!","v":{"$error":"#REF!"}},{"$f":"BQ75*#REF!","v":{"$error":"#REF!"}},{"$error":"#REF!"},{"$f":"AJ75/#REF!","v":{"$error":"#REF!"}},{"$f":"BT75*#REF!","v":{"$error":"#REF!"}},{"$error":"#REF!"},{"$f":"#REF!/#REF!","v":{"$error":"#REF!"}},{"$f":"BW75*#REF!","v":{"$error":"#REF!"}},{"$f":"BX75+#REF!","v":{"$error":"#REF!"}},{"$f":"AO75/#REF!","v":{"$error":"#REF!"}},{"$f":"BZ75*#REF!","v":{"$error":"#REF!"}},{"$error":"#REF!"},"/MH","MH/",null,{"$f":"T(#REF!)","v":{"$error":"#REF!"}},{"$f":"#REF!","v":{"$error":"#REF!"}},0]
[null,null,null,null,null,null,null,null,null,null,null,null,null,null,null,null,null,null,null,null,null,null,null,null,null,null,null,null,null,null,0,null,null,null,null,0,null,null,null,null,0,null,null,null,null,null,0,null,null,null,null,{"$f":"SUM(#REF!)","v":{"$error":"#REF!"}},0,null,null,null,"TEMPORARY PROJECT REQUIREMENTS",null,null,null,null,null,0,0,{"$f":"#REF!","v":{"$error":"#REF!"}},0,{"$error":"#REF!"},{"$f":"AU76/#REF!","v":{"$error":"#REF!"}},{"$f":"AE76/#REF!","v":{"$error":"#REF!"}},{"$f":"BQ76*#REF!","v":{"$error":"#REF!"}},{"$error":"#REF!"},{"$f":"AJ76/#REF!","v":{"$error":"#REF!"}},{"$f":"BT76*#REF!","v":{"$error":"#REF!"}},{"$error":"#REF!"},{"$f":"#REF!/#REF!","v":{"$error":"#REF!"}},{"$f":"BW76*#REF!","v":{"$error":"#REF!"}},{"$f":"BX76+#REF!","v":{"$error":"#REF!"}},{"$f":"AO76/#REF!","v":{"$error":"#REF!"}},{"$f":"BZ76*#REF!","v":{"$error":"#REF!"}},{"$error":"#REF!"},"/MH","MH/",null,{"$f":"T(#REF!)","v":{"$error":"#REF!"}},{"$f":"#REF!","v":{"$error":"#REF!"}},0]
[null,null,null,null,null,null,null,null,null,null,null,null,null,null,null,null,null,null,null,null,null,null,null,null,null,null,null,null,null,null,0,null,null,null,null,0,null,null,null,null,0,null,null,null,null,null,0,null,null,null,null,{"$f":"SUM(#REF!)","v":{"$error":"#REF!"}},0,null,null,null,"TEMPORARY PROJECT REQUIREMENTS",null,null,null,null,null,0,0,{"$f":"#REF!","v":{"$error":"#REF!"}},0,{"$error":"#REF!"},{"$f":"AU77/#REF!","v":{"$error":"#REF!"}},{"$f":"AE77/#REF!","v":{"$error":"#REF!"}},{"$f":"BQ77*#REF!","v":{"$error":"#REF!"}},{"$error":"#REF!"},{"$f":"AJ77/#REF!","v":{"$error":"#REF!"}},{"$f":"BT77*#REF!","v":{"$error":"#REF!"}},{"$error":"#REF!"},{"$f":"#REF!/#REF!","v":{"$error":"#REF!"}},{"$f":"BW77*#REF!","v":{"$error":"#REF!"}},{"$f":"BX77+#REF!","v":{"$error":"#REF!"}},{"$f":"AO77/#REF!","v":{"$error":"#REF!"}},{"$f":"BZ77*#REF!","v":{"$error":"#REF!"}},{"$error":"#REF!"},"/MH","MH/",null,{"$f":"T(#REF!)","v":{"$error":"#REF!"}},{"$f":"#REF!","v":{"$error":"#REF!"}},0]
[null,null,null,null,null,null,null,null,null,null,null,null,null,null,null,null,null,null,null,null,null,null,null,null,null,null,null,null,null,null,0,null,null,null,null,0,null,null,null,null,0,null,null,null,null,null,0,null,null,null,null,{"$f":"SUM(#REF!)","v":{"$error":"#REF!"}},0,null,null,null,"TEMPORARY PROJECT REQUIREMENTS",null,null,null,null,null,0,0,{"$f":"#REF!","v":{"$error":"#REF!"}},0,{"$error":"#REF!"},{"$f":"AU78/#REF!","v":{"$error":"#REF!"}},{"$f":"AE78/#REF!","v":{"$error":"#REF!"}},{"$f":"BQ78*#REF!","v":{"$error":"#REF!"}},{"$error":"#REF!"},{"$f":"AJ78/#REF!","v":{"$error":"#REF!"}},{"$f":"BT78*#REF!","v":{"$error":"#REF!"}},{"$error":"#REF!"},{"$f":"#REF!/#REF!","v":{"$error":"#REF!"}},{"$f":"BW78*#REF!","v":{"$error":"#REF!"}},{"$f":"BX78+#REF!","v":{"$error":"#REF!"}},{"$f":"AO78/#REF!","v":{"$error":"#REF!"}},{"$f":"BZ78*#REF!","v":{"$error":"#REF!"}},{"$error":"#REF!"},"/MH","MH/",null,{"$f":"T(#REF!)","v":{"$error":"#REF!"}},{"$f":"#REF!","v":{"$error":"#REF!"}},0]
[null,null,null,null,null,null,null,null,null,null,null,null,null,null,null,null,null,null,null,null,null,null,null,null,null,null,null,null,null,null,null,null,null,null,null,null,null,null,null,null,null,null,null,null,null,null,null,null,null,null,null,null,null,null,null,null,"TEMPORARY PROJECT REQUIREMENTS",null,null,null,null,null,{"$f":"BK63","v":0},{"$f":"BL63","v":0},{"$f":"BM63","v":{"$error":"#REF!"}},{"$f":"BN63","v":0},{"$f":"BO63","v":{"$error":"#REF!"}},{"$f":"AU79/TOTAL_REMODEL_ESTIMATE","v":{"$error":"#NAME?"}},{"$f":"#REF!/TOTAL_REMODEL_ESTIMATE","v":{"$error":"#REF!"}},{"$f":"#REF!/TOTAL_REMODEL_ESTIMATE","v":{"$error":"#REF!"}},{"$f":"#REF!/TOTAL_REMODEL_ESTIMATE","v":{"$error":"#REF!"}},{"$f":"#REF!/TOTAL_REMODEL_ESTIMATE","v":{"$error":"#REF!"}},{"$f":"#REF!/TOTAL_REMODEL_ESTIMATE","v":{"$error":"#REF!"}},{"$f":"#REF!/TOTAL_REMODEL_ESTIMATE","v":{"$error":"#REF!"}},{"$f":"#REF!/TOTAL_REMODEL_ESTIMATE","v":{"$error":"#REF!"}},{"$f":"#REF!/TOTAL_REMODEL_ESTIMATE","v":{"$error":"#REF!"}},{"$f":"#REF!/TOTAL_REMODEL_ESTIMATE","v":{"$error":"#REF!"}},{"$f":"#REF!/TOTAL_REMODEL_ESTIMATE","v":{"$error":"#REF!"}},{"$f":"#REF!/TOTAL_REMODEL_ESTIMATE","v":{"$error":"#REF!"}},{"$f":"#REF!/TOTAL_REMODEL_ESTIMATE","v":{"$error":"#REF!"}},{"$f":"#REF!/TOTAL_REMODEL_ESTIMATE","v":{"$error":"#REF!"}},{"$f":"#REF!/TOTAL_REMODEL_ESTIMATE","v":{"$error":"#REF!"}}]
[null,{"$f":"T(CONCATENATE(B63,\" \",\"TOTAL\"))","v":"TEMPORARY PROJECT REQUIREMENTS TOTAL"},null,null,null,null,null,null,null,null,null,null,null,null,null,null,null,null,null,null,null,null,null,null,null,null,null,null,null,null,{"$f":"SUBTOTAL(9,AE64:AE79)","v":0},null,null,null,null,{"$f":"SUBTOTAL(9,AJ63:AN79)","v":0},null,null,null,null,{"$f":"SUBTOTAL(9,AO63:AS78)","v":0},null,null,null,null,null,{"$f":"SUBTOTAL(9,AU63:AY79)","v":0},null,null,null,null,null,{"$f":"SUBTOTAL(9,BA63:BA79)","v":0},null,null,null,"TEMPORARY PROJECT REQUIREMENTS",null,null,null,null,null,{"$f":"BK63","v":0},0,{"$error":"#REF!"},0,{"$error":"#REF!"},{"$error":"#REF!"},{"$error":"#REF!"},{"$error":"#REF!"},{"$error":"#REF!"},{"$error":"#REF!"},{"$error":"#REF!"},{"$error":"#REF!"},{"$error":"#REF!"},{"$error":"#REF!"},{"$error":"#REF!"},{"$error":"#REF!"},{"$error":"#REF!"},{"$error":"#REF!"}]
[null,null,null,null,null,null,null,null,null,null,null,null,null,null,null,null,null,null,null,null,null,null,null,null,null,null,null,null,null,null,null,null,null,null,null,null,null,null,null,null,null,null,null,null,null,null,null,null,null,null,null,null,null,null,null,null,"TEMPORARY PROJECT REQUIREMENTS",null,null,null,null,null,{"$f":"BK63","v":0},{"$f":"BL63","v":0},{"$f":"BM63","v":{"$error":"#REF!"}},{"$f":"BN63","v":0},{"$f":"BO63","v":{"$error":"#REF!"}},{"$f":"AU81/TOTAL_REMODEL_ESTIMATE","v":{"$error":"#NAME?"}},{"$f":"#REF!/TOTAL_REMODEL_ESTIMATE","v":{"$error":"#REF!"}},{"$f":"#REF!/TOTAL_REMODEL_ESTIMATE","v":{"$error":"#REF!"}},{"$f":"#REF!/TOTAL_REMODEL_ESTIMATE","v":{"$error":"#REF!"}},{"$f":"#REF!/TOTAL_REMODEL_ESTIMATE","v":{"$error":"#REF!"}},{"$f":"#REF!/TOTAL_REMODEL_ESTIMATE","v":{"$error":"#REF!"}},{"$f":"#REF!/TOTAL_REMODEL_ESTIMATE","v":{"$error":"#REF!"}},{"$f":"#REF!/TOTAL_REMODEL_ESTIMATE","v":{"$error":"#REF!"}},{"$f":"#REF!/TOTAL_REMODEL_ESTIMATE","v":{"$error":"#REF!"}},{"$f":"#REF!/TOTAL_REMODEL_ESTIMATE","v":{"$error":"#REF!"}},{"$f":"#REF!/TOTAL_REMODEL_ESTIMATE","v":{"$error":"#REF!"}},{"$f":"#REF!/TOTAL_REMODEL_ESTIMATE","v":{"$error":"#REF!"}},{"$f":"#REF!/TOTAL_REMODEL_ESTIMATE","v":{"$error":"#REF!"}},{"$f":"#REF!/TOTAL_REMODEL_ESTIMATE","v":{"$error":"#REF!"}},{"$f":"#REF!/TOTAL_REMODEL_ESTIMATE","v":{"$error":"#REF!"}}]
[null,"EQUIPMENT",null,null,null,null,null,null,null,null,null,null,null,null,null,null,null,null,null,null,null,null,null,null,null,null,null,null,null,null,null,null,null,null,null,null,null,null,null,null,null,null,null,null,null,null,null,null,null,null,null,null,null,null,null,null,{"$f":"$B$82","v":"EQUIPMENT"},null,null,null,null,null,{"$f":"SUM(BK83:BK97)","v":0},0,{"$error":"#REF!"},0,{"$error":"#REF!"},{"$error":"#REF!"},{"$error":"#REF!"},{"$error":"#REF!"},{"$error":"#REF!"},{"$error":"#REF!"},{"$error":"#REF!"},{"$error":"#REF!"},{"$error":"#REF!"},{"$error":"#REF!"},{"$error":"#REF!"},{"$error":"#REF!"},{"$error":"#REF!"},{"$error":"#REF!"},{"$f":"CONCATENATE(T82,\"/\", \"MH\")","v":"/MH"},{"$f":"CONCATENATE(\"MH\",\"/\",T82)","v":"MH/"}]
[null,"Flatbed truck","Flatbed truck","Flatbed truck","Flatbed truck","Flatbed truck","Flatbed truck","Flatbed truck",null,"Flatbed truck","Flatbed truck","Flatbed truck","Flatbed truck","Flatbed truck","Flatbed truck","Flatbed truck",null,null,null,"hrs",null,null,null,null,null,null,null,null,null,null,{"$f":"V83*Q83","v":0},null,null,null,null,{"$f":"Q83*Y83","v":0},null,null,null,null,{"$f":"Q83*AB83","v":0},null,null,null,null,null,{"$f":"AE83+AJ83+AO83","v":0},null,null,null,null,{"$f":"SUM(#REF!)","v":{"$error":"#REF!"}},{"$f":"IFERROR(AU83/Total_Detailed_Estimate,0)","v":0},null,null,null,"EQUIPMENT",null,null,null,null,null,{"$f":"AE83","v":0},{"$f":"AJ83","v":0},{"$f":"#REF!","v":{"$error":"#REF!"}},{"$f":"AO83","v":0},{"$f":"SUM(BK83:BN83)","v":{"$error":"#REF!"}},{"$f":"AU83/#REF!","v":{"$error":"#REF!"}},{"$f":"AE83/#REF!","v":{"$error":"#REF!"}},{"$f":"BQ83*#REF!","v":{"$error":"#REF!"}},{"$f":"BR83+AE83","v":{"$error":"#REF!"}},{"$f":"AJ83/#REF!","v":{"$error":"#REF!"}},{"$f":"BT83*#REF!","v":{"$error":"#REF!"}},{"$f":"BU83+AJ83","v":{"$error":"#REF!"}},{"$f":"#REF!/#REF!","v":{"$error":"#REF!"}},{"$f":"BW83*#REF!","v":{"$error":"#REF!"}},{"$f":"BX83+#REF!","v":{"$error":"#REF!"}},{"$f":"AO83/#REF!","v":{"$error":"#REF!"}},{"$f":"BZ83*#REF!","v":{"$error":"#REF!"}},{"$f":"CA83+AO83","v":{"$error":"#REF!"}},"hrs/MH","MH/hrs",null,{"$f":"T(#REF!)","v":{"$error":"#REF!"}},{"$f":"#REF!","v":{"$error":"#REF!"}},{"$f":"AE83","v":0}]
[null,"Skid steer loader, Bobcat","Skid steer loader, Bobcat","Skid steer loader, Bobcat","Skid steer loader, Bobcat","Skid steer loader, Bobcat","Skid steer loader, Bobcat","Skid steer loader, Bobcat",null,"Skid steer loader, Bobcat","Skid steer loader, Bobcat","Skid steer loader, Bobcat","Skid steer loader, Bobcat","Skid steer loader, Bobcat","Skid steer loader, Bobcat","Skid steer loader, Bobcat",null,null,null,"hrs",null,null,null,null,null,null,null,null,null,null,0,null,null,null,null,0,null,null,null,null,{"$f":"Q84*AB84","v":0},null,null,null,null,null,0,null,null,null,null,{"$f":"SUM(#REF!)","v":{"$error":"#REF!"}},0,null,null,null,"EQUIPMENT",null,null,null,null,null,0,0,{"$f":"#REF!","v":{"$error":"#REF!"}},0,{"$error":"#REF!"},{"$f":"AU84/#REF!","v":{"$error":"#REF!"}},{"$f":"AE84/#REF!","v":{"$error":"#REF!"}},{"$f":"BQ84*#REF!","v":{"$error":"#REF!"}},{"$error":"#REF!"},{"$f":"AJ84/#REF!","v":{"$error":"#REF!"}},{"$f":"BT84*#REF!","v":{"$error":"#REF!"}},{"$error":"#REF!"},{"$f":"#REF!/#REF!","v":{"$error":"#REF!"}},{"$f":"BW84*#REF!","v":{"$error":"#REF!"}},{"$f":"BX84+#REF!","v":{"$error":"#REF!"}},{"$f":"AO84/#REF!","v":{"$error":"#REF!"}},{"$f":"BZ84*#REF!","v":{"$error":"#REF!"}},{"$error":"#REF!"},"hrs/MH","MH/hrs",null,{"$f":"T(#REF!)","v":{"$error":"#REF!"}},{"$f":"#REF!","v":{"$error":"#REF!"}},0]
[null,"Generators","Generators","Generators","Generators","Generators","Generators","Generators",null,"Generators","Generators","Generators","Generators","Generators","Generators","Generators",null,null,null,"hrs",null,null,null,null,null,null,null,null,null,null,0,null,null,null,null,0,null,null,null,null,0,null,null,null,null,null,0,null,null,null,null,{"$f":"SUM(#REF!)","v":{"$error":"#REF!"}},0,null,null,null,"EQUIPMENT",null,null,null,null,null,0,0,{"$f":"#REF!","v":{"$error":"#REF!"}},0,{"$error":"#REF!"},{"$f":"AU85/#REF!","v":{"$error":"#REF!"}},{"$f":"AE85/#REF!","v":{"$error":"#REF!"}},{"$f":"BQ85*#REF!","v":{"$error":"#REF!"}},{"$error":"#REF!"},{"$f":"AJ85/#REF!","v":{"$error":"#REF!"}},{"$f":"BT85*#REF!","v":{"$error":"#REF!"}},{"$error":"#REF!"},{"$f":"#REF!/#REF!","v":{"$error":"#REF!"}},{"$f":"BW85*#REF!","v":{"$error":"#REF!"}},{"$f":"BX85+#REF!","v":{"$error":"#REF!"}},{"$f":"AO85/#REF!","v":{"$error":"#REF!"}},{"$f":"BZ85*#REF!","v":{"$error":"#REF!"}},{"$error":"#REF!"},"hrs/MH","MH/hrs",null,{"$f":"T(#REF!)","v":{"$error":"#REF!"}},{"$f":"#REF!","v":{"$error":"#REF!"}},0]
[null,"Space heater","Space heater","Space heater","Space heater","Space heater","Space heater","Space heater",null,"Space heater","Space heater","Space heater","Space heater","Space heater","Space heater","Space heater",null,null,null,"hrs",null,null,null,null,null,null,null,null,null,null,0,null,null,null,null,0,null,null,null,null,0,null,null,null,null,null,0,null,null,null,null,{"$f":"SUM(#REF!)","v":{"$error":"#REF!"}},0,null,null,null,"EQUIPMENT",null,null,null,null,null,0,0,{"$f":"#REF!","v":{"$error":"#REF!"}},0,{"$error":"#REF!"},{"$f":"AU86/#REF!","v":{"$error":"#REF!"}},{"$f":"AE86/#REF!","v":{"$error":"#REF!"}},{"$f":"BQ86*#REF!","v":{"$error":"#REF!"}},{"$error":"#REF!"},{"$f":"AJ86/#REF!","v":{"$error":"#REF!"}},{"$f":"BT86*#REF!","v":{"$error":"#REF!"}},{"$error":"#REF!"},{"$f":"#REF!/#REF!","v":{"$error":"#REF!"}},{"$f":"BW86*#REF!","v":{"$error":"#REF!"}},{"$f":"BX86+#REF!","v":{"$error":"#REF!"}},{"$f":"AO86/#REF!","v":{"$error":"#REF!"}},{"$f":"BZ86*#REF!","v":{"$error":"#REF!"}},{"$error":"#REF!"},"hrs/MH","MH/hrs",null,{"$f":"T(#REF!)","v":{"$error":"#REF!"}},{"$f":"#REF!","v":{"$error":"#REF!"}},0]
[null,"Air Compressors","Air Compressors","Air Compressors","Air Compressors","Air Compressors","Air Compressors","Air Compressors",null,"Air Compressors","Air Compressors","Air Compressors","Air Compressors","Air Compressors","Air Compressors","Air Compressors",null,null,null,"hrs",null,null,null,null,null,null,null,null,null,null,0,null,null,null,null,0,null,null,null,null,0,null,null,null,null,null,0,null,null,null,null,{"$f":"SUM(#REF!)","v":{"$error":"#REF!"}},0,null,null,null,"EQUIPMENT",null,null,null,null,null,0,0,{"$f":"#REF!","v":{"$error":"#REF!"}},0,{"$error":"#REF!"},{"$f":"AU87/#REF!","v":{"$error":"#REF!"}},{"$f":"AE87/#REF!","v":{"$error":"#REF!"}},{"$f":"BQ87*#REF!","v":{"$error":"#REF!"}},{"$error":"#REF!"},{"$f":"AJ87/#REF!","v":{"$error":"#REF!"}},{"$f":"BT87*#REF!","v":{"$error":"#REF!"}},{"$error":"#REF!"},{"$f":"#REF!/#REF!","v":{"$error":"#REF!"}},{"$f":"BW87*#REF!","v":{"$error":"#REF!"}},{"$f":"BX87+#REF!","v":{"$error":"#REF!"}},{"$f":"AO87/#REF!","v":{"$error":"#REF!"}},{"$f":"BZ87*#REF!","v":{"$error":"#REF!"}},{"$error":"#REF!"},"hrs/MH","MH/hrs",null,{"$f":"T(#REF!)","v":{"$error":"#REF!"}},{"$f":"#REF!","v":{"$error":"#REF!"}},0]
[null,null,null,null,null,null,null,null,null,null,null,null,null,null,null,null,null,null,null,null,null,null,null,null,null,null,null,null,null,null,0,null,null,null,null,0,null,null,null,null,0,null,null,null,null,null,0,null,null,null,null,{"$f":"SUM(#REF!)","v":{"$error":"#REF!"}},0,null,null,null,"EQUIPMENT",null,null,null,null,null,0,0,{"$f":"#REF!","v":{"$error":"#REF!"}},0,{"$error":"#REF!"},{"$f":"AU88/#REF!","v":{"$error":"#REF!"}},{"$f":"AE88/#REF!","v":{"$error":"#REF!"}},{"$f":"BQ88*#REF!","v":{"$error":"#REF!"}},{"$error":"#REF!"},{"$f":"AJ88/#REF!","v":{"$error":"#REF!"}},{"$f":"BT88*#REF!","v":{"$error":"#REF!"}},{"$error":"#REF!"},{"$f":"#REF!/#REF!","v":{"$error":"#REF!"}},{"$f":"BW88*#REF!","v":{"$error":"#REF!"}},{"$f":"BX88+#REF!","v":{"$error":"#REF!"}},{"$f":"AO88/#REF!","v":{"$error":"#REF!"}},{"$f":"BZ88*#REF!","v":{"$error":"#REF!"}},{"$error":"#REF!"},"/MH","MH/",null,{"$f":"T(#REF!)","v":{"$error":"#REF!"}},{"$f":"#REF!","v":{"$error":"#REF!"}},0]
[null,null,null,null,null,null,null,null,null,null,null,null,null,null,null,null,null,null,null,null,null,null,null,null,null,null,null,null,null,null,0,null,null,null,null,0,null,null,null,null,0,null,null,null,null,null,0,null,null,null,null,{"$f":"SUM(#REF!)","v":{"$error":"#REF!"}},0,null,null,null,"EQUIPMENT",null,null,null,null,null,0,0,{"$f":"#REF!","v":{"$error":"#REF!"}},0,{"$error":"#REF!"},{"$f":"AU89/#REF!","v":{"$error":"#REF!"}},{"$f":"AE89/#REF!","v":{"$error":"#REF!"}},{"$f":"BQ89*#REF!","v":{"$error":"#REF!"}},{"$error":"#REF!"},{"$f":"AJ89/#REF!","v":{"$error":"#REF!"}},{"$f":"BT89*#REF!","v":{"$error":"#REF!"}},{"$error":"#REF!"},{"$f":"#REF!/#REF!","v":{"$error":"#REF!"}},{"$f":"BW89*#REF!","v":{"$error":"#REF!"}},{"$f":"BX89+#REF!","v":{"$error":"#REF!"}},{"$f":"AO89/#REF!","v":{"$error":"#REF!"}},{"$f":"BZ89*#REF!","v":{"$error":"#REF!"}},{"$error":"#REF!"},"/MH","MH/",null,{"$f":"T(#REF!)","v":{"$error":"#REF!"}},{"$f":"#REF!","v":{"$error":"#REF!"}},0]
[null,null,null,null,null,null,null,null,null,null,null,null,null,null,null,null,null,null,null,null,null,null,null,null,null,null,null,null,null,null,0,null,null,null,null,0,null,null,null,null,0,null,null,null,null,null,0,null,null,null,null,{"$f":"SUM(#REF!)","v":{"$error":"#REF!"}},0,null,null,null,"EQUIPMENT",null,null,null,null,null,0,0,{"$f":"#REF!","v":{"$error":"#REF!"}},0,{"$error":"#REF!"},{"$f":"AU90/#REF!","v":{"$error":"#REF!"}},{"$f":"AE90/#REF!","v":{"$error":"#REF!"}},{"$f":"BQ90*#REF!","v":{"$error":"#REF!"}},{"$error":"#REF!"},{"$f":"AJ90/#REF!","v":{"$error":"#REF!"}},{"$f":"BT90*#REF!","v":{"$error":"#REF!"}},{"$error":"#REF!"},{"$f":"#REF!/#REF!","v":{"$error":"#REF!"}},{"$f":"BW90*#REF!","v":{"$error":"#REF!"}},{"$f":"BX90+#REF!","v":{"$error":"#REF!"}},{"$f":"AO90/#REF!","v":{"$error":"#REF!"}},{"$f":"BZ90*#REF!","v":{"$error":"#REF!"}},{"$error":"#REF!"},"/MH","MH/",null,{"$f":"T(#REF!)","v":{"$error":"#REF!"}},{"$f":"#REF!","v":{"$error":"#REF!"}},0]
[null,null,null,null,null,null,null,null,null,null,null,null,null,null,null,null,null,null,null,null,null,null,null,null,null,null,null,null,null,null,0,null,null,null,null,0,null,null,null,null,0,null,null,null,null,null,0,null,null,null,null,{"$f":"SUM(#REF!)","v":{"$error":"#REF!"}},0,null,null,null,"EQUIPMENT",null,null,null,null,null,0,0,{"$f":"#REF!","v":{"$error":"#REF!"}},0,{"$error":"#REF!"},{"$f":"AU91/#REF!","v":{"$error":"#REF!"}},{"$f":"AE91/#REF!","v":{"$error":"#REF!"}},{"$f":"BQ91*#REF!","v":{"$error":"#REF!"}},{"$error":"#REF!"},{"$f":"AJ91/#REF!","v":{"$error":"#REF!"}},{"$f":"BT91*#REF!","v":{"$error":"#REF!"}},{"$error":"#REF!"},{"$f":"#REF!/#REF!","v":{"$error":"#REF!"}},{"$f":"BW91*#REF!","v":{"$error":"#REF!"}},{"$f":"BX91+#REF!","v":{"$error":"#REF!"}},{"$f":"AO91/#REF!","v":{"$error":"#REF!"}},{"$f":"BZ91*#REF!","v":{"$error":"#REF!"}},{"$error":"#REF!"},"/MH","MH/",null,{"$f":"T(#REF!)","v":{"$error":"#REF!"}},{"$f":"#REF!","v":{"$error":"#REF!"}},0]
[null,null,null,null,null,null,null,null,null,null,null,null,null,null,null,null,null,null,null,null,null,null,null,null,null,null,null,null,null,null,0,null,null,null,null,0,null,null,null,null,0,null,null,null,null,null,0,null,null,null,null,{"$f":"SUM(#REF!)","v":{"$error":"#REF!"}},0,null,null,null,"EQUIPMENT",null,null,null,null,null,0,0,{"$f":"#REF!","v":{"$error":"#REF!"}},0,{"$error":"#REF!"},{"$f":"AU92/#REF!","v":{"$error":"#REF!"}},{"$f":"AE92/#REF!","v":{"$error":"#REF!"}},{"$f":"BQ92*#REF!","v":{"$error":"#REF!"}},{"$error":"#REF!"},{"$f":"AJ92/#REF!","v":{"$error":"#REF!"}},{"$f":"BT92*#REF!","v":{"$error":"#REF!"}},{"$error":"#REF!"},{"$f":"#REF!/#REF!","v":{"$error":"#REF!"}},{"$f":"BW92*#REF!","v":{"$error":"#REF!"}},{"$f":"BX92+#REF!","v":{"$error":"#REF!"}},{"$f":"AO92/#REF!","v":{"$error":"#REF!"}},{"$f":"BZ92*#REF!","v":{"$error":"#REF!"}},{"$error":"#REF!"},"/MH","MH/",null,{"$f":"T(#REF!)","v":{"$error":"#REF!"}},{"$f":"#REF!","v":{"$error":"#REF!"}},0]
[null,null,null,null,null,null,null,null,null,null,null,null,null,null,null,null,null,null,null,null,null,null,null,null,null,null,null,null,null,null,0,null,null,null,null,0,null,null,null,null,0,null,null,null,null,null,0,null,null,null,null,{"$f":"SUM(#REF!)","v":{"$error":"#REF!"}},0,null,null,null,"EQUIPMENT",null,null,null,null,null,0,0,{"$f":"#REF!","v":{"$error":"#REF!"}},0,{"$error":"#REF!"},{"$f":"AU93/#REF!","v":{"$error":"#REF!"}},{"$f":"AE93/#REF!","v":{"$error":"#REF!"}},{"$f":"BQ93*#REF!","v":{"$error":"#REF!"}},{"$error":"#REF!"},{"$f":"AJ93/#REF!","v":{"$error":"#REF!"}},{"$f":"BT93*#REF!","v":{"$error":"#REF!"}},{"$error":"#REF!"},{"$f":"#REF!/#REF!","v":{"$error":"#REF!"}},{"$f":"BW93*#REF!","v":{"$error":"#REF!"}},{"$f":"BX93+#REF!","v":{"$error":"#REF!"}},{"$f":"AO93/#REF!","v":{"$error":"#REF!"}},{"$f":"BZ93*#REF!","v":{"$error":"#REF!"}},{"$error":"#REF!"},"/MH","MH/",null,{"$f":"T(#REF!)","v":{"$error":"#REF!"}},{"$f":"#REF!","v":{"$error":"#REF!"}},0]
[null,null,null,null,null,null,null,null,null,null,null,null,null,null,null,null,null,null,null,null,null,null,null,null,null,null,null,null,null,null,0,null,null,null,null,0,null,null,null,null,0,null,null,null,null,null,0,null,null,null,null,{"$f":"SUM(#REF!)","v":{"$error":"#REF!"}},0,null,null,null,"EQUIPMENT",null,null,null,null,null,0,0,{"$f":"#REF!","v":{"$error":"#REF!"}},0,{"$error":"#REF!"},{"$f":"AU94/#REF!","v":{"$error":"#REF!"}},{"$f":"AE94/#REF!","v":{"$error":"#REF!"}},{"$f":"BQ94*#REF!","v":{"$error":"#REF!"}},{"$error":"#REF!"},{"$f":"AJ94/#REF!","v":{"$error":"#REF!"}},{"$f":"BT94*#REF!","v":{"$error":"#REF!"}},{"$error":"#REF!"},{"$f":"#REF!/#REF!","v":{"$error":"#REF!"}},{"$f":"BW94*#REF!","v":{"$error":"#REF!"}},{"$f":"BX94+#REF!","v":{"$error":"#REF!"}},{"$f":"AO94/#REF!","v":{"$error":"#REF!"}},{"$f":"BZ94*#REF!","v":{"$error":"#REF!"}},{"$error":"#REF!"},"/MH","MH/",null,{"$f":"T(#REF!)","v":{"$error":"#REF!"}},{"$f":"#REF!","v":{"$error":"#REF!"}},0]
[null,null,null,null,null,null,null,null,null,null,null,null,null,null,null,null,null,null,null,null,null,null,null,null,null,null,null,null,null,null,0,null,null,null,null,0,null,null,null,null,0,null,null,null,null,null,0,null,null,null,null,{"$f":"SUM(#REF!)","v":{"$error":"#REF!"}},0,null,null,null,"EQUIPMENT",null,null,null,null,null,0,0,{"$f":"#REF!","v":{"$error":"#REF!"}},0,{"$error":"#REF!"},{"$f":"AU95/#REF!","v":{"$error":"#REF!"}},{"$f":"AE95/#REF!","v":{"$error":"#REF!"}},{"$f":"BQ95*#REF!","v":{"$error":"#REF!"}},{"$error":"#REF!"},{"$f":"AJ95/#REF!","v":{"$error":"#REF!"}},{"$f":"BT95*#REF!","v":{"$error":"#REF!"}},{"$error":"#REF!"},{"$f":"#REF!/#REF!","v":{"$error":"#REF!"}},{"$f":"BW95*#REF!","v":{"$error":"#REF!"}},{"$f":"BX95+#REF!","v":{"$error":"#REF!"}},{"$f":"AO95/#REF!","v":{"$error":"#REF!"}},{"$f":"BZ95*#REF!","v":{"$error":"#REF!"}},{"$error":"#REF!"},"/MH","MH/",null,{"$f":"T(#REF!)","v":{"$error":"#REF!"}},{"$f":"#REF!","v":{"$error":"#REF!"}},0]
[null,null,null,null,null,null,null,null,null,null,null,null,null,null,null,null,null,null,null,null,null,null,null,null,null,null,null,null,null,null,0,null,null,null,null,0,null,null,null,null,0,null,null,null,null,null,0,null,null,null,null,{"$f":"SUM(#REF!)","v":{"$error":"#REF!"}},0,null,null,null,"EQUIPMENT",null,null,null,null,null,0,0,{"$f":"#REF!","v":{"$error":"#REF!"}},0,{"$error":"#REF!"},{"$f":"AU96/#REF!","v":{"$error":"#REF!"}},{"$f":"AE96/#REF!","v":{"$error":"#REF!"}},{"$f":"BQ96*#REF!","v":{"$error":"#REF!"}},{"$error":"#REF!"},{"$f":"AJ96/#REF!","v":{"$error":"#REF!"}},{"$f":"BT96*#REF!","v":{"$error":"#REF!"}},{"$error":"#REF!"},{"$f":"#REF!/#REF!","v":{"$error":"#REF!"}},{"$f":"BW96*#REF!","v":{"$error":"#REF!"}},{"$f":"BX96+#REF!","v":{"$error":"#REF!"}},{"$f":"AO96/#REF!","v":{"$error":"#REF!"}},{"$f":"BZ96*#REF!","v":{"$error":"#REF!"}},{"$error":"#REF!"},"/MH","MH/",null,{"$f":"T(#REF!)","v":{"$error":"#REF!"}},{"$f":"#REF!","v":{"$error":"#REF!"}},0]
[null,null,null,null,null,null,null,null,null,null,null,null,null,null,null,null,null,null,null,null,null,null,null,null,null,null,null,null,null,null,0,null,null,null,null,0,null,null,null,null,0,null,null,null,null,null,0,null,null,null,null,{"$f":"SUM(#REF!)","v":{"$error":"#REF!"}},0,null,null,null,"EQUIPMENT",null,null,null,null,null,0,0,{"$f":"#REF!","v":{"$error":"#REF!"}},0,{"$error":"#REF!"},{"$f":"AU97/#REF!","v":{"$error":"#REF!"}},{"$f":"AE97/#REF!","v":{"$error":"#REF!"}},{"$f":"BQ97*#REF!","v":{"$error":"#REF!"}},{"$error":"#REF!"},{"$f":"AJ97/#REF!","v":{"$error":"#REF!"}},{"$f":"BT97*#REF!","v":{"$error":"#REF!"}},{"$error":"#REF!"},{"$f":"#REF!/#REF!","v":{"$error":"#REF!"}},{"$f":"BW97*#REF!","v":{"$error":"#REF!"}},{"$f":"BX97+#REF!","v":{"$error":"#REF!"}},{"$f":"AO97/#REF!","v":{"$error":"#REF!"}},{"$f":"BZ97*#REF!","v":{"$error":"#REF!"}},{"$error":"#REF!"},"/MH","MH/",null,{"$f":"T(#REF!)","v":{"$error":"#REF!"}},{"$f":"#REF!","v":{"$error":"#REF!"}},0]
[null,null,null,null,null,null,null,null,null,null,null,null,null,null,null,null,null,null,null,null,null,null,null,null,null,null,null,null,null,null,null,null,null,null,null,null,null,null,null,null,null,null,null,null,null,null,null,null,null,null,null,null,null,null,null,null,"EQUIPMENT",null,null,null,null,null,{"$f":"BK82","v":0},{"$f":"BL82","v":0},{"$f":"BM82","v":{"$error":"#REF!"}},{"$f":"BN82","v":0},{"$f":"BO82","v":{"$error":"#REF!"}},{"$f":"AU98/TOTAL_REMODEL_ESTIMATE","v":{"$error":"#NAME?"}},{"$f":"#REF!/TOTAL_REMODEL_ESTIMATE","v":{"$error":"#REF!"}},{"$f":"#REF!/TOTAL_REMODEL_ESTIMATE","v":{"$error":"#REF!"}},{"$f":"#REF!/TOTAL_REMODEL_ESTIMATE","v":{"$error":"#REF!"}},{"$f":"#REF!/TOTAL_REMODEL_ESTIMATE","v":{"$error":"#REF!"}},{"$f":"#REF!/TOTAL_REMODEL_ESTIMATE","v":{"$error":"#REF!"}},{"$f":"#REF!/TOTAL_REMODEL_ESTIMATE","v":{"$error":"#REF!"}},{"$f":"#REF!/TOTAL_REMODEL_ESTIMATE","v":{"$error":"#REF!"}},{"$f":"#REF!/TOTAL_REMODEL_ESTIMATE","v":{"$error":"#REF!"}},{"$f":"#REF!/TOTAL_REMODEL_ESTIMATE","v":{"$error":"#REF!"}},{"$f":"#REF!/TOTAL_REMODEL_ESTIMATE","v":{"$error":"#REF!"}},{"$f":"#REF!/TOTAL_REMODEL_ESTIMATE","v":{"$error":"#REF!"}},{"$f":"#REF!/TOTAL_REMODEL_ESTIMATE","v":{"$error":"#REF!"}},{"$f":"#REF!/TOTAL_REMODEL_ESTIMATE","v":{"$error":"#REF!"}},{"$f":"#REF!/TOTAL_REMODEL_ESTIMATE","v":{"$error":"#REF!"}}]
[null,{"$f":"T(CONCATENATE(B82,\" \",\"TOTAL\"))","v":"EQUIPMENT TOTAL"},null,null,null,null,null,null,null,null,null,null,null,null,null,null,null,null,null,null,null,null,null,null,null,null,null,null,null,null,{"$f":"SUBTOTAL(9,AE83:AE98)","v":0},null,null,null,null,{"$f":"SUBTOTAL(9,AJ82:AN98)","v":0},null,null,null,null,{"$f":"SUBTOTAL(9,AO82:AS97)","v":0},null,null,null,null,null,{"$f":"SUBTOTAL(9,AU82:AY98)","v":0},null,null,null,null,null,{"$f":"SUBTOTAL(9,BA82:BA98)","v":0},null,null,null,"EQUIPMENT",null,null,null,null,null,{"$f":"BK82","v":0},0,{"$error":"#REF!"},0,{"$error":"#REF!"},{"$error":"#REF!"},{"$error":"#REF!"},{"$error":"#REF!"},{"$error":"#REF!"},{"$error":"#REF!"},{"$error":"#REF!"},{"$error":"#REF!"},{"$error":"#REF!"},{"$error":"#REF!"},{"$error":"#REF!"},{"$error":"#REF!"},{"$error":"#REF!"},{"$error":"#REF!"}]
[null,null,null,null,null,null,null,null,null,null,null,null,null,null,null,null,null,null,null,null,null,null,null,null,null,null,null,null,null,null,null,null,null,null,null,null,null,null,null,null,null,null,null,null,null,null,null,null,null,null,null,null,null,null,null,null,"EQUIPMENT",null,null,null,null,null,{"$f":"BK82","v":0},{"$f":"BL82","v":0},{"$f":"BM82","v":{"$error":"#REF!"}},{"$f":"BN82","v":0},{"$f":"BO82","v":{"$error":"#REF!"}},{"$f":"AU100/TOTAL_REMODEL_ESTIMATE","v":{"$error":"#NAME?"}},{"$f":"#REF!/TOTAL_REMODEL_ESTIMATE","v":{"$error":"#REF!"}},{"$f":"#REF!/TOTAL_REMODEL_ESTIMATE","v":{"$error":"#REF!"}},{"$f":"#REF!/TOTAL_REMODEL_ESTIMATE","v":{"$error":"#REF!"}},{"$f":"#REF!/TOTAL_REMODEL_ESTIMATE","v":{"$error":"#REF!"}},{"$f":"#REF!/TOTAL_REMODEL_ESTIMATE","v":{"$error":"#REF!"}},{"$f":"#REF!/TOTAL_REMODEL_ESTIMATE","v":{"$error":"#REF!"}},{"$f":"#REF!/TOTAL_REMODEL_ESTIMATE","v":{"$error":"#REF!"}},{"$f":"#REF!/TOTAL_REMODEL_ESTIMATE","v":{"$error":"#REF!"}},{"$f":"#REF!/TOTAL_REMODEL_ESTIMATE","v":{"$error":"#REF!"}},{"$f":"#REF!/TOTAL_REMODEL_ESTIMATE","v":{"$error":"#REF!"}},{"$f":"#REF!/TOTAL_REMODEL_ESTIMATE","v":{"$error":"#REF!"}},{"$f":"#REF!/TOTAL_REMODEL_ESTIMATE","v":{"$error":"#REF!"}},{"$f":"#REF!/TOTAL_REMODEL_ESTIMATE","v":{"$error":"#REF!"}},{"$f":"#REF!/TOTAL_REMODEL_ESTIMATE","v":{"$error":"#REF!"}}]
[null,"CLEAN-UP",null,null,null,null,null,null,null,null,null,null,null,null,null,null,null,null,null,null,null,null,null,null,null,null,null,null,null,null,null,null,null,null,null,null,null,null,null,null,null,null,null,null,null,null,null,null,null,null,null,null,null,null,null,null,{"$f":"$B$101","v":"CLEAN-UP"},null,null,null,null,null,{"$f":"SUM(BK102:BK116)","v":0},0,{"$error":"#REF!"},0,{"$error":"#REF!"},{"$error":"#REF!"},{"$error":"#REF!"},{"$error":"#REF!"},{"$error":"#REF!"},{"$error":"#REF!"},{"$error":"#REF!"},{"$error":"#REF!"},{"$error":"#REF!"},{"$error":"#REF!"},{"$error":"#REF!"},{"$error":"#REF!"},{"$error":"#REF!"},{"$error":"#REF!"},{"$f":"CONCATENATE(T101,\"/\", \"MH\")","v":"/MH"},{"$f":"CONCATENATE(\"MH\",\"/\",T101)","v":"MH/"}]
[null,"General Clean-Up","General Clean-Up","General Clean-Up","General Clean-Up","General Clean-Up","General Clean-Up","General Clean-Up",null,"General Clean-Up","General Clean-Up","General Clean-Up","General Clean-Up","General Clean-Up","General Clean-Up","General Clean-Up",null,null,null,"weeks",null,null,null,null,null,null,null,null,null,null,{"$f":"V102*Q102","v":0},null,null,null,null,{"$f":"Q102*Y102","v":0},null,null,null,null,{"$f":"Q102*AB102","v":0},null,null,null,null,null,{"$f":"AE102+AJ102+AO102","v":0},null,null,null,null,{"$f":"SUM(#REF!)","v":{"$error":"#REF!"}},{"$f":"IFERROR(AU102/Total_Detailed_Estimate,0)","v":0},null,null,null,"CLEAN-UP",null,null,null,null,null,{"$f":"AE102","v":0},{"$f":"AJ102","v":0},{"$f":"#REF!","v":{"$error":"#REF!"}},{"$f":"AO102","v":0},{"$f":"SUM(BK102:BN102)","v":{"$error":"#REF!"}},{"$f":"AU102/#REF!","v":{"$error":"#REF!"}},{"$f":"AE102/#REF!","v":{"$error":"#REF!"}},{"$f":"BQ102*#REF!","v":{"$error":"#REF!"}},{"$f":"BR102+AE102","v":{"$error":"#REF!"}},{"$f":"AJ102/#REF!","v":{"$error":"#REF!"}},{"$f":"BT102*#REF!","v":{"$error":"#REF!"}},{"$f":"BU102+AJ102","v":{"$error":"#REF!"}},{"$f":"#REF!/#REF!","v":{"$error":"#REF!"}},{"$f":"BW102*#REF!","v":{"$error":"#REF!"}},{"$f":"BX102+#REF!","v":{"$error":"#REF!"}},{"$f":"AO102/#REF!","v":{"$error":"#REF!"}},{"$f":"BZ102*#REF!","v":{"$error":"#REF!"}},{"$f":"CA102+AO102","v":{"$error":"#REF!"}},"weeks/MH","MH/weeks",null,{"$f":"T(#REF!)","v":{"$error":"#REF!"}},{"$f":"#REF!","v":{"$error":"#REF!"}},{"$f":"AE102","v":0}]
[null,"Final Clean-Up","Final Clean-Up","Final Clean-Up","Final Clean-Up","Final Clean-Up","Final Clean-Up","Final Clean-Up",null,"Final Clean-Up","Final Clean-Up","Final Clean-Up","Final Clean-Up","Final Clean-Up","Final Clean-Up","Final Clean-Up",null,null,null,"hrs",null,null,null,null,null,null,null,null,null,null,0,null,null,null,null,0,null,null,null,null,{"$f":"Q103*AB103","v":0},null,null,null,null,null,0,null,null,null,null,{"$f":"SUM(#REF!)","v":{"$error":"#REF!"}},0,null,null,null,"CLEAN-UP",null,null,null,null,null,0,0,{"$f":"#REF!","v":{"$error":"#REF!"}},0,{"$error":"#REF!"},{"$f":"AU103/#REF!","v":{"$error":"#REF!"}},{"$f":"AE103/#REF!","v":{"$error":"#REF!"}},{"$f":"BQ103*#REF!","v":{"$error":"#REF!"}},{"$error":"#REF!"},{"$f":"AJ103/#REF!","v":{"$error":"#REF!"}},{"$f":"BT103*#REF!","v":{"$error":"#REF!"}},{"$error":"#REF!"},{"$f":"#REF!/#REF!","v":{"$error":"#REF!"}},{"$f":"BW103*#REF!","v":{"$error":"#REF!"}},{"$f":"BX103+#REF!","v":{"$error":"#REF!"}},{"$f":"AO103/#REF!","v":{"$error":"#REF!"}},{"$f":"BZ103*#REF!","v":{"$error":"#REF!"}},{"$error":"#REF!"},"hrs/MH","MH/hrs",null,{"$f":"T(#REF!)","v":{"$error":"#REF!"}},{"$f":"#REF!","v":{"$error":"#REF!"}},0]
[null,"Dumpsters","Dumpsters","Dumpsters","Dumpsters","Dumpsters","Dumpsters","Dumpsters",null,"Dumpsters","Dumpsters","Dumpsters","Dumpsters","Dumpsters","Dumpsters","Dumpsters",null,null,null,"ea",null,null,null,null,null,null,null,null,null,null,0,null,null,null,null,0,null,null,null,null,0,null,null,null,null,null,0,null,null,null,null,{"$f":"SUM(#REF!)","v":{"$error":"#REF!"}},0,null,null,null,"CLEAN-UP",null,null,null,null,null,0,0,{"$f":"#REF!","v":{"$error":"#REF!"}},0,{"$error":"#REF!"},{"$f":"AU104/#REF!","v":{"$error":"#REF!"}},{"$f":"AE104/#REF!","v":{"$error":"#REF!"}},{"$f":"BQ104*#REF!","v":{"$error":"#REF!"}},{"$error":"#REF!"},{"$f":"AJ104/#REF!","v":{"$error":"#REF!"}},{"$f":"BT104*#REF!","v":{"$error":"#REF!"}},{"$error":"#REF!"},{"$f":"#REF!/#REF!","v":{"$error":"#REF!"}},{"$f":"BW104*#REF!","v":{"$error":"#REF!"}},{"$f":"BX104+#REF!","v":{"$error":"#REF!"}},{"$f":"AO104/#REF!","v":{"$error":"#REF!"}},{"$f":"BZ104*#REF!","v":{"$error":"#REF!"}},{"$error":"#REF!"},"ea/MH","MH/ea",null,{"$f":"T(#REF!)","v":{"$error":"#REF!"}},{"$f":"#REF!","v":{"$error":"#REF!"}},0]
[null,null,null,null,null,null,null,null,null,null,null,null,null,null,null,null,null,null,null,null,null,null,null,null,null,null,null,null,null,null,0,null,null,null,null,0,null,null,null,null,0,null,null,null,null,null,0,null,null,null,null,{"$f":"SUM(#REF!)","v":{"$error":"#REF!"}},0,null,null,null,"CLEAN-UP",null,null,null,null,null,0,0,{"$f":"#REF!","v":{"$error":"#REF!"}},0,{"$error":"#REF!"},{"$f":"AU105/#REF!","v":{"$error":"#REF!"}},{"$f":"AE105/#REF!","v":{"$error":"#REF!"}},{"$f":"BQ105*#REF!","v":{"$error":"#REF!"}},{"$error":"#REF!"},{"$f":"AJ105/#REF!","v":{"$error":"#REF!"}},{"$f":"BT105*#REF!","v":{"$error":"#REF!"}},{"$error":"#REF!"},{"$f":"#REF!/#REF!","v":{"$error":"#REF!"}},{"$f":"BW105*#REF!","v":{"$error":"#REF!"}},{"$f":"BX105+#REF!","v":{"$error":"#REF!"}},{"$f":"AO105/#REF!","v":{"$error":"#REF!"}},{"$f":"BZ105*#REF!","v":{"$error":"#REF!"}},{"$error":"#REF!"},"/MH","MH/",null,{"$f":"T(#REF!)","v":{"$error":"#REF!"}},{"$f":"#REF!","v":{"$error":"#REF!"}},0]
[null,null,null,null,null,null,null,null,null,null,null,null,null,null,null,null,null,null,null,null,null,null,null,null,null,null,null,null,null,null,0,null,null,null,null,0,null,null,null,null,0,null,null,null,null,null,0,null,null,null,null,{"$f":"SUM(#REF!)","v":{"$error":"#REF!"}},0,null,null,null,"CLEAN-UP",null,null,null,null,null,0,0,{"$f":"#REF!","v":{"$error":"#REF!"}},0,{"$error":"#REF!"},{"$f":"AU106/#REF!","v":{"$error":"#REF!"}},{"$f":"AE106/#REF!","v":{"$error":"#REF!"}},{"$f":"BQ106*#REF!","v":{"$error":"#REF!"}},{"$error":"#REF!"},{"$f":"AJ106/#REF!","v":{"$error":"#REF!"}},{"$f":"BT106*#REF!","v":{"$error":"#REF!"}},{"$error":"#REF!"},{"$f":"#REF!/#REF!","v":{"$error":"#REF!"}},{"$f":"BW106*#REF!","v":{"$error":"#REF!"}},{"$f":"BX106+#REF!","v":{"$error":"#REF!"}},{"$f":"AO106/#REF!","v":{"$error":"#REF!"}},{"$f":"BZ106*#REF!","v":{"$error":"#REF!"}},{"$error":"#REF!"},"/MH","MH/",null,{"$f":"T(#REF!)","v":{"$error":"#REF!"}},{"$f":"#REF!","v":{"$error":"#REF!"}},0]
[null,null,null,null,null,null,null,null,null,null,null,null,null,null,null,null,null,null,null,null,null,null,null,null,null,null,null,null,null,null,0,null,null,null,null,0,null,null,null,null,0,null,null,null,null,null,0,null,null,null,null,{"$f":"SUM(#REF!)","v":{"$error":"#REF!"}},0,null,null,null,"CLEAN-UP",null,null,null,null,null,0,0,{"$f":"#REF!","v":{"$error":"#REF!"}},0,{"$error":"#REF!"},{"$f":"AU107/#REF!","v":{"$error":"#REF!"}},{"$f":"AE107/#REF!","v":{"$error":"#REF!"}},{"$f":"BQ107*#REF!","v":{"$error":"#REF!"}},{"$error":"#REF!"},{"$f":"AJ107/#REF!","v":{"$error":"#REF!"}},{"$f":"BT107*#REF!","v":{"$error":"#REF!"}},{"$error":"#REF!"},{"$f":"#REF!/#REF!","v":{"$error":"#REF!"}},{"$f":"BW107*#REF!","v":{"$error":"#REF!"}},{"$f":"BX107+#REF!","v":{"$error":"#REF!"}},{"$f":"AO107/#REF!","v":{"$error":"#REF!"}},{"$f":"BZ107*#REF!","v":{"$error":"#REF!"}},{"$error":"#REF!"},"/MH","MH/",null,{"$f":"T(#REF!)","v":{"$error":"#REF!"}},{"$f":"#REF!","v":{"$error":"#REF!"}},0]
[null,null,null,null,null,null,null,null,null,null,null,null,null,null,null,null,null,null,null,null,null,null,null,null,null,null,null,null,null,null,0,null,null,null,null,0,null,null,null,null,0,null,null,null,null,null,0,null,null,null,null,{"$f":"SUM(#REF!)","v":{"$error":"#REF!"}},0,null,null,null,"CLEAN-UP",null,null,null,null,null,0,0,{"$f":"#REF!","v":{"$error":"#REF!"}},0,{"$error":"#REF!"},{"$f":"AU108/#REF!","v":{"$error":"#REF!"}},{"$f":"AE108/#REF!","v":{"$error":"#REF!"}},{"$f":"BQ108*#REF!","v":{"$error":"#REF!"}},{"$error":"#REF!"},{"$f":"AJ108/#REF!","v":{"$error":"#REF!"}},{"$f":"BT108*#REF!","v":{"$error":"#REF!"}},{"$error":"#REF!"},{"$f":"#REF!/#REF!","v":{"$error":"#REF!"}},{"$f":"BW108*#REF!","v":{"$error":"#REF!"}},{"$f":"BX108+#REF!","v":{"$error":"#REF!"}},{"$f":"AO108/#REF!","v":{"$error":"#REF!"}},{"$f":"BZ108*#REF!","v":{"$error":"#REF!"}},{"$error":"#REF!"},"/MH","MH/",null,{"$f":"T(#REF!)","v":{"$error":"#REF!"}},{"$f":"#REF!","v":{"$error":"#REF!"}},0]
[null,null,null,null,null,null,null,null,null,null,null,null,null,null,null,null,null,null,null,null,null,null,null,null,null,null,null,null,null,null,0,null,null,null,null,0,null,null,null,null,0,null,null,null,null,null,0,null,null,null,null,{"$f":"SUM(#REF!)","v":{"$error":"#REF!"}},0,null,null,null,"CLEAN-UP",null,null,null,null,null,0,0,{"$f":"#REF!","v":{"$error":"#REF!"}},0,{"$error":"#REF!"},{"$f":"AU109/#REF!","v":{"$error":"#REF!"}},{"$f":"AE109/#REF!","v":{"$error":"#REF!"}},{"$f":"BQ109*#REF!","v":{"$error":"#REF!"}},{"$error":"#REF!"},{"$f":"AJ109/#REF!","v":{"$error":"#REF!"}},{"$f":"BT109*#REF!","v":{"$error":"#REF!"}},{"$error":"#REF!"},{"$f":"#REF!/#REF!","v":{"$error":"#REF!"}},{"$f":"BW109*#REF!","v":{"$error":"#REF!"}},{"$f":"BX109+#REF!","v":{"$error":"#REF!"}},{"$f":"AO109/#REF!","v":{"$error":"#REF!"}},{"$f":"BZ109*#REF!","v":{"$error":"#REF!"}},{"$error":"#REF!"},"/MH","MH/",null,{"$f":"T(#REF!)","v":{"$error":"#REF!"}},{"$f":"#REF!","v":{"$error":"#REF!"}},0]
[null,null,null,null,null,null,null,null,null,null,null,null,null,null,null,null,null,null,null,null,null,null,null,null,null,null,null,null,null,null,0,null,null,null,null,0,null,null,null,null,0,null,null,null,null,null,0,null,null,null,null,{"$f":"SUM(#REF!)","v":{"$error":"#REF!"}},0,null,null,null,"CLEAN-UP",null,null,null,null,null,0,0,{"$f":"#REF!","v":{"$error":"#REF!"}},0,{"$error":"#REF!"},{"$f":"AU110/#REF!","v":{"$error":"#REF!"}},{"$f":"AE110/#REF!","v":{"$error":"#REF!"}},{"$f":"BQ110*#REF!","v":{"$error":"#REF!"}},{"$error":"#REF!"},{"$f":"AJ110/#REF!","v":{"$error":"#REF!"}},{"$f":"BT110*#REF!","v":{"$error":"#REF!"}},{"$error":"#REF!"},{"$f":"#REF!/#REF!","v":{"$error":"#REF!"}},{"$f":"BW110*#REF!","v":{"$error":"#REF!"}},{"$f":"BX110+#REF!","v":{"$error":"#REF!"}},{"$f":"AO110/#REF!","v":{"$error":"#REF!"}},{"$f":"BZ110*#REF!","v":{"$error":"#REF!"}},{"$error":"#REF!"},"/MH","MH/",null,{"$f":"T(#REF!)","v":{"$error":"#REF!"}},{"$f":"#REF!","v":{"$error":"#REF!"}},0]
[null,null,null,null,null,null,null,null,null,null,null,null,null,null,null,null,null,null,null,null,null,null,null,null,null,null,null,null,null,null,0,null,null,null,null,0,null,null,null,null,0,null,null,null,null,null,0,null,null,null,null,{"$f":"SUM(#REF!)","v":{"$error":"#REF!"}},0,null,null,null,"CLEAN-UP",null,null,null,null,null,0,0,{"$f":"#REF!","v":{"$error":"#REF!"}},0,{"$error":"#REF!"},{"$f":"AU111/#REF!","v":{"$error":"#REF!"}},{"$f":"AE111/#REF!","v":{"$error":"#REF!"}},{"$f":"BQ111*#REF!","v":{"$error":"#REF!"}},{"$error":"#REF!"},{"$f":"AJ111/#REF!","v":{"$error":"#REF!"}},{"$f":"BT111*#REF!","v":{"$error":"#REF!"}},{"$error":"#REF!"},{"$f":"#REF!/#REF!","v":{"$error":"#REF!"}},{"$f":"BW111*#REF!","v":{"$error":"#REF!"}},{"$f":"BX111+#REF!","v":{"$error":"#REF!"}},{"$f":"AO111/#REF!","v":{"$error":"#REF!"}},{"$f":"BZ111*#REF!","v":{"$error":"#REF!"}},{"$error":"#REF!"},"/MH","MH/",null,{"$f":"T(#REF!)","v":{"$error":"#REF!"}},{"$f":"#REF!","v":{"$error":"#REF!"}},0]
[null,null,null,null,null,null,null,null,null,null,null,null,null,null,null,null,null,null,null,null,null,null,null,null,null,null,null,null,null,null,0,null,null,null,null,0,null,null,null,null,0,null,null,null,null,null,0,null,null,null,null,{"$f":"SUM(#REF!)","v":{"$error":"#REF!"}},0,null,null,null,"CLEAN-UP",null,null,null,null,null,0,0,{"$f":"#REF!","v":{"$error":"#REF!"}},0,{"$error":"#REF!"},{"$f":"AU112/#REF!","v":{"$error":"#REF!"}},{"$f":"AE112/#REF!","v":{"$error":"#REF!"}},{"$f":"BQ112*#REF!","v":{"$error":"#REF!"}},{"$error":"#REF!"},{"$f":"AJ112/#REF!","v":{"$error":"#REF!"}},{"$f":"BT112*#REF!","v":{"$error":"#REF!"}},{"$error":"#REF!"},{"$f":"#REF!/#REF!","v":{"$error":"#REF!"}},{"$f":"BW112*#REF!","v":{"$error":"#REF!"}},{"$f":"BX112+#REF!","v":{"$error":"#REF!"}},{"$f":"AO112/#REF!","v":{"$error":"#REF!"}},{"$f":"BZ112*#REF!","v":{"$error":"#REF!"}},{"$error":"#REF!"},"/MH","MH/",null,{"$f":"T(#REF!)","v":{"$error":"#REF!"}},{"$f":"#REF!","v":{"$error":"#REF!"}},0]
[null,null,null,null,null,null,null,null,null,null,null,null,null,null,null,null,null,null,null,null,null,null,null,null,null,null,null,null,null,null,0,null,null,null,null,0,null,null,null,null,0,null,null,null,null,null,0,null,null,null,null,{"$f":"SUM(#REF!)","v":{"$error":"#REF!"}},0,null,null,null,"CLEAN-UP",null,null,null,null,null,0,0,{"$f":"#REF!","v":{"$error":"#REF!"}},0,{"$error":"#REF!"},{"$f":"AU113/#REF!","v":{"$error":"#REF!"}},{"$f":"AE113/#REF!","v":{"$error":"#REF!"}},{"$f":"BQ113*#REF!","v":{"$error":"#REF!"}},{"$error":"#REF!"},{"$f":"AJ113/#REF!","v":{"$error":"#REF!"}},{"$f":"BT113*#REF!","v":{"$error":"#REF!"}},{"$error":"#REF!"},{"$f":"#REF!/#REF!","v":{"$error":"#REF!"}},{"$f":"BW113*#REF!","v":{"$error":"#REF!"}},{"$f":"BX113+#REF!","v":{"$error":"#REF!"}},{"$f":"AO113/#REF!","v":{"$error":"#REF!"}},{"$f":"BZ113*#REF!","v":{"$error":"#REF!"}},{"$error":"#REF!"},"/MH","MH/",null,{"$f":"T(#REF!)","v":{"$error":"#REF!"}},{"$f":"#REF!","v":{"$error":"#REF!"}},0]
[null,null,null,null,null,null,null,null,null,null,null,null,null,null,null,null,null,null,null,null,null,null,null,null,null,null,null,null,null,null,0,null,null,null,null,0,null,null,null,null,0,null,null,null,null,null,0,null,null,null,null,{"$f":"SUM(#REF!)","v":{"$error":"#REF!"}},0,null,null,null,"CLEAN-UP",null,null,null,null,null,0,0,{"$f":"#REF!","v":{"$error":"#REF!"}},0,{"$error":"#REF!"},{"$f":"AU114/#REF!","v":{"$error":"#REF!"}},{"$f":"AE114/#REF!","v":{"$error":"#REF!"}},{"$f":"BQ114*#REF!","v":{"$error":"#REF!"}},{"$error":"#REF!"},{"$f":"AJ114/#REF!","v":{"$error":"#REF!"}},{"$f":"BT114*#REF!","v":{"$error":"#REF!"}},{"$error":"#REF!"},{"$f":"#REF!/#REF!","v":{"$error":"#REF!"}},{"$f":"BW114*#REF!","v":{"$error":"#REF!"}},{"$f":"BX114+#REF!","v":{"$error":"#REF!"}},{"$f":"AO114/#REF!","v":{"$error":"#REF!"}},{"$f":"BZ114*#REF!","v":{"$error":"#REF!"}},{"$error":"#REF!"},"/MH","MH/",null,{"$f":"T(#REF!)","v":{"$error":"#REF!"}},{"$f":"#REF!","v":{"$error":"#REF!"}},0]
[null,null,null,null,null,null,null,null,null,null,null,null,null,null,null,null,null,null,null,null,null,null,null,null,null,null,null,null,null,null,0,null,null,null,null,0,null,null,null,null,0,null,null,null,null,null,0,null,null,null,null,{"$f":"SUM(#REF!)","v":{"$error":"#REF!"}},0,null,null,null,"CLEAN-UP",null,null,null,null,null,0,0,{"$f":"#REF!","v":{"$error":"#REF!"}},0,{"$error":"#REF!"},{"$f":"AU115/#REF!","v":{"$error":"#REF!"}},{"$f":"AE115/#REF!","v":{"$error":"#REF!"}},{"$f":"BQ115*#REF!","v":{"$error":"#REF!"}},{"$error":"#REF!"},{"$f":"AJ115/#REF!","v":{"$error":"#REF!"}},{"$f":"BT115*#REF!","v":{"$error":"#REF!"}},{"$error":"#REF!"},{"$f":"#REF!/#REF!","v":{"$error":"#REF!"}},{"$f":"BW115*#REF!","v":{"$error":"#REF!"}},{"$f":"BX115+#REF!","v":{"$error":"#REF!"}},{"$f":"AO115/#REF!","v":{"$error":"#REF!"}},{"$f":"BZ115*#REF!","v":{"$error":"#REF!"}},{"$error":"#REF!"},"/MH","MH/",null,{"$f":"T(#REF!)","v":{"$error":"#REF!"}},{"$f":"#REF!","v":{"$error":"#REF!"}},0]
[null,null,null,null,null,null,null,null,null,null,null,null,null,null,null,null,null,null,null,null,null,null,null,null,null,null,null,null,null,null,0,null,null,null,null,0,null,null,null,null,0,null,null,null,null,null,0,null,null,null,null,{"$f":"SUM(#REF!)","v":{"$error":"#REF!"}},0,null,null,null,"CLEAN-UP",null,null,null,null,null,0,0,{"$f":"#REF!","v":{"$error":"#REF!"}},0,{"$error":"#REF!"},{"$f":"AU116/#REF!","v":{"$error":"#REF!"}},{"$f":"AE116/#REF!","v":{"$error":"#REF!"}},{"$f":"BQ116*#REF!","v":{"$error":"#REF!"}},{"$error":"#REF!"},{"$f":"AJ116/#REF!","v":{"$error":"#REF!"}},{"$f":"BT116*#REF!","v":{"$error":"#REF!"}},{"$error":"#REF!"},{"$f":"#REF!/#REF!","v":{"$error":"#REF!"}},{"$f":"BW116*#REF!","v":{"$error":"#REF!"}},{"$f":"BX116+#REF!","v":{"$error":"#REF!"}},{"$f":"AO116/#REF!","v":{"$error":"#REF!"}},{"$f":"BZ116*#REF!","v":{"$error":"#REF!"}},{"$error":"#REF!"},"/MH","MH/",null,{"$f":"T(#REF!)","v":{"$error":"#REF!"}},{"$f":"#REF!","v":{"$error":"#REF!"}},0]
[null,null,null,null,null,null,null,null,null,null,null,null,null,null,null,null,null,null,null,null,null,null,null,null,null,null,null,null,null,null,null,null,null,null,null,null,null,null,null,null,null,null,null,null,null,null,null,null,null,null,null,null,null,null,null,null,{"$f":"$B$101","v":"CLEAN-UP"},null,null,null,null,null,{"$f":"BK101","v":0},{"$f":"BL101","v":0},{"$f":"BM101","v":{"$error":"#REF!"}},{"$f":"BN101","v":0},{"$f":"BO101","v":{"$error":"#REF!"}},{"$f":"AU117/TOTAL_REMODEL_ESTIMATE","v":{"$error":"#NAME?"}},{"$f":"#REF!/TOTAL_REMODEL_ESTIMATE","v":{"$error":"#REF!"}},{"$f":"#REF!/TOTAL_REMODEL_ESTIMATE","v":{"$error":"#REF!"}},{"$f":"#REF!/TOTAL_REMODEL_ESTIMATE","v":{"$error":"#REF!"}},{"$f":"#REF!/TOTAL_REMODEL_ESTIMATE","v":{"$error":"#REF!"}},{"$f":"#REF!/TOTAL_REMODEL_ESTIMATE","v":{"$error":"#REF!"}},{"$f":"#REF!/TOTAL_REMODEL_ESTIMATE","v":{"$error":"#REF!"}},{"$f":"#REF!/TOTAL_REMODEL_ESTIMATE","v":{"$error":"#REF!"}},{"$f":"#REF!/TOTAL_REMODEL_ESTIMATE","v":{"$error":"#REF!"}},{"$f":"#REF!/TOTAL_REMODEL_ESTIMATE","v":{"$error":"#REF!"}},{"$f":"#REF!/TOTAL_REMODEL_ESTIMATE","v":{"$error":"#REF!"}},{"$f":"#REF!/TOTAL_REMODEL_ESTIMATE","v":{"$error":"#REF!"}},{"$f":"#REF!/TOTAL_REMODEL_ESTIMATE","v":{"$error":"#REF!"}},{"$f":"#REF!/TOTAL_REMODEL_ESTIMATE","v":{"$error":"#REF!"}},{"$f":"#REF!/TOTAL_REMODEL_ESTIMATE","v":{"$error":"#REF!"}}]
[null,{"$f":"T(CONCATENATE(B101,\" \",\"TOTAL\"))","v":"CLEAN-UP TOTAL"},null,null,null,null,null,null,null,null,null,null,null,null,null,null,null,null,null,null,null,null,null,null,null,null,null,null,null,null,{"$f":"SUBTOTAL(9,AE102:AE117)","v":0},null,null,null,null,{"$f":"SUBTOTAL(9,AJ101:AN117)","v":0},null,null,null,null,{"$f":"SUBTOTAL(9,AO101:AS116)","v":0},null,null,null,null,null,{"$f":"SUBTOTAL(9,AU101:AY117)","v":0},null,null,null,null,null,{"$f":"SUBTOTAL(9,BA101:BA117)","v":0},null,null,null,{"$f":"$B$101","v":"CLEAN-UP"},null,null,null,null,null,{"$f":"BK101","v":0},0,{"$error":"#REF!"},0,{"$error":"#REF!"},{"$error":"#REF!"},{"$error":"#REF!"},{"$error":"#REF!"},{"$error":"#REF!"},{"$error":"#REF!"},{"$error":"#REF!"},{"$error":"#REF!"},{"$error":"#REF!"},{"$error":"#REF!"},{"$error":"#REF!"},{"$error":"#REF!"},{"$error":"#REF!"},{"$error":"#REF!"}]
[null,null,null,null,null,null,null,null,null,null,null,null,null,null,null,null,null,null,null,null,null,null,null,null,null,null,null,null,null,null,null,null,null,null,null,null,null,null,null,null,null,null,null,null,null,null,null,null,null,null,null,null,null,null,null,null,{"$f":"$B$101","v":"CLEAN-UP"},null,null,null,null,null,{"$f":"BK101","v":0},{"$f":"BL101","v":0},{"$f":"BM101","v":{"$error":"#REF!"}},{"$f":"BN101","v":0},{"$f":"BO101","v":{"$error":"#REF!"}},{"$f":"AU119/TOTAL_REMODEL_ESTIMATE","v":{"$error":"#NAME?"}},{"$f":"#REF!/TOTAL_REMODEL_ESTIMATE","v":{"$error":"#REF!"}},{"$f":"#REF!/TOTAL_REMODEL_ESTIMATE","v":{"$error":"#REF!"}},{"$f":"#REF!/TOTAL_REMODEL_ESTIMATE","v":{"$error":"#REF!"}},{"$f":"#REF!/TOTAL_REMODEL_ESTIMATE","v":{"$error":"#REF!"}},{"$f":"#REF!/TOTAL_REMODEL_ESTIMATE","v":{"$error":"#REF!"}},{"$f":"#REF!/TOTAL_REMODEL_ESTIMATE","v":{"$error":"#REF!"}},{"$f":"#REF!/TOTAL_REMODEL_ESTIMATE","v":{"$error":"#REF!"}},{"$f":"#REF!/TOTAL_REMODEL_ESTIMATE","v":{"$error":"#REF!"}},{"$f":"#REF!/TOTAL_REMODEL_ESTIMATE","v":{"$error":"#REF!"}},{"$f":"#REF!/TOTAL_REMODEL_ESTIMATE","v":{"$error":"#REF!"}},{"$f":"#REF!/TOTAL_REMODEL_ESTIMATE","v":{"$error":"#REF!"}},{"$f":"#REF!/TOTAL_REMODEL_ESTIMATE","v":{"$error":"#REF!"}},{"$f":"#REF!/TOTAL_REMODEL_ESTIMATE","v":{"$error":"#REF!"}},{"$f":"#REF!/TOTAL_REMODEL_ESTIMATE","v":{"$error":"#REF!"}}]
[null,"OTHER",null,null,null,null,null,null,null,null,null,null,null,null,null,null,null,null,null,null,null,null,null,null,null,null,null,null,null,null,null,null,null,null,null,null,null,null,null,null,null,null,null,null,null,null,null,null,null,null,null,null,null,null,null,null,{"$f":"$B$120","v":"OTHER"},null,null,null,null,null,{"$f":"SUM(BK121:BK135)","v":0},0,{"$error":"#REF!"},0,{"$error":"#REF!"},{"$error":"#REF!"},{"$error":"#REF!"},{"$error":"#REF!"},{"$error":"#REF!"},{"$error":"#REF!"},{"$error":"#REF!"},{"$error":"#REF!"},{"$error":"#REF!"},{"$error":"#REF!"},{"$error":"#REF!"},{"$error":"#REF!"},{"$error":"#REF!"},{"$error":"#REF!"},{"$f":"CONCATENATE(T120,\"/\", \"MH\")","v":"/MH"},{"$f":"CONCATENATE(\"MH\",\"/\",T120)","v":"MH/"}]
[null,null,null,null,null,null,null,null,null,null,null,null,null,null,null,null,null,null,null,null,null,null,null,null,null,null,null,null,null,null,{"$f":"V121*Q121","v":0},null,null,null,null,{"$f":"Q121*Y121","v":0},null,null,null,null,{"$f":"Q121*AB121","v":0},null,null,null,null,null,{"$f":"AE121+AJ121+AO121","v":0},null,null,null,null,{"$f":"SUM(#REF!)","v":{"$error":"#REF!"}},{"$f":"IFERROR(AU121/Total_Detailed_Estimate,0)","v":0},null,null,null,"OTHER",null,null,null,null,null,{"$f":"AE121","v":0},{"$f":"AJ121","v":0},{"$f":"#REF!","v":{"$error":"#REF!"}},{"$f":"AO121","v":0},{"$f":"SUM(BK121:BN121)","v":{"$error":"#REF!"}},{"$f":"AU121/#REF!","v":{"$error":"#REF!"}},{"$f":"AE121/#REF!","v":{"$error":"#REF!"}},{"$f":"BQ121*#REF!","v":{"$error":"#REF!"}},{"$f":"BR121+AE121","v":{"$error":"#REF!"}},{"$f":"AJ121/#REF!","v":{"$error":"#REF!"}},{"$f":"BT121*#REF!","v":{"$error":"#REF!"}},{"$f":"BU121+AJ121","v":{"$error":"#REF!"}},{"$f":"#REF!/#REF!","v":{"$error":"#REF!"}},{"$f":"BW121*#REF!","v":{"$error":"#REF!"}},{"$f":"BX121+#REF!","v":{"$error":"#REF!"}},{"$f":"AO121/#REF!","v":{"$error":"#REF!"}},{"$f":"BZ121*#REF!","v":{"$error":"#REF!"}},{"$f":"CA121+AO121","v":{"$error":"#REF!"}},"/MH","MH/",null,{"$f":"T(#REF!)","v":{"$error":"#REF!"}},{"$f":"#REF!","v":{"$error":"#REF!"}},{"$f":"AE121","v":0}]
[null,null,null,null,null,null,null,null,null,null,null,null,null,null,null,null,null,null,null,null,null,null,null,null,null,null,null,null,null,null,0,null,null,null,null,0,null,null,null,null,{"$f":"Q122*AB122","v":0},null,null,null,null,null,0,null,null,null,null,{"$f":"SUM(#REF!)","v":{"$error":"#REF!"}},0,null,null,null,"OTHER",null,null,null,null,null,0,0,{"$f":"#REF!","v":{"$error":"#REF!"}},0,{"$error":"#REF!"},{"$f":"AU122/#REF!","v":{"$error":"#REF!"}},{"$f":"AE122/#REF!","v":{"$error":"#REF!"}},{"$f":"BQ122*#REF!","v":{"$error":"#REF!"}},{"$error":"#REF!"},{"$f":"AJ122/#REF!","v":{"$error":"#REF!"}},{"$f":"BT122*#REF!","v":{"$error":"#REF!"}},{"$error":"#REF!"},{"$f":"#REF!/#REF!","v":{"$error":"#REF!"}},{"$f":"BW122*#REF!","v":{"$error":"#REF!"}},{"$f":"BX122+#REF!","v":{"$error":"#REF!"}},{"$f":"AO122/#REF!","v":{"$error":"#REF!"}},{"$f":"BZ122*#REF!","v":{"$error":"#REF!"}},{"$error":"#REF!"},"/MH","MH/",null,{"$f":"T(#REF!)","v":{"$error":"#REF!"}},{"$f":"#REF!","v":{"$error":"#REF!"}},0]
[null,null,null,null,null,null,null,null,null,null,null,null,null,null,null,null,null,null,null,null,null,null,null,null,null,null,null,null,null,null,0,null,null,null,null,0,null,null,null,null,0,null,null,null,null,null,0,null,null,null,null,{"$f":"SUM(#REF!)","v":{"$error":"#REF!"}},0,null,null,null,"OTHER",null,null,null,null,null,0,0,{"$f":"#REF!","v":{"$error":"#REF!"}},0,{"$error":"#REF!"},{"$f":"AU123/#REF!","v":{"$error":"#REF!"}},{"$f":"AE123/#REF!","v":{"$error":"#REF!"}},{"$f":"BQ123*#REF!","v":{"$error":"#REF!"}},{"$error":"#REF!"},{"$f":"AJ123/#REF!","v":{"$error":"#REF!"}},{"$f":"BT123*#REF!","v":{"$error":"#REF!"}},{"$error":"#REF!"},{"$f":"#REF!/#REF!","v":{"$error":"#REF!"}},{"$f":"BW123*#REF!","v":{"$error":"#REF!"}},{"$f":"BX123+#REF!","v":{"$error":"#REF!"}},{"$f":"AO123/#REF!","v":{"$error":"#REF!"}},{"$f":"BZ123*#REF!","v":{"$error":"#REF!"}},{"$error":"#REF!"},"/MH","MH/",null,{"$f":"T(#REF!)","v":{"$error":"#REF!"}},{"$f":"#REF!","v":{"$error":"#REF!"}},0]
[null,null,null,null,null,null,null,null,null,null,null,null,null,null,null,null,null,null,null,null,null,null,null,null,null,null,null,null,null,null,0,null,null,null,null,0,null,null,null,null,0,null,null,null,null,null,0,null,null,null,null,{"$f":"SUM(#REF!)","v":{"$error":"#REF!"}},0,null,null,null,"OTHER",null,null,null,null,null,0,0,{"$f":"#REF!","v":{"$error":"#REF!"}},0,{"$error":"#REF!"},{"$f":"AU124/#REF!","v":{"$error":"#REF!"}},{"$f":"AE124/#REF!","v":{"$error":"#REF!"}},{"$f":"BQ124*#REF!","v":{"$error":"#REF!"}},{"$error":"#REF!"},{"$f":"AJ124/#REF!","v":{"$error":"#REF!"}},{"$f":"BT124*#REF!","v":{"$error":"#REF!"}},{"$error":"#REF!"},{"$f":"#REF!/#REF!","v":{"$error":"#REF!"}},{"$f":"BW124*#REF!","v":{"$error":"#REF!"}},{"$f":"BX124+#REF!","v":{"$error":"#REF!"}},{"$f":"AO124/#REF!","v":{"$error":"#REF!"}},{"$f":"BZ124*#REF!","v":{"$error":"#REF!"}},{"$error":"#REF!"},"/MH","MH/",null,{"$f":"T(#REF!)","v":{"$error":"#REF!"}},{"$f":"#REF!","v":{"$error":"#REF!"}},0]
[null,null,null,null,null,null,null,null,null,null,null,null,null,null,null,null,null,null,null,null,null,null,null,null,null,null,null,null,null,null,0,null,null,null,null,0,null,null,null,null,0,null,null,null,null,null,0,null,null,null,null,{"$f":"SUM(#REF!)","v":{"$error":"#REF!"}},0,null,null,null,"OTHER",null,null,null,null,null,0,0,{"$f":"#REF!","v":{"$error":"#REF!"}},0,{"$error":"#REF!"},{"$f":"AU125/#REF!","v":{"$error":"#REF!"}},{"$f":"AE125/#REF!","v":{"$error":"#REF!"}},{"$f":"BQ125*#REF!","v":{"$error":"#REF!"}},{"$error":"#REF!"},{"$f":"AJ125/#REF!","v":{"$error":"#REF!"}},{"$f":"BT125*#REF!","v":{"$error":"#REF!"}},{"$error":"#REF!"},{"$f":"#REF!/#REF!","v":{"$error":"#REF!"}},{"$f":"BW125*#REF!","v":{"$error":"#REF!"}},{"$f":"BX125+#REF!","v":{"$error":"#REF!"}},{"$f":"AO125/#REF!","v":{"$error":"#REF!"}},{"$f":"BZ125*#REF!","v":{"$error":"#REF!"}},{"$error":"#REF!"},"/MH","MH/",null,{"$f":"T(#REF!)","v":{"$error":"#REF!"}},{"$f":"#REF!","v":{"$error":"#REF!"}},0]
[null,null,null,null,null,null,null,null,null,null,null,null,null,null,null,null,null,null,null,null,null,null,null,null,null,null,null,null,null,null,0,null,null,null,null,0,null,null,null,null,0,null,null,null,null,null,0,null,null,null,null,{"$f":"SUM(#REF!)","v":{"$error":"#REF!"}},0,null,null,null,"OTHER",null,null,null,null,null,0,0,{"$f":"#REF!","v":{"$error":"#REF!"}},0,{"$error":"#REF!"},{"$f":"AU126/#REF!","v":{"$error":"#REF!"}},{"$f":"AE126/#REF!","v":{"$error":"#REF!"}},{"$f":"BQ126*#REF!","v":{"$error":"#REF!"}},{"$error":"#REF!"},{"$f":"AJ126/#REF!","v":{"$error":"#REF!"}},{"$f":"BT126*#REF!","v":{"$error":"#REF!"}},{"$error":"#REF!"},{"$f":"#REF!/#REF!","v":{"$error":"#REF!"}},{"$f":"BW126*#REF!","v":{"$error":"#REF!"}},{"$f":"BX126+#REF!","v":{"$error":"#REF!"}},{"$f":"AO126/#REF!","v":{"$error":"#REF!"}},{"$f":"BZ126*#REF!","v":{"$error":"#REF!"}},{"$error":"#REF!"},"/MH","MH/",null,{"$f":"T(#REF!)","v":{"$error":"#REF!"}},{"$f":"#REF!","v":{"$error":"#REF!"}},0]
[null,null,null,null,null,null,null,null,null,null,null,null,null,null,null,null,null,null,null,null,null,null,null,null,null,null,null,null,null,null,0,null,null,null,null,0,null,null,null,null,0,null,null,null,null,null,0,null,null,null,null,{"$f":"SUM(#REF!)","v":{"$error":"#REF!"}},0,null,null,null,"OTHER",null,null,null,null,null,0,0,{"$f":"#REF!","v":{"$error":"#REF!"}},0,{"$error":"#REF!"},{"$f":"AU127/#REF!","v":{"$error":"#REF!"}},{"$f":"AE127/#REF!","v":{"$error":"#REF!"}},{"$f":"BQ127*#REF!","v":{"$error":"#REF!"}},{"$error":"#REF!"},{"$f":"AJ127/#REF!","v":{"$error":"#REF!"}},{"$f":"BT127*#REF!","v":{"$error":"#REF!"}},{"$error":"#REF!"},{"$f":"#REF!/#REF!","v":{"$error":"#REF!"}},{"$f":"BW127*#REF!","v":{"$error":"#REF!"}},{"$f":"BX127+#REF!","v":{"$error":"#REF!"}},{"$f":"AO127/#REF!","v":{"$error":"#REF!"}},{"$f":"BZ127*#REF!","v":{"$error":"#REF!"}},{"$error":"#REF!"},"/MH","MH/",null,{"$f":"T(#REF!)","v":{"$error":"#REF!"}},{"$f":"#REF!","v":{"$error":"#REF!"}},0]
[null,null,null,null,null,null,null,null,null,null,null,null,null,null,null,null,null,null,null,null,null,null,null,null,null,null,null,null,null,null,0,null,null,null,null,0,null,null,null,null,0,null,null,null,null,null,0,null,null,null,null,{"$f":"SUM(#REF!)","v":{"$error":"#REF!"}},0,null,null,null,"OTHER",null,null,null,null,null,0,0,{"$f":"#REF!","v":{"$error":"#REF!"}},0,{"$error":"#REF!"},{"$f":"AU128/#REF!","v":{"$error":"#REF!"}},{"$f":"AE128/#REF!","v":{"$error":"#REF!"}},{"$f":"BQ128*#REF!","v":{"$error":"#REF!"}},{"$error":"#REF!"},{"$f":"AJ128/#REF!","v":{"$error":"#REF!"}},{"$f":"BT128*#REF!","v":{"$error":"#REF!"}},{"$error":"#REF!"},{"$f":"#REF!/#REF!","v":{"$error":"#REF!"}},{"$f":"BW128*#REF!","v":{"$error":"#REF!"}},{"$f":"BX128+#REF!","v":{"$error":"#REF!"}},{"$f":"AO128/#REF!","v":{"$error":"#REF!"}},{"$f":"BZ128*#REF!","v":{"$error":"#REF!"}},{"$error":"#REF!"},"/MH","MH/",null,{"$f":"T(#REF!)","v":{"$error":"#REF!"}},{"$f":"#REF!","v":{"$error":"#REF!"}},0]
[null,null,null,null,null,null,null,null,null,null,null,null,null,null,null,null,null,null,null,null,null,null,null,null,null,null,null,null,null,null,0,null,null,null,null,0,null,null,null,null,0,null,null,null,null,null,0,null,null,null,null,{"$f":"SUM(#REF!)","v":{"$error":"#REF!"}},0,null,null,null,"OTHER",null,null,null,null,null,0,0,{"$f":"#REF!","v":{"$error":"#REF!"}},0,{"$error":"#REF!"},{"$f":"AU129/#REF!","v":{"$error":"#REF!"}},{"$f":"AE129/#REF!","v":{"$error":"#REF!"}},{"$f":"BQ129*#REF!","v":{"$error":"#REF!"}},{"$error":"#REF!"},{"$f":"AJ129/#REF!","v":{"$error":"#REF!"}},{"$f":"BT129*#REF!","v":{"$error":"#REF!"}},{"$error":"#REF!"},{"$f":"#REF!/#REF!","v":{"$error":"#REF!"}},{"$f":"BW129*#REF!","v":{"$error":"#REF!"}},{"$f":"BX129+#REF!","v":{"$error":"#REF!"}},{"$f":"AO129/#REF!","v":{"$error":"#REF!"}},{"$f":"BZ129*#REF!","v":{"$error":"#REF!"}},{"$error":"#REF!"},"/MH","MH/",null,{"$f":"T(#REF!)","v":{"$error":"#REF!"}},{"$f":"#REF!","v":{"$error":"#REF!"}},0]
[null,null,null,null,null,null,null,null,null,null,null,null,null,null,null,null,null,null,null,null,null,null,null,null,null,null,null,null,null,null,0,null,null,null,null,0,null,null,null,null,0,null,null,null,null,null,0,null,null,null,null,{"$f":"SUM(#REF!)","v":{"$error":"#REF!"}},0,null,null,null,"OTHER",null,null,null,null,null,0,0,{"$f":"#REF!","v":{"$error":"#REF!"}},0,{"$error":"#REF!"},{"$f":"AU130/#REF!","v":{"$error":"#REF!"}},{"$f":"AE130/#REF!","v":{"$error":"#REF!"}},{"$f":"BQ130*#REF!","v":{"$error":"#REF!"}},{"$error":"#REF!"},{"$f":"AJ130/#REF!","v":{"$error":"#REF!"}},{"$f":"BT130*#REF!","v":{"$error":"#REF!"}},{"$error":"#REF!"},{"$f":"#REF!/#REF!","v":{"$error":"#REF!"}},{"$f":"BW130*#REF!","v":{"$error":"#REF!"}},{"$f":"BX130+#REF!","v":{"$error":"#REF!"}},{"$f":"AO130/#REF!","v":{"$error":"#REF!"}},{"$f":"BZ130*#REF!","v":{"$error":"#REF!"}},{"$error":"#REF!"},"/MH","MH/",null,{"$f":"T(#REF!)","v":{"$error":"#REF!"}},{"$f":"#REF!","v":{"$error":"#REF!"}},0]
[null,null,null,null,null,null,null,null,null,null,null,null,null,null,null,null,null,null,null,null,null,null,null,null,null,null,null,null,null,null,0,null,null,null,null,0,null,null,null,null,0,null,null,null,null,null,0,null,null,null,null,{"$f":"SUM(#REF!)","v":{"$error":"#REF!"}},0,null,null,null,"OTHER",null,null,null,null,null,0,0,{"$f":"#REF!","v":{"$error":"#REF!"}},0,{"$error":"#REF!"},{"$f":"AU131/#REF!","v":{"$error":"#REF!"}},{"$f":"AE131/#REF!","v":{"$error":"#REF!"}},{"$f":"BQ131*#REF!","v":{"$error":"#REF!"}},{"$error":"#REF!"},{"$f":"AJ131/#REF!","v":{"$error":"#REF!"}},{"$f":"BT131*#REF!","v":{"$error":"#REF!"}},{"$error":"#REF!"},{"$f":"#REF!/#REF!","v":{"$error":"#REF!"}},{"$f":"BW131*#REF!","v":{"$error":"#REF!"}},{"$f":"BX131+#REF!","v":{"$error":"#REF!"}},{"$f":"AO131/#REF!","v":{"$error":"#REF!"}},{"$f":"BZ131*#REF!","v":{"$error":"#REF!"}},{"$error":"#REF!"},"/MH","MH/",null,{"$f":"T(#REF!)","v":{"$error":"#REF!"}},{"$f":"#REF!","v":{"$error":"#REF!"}},0]
[null,null,null,null,null,null,null,null,null,null,null,null,null,null,null,null,null,null,null,null,null,null,null,null,null,null,null,null,null,null,0,null,null,null,null,0,null,null,null,null,0,null,null,null,null,null,0,null,null,null,null,{"$f":"SUM(#REF!)","v":{"$error":"#REF!"}},0,null,null,null,"OTHER",null,null,null,null,null,0,0,{"$f":"#REF!","v":{"$error":"#REF!"}},0,{"$error":"#REF!"},{"$f":"AU132/#REF!","v":{"$error":"#REF!"}},{"$f":"AE132/#REF!","v":{"$error":"#REF!"}},{"$f":"BQ132*#REF!","v":{"$error":"#REF!"}},{"$error":"#REF!"},{"$f":"AJ132/#REF!","v":{"$error":"#REF!"}},{"$f":"BT132*#REF!","v":{"$error":"#REF!"}},{"$error":"#REF!"},{"$f":"#REF!/#REF!","v":{"$error":"#REF!"}},{"$f":"BW132*#REF!","v":{"$error":"#REF!"}},{"$f":"BX132+#REF!","v":{"$error":"#REF!"}},{"$f":"AO132/#REF!","v":{"$error":"#REF!"}},{"$f":"BZ132*#REF!","v":{"$error":"#REF!"}},{"$error":"#REF!"},"/MH","MH/",null,{"$f":"T(#REF!)","v":{"$error":"#REF!"}},{"$f":"#REF!","v":{"$error":"#REF!"}},0]
[null,null,null,null,null,null,null,null,null,null,null,null,null,null,null,null,null,null,null,null,null,null,null,null,null,null,null,null,null,null,0,null,null,null,null,0,null,null,null,null,0,null,null,null,null,null,0,null,null,null,null,{"$f":"SUM(#REF!)","v":{"$error":"#REF!"}},0,null,null,null,"OTHER",null,null,null,null,null,0,0,{"$f":"#REF!","v":{"$error":"#REF!"}},0,{"$error":"#REF!"},{"$f":"AU133/#REF!","v":{"$error":"#REF!"}},{"$f":"AE133/#REF!","v":{"$error":"#REF!"}},{"$f":"BQ133*#REF!","v":{"$error":"#REF!"}},{"$error":"#REF!"},{"$f":"AJ133/#REF!","v":{"$error":"#REF!"}},{"$f":"BT133*#REF!","v":{"$error":"#REF!"}},{"$error":"#REF!"},{"$f":"#REF!/#REF!","v":{"$error":"#REF!"}},{"$f":"BW133*#REF!","v":{"$error":"#REF!"}},{"$f":"BX133+#REF!","v":{"$error":"#REF!"}},{"$f":"AO133/#REF!","v":{"$error":"#REF!"}},{"$f":"BZ133*#REF!","v":{"$error":"#REF!"}},{"$error":"#REF!"},"/MH","MH/",null,{"$f":"T(#REF!)","v":{"$error":"#REF!"}},{"$f":"#REF!","v":{"$error":"#REF!"}},0]
[null,null,null,null,null,null,null,null,null,null,null,null,null,null,null,null,null,null,null,null,null,null,null,null,null,null,null,null,null,null,0,null,null,null,null,0,null,null,null,null,0,null,null,null,null,null,0,null,null,null,null,{"$f":"SUM(#REF!)","v":{"$error":"#REF!"}},0,null,null,null,"OTHER",null,null,null,null,null,0,0,{"$f":"#REF!","v":{"$error":"#REF!"}},0,{"$error":"#REF!"},{"$f":"AU134/#REF!","v":{"$error":"#REF!"}},{"$f":"AE134/#REF!","v":{"$error":"#REF!"}},{"$f":"BQ134*#REF!","v":{"$error":"#REF!"}},{"$error":"#REF!"},{"$f":"AJ134/#REF!","v":{"$error":"#REF!"}},{"$f":"BT134*#REF!","v":{"$error":"#REF!"}},{"$error":"#REF!"},{"$f":"#REF!/#REF!","v":{"$error":"#REF!"}},{"$f":"BW134*#REF!","v":{"$error":"#REF!"}},{"$f":"BX134+#REF!","v":{"$error":"#REF!"}},{"$f":"AO134/#REF!","v":{"$error":"#REF!"}},{"$f":"BZ134*#REF!","v":{"$error":"#REF!"}},{"$error":"#REF!"},"/MH","MH/",null,{"$f":"T(#REF!)","v":{"$error":"#REF!"}},{"$f":"#REF!","v":{"$error":"#REF!"}},0]
[null,null,null,null,null,null,null,null,null,null,null,null,null,null,null,null,null,null,null,null,null,null,null,null,null,null,null,null,null,null,0,null,null,null,null,0,null,null,null,null,0,null,null,null,null,null,0,null,null,null,null,{"$f":"SUM(#REF!)","v":{"$error":"#REF!"}},0,null,null,null,"OTHER",null,null,null,null,null,0,0,{"$f":"#REF!","v":{"$error":"#REF!"}},0,{"$error":"#REF!"},{"$f":"AU135/#REF!","v":{"$error":"#REF!"}},{"$f":"AE135/#REF!","v":{"$error":"#REF!"}},{"$f":"BQ135*#REF!","v":{"$error":"#REF!"}},{"$error":"#REF!"},{"$f":"AJ135/#REF!","v":{"$error":"#REF!"}},{"$f":"BT135*#REF!","v":{"$error":"#REF!"}},{"$error":"#REF!"},{"$f":"#REF!/#REF!","v":{"$error":"#REF!"}},{"$f":"BW135*#REF!","v":{"$error":"#REF!"}},{"$f":"BX135+#REF!","v":{"$error":"#REF!"}},{"$f":"AO135/#REF!","v":{"$error":"#REF!"}},{"$f":"BZ135*#REF!","v":{"$error":"#REF!"}},{"$error":"#REF!"},"/MH","MH/",null,{"$f":"T(#REF!)","v":{"$error":"#REF!"}},{"$f":"#REF!","v":{"$error":"#REF!"}},0]
[null,null,null,null,null,null,null,null,null,null,null,null,null,null,null,null,null,null,null,null,null,null,null,null,null,null,null,null,null,null,null,null,null,null,null,null,null,null,null,null,null,null,null,null,null,null,null,null,null,null,null,null,null,null,null,null,{"$f":"$B$120","v":"OTHER"},null,null,null,null,null,{"$f":"BK120","v":0},{"$f":"BL120","v":0},{"$f":"BM120","v":{"$error":"#REF!"}},{"$f":"BN120","v":0},{"$f":"BO120","v":{"$error":"#REF!"}},{"$f":"AU136/TOTAL_REMODEL_ESTIMATE","v":{"$error":"#NAME?"}},{"$f":"#REF!/TOTAL_REMODEL_ESTIMATE","v":{"$error":"#REF!"}},{"$f":"#REF!/TOTAL_REMODEL_ESTIMATE","v":{"$error":"#REF!"}},{"$f":"#REF!/TOTAL_REMODEL_ESTIMATE","v":{"$error":"#REF!"}},{"$f":"#REF!/TOTAL_REMODEL_ESTIMATE","v":{"$error":"#REF!"}},{"$f":"#REF!/TOTAL_REMODEL_ESTIMATE","v":{"$error":"#REF!"}},{"$f":"#REF!/TOTAL_REMODEL_ESTIMATE","v":{"$error":"#REF!"}},{"$f":"#REF!/TOTAL_REMODEL_ESTIMATE","v":{"$error":"#REF!"}},{"$f":"#REF!/TOTAL_REMODEL_ESTIMATE","v":{"$error":"#REF!"}},{"$f":"#REF!/TOTAL_REMODEL_ESTIMATE","v":{"$error":"#REF!"}},{"$f":"#REF!/TOTAL_REMODEL_ESTIMATE","v":{"$error":"#REF!"}},{"$f":"#REF!/TOTAL_REMODEL_ESTIMATE","v":{"$error":"#REF!"}},{"$f":"#REF!/TOTAL_REMODEL_ESTIMATE","v":{"$error":"#REF!"}},{"$f":"#REF!/TOTAL_REMODEL_ESTIMATE","v":{"$error":"#REF!"}},{"$f":"#REF!/TOTAL_REMODEL_ESTIMATE","v":{"$error":"#REF!"}}]
[null,{"$f":"T(CONCATENATE(B120,\" \",\"TOTAL\"))","v":"OTHER TOTAL"},null,null,null,null,null,null,null,null,null,null,null,null,null,null,null,null,null,null,null,null,null,null,null,null,null,null,null,null,{"$f":"SUBTOTAL(9,AE121:AE136)","v":0},null,null,null,null,{"$f":"SUBTOTAL(9,AJ120:AN136)","v":0},null,null,null,null,{"$f":"SUBTOTAL(9,AO120:AS135)","v":0},null,null,null,null,null,{"$f":"SUBTOTAL(9,AU120:AY136)","v":0},null,null,null,null,null,{"$f":"SUBTOTAL(9,BA120:BA136)","v":0},null,null,null,{"$f":"$B$120","v":"OTHER"},null,null,null,null,null,{"$f":"BK120","v":0},0,{"$error":"#REF!"},0,{"$error":"#REF!"},{"$error":"#REF!"},{"$error":"#REF!"},{"$error":"#REF!"},{"$error":"#REF!"},{"$error":"#REF!"},{"$error":"#REF!"},{"$error":"#REF!"},{"$error":"#REF!"},{"$error":"#REF!"},{"$error":"#REF!"},{"$error":"#REF!"},{"$error":"#REF!"},{"$error":"#REF!"}]
[null,null,null,null,null,null,null,null,null,null,null,null,null,null,null,null,null,null,null,null,null,null,null,null,null,null,null,null,null,null,null,null,null,null,null,null,null,null,null,null,null,null,null,null,null,null,null,null,null,null,null,null,null,null,null,null,{"$f":"$B$120","v":"OTHER"},null,null,null,null,null,{"$f":"BK120","v":0},{"$f":"BL120","v":0},{"$f":"BM120","v":{"$error":"#REF!"}},{"$f":"BN120","v":0},{"$f":"BO120","v":{"$error":"#REF!"}},{"$f":"AU138/TOTAL_REMODEL_ESTIMATE","v":{"$error":"#NAME?"}},{"$f":"#REF!/TOTAL_REMODEL_ESTIMATE","v":{"$error":"#REF!"}},{"$f":"#REF!/TOTAL_REMODEL_ESTIMATE","v":{"$error":"#REF!"}},{"$f":"#REF!/TOTAL_REMODEL_ESTIMATE","v":{"$error":"#REF!"}},{"$f":"#REF!/TOTAL_REMODEL_ESTIMATE","v":{"$error":"#REF!"}},{"$f":"#REF!/TOTAL_REMODEL_ESTIMATE","v":{"$error":"#REF!"}},{"$f":"#REF!/TOTAL_REMODEL_ESTIMATE","v":{"$error":"#REF!"}},{"$f":"#REF!/TOTAL_REMODEL_ESTIMATE","v":{"$error":"#REF!"}},{"$f":"#REF!/TOTAL_REMODEL_ESTIMATE","v":{"$error":"#REF!"}},{"$f":"#REF!/TOTAL_REMODEL_ESTIMATE","v":{"$error":"#REF!"}},{"$f":"#REF!/TOTAL_REMODEL_ESTIMATE","v":{"$error":"#REF!"}},{"$f":"#REF!/TOTAL_REMODEL_ESTIMATE","v":{"$error":"#REF!"}},{"$f":"#REF!/TOTAL_REMODEL_ESTIMATE","v":{"$error":"#REF!"}},{"$f":"#REF!/TOTAL_REMODEL_ESTIMATE","v":{"$error":"#REF!"}},{"$f":"#REF!/TOTAL_REMODEL_ESTIMATE","v":{"$error":"#REF!"}}]
[null,null,null,null,null,null,null,null,null,null,null,null,null,null,null,null,null,null,null,null,null,null,null,null,null,null,null,null,null,null,null,null,null,null,null,null,null,null,null,null,null,null,null,null,null,null,null,null,null,null,null,null,null,null,{"$f":"BC140","v":0},null,{"$f":"BE140","v":0},null,{"$f":"BG140","v":0},{"$f":"BH140","v":0},{"$f":"BI140","v":0},{"$f":"BJ140","v":0}]
[]
[]
[null,null,null,null,null,null,null,null,null,null,null,null,null,null,null,null,null,null,null,null,null,null,null,null,null,null,null,null,null,null,null,null,null,null,null,null,null,null,null,null,null,null,null,null,null,null,null,null,null,null,null,null,null,null,"Lists",null,"Lists",null,"Lists","Lists","Lists","Lists"]
[null,null,null,null,null,null,null,null,null,null,null,null,null,null,null,null,null,null,null,null,null,null,null,null,null,null,null,null,null,null,null,null,null,null,null,null,null,null,null,null,null,null,null,null,null,null,null,null,null,null,null,null,null,null,"Units",null,"Units",null,"Units","Units","Units","Units"]
[null,null,null,null,null,null,null,null,null,null,null,null,null,null,null,null,null,null,null,null,null,null,null,null,null,null,null,null,null,null,null,null,null,null,null,null,null,null,null,null,null,null,null,null,null,null,null,null,null,null,null,null,null,null,"ls",null,"ls",null,"ls","ls","ls","ls"]
[null,null,null,null,null,null,null,null,null,null,null,null,null,null,null,null,null,null,null,null,null,null,null,null,null,null,null,null,null,null,null,null,null,null,null,null,null,null,null,null,null,null,null,null,null,null,null,null,null,null,null,null,null,null,"ea",null,"ea",null,"ea","ea","ea","ea"]
[null,null,null,null,null,null,null,null,null,null,null,null,null,null,null,null,null,null,null,null,null,null,null,null,null,null,null,null,null,null,null,null,null,null,null,null,null,null,null,null,null,null,null,null,null,null,null,null,null,null,null,null,null,null,"lf",null,"lf",null,"lf","lf","lf","lf"]
[null,null,null,null,null,null,null,null,null,null,null,null,null,null,null,null,null,null,null,null,null,null,null,null,null,null,null,null,null,null,null,null,null,null,null,null,null,null,null,null,null,null,null,null,null,null,null,null,null,null,null,null,null,null,"sf",null,"sf",null,"sf","sf","sf","sf"]
[null,null,null,null,null,null,null,null,null,null,null,null,null,null,null,null,null,null,null,null,null,null,null,null,null,null,null,null,null,null,null,null,null,null,null,null,null,null,null,null,null,null,null,null,null,null,null,null,null,null,null,null,null,null,"sy",null,"sy",null,"sy","sy","sy","sy"]
[null,null,null,null,null,null,null,null,null,null,null,null,null,null,null,null,null,null,null,null,null,null,null,null,null,null,null,null,null,null,null,null,null,null,null,null,null,null,null,null,null,null,null,null,null,null,null,null,null,null,null,null,null,null,"sq",null,"sq",null,"sq","sq","sq","sq"]
[null,null,null,null,null,null,null,null,null,null,null,null,null,null,null,null,null,null,null,null,null,null,null,null,null,null,null,null,null,null,null,null,null,null,null,null,null,null,null,null,null,null,null,null,null,null,null,null,null,null,null,null,null,null,"hrs",null,"hrs",null,"hrs","hrs","hrs","hrs"]
[null,null,null,null,null,null,null,null,null,null,null,null,null,null,null,null,null,null,null,null,null,null,null,null,null,null,null,null,null,null,null,null,null,null,null,null,null,null,null,null,null,null,null,null,null,null,null,null,null,null,null,null,null,null,"wk",null,"wk",null,"wk","wk","wk","wk"]
[null,null,null,null,null,null,null,null,null,null,null,null,null,null,null,null,null,null,null,null,null,null,null,null,null,null,null,null,null,null,null,null,null,null,null,null,null,null,null,null,null,null,null,null,null,null,null,null,null,null,null,null,null,null,"mo",null,"mo",null,"mo","mo","mo","mo"]
[null,null,null,null,null,null,null,null,null,null,null,null,null,null,null,null,null,null,null,null,null,null,null,null,null,null,null,null,null,null,null,null,null,null,null,null,null,null,null,null,null,null,null,null,null,null,null,null,null,null,null,null,null,null,"sheet",null,"sheet",null,"sheet","sheet","sheet","sheet"]
[null,null,null,null,null,null,null,null,null,null,null,null,null,null,null,null,null,null,null,null,null,null,null,null,null,null,null,null,null,null,null,null,null,null,null,null,null,null,null,null,null,null,null,null,null,null,null,null,null,null,null,null,null,null,"gall",null,"gall",null,"gall","gall","gall","gall"]
[]
[null,"Crew Calcs",null,null,"MHs",null,null,"Crew Pay",null,null,null,"Pay per HR"]
[null,{"$f":"T(#REF!)","v":{"$error":"#REF!"}},null,null,{"$f":"SUMIF($CF6:$CF$138,B157,$CG$6:$CG$138)","v":{"$error":"#REF!"}},null,null,{"$f":"SUMIF($CF$6:$CF$138,B157,$CH$6:$CH$138)","v":0},null,null,null,{"$f":"IFERROR(H157/E157,0)","v":0}]
[null,{"$f":"T(#REF!)","v":{"$error":"#REF!"}},null,null,{"$f":"SUMIF($CF7:$CF$138,B158,$CG$6:$CG$138)","v":{"$error":"#REF!"}},null,null,0,null,null,null,{"$f":"IFERROR(H158/E158,0)","v":0}]
[null,{"$f":"T(#REF!)","v":{"$error":"#REF!"}},null,null,{"$f":"SUMIF($CF8:$CF$138,B159,$CG$6:$CG$138)","v":{"$error":"#REF!"}},null,null,0,null,null,null,0]
[null,{"$f":"T(#REF!)","v":{"$error":"#REF!"}},null,null,{"$f":"SUMIF($CF9:$CF$138,B160,$CG$6:$CG$138)","v":{"$error":"#REF!"}},null,null,0,null,null,null,0]
[null,{"$f":"T(#REF!)","v":{"$error":"#REF!"}},null,null,{"$f":"SUMIF($CF10:$CF$138,B161,$CG$6:$CG$138)","v":{"$error":"#REF!"}},null,null,0,null,null,null,0]
[null,{"$f":"T(#REF!)","v":{"$error":"#REF!"}},null,null,{"$f":"SUMIF($CF11:$CF$138,B162,$CG$6:$CG$138)","v":{"$error":"#REF!"}},null,null,0,null,null,null,0]
[null,{"$f":"T(#REF!)","v":{"$error":"#REF!"}},null,null,{"$f":"SUMIF($CF12:$CF$138,B163,$CG$6:$CG$138)","v":{"$error":"#REF!"}},null,null,0,null,null,null,0]
[null,{"$f":"#REF!","v":{"$error":"#REF!"}},null,null,{"$f":"SUMIF($CF13:$CF$138,B164,$CG$6:$CG$138)","v":{"$error":"#REF!"}},null,null,0,null,null,null,0]
[null,{"$f":"#REF!","v":{"$error":"#REF!"}},null,null,{"$f":"SUMIF($CF14:$CF$138,B165,$CG$6:$CG$138)","v":{"$error":"#REF!"}},null,null,0,null,null,null,0]
[null,{"$f":"#REF!","v":{"$error":"#REF!"}},null,null,{"$f":"SUMIF($CF15:$CF$138,B166,$CG$6:$CG$138)","v":{"$error":"#REF!"}},null,null,0,null,null,null,0]
[null,{"$f":"#REF!","v":{"$error":"#REF!"}},null,null,{"$f":"SUMIF($CF16:$CF$138,B167,$CG$6:$CG$138)","v":{"$error":"#REF!"}},null,null,0,null,null,null,0]
[null,{"$f":"#REF!","v":{"$error":"#REF!"}},null,null,{"$f":"SUMIF($CF17:$CF$138,B168,$CG$6:$CG$138)","v":{"$error":"#REF!"}},null,null,0,null,null,null,0]
[null,{"$f":"#REF!","v":{"$error":"#REF!"}},null,null,{"$f":"SUMIF($CF18:$CF$138,B169,$CG$6:$CG$138)","v":{"$error":"#REF!"}},null,null,0,null,null,null,0]
[null,{"$f":"#REF!","v":{"$error":"#REF!"}},null,null,{"$f":"SUMIF($CF19:$CF$138,B170,$CG$6:$CG$138)","v":{"$error":"#REF!"}},null,null,0,null,null,null,0]
[null,{"$f":"#REF!","v":{"$error":"#REF!"}},null,null,{"$f":"SUMIF($CF20:$CF$138,B171,$CG$6:$CG$138)","v":{"$error":"#REF!"}},null,null,0,null,null,null,0]
[null,{"$f":"#REF!","v":{"$error":"#REF!"}},null,null,{"$f":"SUMIF($CF21:$CF$138,B172,$CG$6:$CG$138)","v":{"$error":"#REF!"}},null,null,0,null,null,null,0]
[null,{"$f":"#REF!","v":{"$error":"#REF!"}},null,null,{"$f":"SUMIF($CF22:$CF$138,B173,$CG$6:$CG$138)","v":{"$error":"#REF!"}},null,null,0,null,null,null,0]
[null,{"$f":"#REF!","v":{"$error":"#REF!"}},null,null,{"$f":"SUMIF($CF22:$CF$138,B174,$CG$6:$CG$138)","v":{"$error":"#REF!"}},null,null,0,null,null,null,0]
[null,{"$f":"#REF!","v":{"$error":"#REF!"}},null,null,{"$f":"SUMIF($CF22:$CF$138,B175,$CG$6:$CG$138)","v":{"$error":"#REF!"}},null,null,0,null,null,null,0]
[null,{"$f":"#REF!","v":{"$error":"#REF!"}},null,null,{"$f":"SUMIF($CF22:$CF$138,B176,$CG$6:$CG$138)","v":{"$error":"#REF!"}},null,null,0,null,null,null,0]
[null,{"$f":"#REF!","v":{"$error":"#REF!"}},null,null,{"$f":"SUMIF($CF22:$CF$138,B177,$CG$6:$CG$138)","v":{"$error":"#REF!"}},null,null,0,null,null,null,0]
[null,{"$f":"#REF!","v":{"$error":"#REF!"}},null,null,{"$f":"SUMIF($CF22:$CF$138,B178,$CG$6:$CG$138)","v":{"$error":"#REF!"}},null,null,0,null,null,null,0]
[null,{"$f":"#REF!","v":{"$error":"#REF!"}},null,null,{"$f":"SUMIF($CF22:$CF$138,B179,$CG$6:$CG$138)","v":{"$error":"#REF!"}},null,null,0,null,null,null,0]
[null,{"$f":"#REF!","v":{"$error":"#REF!"}},null,null,{"$f":"SUMIF($CF22:$CF$138,B180,$CG$6:$CG$138)","v":{"$error":"#REF!"}},null,null,0,null,null,null,0]
[null,{"$f":"#REF!","v":{"$error":"#REF!"}},null,null,{"$f":"SUMIF($CF22:$CF$138,B181,$CG$6:$CG$138)","v":{"$error":"#REF!"}},null,null,0,null,null,null,0]
[null,{"$f":"#REF!","v":{"$error":"#REF!"}},null,null,{"$f":"SUMIF($CF22:$CF$138,B182,$CG$6:$CG$138)","v":{"$error":"#REF!"}},null,null,0,null,null,null,0]
[null,{"$f":"#REF!","v":{"$error":"#REF!"}},null,null,{"$f":"SUMIF($CF22:$CF$138,B183,$CG$6:$CG$138)","v":{"$error":"#REF!"}},null,null,0,null,null,null,0]
[null,{"$f":"#REF!","v":{"$error":"#REF!"}},null,null,{"$f":"SUMIF($CF23:$CF$138,B184,$CG$6:$CG$138)","v":{"$error":"#REF!"}},null,null,0,null,null,null,0]
[null,{"$f":"#REF!","v":{"$error":"#REF!"}},null,null,{"$f":"SUMIF($CF24:$CF$138,B185,$CG$6:$CG$138)","v":{"$error":"#REF!"}},null,null,0,null,null,null,0]
[null,"TOTAL",null,null,{"$f":"SUM(E157:G185)","v":{"$error":"#REF!"}},null,null,{"$f":"SUM(H157:K185)","v":0},null,null,null,{"$f":"SUM(L157:N185)","v":0}]
[null,"Unassigned",null,null,{"$f":"TOTAL_MH-E186","v":{"$error":"#NAME?"}},null,null,{"$f":"TOTAL_LABOR_RAW-H186","v":{"$error":"#NAME?"}}]
[]
[null,"Sort Numbering"]
[null,{"$f":"T(B157)","v":{"$error":"#REF!"}},1000,null,{"$f":"T(GCS!B6)","v":"OFFICE PERSONNEL"},100000]
[null,{"$f":"T(B158)","v":{"$error":"#REF!"}},2000,null,{"$f":"T(B25)","v":"FIELD PERSONNEL"},200000]
[null,{"$error":"#REF!"},3000,null,{"$f":"T(B44)","v":"TEMPORARY UTILITIES"},300000]
[null,{"$error":"#REF!"},4000,null,{"$f":"T(B63)","v":"TEMPORARY PROJECT REQUIREMENTS"},400000]
[null,{"$error":"#REF!"},5000,null,{"$f":"T(B82)","v":"EQUIPMENT"},500000]
[null,{"$error":"#REF!"},6000,null,{"$f":"T(B101)","v":"CLEAN-UP"},600000]
[null,{"$error":"#REF!"},7000,null,{"$f":"T(B120)","v":"OTHER"},700000]
[null,{"$error":"#REF!"},8000,null,{"$f":"T(#REF!)","v":{"$error":"#REF!"}},800000]
[null,{"$error":"#REF!"},9000,null,{"$f":"T(#REF!)","v":{"$error":"#REF!"}},900000]
[null,{"$error":"#REF!"},10000,null,{"$f":"T(#REF!)","v":{"$error":"#REF!"}},1000000]
[null,{"$error":"#REF!"},11000,null,{"$f":"T(#REF!)","v":{"$error":"#REF!"}},1100000]
[null,{"$error":"#REF!"},12000,null,{"$f":"T(#REF!)","v":{"$error":"#REF!"}},1200000]
[null,{"$error":"#REF!"},13000,null,{"$f":"T(#REF!)","v":{"$error":"#REF!"}},1300000]
[null,{"$error":"#REF!"},14000,null,{"$f":"T(#REF!)","v":{"$error":"#REF!"}},1400000]
[null,{"$error":"#REF!"},15000,null,{"$f":"T(#REF!)","v":{"$error":"#REF!"}},1500000]
[null,{"$error":"#REF!"},16000,null,{"$f":"T(#REF!)","v":{"$error":"#REF!"}},1600000]
[null,{"$error":"#REF!"},17000,null,{"$f":"T(#REF!)","v":{"$error":"#REF!"}},1700000]
[null,{"$error":"#REF!"},18000,null,{"$f":"T(#REF!)","v":{"$error":"#REF!"}},1800000]
[null,{"$error":"#REF!"},19000,null,{"$f":"T(#REF!)","v":{"$error":"#REF!"}},1900000]
[null,{"$error":"#REF!"},20000,null,{"$f":"T(#REF!)","v":{"$error":"#REF!"}},2000000]
[null,{"$error":"#REF!"},21000,null,{"$f":"T(#REF!)","v":{"$error":"#REF!"}},2100000]
[null,{"$error":"#REF!"},22000,null,{"$f":"T(#REF!)","v":{"$error":"#REF!"}},2200000]
[null,{"$error":"#REF!"},23000,null,{"$f":"T(#REF!)","v":{"$error":"#REF!"}},2300000]
[null,{"$error":"#REF!"},24000,null,{"$f":"T(#REF!)","v":{"$error":"#REF!"}},2400000]
[null,{"$error":"#REF!"},25000,null,"Unassigned",2500000]
[null,{"$error":"#REF!"},26000]
[null,{"$error":"#REF!"},27000]
[null,{"$error":"#REF!"},28000]
[null,{"$error":"#REF!"},29000]
[null,"Unassigned",30000]

{"sheet":"ESTIMATE","index":6,"n_rows":888,"n_cols":62,"rows_kept":888,"cut":false,"hidden":false,"merged":[[5,42,5,45],[6,13,6,19],[6,20,6,23],[6,24,6,30],[6,31,6,34],[6,35,6,41],[6,42,6,45],[1,21,1,22],[4,1,4,12],[4,13,4,45],[5,1,7,12],[5,13,5,19],[5,20,5,23],[5,24,5,30],[5,31,5,34],[5,35,5,41],[8,42,8,45],[9,1,9,4],[9,5,9,8],[9,9,9,12],[9,13,9,19],[9,20,9,23],[9,24,9,30],[9,31,9,34],[9,35,9,41],[9,42,9,45],[8,1,8,12],[8,13,8,19],[8,20,8,23],[8,24,8,30],[8,31,8,34],[8,35,8,41],[7,13,7,19],[7,20,7,23],[7,24,7,30],[7,31,7,34],[7,35,7,41],[7,42,7,45],[13,20,13,22],[13,23,13,25],[13,26,13,28],[13,29,13,32],[13,33,13,36],[13,37,13,40],[12,33,12,36],[12,37,12,40],[12,41,12,45],[13,41,13,45],[10,31,10,34],[10,35,10,41],[10,42,10,45],[12,1,13,14],[12,15,13,17],[12,18,13,19],[12,20,12,28],[12,29,12,32],[10,1,10,4],[10,5,10,8],[10,9,10,12],[10,13,10,19],[10,20,10,23],[10,24,10,30],[15,26,15,28],[15,29,15,32],[15,33,15,36],[15,37,15,40],[15,41,15,45],[15,1,15,14],[15,15,15,17],[15,18,15,19],[15,20,15,22],[15,23,15,25],[14,26,14,28],[14,29,14,32],[14,33,14,36],[14,37,14,40],[14,41,14,45],[14,1,14,14],[14,15,14,17],[14,18,14,19],[14,20,14,22],[14,23,14,25],[17,26,17,28],[17,29,17,32],[17,33,17,36],[17,37,17,40],[17,41,17,45],[17,1,17,14],[17,15,17,17],[17,18,17,19],[17,20,17,22],[17,23,17,25],[16,26,16,28],[16,29,16,32],[16,33,16,36],[16,37,16,40],[16,41,16,45],[16,1,16,14],[16,15,16,17],[16,18,16,19],[16,20,16,22],[16,23,16,25],[19,26,19,28],[19,29,19,32],[19,33,19,36],[19,37,19,40],[19,41,19,45],[19,1,19,14],[19,15,19,17],[19,18,19,19],[19,20,19,22],[19,23,19,25],[18,26,18,28],[18,29,18,32],[18,33,18,36],[18,37,18,40],[18,41,18,45],[18,1,18,14],[18,15,18,17],[18,18,18,19],[18,20,18,22],[18,23,18,25],[21,26,21,28],[21,29,21,32],[21,33,21,36],[21,37,21,40],[21,41,21,45],[21,1,21,14],[21,15,21,17],[21,18,21,19],[21,20,21,22],[21,23,21,25],[20,26,20,28],[20,29,20,32],[20,33,20,36],[20,37,20,40],[20,41,20,45],[20,1,20,14],[20,15,20,17],[20,18,20,19],[20,20,20,22],[20,23,20,25],[23,26,23,28],[23,29,23,32],[23,33,23,36],[23,37,23,40],[23,41,23,45],[23,1,23,14],[23,15,23,17],[23,18,23,19],[23,20,23,22],[23,23,23,25],[22,26,22,28],[22,29,22,32],[22,33,22,36],[22,37,22,40],[22,41,22,45],[22,1,22,14],[22,15,22,17],[22,18,22,19],[22,20,22,22],[22,23,22,25],[25,26,25,28],[25,29,25,32],[25,33,25,36],[25,37,25,40],[25,41,25,45],[25,1,25,14],[25,15,25,17],[25,18,25,19],[25,20,25,22],[25,23,25,25],[24,26,24,28],[24,29,24,32],[24,33,24,36],[24,37,24,40],[24,41,24,45],[24,1,24,14],[24,15,24,17],[24,18,24,19],[24,20,24,22],[24,23,24,25],[27,26,27,28],[27,29,27,32],[27,33,27,36],[27,37,27,40],[27,41,27,45],[27,1,27,14],[27,15,27,17],[27,18,27,19],[27,20,27,22],[27,23,27,25],[26,26,26,28],[26,29,26,32],[26,33,26,36],[26,37,26,40],[26,41,26,45],[26,1,26,14],[26,15,26,17],[26,18,26,19],[26,20,26,22],[26,23,26,25],[29,26,29,28],[29,29,29,32],[29,33,29,36],[29,37,29,40],[29,41,29,45],[29,1,29,14],[29,15,29,17],[29,18,29,19],[29,20,29,22],[29,23,29,25],[28,26,28,28],[28,29,28,32],[28,33,28,36],[28,37,28,40],[28,41,28,45],[28,1,28,14],[28,15,28,17],[28,18,28,19],[28,20,28,22],[28,23,28,25],[31,26,31,28],[31,29,31,32],[31,33,31,36],[31,37,31,40],[31,41,31,45],[31,1,31,14],[31,15,31,17],[31,18,31,19],[31,20,31,22],[31,23,31,25],[30,26,30,28],[30,29,30,32],[30,33,30,36],[30,37,30,40],[30,41,30,45],[30,1,30,14],[30,15,30,17],[30,18,30,19],[30,20,30,22],[30,23,30,25],[33,26,33,28],[33,29,33,32],[33,33,33,36],[33,37,33,40],[33,41,33,45],[33,1,33,14],[33,15,33,17],[33,18,33,19],[33,20,33,22],[33,23,33,25],[32,26,32,28],[32,29,32,32],[32,33,32,36],[32,37,32,40],[32,41,32,45],[32,1,32,14],[32,15,32,17],[32,18,32,19],[32,20,32,22],[32,23,32,25],[35,26,35,28],[35,29,35,32],[35,33,35,36],[35,37,35,40],[35,41,35,45],[35,1,35,14],[35,15,35,17],[35,18,35,19],[35,20,35,22],[35,23,35,25],[34,26,34,28],[34,29,34,32],[34,33,34,36],[34,37,34,40],[34,41,34,45],[34,1,34,14],[34,15,34,17],[34,18,34,19],[34,20,34,22],[34,23,34,25],[37,26,37,28],[37,29,37,32],[37,33,37,36],[37,37,37,40],[37,41,37,45],[37,1,37,14],[37,15,37,17],[37,18,37,19],[37,20,37,22],[37,23,37,25],[36,26,36,28],[36,29,36,32],[36,33,36,36],[36,37,36,40],[36,41,36,45],[36,1,36,14],[36,15,36,17],[36,18,36,19],[36,20,36,22],[36,23,36,25],[39,26,39,28],[39,29,39,32],[39,33,39,36],[39,37,39,40],[39,41,39,45],[39,1,39,14],[39,15,39,17],[39,18,39,19],[39,20,39,22],[39,23,39,25],[38,26,38,28],[38,29,38,32],[38,33,38,36],[38,37,38,40],[38,41,38,45],[38,1,38,14],[38,15,38,17],[38,18,38,19],[38,20,38,22],[38,23,38,25],[41,26,41,28],[41,29,41,32],[41,33,41,36],[41,37,41,40],[41,41,41,45],[41,1,41,14],[41,15,41,17],[41,18,41,19],[41,20,41,22],[41,23,41,25],[40,26,40,28],[40,29,40,32],[40,33,40,36],[40,37,40,40],[40,41,40,45],[40,1,40,14],[40,15,40,17],[40,18,40,19],[40,20,40,22],[40,23,40,25],[43,26,43,28],[43,29,43,32],[43,33,43,36],[43,37,43,40],[43,41,43,45],[43,1,43,14],[43,15,43,17],[43,18,43,19],[43,20,43,22],[43,23,43,25],[42,26,42,28],[42,29,42,32],[42,33,42,36],[42,37,42,40],[42,41,42,45],[42,1,42,14],[42,15,42,17],[42,18,42,19],[42,20,42,22],[42,23,42,25],[45,26,45,28],[45,29,45,32],[45,33,45,36],[45,37,45,40],[45,41,45,45],[45,1,45,14],[45,15,45,17],[45,18,45,19],[45,20,45,22],[45,23,45,25],[44,26,44,28],[44,29,44,32],[44,33,44,36],[44,37,44,40],[44,41,44,45],[44,1,44,14],[44,15,44,17],[44,18,44,19],[44,20,44,22],[44,23,44,25],[47,26,47,28],[47,29,47,32],[47,33,47,36],[47,37,47,40],[47,41,47,45],[47,1,47,14],[47,15,47,17],[47,18,47,19],[47,20,47,22],[47,23,47,25],[46,26,46,28],[46,29,46,32],[46,33,46,36],[46,37,46,40],[46,41,46,45],[46,1,46,14],[46,15,46,17],[46,18,46,19],[46,20,46,22],[46,23,46,25],[49,26,49,28],[49,29,49,32],[49,33,49,36],[49,37,49,40],[49,41,49,45],[49,1,49,14],[49,15,49,17],[49,18,49,19],[49,20,49,22],[49,23,49,25],[48,26,48,28],[48,29,48,32],[48,33,48,36],[48,37,48,40],[48,41,48,45],[48,1,48,14],[48,15,48,17],[48,18,48,19],[48,20,48,22],[48,23,48,25],[51,26,51,28],[51,29,51,32],[51,33,51,36],[51,37,51,40],[51,41,51,45],[51,1,51,14],[51,15,51,17],[51,18,51,19],[51,20,51,22],[51,23,51,25],[50,26,50,28],[50,29,50,32],[50,33,50,36],[50,37,50,40],[50,41,50,45],[50,1,50,14],[50,15,50,17],[50,18,50,19],[50,20,50,22],[50,23,50,25],[53,26,53,28],[53,29,53,32],[53,33,53,36],[53,37,53,40],[53,41,53,45],[53,1,53,14],[53,15,53,17],[53,18,53,19],[53,20,53,22],[53,23,53,25],[52,26,52,28],[52,29,52,32],[52,33,52,36],[52,37,52,40],[52,41,52,45],[52,1,52,14],[52,15,52,17],[52,18,52,19],[52,20,52,22],[52,23,52,25],[57,29,57,32],[57,33,57,36],[57,37,57,40],[57,41,57,45],[55,26,55,28],[55,29,55,32],[55,33,55,36],[55,37,55,40],[55,41,55,45],[55,1,55,14],[55,15,55,17],[55,18,55,19],[55,20,55,22],[55,23,55,25],[54,26,54,28],[54,29,54,32],[54,33,54,36],[54,37,54,40],[54,41,54,45],[54,1,54,14],[54,15,54,17],[54,18,54,19],[54,20,54,22],[54,23,54,25],[61,26,61,28],[61,29,61,32],[61,33,61,36],[61,37,61,40],[61,41,61,45],[61,1,61,14],[61,15,61,17],[61,18,61,19],[61,20,61,22],[61,23,61,25],[60,26,60,28],[60,29,60,32],[60,33,60,36],[60,37,60,40],[60,41,60,45],[60,1,60,14],[60,15,60,17],[60,18,60,19],[60,20,60,22],[60,23,60,25],[63,26,63,28],[63,29,63,32],[63,33,63,36],[63,37,63,40],[63,41,63,45],[63,1,63,14],[63,15,63,17],[63,18,63,19],[63,20,63,22],[63,23,63,25],[62,26,62,28],[62,29,62,32],[62,33,62,36],[62,37,62,40],[62,41,62,45],[62,1,62,14],[62,15,62,17],[62,18,62,19],[62,20,62,22],[62,23,62,25],[65,26,65,28],[65,29,65,32],[65,33,65,36],[65,37,65,40],[65,41,65,45],[65,1,65,14],[65,15,65,17],[65,18,65,19],[65,20,65,22],[65,23,65,25],[64,26,64,28],[64,29,64,32],[64,33,64,36],[64,37,64,40],[64,41,64,45],[64,1,64,14],[64,15,64,17],[64,18,64,19],[64,20,64,22],[64,23,64,25],[67,26,67,28],[67,29,67,32],[67,33,67,36],[67,37,67,40],[67,41,67,45],[67,1,67,14],[67,15,67,17],[67,18,67,19],[67,20,67,22],[67,23,67,25],[66,26,66,28],[66,29,66,32],[66,33,66,36],[66,37,66,40],[66,41,66,45],[66,1,66,14],[66,15,66,17],[66,18,66,19],[66,20,66,22],[66,23,66,25],[69,26,69,28],[69,29,69,32],[69,33,69,36],[69,37,69,40],[69,41,69,45],[69,1,69,14],[69,15,69,17],[69,18,69,19],[69,20,69,22],[69,23,69,25],[68,26,68,28],[68,29,68,32],[68,33,68,36],[68,37,68,40],[68,41,68,45],[68,1,68,14],[68,15,68,17],[68,18,68,19],[68,20,68,22],[68,23,68,25],[71,26,71,28],[71,29,71,32],[71,33,71,36],[71,37,71,40],[71,41,71,45],[71,1,71,14],[71,15,71,17],[71,18,71,19],[71,20,71,22],[71,23,71,25],[70,26,70,28],[70,29,70,32],[70,33,70,36],[70,37,70,40],[70,41,70,45],[70,1,70,14],[70,15,70,17],[70,18,70,19],[70,20,70,22],[70,23,70,25],[73,26,73,28],[73,29,73,32],[73,33,73,36],[73,37,73,40],[73,41,73,45],[73,1,73,14],[73,15,73,17],[73,18,73,19],[73,20,73,22],[73,23,73,25],[72,26,72,28],[72,29,72,32],[72,33,72,36],[72,37,72,40],[72,41,72,45],[72,1,72,14],[72,15,72,17],[72,18,72,19],[72,20,72,22],[72,23,72,25],[75,26,75,28],[75,29,75,32],[75,33,75,36],[75,37,75,40],[75,41,75,45],[75,1,75,14],[75,15,75,17],[75,18,75,19],[75,20,75,22],[75,23,75,25],[74,26,74,28],[74,29,74,32],[74,33,74,36],[74,37,74,40],[74,41,74,45],[74,1,74,14],[74,15,74,17],[74,18,74,19],[74,20,74,22],[74,23,74,25],[77,26,77,28],[77,29,77,32],[77,33,77,36],[77,37,77,40],[77,41,77,45],[77,1,77,14],[77,15,77,17],[77,18,77,19],[77,20,77,22],[77,23,77,25],[76,26,76,28],[76,29,76,32],[76,33,76,36],[76,37,76,40],[76,41,76,45],[76,1,76,14],[76,15,76,17],[76,18,76,19],[76,20,76,22],[76,23,76,25],[79,26,79,28],[79,29,79,32],[79,33,79,36],[79,37,79,40],[79,41,79,45],[79,1,79,14],[79,15,79,17],[79,18,79,19],[79,20,79,22],[79,23,79,25],[78,26,78,28],[78,29,78,32],[78,33,78,36],[78,37,78,40],[78,41,78,45],[78,1,78,14],[78,15,78,17],[78,18,78,19],[78,20,78,22],[78,23,78,25],[81,26,81,28],[81,29,81,32],[81,33,81,36],[81,37,81,40],[81,41,81,45],[81,1,81,14],[81,15,81,17],[81,18,81,19],[81,20,81,22],[81,23,81,25],[80,26,80,28],[80,29,80,32],[80,33,80,36],[80,37,80,40],[80,41,80,45],[80,1,80,14],[80,15,80,17],[80,18,80,19],[80,20,80,22],[80,23,80,25],[83,26,83,28],[83,29,83,32],[83,33,83,36],[83,37,83,40],[83,41,83,45],[83,1,83,14],[83,15,83,17],[83,18,83,19],[83,20,83,22],[83,23,83,25],[82,26,82,28],[82,29,82,32],[82,33,82,36],[82,37,82,40],[82,41,82,45],[82,1,82,14],[82,15,82,17],[82,18,82,19],[82,20,82,22],[82,23,82,25],[85,26,85,28],[85,29,85,32],[85,33,85,36],[85,37,85,40],[85,41,85,45],[85,1,85,14],[85,15,85,17],[85,18,85,19],[85,20,85,22],[85,23,85,25],[84,26,84,28],[84,29,84,32],[84,33,84,36],[84,37,84,40],[84,41,84,45],[84,1,84,14],[84,15,84,17],[84,18,84,19],[84,20,84,22],[84,23,84,25],[87,26,87,28],[87,29,87,32],[87,33,87,36],[87,37,87,40],[87,41,87,45],[87,1,87,14],[87,15,87,17],[87,18,87,19],[87,20,87,22],[87,23,87,25],[86,26,86,28],[86,29,86,32],[86,33,86,36],[86,37,86,40],[86,41,86,45],[86,1,86,14],[86,15,86,17],[86,18,86,19],[86,20,86,22],[86,23,86,25],[89,26,89,28],[89,29,89,32],[89,33,89,36],[89,37,89,40],[89,41,89,45],[89,1,89,14],[89,15,89,17],[89,18,89,19],[89,20,89,22],[89,23,89,25],[88,26,88,28],[88,29,88,32],[88,33,88,36],[88,37,88,40],[88,41,88,45],[88,1,88,14],[88,15,88,17],[88,18,88,19],[88,20,88,22],[88,23,88,25],[91,26,91,28],[91,29,91,32],[91,33,91,36],[91,37,91,40],[91,41,91,45],[91,1,91,14],[91,15,91,17],[91,18,91,19],[91,20,91,22],[91,23,91,25],[90,26,90,28],[90,29,90,32],[90,33,90,36],[90,37,90,40],[90,41,90,45],[90,1,90,14],[90,15,90,17],[90,18,90,19],[90,20,90,22],[90,23,90,25],[93,26,93,28],[93,29,93,32],[93,33,93,36],[93,37,93,40],[93,41,93,45],[93,1,93,14],[93,15,93,17],[93,18,93,19],[93,20,93,22],[93,23,93,25],[92,26,92,28],[92,29,92,32],[92,33,92,36],[92,37,92,40],[92,41,92,45],[92,1,92,14],[92,15,92,17],[92,18,92,19],[92,20,92,22],[92,23,92,25],[95,26,95,28],[95,29,95,32],[95,33,95,36],[95,37,95,40],[95,41,95,45],[95,1,95,14],[95,15,95,17],[95,18,95,19],[95,20,95,22],[95,23,95,25],[94,26,94,28],[94,29,94,32],[94,33,94,36],[94,37,94,40],[94,41,94,45],[94,1,94,14],[94,15,94,17],[94,18,94,19],[94,20,94,22],[94,23,94,25],[97,26,97,28],[97,29,97,32],[97,33,97,36],[97,37,97,40],[97,41,97,45],[97,1,97,14],[97,15,97,17],[97,18,97,19],[97,20,97,22],[97,23,97,25],[96,26,96,28],[96,29,96,32],[96,33,96,36],[96,37,96,40],[96,41,96,45],[96,1,96,14],[96,15,96,17],[96,18,96,19],[96,20,96,22],[96,23,96,25],[99,26,99,28],[99,29,99,32],[99,33,99,36],[99,37,99,40],[99,41,99,45],[99,1,99,14],[99,15,99,17],[99,18,99,19],[99,20,99,22],[99,23,99,25],[98,26,98,28],[98,29,98,32],[98,33,98,36],[98,37,98,40],[98,41,98,45],[98,1,98,14],[98,15,98,17],[98,18,98,19],[98,20,98,22],[98,23,98,25],[105,26,105,28],[105,29,105,32],[105,33,105,36],[105,37,105,40],[105,41,105,45],[105,1,105,14],[105,15,105,17],[105,18,105,19],[105,20,105,22],[105,23,105,25],[102,29,102,32],[102,33,102,36],[102,37,102,40],[102,41,102,45],[100,26,100,28],[100,29,100,32],[100,33,100,36],[100,37,100,40],[100,41,100,45],[100,1,100,14],[100,15,100,17],[100,18,100,19],[100,20,100,22],[100,23,100,25],[107,26,107,28],[107,29,107,32],[107,33,107,36],[107,37,107,40],[107,41,107,45],[107,1,107,14],[107,15,107,17],[107,18,107,19],[107,20,107,22],[107,23,107,25],[106,26,106,28],[106,29,106,32],[106,33,106,36],[106,37,106,40],[106,41,106,45],[106,1,106,14],[106,15,106,17],[106,18,106,19],[106,20,106,22],[106,23,106,25],[109,26,109,28],[109,29,109,32],[109,33,109,36],[109,37,109,40],[109,41,109,45],[109,1,109,14],[109,15,109,17],[109,18,109,19],[109,20,109,22],[109,23,109,25],[108,26,108,28],[108,29,108,32],[108,33,108,36],[108,37,108,40],[108,41,108,45],[108,1,108,14],[108,15,108,17],[108,18,108,19],[108,20,108,22],[108,23,108,25],[111,26,111,28],[111,29,111,32],[111,33,111,36],[111,37,111,40],[111,41,111,45],[111,1,111,14],[111,15,111,17],[111,18,111,19],[111,20,111,22],[111,23,111,25],[110,26,110,28],[110,29,110,32],[110,33,110,36],[110,37,110,40],[110,41,110,45],[110,1,110,14],[110,15,110,17],[110,18,110,19],[110,20,110,22],[110,23,110,25],[113,26,113,28],[113,29,113,32],[113,33,113,36],[113,37,113,40],[113,41,113,45],[113,1,113,14],[113,15,113,17],[113,18,113,19],[113,20,113,22],[113,23,113,25],[112,26,112,28],[112,29,112,32],[112,33,112,36],[112,37,112,40],[112,41,112,45],[112,1,112,14],[112,15,112,17],[112,18,112,19],[112,20,112,22],[112,23,112,25],[115,26,115,28],[115,29,115,32],[115,33,115,36],[115,37,115,40],[115,41,115,45],[115,1,115,14],[115,15,115,17],[115,18,115,19],[115,20,115,22],[115,23,115,25]],"merged_total":7815,"flags":["merged_cut"]}
[]
[]
[]
[]
[null,"TOTAL ESTIMATE",null,null,null,null,null,null,null,null,null,null,null,"ESTIMATE BREAKDOWN BY SCOPE OF WORK"]
[null,{"$f":"AP13","v":0},null,null,null,null,null,null,null,null,null,null,null,"GENERAL REQUIREMENTS",null,null,null,null,null,null,{"$f":"AP58","v":0},null,null,null,"MISC. EXT. IMPROVEMENTS",null,null,null,null,null,null,{"$f":"AP328","v":0},null,null,null,"FLOORING",null,null,null,null,null,null,{"$f":"AP598","v":0}]
[null,null,null,null,null,null,null,null,null,null,null,null,null,"DEMOLITION",null,null,null,null,null,null,{"$f":"AP103","v":0},null,null,null,"LANDSCAPING",null,null,null,null,null,null,{"$f":"AP373","v":0},null,null,null,"PAINTING",null,null,null,null,null,null,{"$f":"AP643","v":0}]
[null,null,null,null,null,null,null,null,null,null,null,null,null,"CONCRETE & FLATWORK",null,null,null,null,null,null,{"$f":"AP148","v":0},null,null,null,"KITCHENS",null,null,null,null,null,null,{"$f":"AP418","v":0},null,null,null,"PLUMBING",null,null,null,null,null,null,{"$f":"AP688","v":0}]
[null,{"$f":"IFERROR(Total_Detailed_Estimate/PROJECT_SIZE,0)","v":0},null,null,null,null,null,null,null,null,null,null,null,"SIDING",null,null,null,null,null,null,{"$f":"AP193","v":0},null,null,null,"BATHROOMS",null,null,null,null,null,null,{"$f":"AP463","v":0},null,null,null,"HVAC",null,null,null,null,null,null,{"$f":"AP733","v":0}]
[null,"LABOR",null,null,null,"MAT",null,null,null,"SUB",null,null,null,"ROOFING",null,null,null,null,null,null,{"$f":"AP238","v":0},null,null,null,"DOORS & TRIM",null,null,null,null,null,null,{"$f":"AP508","v":0},null,null,null,"ELECTRICAL",null,null,null,null,null,{"$error":"#REF!"},{"$f":"AP778","v":0}]
[null,{"$f":"AD13","v":0},null,null,null,{"$f":"AH13","v":0},null,null,null,{"$f":"AL13","v":0},null,null,null,"EXT. DOORS & WINDOWS",null,null,null,null,null,null,{"$f":"AP283","v":0},null,null,null,"FRAMING & DRYWALL",null,null,null,null,null,null,{"$f":"AP553","v":0},null,null,null,"OTHER",null,null,null,null,null,6125,{"$f":"AP823","v":0}]
[{"$f":"IFERROR(B6/Square_Feet,0)","v":0},null,null,null,null,null,null,null,null,null,null,null,null,null,null,null,null,null,null,null,null,null,null,null,null,null,null,null,null,null,null,null,null,null,null,null,null,null,null,null,null,null,null,null,null,null,null,"WORK BREAKDOWN BY SCOPE OF WORK","RAW",null,null,null,"W/ ADDERS"]
[null,"DESCRIPTION OF WORK",null,null,null,null,null,null,null,null,null,null,null,null,null,"QTY",null,null,"UNIT",null,"UNIT COST",null,null,null,null,null,null,null,null,{"$f":"AD58+AD103+AD148+AD193+AD238+AD283+AD328+AD373+AD418+AD463+AD508+AD553+AD598+AD643+AD688+AD733+AD778+AD823","v":0},null,null,null,{"$f":"AH58+AH103+AH148+AH193+AH238+AH283+AH328+AH373+AH418+AH463+AH508+AH553+AH598+AH643+AH688+AH733+AH778+AH823","v":0},null,null,null,{"$f":"AL58+AL103+AL148+AL193+AL238+AL283+AL328+AL373+AL418+AL463+AL508+AL553+AL598+AL643+AL688+AL733+AL778+AL823","v":0},null,null,null,{"$f":"AP58+AP103+AP148+AP193+AP238+AP283+AP328+AP373+AP418+AP463+AP508+AP553+AP598+AP643+AP688+AP733+AP778+AP823","v":0},null,null,null,null,null,null,{"$f":"AW58+AW103+AW148+AW193+AW238+AW283+AW328+AW373+AW418+AW463+AW508+AW553+AW598+AW643+AW688+AW733+AW778+AW823","v":0},0,0,0,0,0,0,0,0,0,0,0,0,0]
[null,null,null,null,null,null,null,null,null,null,null,null,null,null,null,null,null,null,null,null,"LABOR/EQUIP",null,null,"MAT",null,null,"SUB",null,null,"LABOR/EQUIP",null,null,null,"MAT",null,null,null,"SUB",null,null,null,"ESTIMATE",null,null,null,null,null,null,"LABOR","MAT","SUB","TOTAL","LAB %","LAB ADDR","LABOR","MAT %","MAT ADDR","MAT","SUB %","SUB ADDR","SUB","TOTAL w/ ADDERS"]
[]
["Visible",{"$f":"T(N6)","v":"GENERAL REQUIREMENTS"},null,null,null,null,null,null,null,null,null,null,null,null,null,null,null,null,null,null,null,null,null,null,null,null,null,null,null,null,null,null,null,null,null,null,null,null,null,null,null,null,null,null,null,null,null,{"$f":"$B$16","v":"GENERAL REQUIREMENTS"}]
[null,"Dumpster rental-40 yard",null,null,null,null,null,null,null,null,null,null,null,null,null,null,null,null,"ea",null,null,null,null,400,null,null,null,null,null,{"$f":"P17*U17","v":0},null,null,null,{"$f":"P17*X17","v":0},null,null,null,{"$f":"P17*AA17","v":0},null,null,null,{"$f":"SUM(AD17:AN17)","v":0},null,null,null,null,null,"GENERAL REQUIREMENTS",{"$f":"AD17","v":0},{"$f":"AH17","v":0},{"$f":"AL17","v":0},{"$f":"SUM(AW17:AY17)","v":0},{"$f":"IFERROR(AW17/$AZ$13,0)","v":0},{"$f":"BA17*TOTAL_ADDERS","v":0},{"$f":"AW17+BB17","v":0},{"$f":"IFERROR(AX17/$AZ$13,0)","v":0},{"$f":"BD17*TOTAL_ADDERS","v":0},{"$f":"AX17+BE17","v":0},{"$f":"IFERROR(AY17/$AZ$13,0)","v":0},{"$f":"BG17*TOTAL_ADDERS","v":0},{"$f":"AY17+BH17","v":0},{"$f":"BC17+BF17+BI17","v":0}]
[null,"Construction Permits < $10k",null,null,null,null,null,null,null,null,null,null,null,null,null,null,null,null,"job","job",null,null,null,125,null,125,null,null,null,{"$f":"P18*U18","v":0},null,null,null,0,null,null,null,0,null,null,null,{"$f":"SUM(AD18:AO18)","v":0},null,null,null,null,null,"GENERAL REQUIREMENTS",0,0,0,0,{"$f":"IFERROR(AW18/$AZ$13,0)","v":0},0,{"$f":"AW18+BB18","v":0},{"$f":"IFERROR(AX18/$AZ$13,0)","v":0},0,{"$f":"AX18+BE18","v":0},{"$f":"IFERROR(AY18/$AZ$13,0)","v":0},0,{"$f":"AY18+BH18","v":0},{"$f":"BC18+BF18+BI18","v":0}]
[null,"Construction Permits, 10k to $25k",null,null,null,null,null,null,null,null,null,null,null,null,null,null,null,null,"job","job",null,null,null,500,null,null,null,null,null,0,null,null,null,0,null,null,null,0,null,null,null,0,null,null,null,null,null,"GENERAL REQUIREMENTS",0,0,0,0,0,0,0,0,0,0,0,0,0,0]
[null,"Construction Permits, 25k to 50k",null,null,null,null,null,null,null,null,null,null,null,null,null,null,null,null,"job","job",null,null,null,1000,null,null,null,null,null,0,null,null,null,0,null,null,null,0,null,null,null,0,null,null,null,null,null,"GENERAL REQUIREMENTS",0,0,0,0,0,0,0,0,0,0,0,0,0,0]
[null,"Storage Container",null,null,null,null,null,null,null,null,null,null,null,null,null,null,null,null,"job","job",null,null,null,200,null,200,null,null,null,0,null,null,null,0,null,null,null,0,null,null,null,0,null,null,null,null,null,"GENERAL REQUIREMENTS",0,0,0,0,0,0,0,0,0,0,0,0,0,0]
[null,"Chemical Toilet",null,null,null,null,null,null,null,null,null,null,null,null,null,null,null,null,"mo","mo",null,null,null,85,null,85,null,null,null,0,null,null,null,0,null,null,null,0,null,null,null,0,null,null,null,null,null,"GENERAL REQUIREMENTS",0,0,0,0,0,0,0,0,0,0,0,0,0,0]
[null,"Misc. Tools & Materials",null,null,null,null,null,null,null,null,null,null,null,null,null,null,null,null,"ls","mo",null,null,null,250,null,250,null,null,null,0,null,null,null,0,null,null,null,0,null,null,null,0,null,null,null,null,null,"GENERAL REQUIREMENTS",0,0,0,0,0,0,0,0,0,0,0,0,0,0]
[null,"Rekey/lock box",null,null,null,null,null,null,null,null,null,null,null,null,null,null,null,null,"ea","mo",45,null,null,50,null,50,null,null,null,0,null,null,null,0,null,null,null,0,null,null,null,0,null,null,null,null,null,"GENERAL REQUIREMENTS",0,0,0,0,0,0,0,0,0,0,0,0,0,0]
[null,"Turn on utilities",null,null,null,null,null,null,null,null,null,null,null,null,null,null,null,null,"ls","mo",null,null,null,125,null,125,null,null,null,0,null,null,null,0,null,null,null,0,null,null,null,0,null,null,null,null,null,"GENERAL REQUIREMENTS",0,0,0,0,0,0,0,0,0,0,0,0,0,0]
[null,"Truck expense/car payment",null,null,null,null,null,null,null,null,null,null,null,null,null,null,null,null,"month","mo",null,null,null,250,null,250,null,null,null,0,null,null,null,0,null,null,null,0,null,null,null,0,null,null,null,null,null,"GENERAL REQUIREMENTS",0,0,0,0,0,0,0,0,0,0,0,0,0,0]
[null,"Fuel/gas expense",null,null,null,null,null,null,null,null,null,null,null,null,null,null,null,null,"wk","mo",null,null,null,50,null,50,null,null,null,0,null,null,null,0,null,null,null,0,null,null,null,0,null,null,null,null,null,"GENERAL REQUIREMENTS",0,0,0,0,0,0,0,0,0,0,0,0,0,0]
[null,"Project management",null,null,null,null,null,null,null,null,null,null,null,null,null,null,null,null,"wk","mo",1000,null,null,null,null,null,null,null,null,0,null,null,null,0,null,null,null,0,null,null,null,0,null,null,null,null,null,"GENERAL REQUIREMENTS",0,0,0,0,0,0,0,0,0,0,0,0,0,0]
[null,"Architectural Fees",null,null,null,null,null,null,null,null,null,null,null,null,null,null,null,null,"hrs","mo",null,null,null,null,null,null,100,null,null,0,null,null,null,0,null,null,null,0,null,null,null,0,null,null,null,null,null,"GENERAL REQUIREMENTS",0,0,0,0,0,0,0,0,0,0,0,0,0,0]
[null,"Engineering Fees",null,null,null,null,null,null,null,null,null,null,null,null,null,null,null,null,"hrs","mo",null,null,null,null,null,null,125,null,null,0,null,null,null,0,null,null,null,0,null,null,null,0,null,null,null,null,null,"GENERAL REQUIREMENTS",0,0,0,0,0,0,0,0,0,0,0,0,0,0]
[null,"Professional Photography",null,null,null,null,null,null,null,null,null,null,null,null,null,null,null,null,"ls","mo",null,null,null,null,null,null,250,null,null,0,null,null,null,0,null,null,null,0,null,null,null,0,null,null,null,null,null,"GENERAL REQUIREMENTS",0,0,0,0,0,0,0,0,0,0,0,0,0,0]
[null,"Material Deliveries",null,null,null,null,null,null,null,null,null,null,null,null,null,null,null,null,"ea","mo",null,null,null,65,null,null,null,null,null,0,null,null,null,0,null,null,null,0,null,null,null,0,null,null,null,null,null,"GENERAL REQUIREMENTS",0,0,0,0,0,0,0,0,0,0,0,0,0,0]
[null,"Final cleaning",null,null,null,null,null,null,null,null,null,null,null,null,null,null,null,null,"hrs",null,15,null,null,null,null,null,null,null,null,0,null,null,null,0,null,null,null,0,null,null,null,0,null,null,null,null,null,"GENERAL REQUIREMENTS",0,0,0,0,0,0,0,0,0,0,0,0,0,0]
[null,null,null,null,null,null,null,null,null,null,null,null,null,null,null,null,null,null,null,null,null,null,null,null,null,null,null,null,null,0,null,null,null,0,null,null,null,0,null,null,null,0,null,null,null,null,null,"GENERAL REQUIREMENTS",0,0,0,0,0,0,0,0,0,0,0,0,0,0]
[null,null,null,null,null,null,null,null,null,null,null,null,null,null,null,null,null,null,null,null,null,null,null,null,null,null,null,null,null,0,null,null,null,0,null,null,null,0,null,null,null,0,null,null,null,null,null,"GENERAL REQUIREMENTS",0,0,0,0,0,0,0,0,0,0,0,0,0,0]
[null,null,null,null,null,null,null,null,null,null,null,null,null,null,null,null,null,null,null,null,null,null,null,null,null,null,null,null,null,0,null,null,null,0,null,null,null,0,null,null,null,0,null,null,null,null,null,"GENERAL REQUIREMENTS",0,0,0,0,0,0,0,0,0,0,0,0,0,0]
[null,null,null,null,null,null,null,null,null,null,null,null,null,null,null,null,null,null,null,null,null,null,null,null,null,null,null,null,null,0,null,null,null,0,null,null,null,0,null,null,null,0,null,null,null,null,null,"GENERAL REQUIREMENTS",0,0,0,0,0,0,0,0,0,0,0,0,0,0]
[null,null,null,null,null,null,null,null,null,null,null,null,null,null,null,null,null,null,null,null,null,null,null,null,null,null,null,null,null,0,null,null,null,0,null,null,null,0,null,null,null,0,null,null,null,null,null,"GENERAL REQUIREMENTS",0,0,0,0,0,0,0,0,0,0,0,0,0,0]
[null,null,null,null,null,null,null,null,null,null,null,null,null,null,null,null,null,null,null,null,null,null,null,null,null,null,null,null,null,0,null,null,null,0,null,null,null,0,null,null,null,0,null,null,null,null,null,"GENERAL REQUIREMENTS",0,0,0,0,0,0,0,0,0,0,0,0,0,0]
[null,null,null,null,null,null,null,null,null,null,null,null,null,null,null,null,null,null,null,null,null,null,null,null,null,null,null,null,null,0,null,null,null,0,null,null,null,0,null,null,null,0,null,null,null,null,null,"GENERAL REQUIREMENTS",0,0,0,0,0,0,0,0,0,0,0,0,0,0]
[null,null,null,null,null,null,null,null,null,null,null,null,null,null,null,null,null,null,null,null,null,null,null,null,null,null,null,null,null,0,null,null,null,0,null,null,null,0,null,null,null,0,null,null,null,null,null,"GENERAL REQUIREMENTS",0,0,0,0,0,0,0,0,0,0,0,0,0,0]
[null,null,null,null,null,null,null,null,null,null,null,null,null,null,null,null,null,null,null,null,null,null,null,null,null,null,null,null,null,0,null,null,null,0,null,null,null,0,null,null,null,0,null,null,null,null,null,"GENERAL REQUIREMENTS",0,0,0,0,0,0,0,0,0,0,0,0,0,0]
[null,null,null,null,null,null,null,null,null,null,null,null,null,null,null,null,null,null,null,null,null,null,null,null,null,null,null,null,null,0,null,null,null,0,null,null,null,0,null,null,null,0,null,null,null,null,null,"GENERAL REQUIREMENTS",0,0,0,0,0,0,0,0,0,0,0,0,0,0]
[null,null,null,null,null,null,null,null,null,null,null,null,null,null,null,null,null,null,null,null,null,null,null,null,null,null,null,null,null,0,null,null,null,0,null,null,null,0,null,null,null,0,null,null,null,null,null,"GENERAL REQUIREMENTS",0,0,0,0,0,0,0,0,0,0,0,0,0,0]
[null,null,null,null,null,null,null,null,null,null,null,null,null,null,null,null,null,null,null,null,null,null,null,null,null,null,null,null,null,0,null,null,null,0,null,null,null,0,null,null,null,0,null,null,null,null,null,"GENERAL REQUIREMENTS",0,0,0,0,0,0,0,0,0,0,0,0,0,0]
[null,null,null,null,null,null,null,null,null,null,null,null,null,null,null,null,null,null,null,null,null,null,null,null,null,null,null,null,null,0,null,null,null,{"$f":"P46*X46","v":0},null,null,null,{"$f":"P46*AA46","v":0},null,null,null,0,null,null,null,null,null,"GENERAL REQUIREMENTS",0,0,0,0,0,0,0,0,0,0,0,0,0,0]
[null,null,null,null,null,null,null,null,null,null,null,null,null,null,null,null,null,null,null,null,null,null,null,null,null,null,null,null,null,0,null,null,null,{"$f":"P47*X47","v":0},null,null,null,{"$f":"P47*AA47","v":0},null,null,null,0,null,null,null,null,null,"GENERAL REQUIREMENTS",0,0,0,0,0,0,0,0,0,0,0,0,0,0]
[null,null,null,null,null,null,null,null,null,null,null,null,null,null,null,null,null,null,null,null,null,null,null,null,null,null,null,null,null,0,null,null,null,{"$f":"P48*X48","v":0},null,null,null,{"$f":"P48*AA48","v":0},null,null,null,0,null,null,null,null,null,"GENERAL REQUIREMENTS",0,0,0,0,0,0,0,0,0,0,0,0,0,0]
[null,null,null,null,null,null,null,null,null,null,null,null,null,null,null,null,null,null,null,null,null,null,null,null,null,null,null,null,null,0,null,null,null,0,null,null,null,0,null,null,null,0,null,null,null,null,null,"GENERAL REQUIREMENTS",0,0,0,0,0,0,0,0,0,0,0,0,0,0]
[null,null,null,null,null,null,null,null,null,null,null,null,null,null,null,null,null,null,null,null,null,null,null,null,null,null,null,null,null,0,null,null,null,0,null,null,null,0,null,null,null,0,null,null,null,null,null,"GENERAL REQUIREMENTS",0,0,0,0,0,0,0,0,0,0,0,0,0,0]
[null,null,null,null,null,null,null,null,null,null,null,null,null,null,null,null,null,null,null,null,null,null,null,null,null,null,null,null,null,0,null,null,null,0,null,null,null,0,null,null,null,0,null,null,null,null,null,"GENERAL REQUIREMENTS",0,0,0,0,0,0,0,0,0,0,0,0,0,0]
[null,null,null,null,null,null,null,null,null,null,null,null,null,null,null,null,null,null,null,null,null,null,null,null,null,null,null,null,null,0,null,null,null,{"$f":"P52*X52","v":0},null,null,null,{"$f":"P52*AA52","v":0},null,null,null,0,null,null,null,null,null,"GENERAL REQUIREMENTS",0,0,0,0,0,0,0,0,0,0,0,0,0,0]
[null,null,null,null,null,null,null,null,null,null,null,null,null,null,null,null,null,null,null,null,null,null,null,null,null,null,null,null,null,0,null,null,null,{"$f":"P53*X53","v":0},null,null,null,{"$f":"P53*AA53","v":0},null,null,null,0,null,null,null,null,null,"GENERAL REQUIREMENTS",0,0,0,0,0,0,0,0,0,0,0,0,0,0]
[null,null,null,null,null,null,null,null,null,null,null,null,null,null,null,null,null,null,null,null,null,null,null,null,null,null,null,null,null,0,null,null,null,{"$f":"P54*X54","v":0},null,null,null,{"$f":"P54*AA54","v":0},null,null,null,0,null,null,null,null,null,"GENERAL REQUIREMENTS",0,0,0,0,0,0,0,0,0,0,0,0,0,0]
[null,null,null,null,null,null,null,null,null,null,null,null,null,null,null,null,null,null,null,null,null,null,null,null,null,null,null,null,null,0,null,null,null,{"$f":"P55*X55","v":0},null,null,null,{"$f":"P55*AA55","v":0},null,null,null,0,null,null,null,null,null,"GENERAL REQUIREMENTS",0,0,0,0,0,0,0,0,0,0,0,0,0,0]
[null,null,null,null,null,null,null,null,null,null,null,null,null,null,null,null,null,null,null,null,null,null,null,null,null,null,null,null,null,0,null,null,null,{"$f":"P56*X56","v":0},null,null,null,{"$f":"P56*AA56","v":0},null,null,null,0,null,null,null,null,null,"GENERAL REQUIREMENTS",0,0,0,0,0,0,0,0,0,0,0,0,0,0]
[null,null,null,null,null,null,null,null,null,null,null,null,null,null,null,null,null,null,null,null,null,null,null,null,null,null,null,null,null,null,null,null,null,null,null,null,null,null,null,null,null,null,null,null,null,null,null,"GENERAL REQUIREMENTS",{"$f":"AW16","v":0},{"$f":"AX16","v":0},{"$f":"AY16","v":0},{"$f":"AZ16","v":0},null,null,{"$f":"BC16","v":0},null,{"$f":"BE16","v":0},{"$f":"BF16","v":0},null,{"$f":"BH16","v":0},{"$f":"BI16","v":0},{"$f":"BJ16","v":0}]
[null,null,null,null,null,null,null,null,null,null,null,null,null,null,null,null,null,null,null,null,null,null,null,null,null,null,null,null,{"$f":"CONCATENATE(B16,\" \",\"TOTAL\")","v":"GENERAL REQUIREMENTS TOTAL"},{"$f":"SUBTOTAL(9,AD17:AD57)","v":0},null,null,null,{"$f":"SUBTOTAL(9,AH17:AH57)","v":0},null,null,null,{"$f":"SUBTOTAL(9,AL17:AL57)","v":0},null,null,null,{"$f":"SUBTOTAL(9,AP16:AP57)","v":0},null,null,null,{"$f":"SUM(AT14:AT49)","v":0},null,"GENERAL REQUIREMENTS",{"$f":"SUM(AW17:AW57)","v":0},0,0,0,0,0,0,0,0,0,0,0,0,0]
[null,null,null,null,null,null,null,null,null,null,null,null,null,null,null,null,null,null,null,null,null,null,null,null,null,null,null,null,null,null,null,null,null,null,null,null,null,null,null,null,null,null,null,null,null,null,null,"GENERAL REQUIREMENTS",{"$f":"AW16","v":0},{"$f":"AX16","v":0},{"$f":"AY16","v":0},{"$f":"AZ16","v":0},null,null,{"$f":"BC16","v":0},null,{"$f":"BE16","v":0},{"$f":"BF16","v":0},null,{"$f":"BH16","v":0},{"$f":"BI16","v":0},{"$f":"BJ16","v":0}]
[null,null,null,null,null,null,null,null,null,null,null,null,null,null,null,null,null,null,null,null,null,null,null,null,null,null,null,null,null,null,null,null,null,null,null,null,null,null,null,null,null,null,null,null,null,null,null,null,{"$f":"AW58","v":0},{"$f":"AX58","v":0},{"$f":"AY58","v":0},{"$f":"AZ58","v":0},null,null,{"$f":"BC58","v":0},null,{"$f":"BE58","v":0},{"$f":"BF58","v":0},null,{"$f":"BH58","v":0},{"$f":"BI58","v":0},{"$f":"BJ58","v":0}]
["Hidden",{"$f":"T(N7)","v":"DEMOLITION"},null,null,null,null,null,null,null,null,null,null,null,null,null,null,null,null,null,null,null,null,null,null,null,null,null,null,null,null,null,null,null,null,null,null,null,null,null,null,null,null,null,null,null,null,null,{"$f":"$B$61","v":"DEMOLITION"}]
[null,"Demolition",null,null,null,null,null,null,null,null,null,null,null,null,null,null,null,null,"ls","hrs",null,null,null,null,null,null,null,null,null,{"$f":"P62*U62","v":0},null,null,null,{"$f":"P62*X62","v":0},null,null,null,{"$f":"P62*AA62","v":0},null,null,null,{"$f":"SUM(AD62:AO62)","v":0},null,null,null,{"$f":"SUM(AD62:AO62)","v":0},null,"DEMOLITION",{"$f":"AD62","v":0},{"$f":"AH62","v":0},{"$f":"AL62","v":0},{"$f":"SUM(AW62:AY62)","v":0},{"$f":"IFERROR(AW62/$AZ$13,0)","v":0},{"$f":"BA62*TOTAL_ADDERS","v":0},{"$f":"AW62+BB62","v":0},{"$f":"IFERROR(AX62/$AZ$13,0)","v":0},{"$f":"BD62*TOTAL_ADDERS","v":0},{"$f":"AX62+BE62","v":0},{"$f":"IFERROR(AY62/$AZ$13,0)","v":0},{"$f":"BG62*TOTAL_ADDERS","v":0},{"$f":"AY62+BH62","v":0},{"$f":"BC62+BF62+BI62","v":0}]
[null,"Demo bid/allowance",null,null,null,null,null,null,null,null,null,null,null,null,null,null,null,null,"ls","ls",null,null,null,null,null,null,null,null,null,{"$f":"P63*U63","v":0},null,null,null,0,null,null,null,0,null,null,null,0,null,null,null,0,null,"DEMOLITION",0,0,0,0,{"$f":"IFERROR(AW63/$AZ$13,0)","v":0},0,{"$f":"AW63+BB63","v":0},{"$f":"IFERROR(AX63/$AZ$13,0)","v":0},0,{"$f":"AX63+BE63","v":0},{"$f":"IFERROR(AY63/$AZ$13,0)","v":0},0,{"$f":"AY63+BH63","v":0},{"$f":"BC63+BF63+BI63","v":0}]
[null,"Demolition work per hour",null,null,null,null,null,null,null,null,null,null,null,null,null,null,null,null,"hrs",null,15,null,null,null,null,null,null,null,null,0,null,null,null,0,null,null,null,0,null,null,null,0,null,null,null,0,null,"DEMOLITION",0,0,0,0,0,0,0,0,0,0,0,0,0,0]
[null,"Room demolition, typical room",null,null,null,null,null,null,null,null,null,null,null,null,null,null,null,null,"sf",null,0.5,null,null,null,null,null,null,null,null,0,null,null,null,0,null,null,null,0,null,null,null,0,null,null,null,0,null,"DEMOLITION",0,0,0,0,0,0,0,0,0,0,0,0,0,0]
[null,"Room demolition, bathroom",null,null,null,null,null,null,null,null,null,null,null,null,null,null,null,null,"sf",null,4,null,null,null,null,null,null,null,null,0,null,null,null,0,null,null,null,0,null,null,null,0,null,null,null,0,null,"DEMOLITION",0,0,0,0,0,0,0,0,0,0,0,0,0,0]
[null,"Room demolition, kitchen",null,null,null,null,null,null,null,null,null,null,null,null,null,null,null,null,"sf",null,3,null,null,null,null,null,null,null,null,0,null,null,null,0,null,null,null,0,null,null,null,0,null,null,null,0,null,"DEMOLITION",0,0,0,0,0,0,0,0,0,0,0,0,0,0]
[null,"Building demolition, 1-story wood-framed",null,null,null,null,null,null,null,null,null,null,null,null,null,null,null,null,"sf",null,4,null,null,null,null,null,null,null,null,0,null,null,null,0,null,null,null,0,null,null,null,0,null,null,null,0,null,"DEMOLITION",0,0,0,0,0,0,0,0,0,0,0,0,0,0]
[null,"Building demolition, 2-story wood framed",null,null,null,null,null,null,null,null,null,null,null,null,null,null,null,null,"sf",null,4.25,null,null,null,null,null,null,null,null,0,null,null,null,0,null,null,null,0,null,null,null,0,null,null,null,0,null,"DEMOLITION",0,0,0,0,0,0,0,0,0,0,0,0,0,0]
[null,"Building demolition, masonry",null,null,null,null,null,null,null,null,null,null,null,null,null,null,null,null,"sf",null,5,null,null,null,null,null,null,null,null,0,null,null,null,0,null,null,null,0,null,null,null,0,null,null,null,0,null,"DEMOLITION",0,0,0,0,0,0,0,0,0,0,0,0,0,0]
[null,"Building demolition, steel/concrete",null,null,null,null,null,null,null,null,null,null,null,null,null,null,null,null,"sf",null,6,null,null,null,null,null,null,null,null,0,null,null,null,0,null,null,null,0,null,null,null,0,null,null,null,0,null,"DEMOLITION",0,0,0,0,0,0,0,0,0,0,0,0,0,0]
[null,"Concrete slab demolition, 4\"-6\"",null,null,null,null,null,null,null,null,null,null,null,null,null,null,null,null,null,null,4,null,null,null,null,null,null,null,null,0,null,null,null,0,null,null,null,0,null,null,null,0,null,null,null,0,null,"DEMOLITION",0,0,0,0,0,0,0,0,0,0,0,0,0,0]
[null,null,null,null,null,null,null,null,null,null,null,null,null,null,null,null,null,null,null,null,null,null,null,null,null,null,null,null,null,0,null,null,null,0,null,null,null,0,null,null,null,0,null,null,null,0,null,"DEMOLITION",0,0,0,0,0,0,0,0,0,0,0,0,0,0]
[null,null,null,null,null,null,null,null,null,null,null,null,null,null,null,null,null,null,null,null,null,null,null,null,null,null,null,null,null,0,null,null,null,0,null,null,null,0,null,null,null,0,null,null,null,0,null,"DEMOLITION",0,0,0,0,0,0,0,0,0,0,0,0,0,0]
[null,"Abatement",null,null,null,null,null,null,null,null,null,null,null,null,null,null,null,null,"ls",null,null,null,null,null,null,null,null,null,null,0,null,null,null,0,null,null,null,0,null,null,null,0,null,null,null,0,null,"DEMOLITION",0,0,0,0,0,0,0,0,0,0,0,0,0,0]
[null,"Asbestos bid/allowance",null,null,null,null,null,null,null,null,null,null,null,null,null,null,null,null,"ls","ls",null,null,null,null,null,null,null,null,null,0,null,null,null,0,null,null,null,0,null,null,null,0,null,null,null,0,null,"DEMOLITION",0,0,0,0,0,0,0,0,0,0,0,0,0,0]
[null,"Asbestos testing",null,null,null,null,null,null,null,null,null,null,null,null,null,null,null,null,"ea",null,null,null,null,null,null,null,225,null,null,0,null,null,null,0,null,null,null,0,null,null,null,0,null,null,null,0,null,"DEMOLITION",0,0,0,0,0,0,0,0,0,0,0,0,0,0]
[null,"Asbestos abatement, minimum charge",null,null,null,null,null,null,null,null,null,null,null,null,null,null,null,null,"ea",null,null,null,null,null,null,null,2500,null,null,0,null,null,null,0,null,null,null,0,null,null,null,0,null,null,null,0,null,"DEMOLITION",0,0,0,0,0,0,0,0,0,0,0,0,0,0]
[null,"Mold, minimum charge",null,null,null,null,null,null,null,null,null,null,null,null,null,null,null,null,"ea",null,null,null,null,null,null,null,2500,null,null,0,null,null,null,0,null,null,null,0,null,null,null,0,null,null,null,0,null,"DEMOLITION",0,0,0,0,0,0,0,0,0,0,0,0,0,0]
[null,null,null,null,null,null,null,null,null,null,null,null,null,null,null,null,null,null,null,null,null,null,null,null,null,null,null,null,null,0,null,null,null,0,null,null,null,0,null,null,null,0,null,null,null,0,null,"DEMOLITION",0,0,0,0,0,0,0,0,0,0,0,0,0,0]
[null,null,null,null,null,null,null,null,null,null,null,null,null,null,null,null,null,null,null,null,null,null,null,null,null,null,null,null,null,0,null,null,null,0,null,null,null,0,null,null,null,0,null,null,null,0,null,"DEMOLITION",0,0,0,0,0,0,0,0,0,0,0,0,0,0]
[null,null,null,null,null,null,null,null,null,null,null,null,null,null,null,null,null,null,null,null,null,null,null,null,null,null,null,null,null,0,null,null,null,0,null,null,null,0,null,null,null,0,null,null,null,0,null,"DEMOLITION",0,0,0,0,0,0,0,0,0,0,0,0,0,0]
[null,null,null,null,null,null,null,null,null,null,null,null,null,null,null,null,null,null,null,null,null,null,null,null,null,null,null,null,null,0,null,null,null,0,null,null,null,0,null,null,null,0,null,null,null,0,null,"DEMOLITION",0,0,0,0,0,0,0,0,0,0,0,0,0,0]
[null,null,null,null,null,null,null,null,null,null,null,null,null,null,null,null,null,null,null,null,null,null,null,null,null,null,null,null,null,0,null,null,null,0,null,null,null,0,null,null,null,0,null,null,null,0,null,"DEMOLITION",0,0,0,0,0,0,0,0,0,0,0,0,0,0]
[null,null,null,null,null,null,null,null,null,null,null,null,null,null,null,null,null,null,null,null,null,null,null,null,null,null,null,null,null,0,null,null,null,0,null,null,null,0,null,null,null,0,null,null,null,0,null,"DEMOLITION",0,0,0,0,0,0,0,0,0,0,0,0,0,0]
[null,null,null,null,null,null,null,null,null,null,null,null,null,null,null,null,null,null,null,null,null,null,null,null,null,null,null,null,null,0,null,null,null,0,null,null,null,0,null,null,null,0,null,null,null,0,null,"DEMOLITION",0,0,0,0,0,0,0,0,0,0,0,0,0,0]
[null,null,null,null,null,null,null,null,null,null,null,null,null,null,null,null,null,null,null,null,null,null,null,null,null,null,null,null,null,0,null,null,null,0,null,null,null,0,null,null,null,0,null,null,null,0,null,"DEMOLITION",0,0,0,0,0,0,0,0,0,0,0,0,0,0]
[null,null,null,null,null,null,null,null,null,null,null,null,null,null,null,null,null,null,null,null,null,null,null,null,null,null,null,null,null,0,null,null,null,0,null,null,null,0,null,null,null,0,null,null,null,0,null,"DEMOLITION",0,0,0,0,0,0,0,0,0,0,0,0,0,0]
[null,null,null,null,null,null,null,null,null,null,null,null,null,null,null,null,null,null,null,null,null,null,null,null,null,null,null,null,null,0,null,null,null,0,null,null,null,0,null,null,null,0,null,null,null,0,null,"DEMOLITION",0,0,0,0,0,0,0,0,0,0,0,0,0,0]
[null,null,null,null,null,null,null,null,null,null,null,null,null,null,null,null,null,null,null,null,null,null,null,null,null,null,null,null,null,0,null,null,null,0,null,null,null,0,null,null,null,0,null,null,null,0,null,"DEMOLITION",0,0,0,0,0,0,0,0,0,0,0,0,0,0]
[null,null,null,null,null,null,null,null,null,null,null,null,null,null,null,null,null,null,null,null,null,null,null,null,null,null,null,null,null,0,null,null,null,0,null,null,null,0,null,null,null,0,null,null,null,0,null,"DEMOLITION",0,0,0,0,0,0,0,0,0,0,0,0,0,0]
[null,null,null,null,null,null,null,null,null,null,null,null,null,null,null,null,null,null,null,null,null,null,null,null,null,null,null,null,null,0,null,null,null,{"$f":"P92*X92","v":0},null,null,null,{"$f":"P92*AA92","v":0},null,null,null,0,null,null,null,0,null,"DEMOLITION",0,0,0,0,0,0,0,0,0,0,0,0,0,0]
[null,null,null,null,null,null,null,null,null,null,null,null,null,null,null,null,null,null,null,null,null,null,null,null,null,null,null,null,null,0,null,null,null,{"$f":"P93*X93","v":0},null,null,null,{"$f":"P93*AA93","v":0},null,null,null,0,null,null,null,0,null,"DEMOLITION",0,0,0,0,0,0,0,0,0,0,0,0,0,0]
[null,null,null,null,null,null,null,null,null,null,null,null,null,null,null,null,null,null,null,null,null,null,null,null,null,null,null,null,null,0,null,null,null,0,null,null,null,0,null,null,null,0,null,null,null,0,null,"DEMOLITION",0,0,0,0,0,0,0,0,0,0,0,0,0,0]
[null,null,null,null,null,null,null,null,null,null,null,null,null,null,null,null,null,null,null,null,null,null,null,null,null,null,null,null,null,0,null,null,null,0,null,null,null,0,null,null,null,0,null,null,null,0,null,"DEMOLITION",0,0,0,0,0,0,0,0,0,0,0,0,0,0]
[null,null,null,null,null,null,null,null,null,null,null,null,null,null,null,null,null,null,null,null,null,null,null,null,null,null,null,null,null,0,null,null,null,0,null,null,null,0,null,null,null,0,null,null,null,0,null,"DEMOLITION",0,0,0,0,0,0,0,0,0,0,0,0,0,0]
[null,null,null,null,null,null,null,null,null,null,null,null,null,null,null,null,null,null,null,null,null,null,null,null,null,null,null,null,null,0,null,null,null,0,null,null,null,0,null,null,null,0,null,null,null,0,null,"DEMOLITION",0,0,0,0,0,0,0,0,0,0,0,0,0,0]
[null,null,null,null,null,null,null,null,null,null,null,null,null,null,null,null,null,null,null,null,null,null,null,null,null,null,null,null,null,0,null,null,null,{"$f":"P98*X98","v":0},null,null,null,{"$f":"P98*AA98","v":0},null,null,null,0,null,null,null,0,null,"DEMOLITION",0,0,0,0,0,0,0,0,0,0,0,0,0,0]
[null,null,null,null,null,null,null,null,null,null,null,null,null,null,null,null,null,null,null,null,null,null,null,null,null,null,null,null,null,0,null,null,null,{"$f":"P99*X99","v":0},null,null,null,{"$f":"P99*AA99","v":0},null,null,null,0,null,null,null,0,null,"DEMOLITION",0,0,0,0,0,0,0,0,0,0,0,0,0,0]
[null,null,null,null,null,null,null,null,null,null,null,null,null,null,null,null,null,null,null,null,null,null,null,null,null,null,null,null,null,0,null,null,null,0,null,null,null,0,null,null,null,0,null,null,null,0,null,"DEMOLITION",0,0,0,0,0,0,0,0,0,0,0,0,0,0]
[null,null,null,null,null,null,null,null,null,null,null,null,null,null,null,null,null,null,null,null,null,null,null,null,null,null,null,null,null,0,null,null,null,0,null,null,null,0,null,null,null,0,null,null,null,0,null,"DEMOLITION",0,0,0,0,0,0,0,0,0,0,0,0,0,0]
[null,null,null,null,null,null,null,null,null,null,null,null,null,null,null,null,null,null,null,null,null,null,null,null,null,null,null,null,null,null,null,null,null,null,null,null,null,null,null,null,null,null,null,null,null,null,null,"DEMOLITION",{"$f":"AW61","v":0},{"$f":"AX61","v":0},{"$f":"AY61","v":0},{"$f":"AZ61","v":0},null,null,{"$f":"BC61","v":0},null,{"$f":"BE61","v":0},{"$f":"BF61","v":0},null,{"$f":"BH61","v":0},{"$f":"BI61","v":0},{"$f":"BJ61","v":0}]
[null,null,null,null,null,null,null,null,null,null,null,null,null,null,null,null,null,null,null,null,null,null,null,null,null,null,null,null,{"$f":"CONCATENATE(B61,\" \",\"TOTAL\")","v":"DEMOLITION TOTAL"},{"$f":"SUBTOTAL(9,AD62:AD102)","v":0},null,null,null,{"$f":"SUBTOTAL(9,AH62:AH102)","v":0},null,null,null,{"$f":"SUBTOTAL(9,AL62:AL102)","v":0},null,null,null,{"$f":"SUBTOTAL(9,AP61:AP102)","v":0},null,null,null,{"$f":"SUM(AT24:AT71)","v":0},null,"DEMOLITION",{"$f":"SUM(AW62:AW102)","v":0},0,0,0,0,0,0,0,0,0,0,0,0,0]
[null,null,null,null,null,null,null,null,null,null,null,null,null,null,null,null,null,null,null,null,null,null,null,null,null,null,null,null,null,null,null,null,null,null,null,null,null,null,null,null,null,null,null,null,null,null,null,"DEMOLITION",{"$f":"AW61","v":0},{"$f":"AX61","v":0},{"$f":"AY61","v":0},{"$f":"AZ61","v":0},null,null,{"$f":"BC61","v":0},null,{"$f":"BE61","v":0},{"$f":"BF61","v":0},null,{"$f":"BH61","v":0},{"$f":"BI61","v":0},{"$f":"BJ61","v":0}]
[null,null,null,null,null,null,null,null,null,null,null,null,null,null,null,null,null,null,null,null,null,null,null,null,null,null,null,null,null,null,null,null,null,null,null,null,null,null,null,null,null,null,null,null,null,null,null,"DEMOLITION",{"$f":"AW103","v":0},{"$f":"AX103","v":0},{"$f":"AY103","v":0},{"$f":"AZ103","v":0},null,null,{"$f":"BC103","v":0},null,{"$f":"BE103","v":0},{"$f":"BF103","v":0},null,{"$f":"BH103","v":0},{"$f":"BI103","v":0},{"$f":"BJ103","v":0}]
["Hidden",{"$f":"T(N8)","v":"CONCRETE & FLATWORK"},null,null,null,null,null,null,null,null,null,null,null,null,null,null,null,null,null,null,null,null,null,null,null,null,null,null,null,null,null,null,null,null,null,null,null,null,null,null,null,null,null,null,null,null,null,{"$f":"$B$106","v":"CONCRETE & FLATWORK"}]
[null,"Excavation",null,null,null,null,null,null,null,null,null,null,null,null,null,null,null,null,null,null,null,null,null,null,null,null,null,null,null,{"$f":"P107*U107","v":0},null,null,null,{"$f":"P107*X107","v":0},null,null,null,{"$f":"P107*AA107","v":0},null,null,null,{"$f":"SUM(AD107:AO107)","v":0},null,null,null,{"$f":"SUM(AD107:AO107)","v":0},null,"CONCRETE & FLATWORK",{"$f":"AD107","v":0},{"$f":"AH107","v":0},{"$f":"AL107","v":0},{"$f":"SUM(AW107:AY107)","v":0},{"$f":"IFERROR(AW107/$AZ$13,0)","v":0},{"$f":"BA107*TOTAL_ADDERS","v":0},{"$f":"AW107+BB107","v":0},{"$f":"IFERROR(AX107/$AZ$13,0)","v":0},{"$f":"BD107*TOTAL_ADDERS","v":0},{"$f":"AX107+BE107","v":0},{"$f":"IFERROR(AY107/$AZ$13,0)","v":0},{"$f":"BG107*TOTAL_ADDERS","v":0},{"$f":"AY107+BH107","v":0},{"$f":"BC107+BF107+BI107","v":0}]
[null,"Excavation bid/allowance",null,null,null,null,null,null,null,null,null,null,null,null,null,null,null,null,"ls","ls",null,null,null,null,null,null,null,null,null,{"$f":"P108*U108","v":0},null,null,null,0,null,null,null,0,null,null,null,0,null,null,null,0,null,"CONCRETE & FLATWORK",0,0,0,0,{"$f":"IFERROR(AW108/$AZ$13,0)","v":0},0,{"$f":"AW108+BB108","v":0},{"$f":"IFERROR(AX108/$AZ$13,0)","v":0},0,{"$f":"AX108+BE108","v":0},{"$f":"IFERROR(AY108/$AZ$13,0)","v":0},0,{"$f":"AY108+BH108","v":0},{"$f":"BC108+BF108+BI108","v":0}]
[null,"Footing trenching",null,null,null,null,null,null,null,null,null,null,null,null,null,null,null,null,"cy","lf",20,null,null,null,null,null,null,null,null,0,null,null,null,0,null,null,null,0,null,null,null,0,null,null,null,0,null,"CONCRETE & FLATWORK",0,0,0,0,0,0,0,0,0,0,0,0,0,0]
[null,"Backfill of trenches ",null,null,null,null,null,null,null,null,null,null,null,null,null,null,null,null,"cy","lf",10,null,null,null,null,null,null,null,null,0,null,null,null,0,null,null,null,0,null,null,null,0,null,null,null,0,null,"CONCRETE & FLATWORK",0,0,0,0,0,0,0,0,0,0,0,0,0,0]
[null,null,null,null,null,null,null,null,null,null,null,null,null,null,null,null,null,null,null,null,null,null,null,null,null,null,null,null,null,0,null,null,null,0,null,null,null,0,null,null,null,0,null,null,null,0,null,"CONCRETE & FLATWORK",0,0,0,0,0,0,0,0,0,0,0,0,0,0]
[null,null,null,null,null,null,null,null,null,null,null,null,null,null,null,null,null,null,null,null,null,null,null,null,null,null,null,null,null,0,null,null,null,0,null,null,null,0,null,null,null,0,null,null,null,0,null,"CONCRETE & FLATWORK",0,0,0,0,0,0,0,0,0,0,0,0,0,0]
[null,"Foundation",null,null,null,null,null,null,null,null,null,null,null,null,null,null,null,null,null,null,null,null,null,null,null,null,null,null,null,0,null,null,null,0,null,null,null,0,null,null,null,0,null,null,null,0,null,"CONCRETE & FLATWORK",0,0,0,0,0,0,0,0,0,0,0,0,0,0]
[null,"Foundation bid/allowance",null,null,null,null,null,null,null,null,null,null,null,null,null,null,null,null,"ls","ls",null,null,null,null,null,null,null,null,null,0,null,null,null,0,null,null,null,0,null,null,null,0,null,null,null,0,null,"CONCRETE & FLATWORK",0,0,0,0,0,0,0,0,0,0,0,0,0,0]
[null,"Concrete slab on grade, 4\" thick",null,null,null,null,null,null,null,null,null,null,null,null,null,null,null,null,"sf","ls",3,null,null,2.5,null,2.5,null,null,null,0,null,null,null,0,null,null,null,0,null,null,null,0,null,null,null,0,null,"CONCRETE & FLATWORK",0,0,0,0,0,0,0,0,0,0,0,0,0,0]
[null,"Concrete footing, 12\" wide ",null,null,null,null,null,null,null,null,null,null,null,null,null,null,null,null,"lf","lf",20,null,null,10,null,10,null,null,null,0,null,null,null,0,null,null,null,0,null,null,null,0,null,null,null,0,null,"CONCRETE & FLATWORK",0,0,0,0,0,0,0,0,0,0,0,0,0,0]
[null,"Stem wall, single story",null,null,null,null,null,null,null,null,null,null,null,null,null,null,null,null,"lf","lf",115,null,null,30,null,30,null,null,null,0,null,null,null,0,null,null,null,0,null,null,null,0,null,null,null,0,null,"CONCRETE & FLATWORK",0,0,0,0,0,0,0,0,0,0,0,0,0,0]
[null,null,null,null,null,null,null,null,null,null,null,null,null,null,null,null,null,null,null,null,null,null,null,null,null,null,null,null,null,0,null,null,null,0,null,null,null,0,null,null,null,0,null,null,null,0,null,"CONCRETE & FLATWORK",0,0,0,0,0,0,0,0,0,0,0,0,0,0]
[null,null,null,null,null,null,null,null,null,null,null,null,null,null,null,null,null,null,null,null,null,null,null,null,null,null,null,null,null,0,null,null,null,0,null,null,null,0,null,null,null,0,null,null,null,0,null,"CONCRETE & FLATWORK",0,0,0,0,0,0,0,0,0,0,0,0,0,0]
[null,"Structural Repairs",null,null,null,null,null,null,null,null,null,null,null,null,null,null,null,null,null,null,null,null,null,null,null,null,null,null,null,0,null,null,null,0,null,null,null,0,null,null,null,0,null,null,null,0,null,"CONCRETE & FLATWORK",0,0,0,0,0,0,0,0,0,0,0,0,0,0]
[null,"Bowing foundation walls, vertical I-Beams",null,null,null,null,null,null,null,null,null,null,null,null,null,null,null,null,"ea","ea",null,null,null,null,null,null,800,null,500,0,null,null,null,0,null,null,null,0,null,null,null,0,null,null,null,0,null,"CONCRETE & FLATWORK",0,0,0,0,0,0,0,0,0,0,0,0,0,0]
[null,"Settled foundation walls, concrete piers/underpinning",null,null,null,null,null,null,null,null,null,null,null,null,null,null,null,null,"ea","ea",null,null,null,null,null,null,1100,null,850,0,null,null,null,0,null,null,null,0,null,null,null,0,null,null,null,0,null,"CONCRETE & FLATWORK",0,0,0,0,0,0,0,0,0,0,0,0,0,0]
[null,"Foundation waterproofing & drain tile, single story",null,null,null,null,null,null,null,null,null,null,null,null,null,null,null,null,"lf",null,null,null,null,null,null,null,145,null,null,0,null,null,null,0,null,null,null,0,null,null,null,0,null,null,null,0,null,"CONCRETE & FLATWORK",0,0,0,0,0,0,0,0,0,0,0,0,0,0]
[null,"Epoxy crack injection",null,null,null,null,null,null,null,null,null,null,null,null,null,null,null,null,"lf",null,null,null,null,null,null,null,70,null,null,0,null,null,null,0,null,null,null,0,null,null,null,0,null,null,null,0,null,"CONCRETE & FLATWORK",0,0,0,0,0,0,0,0,0,0,0,0,0,0]
[null,null,null,null,null,null,null,null,null,null,null,null,null,null,null,null,null,null,null,null,null,null,null,null,null,null,null,null,null,0,null,null,null,0,null,null,null,0,null,null,null,0,null,null,null,0,null,"CONCRETE & FLATWORK",0,0,0,0,0,0,0,0,0,0,0,0,0,0]
[null,null,null,null,null,null,null,null,null,null,null,null,null,null,null,null,null,null,null,null,null,null,null,null,null,null,null,null,null,0,null,null,null,0,null,null,null,0,null,null,null,0,null,null,null,0,null,"CONCRETE & FLATWORK",0,0,0,0,0,0,0,0,0,0,0,0,0,0]
[null,"Concrete Flatwork",null,null,null,null,null,null,null,null,null,null,null,null,null,null,null,null,null,"ls",null,null,null,null,null,null,null,null,null,0,null,null,null,0,null,null,null,0,null,null,null,0,null,null,null,0,null,"CONCRETE & FLATWORK",0,0,0,0,0,0,0,0,0,0,0,0,0,0]
[null,"Concrete bid/allowance",null,null,null,null,null,null,null,null,null,null,null,null,null,null,null,null,"ls","sf",null,null,null,null,null,null,null,null,null,0,null,null,null,0,null,null,null,0,null,null,null,0,null,null,null,0,null,"CONCRETE & FLATWORK",0,0,0,0,0,0,0,0,0,0,0,0,0,0]
[null,"Concrete flatwork demo",null,null,null,null,null,null,null,null,null,null,null,null,null,null,null,null,"sf","sf",2,null,null,null,null,null,null,null,null,0,null,null,null,0,null,null,null,0,null,null,null,0,null,null,null,0,null,"CONCRETE & FLATWORK",0,0,0,0,0,0,0,0,0,0,0,0,0,0]
[null,"Concrete driveway/patio, 6\" thick",null,null,null,null,null,null,null,null,null,null,null,null,null,null,null,null,"sf","sf",3,null,null,2,null,1.75,null,null,null,0,null,null,null,0,null,null,null,0,null,null,null,0,null,null,null,0,null,"CONCRETE & FLATWORK",0,0,0,0,0,0,0,0,0,0,0,0,0,0]
[null,"Concrete sidewalk, 4\" thick",null,null,null,null,null,null,null,null,null,null,null,null,null,null,null,null,"sf",null,3.5,null,null,1.75,null,null,null,null,null,0,null,null,null,0,null,null,null,0,null,null,null,0,null,null,null,0,null,"CONCRETE & FLATWORK",0,0,0,0,0,0,0,0,0,0,0,0,0,0]
[null,null,null,null,null,null,null,null,null,null,null,null,null,null,null,null,null,null,null,null,null,null,null,null,null,null,null,null,null,0,null,null,null,0,null,null,null,0,null,null,null,0,null,null,null,0,null,"CONCRETE & FLATWORK",0,0,0,0,0,0,0,0,0,0,0,0,0,0]
[null,null,null,null,null,null,null,null,null,null,null,null,null,null,null,null,null,null,null,null,null,null,null,null,null,null,null,null,null,0,null,null,null,0,null,null,null,0,null,null,null,0,null,null,null,0,null,"CONCRETE & FLATWORK",0,0,0,0,0,0,0,0,0,0,0,0,0,0]
[null,"Asphalt",null,null,null,null,null,null,null,null,null,null,null,null,null,null,null,null,null,null,null,null,null,null,null,null,null,null,null,0,null,null,null,0,null,null,null,0,null,null,null,0,null,null,null,0,null,"CONCRETE & FLATWORK",0,0,0,0,0,0,0,0,0,0,0,0,0,0]
[null,"Asphalt bid/allowance",null,null,null,null,null,null,null,null,null,null,null,null,null,null,null,null,"ls",null,null,null,null,null,null,null,null,null,null,0,null,null,null,0,null,null,null,0,null,null,null,0,null,null,null,0,null,"CONCRETE & FLATWORK",0,0,0,0,0,0,0,0,0,0,0,0,0,0]
[null,"Asphalt pavement, 5\" thick",null,null,null,null,null,null,null,null,null,null,null,null,null,null,null,null,"sy",null,null,null,null,null,null,null,23,null,null,0,null,null,null,0,null,null,null,0,null,null,null,0,null,null,null,0,null,"CONCRETE & FLATWORK",0,0,0,0,0,0,0,0,0,0,0,0,0,0]
[null,"Asphalt pavement, 7\" thick",null,null,null,null,null,null,null,null,null,null,null,null,null,null,null,null,"sy",null,null,null,null,null,null,null,27,null,null,0,null,null,null,0,null,null,null,0,null,null,null,0,null,null,null,0,null,"CONCRETE & FLATWORK",0,0,0,0,0,0,0,0,0,0,0,0,0,0]
[null,"Asphalt pavement, wearing course, 1\" thick only",null,null,null,null,null,null,null,null,null,null,null,null,null,null,null,null,"sy",null,null,null,null,null,null,null,12,null,null,0,null,null,null,0,null,null,null,0,null,null,null,0,null,null,null,0,null,"CONCRETE & FLATWORK",0,0,0,0,0,0,0,0,0,0,0,0,0,0]
[null,"Asphalt seal coat",null,null,null,null,null,null,null,null,null,null,null,null,null,null,null,null,"sy",null,null,null,null,null,null,null,3,null,null,0,null,null,null,{"$f":"P139*X139","v":0},null,null,null,{"$f":"P139*AA139","v":0},null,null,null,0,null,null,null,0,null,"CONCRETE & FLATWORK",0,0,0,0,0,0,0,0,0,0,0,0,0,0]
[null,null,null,null,null,null,null,null,null,null,null,null,null,null,null,null,null,null,null,null,null,null,null,null,null,null,null,null,null,0,null,null,null,{"$f":"P140*X140","v":0},null,null,null,{"$f":"P140*AA140","v":0},null,null,null,0,null,null,null,0,null,"CONCRETE & FLATWORK",0,0,0,0,0,0,0,0,0,0,0,0,0,0]
[null,null,null,null,null,null,null,null,null,null,null,null,null,null,null,null,null,null,null,null,null,null,null,null,null,null,null,null,null,0,null,null,null,{"$f":"P141*X141","v":0},null,null,null,{"$f":"P141*AA141","v":0},null,null,null,0,null,null,null,0,null,"CONCRETE & FLATWORK",0,0,0,0,0,0,0,0,0,0,0,0,0,0]
[null,"Pavers",null,null,null,null,null,null,null,null,null,null,null,null,null,null,null,null,null,null,null,null,null,null,null,null,null,null,null,0,null,null,null,{"$f":"P142*X142","v":0},null,null,null,{"$f":"P142*AA142","v":0},null,null,null,0,null,null,null,0,null,"CONCRETE & FLATWORK",0,0,0,0,0,0,0,0,0,0,0,0,0,0]
[null,"Pavers bid/allowance",null,null,null,null,null,null,null,null,null,null,null,null,null,null,null,null,"ls",null,null,null,null,null,null,null,null,null,null,0,null,null,null,0,null,null,null,0,null,null,null,0,null,null,null,0,null,"CONCRETE & FLATWORK",0,0,0,0,0,0,0,0,0,0,0,0,0,0]
[null,"Brick pavers, sand base",null,null,null,null,null,null,null,null,null,null,null,null,null,null,null,null,"sf",null,6.5,null,null,3.5,null,null,null,null,null,0,null,null,null,0,null,null,null,0,null,null,null,0,null,null,null,0,null,"CONCRETE & FLATWORK",0,0,0,0,0,0,0,0,0,0,0,0,0,0]
[null,"Brick pavers, mortar base",null,null,null,null,null,null,null,null,null,null,null,null,null,null,null,null,"sf",null,9.5,null,null,6,null,null,null,null,null,0,null,null,null,{"$f":"P145*X145","v":0},null,null,null,{"$f":"P145*AA145","v":0},null,null,null,0,null,null,null,0,null,"CONCRETE & FLATWORK",0,0,0,0,0,0,0,0,0,0,0,0,0,0]
[null,null,null,null,null,null,null,null,null,null,null,null,null,null,null,null,null,null,null,null,null,null,null,null,null,null,null,null,null,0,null,null,null,{"$f":"P146*X146","v":0},null,null,null,{"$f":"P146*AA146","v":0},null,null,null,0,null,null,null,0,null,"CONCRETE & FLATWORK",0,0,0,0,0,0,0,0,0,0,0,0,0,0]
[null,null,null,null,null,null,null,null,null,null,null,null,null,null,null,null,null,null,null,null,null,null,null,null,null,null,null,null,null,null,null,null,null,null,null,null,null,null,null,null,null,null,null,null,null,null,null,"CONCRETE & FLATWORK",{"$f":"AW106","v":0},{"$f":"AX106","v":0},{"$f":"AY106","v":0},{"$f":"AZ106","v":0},null,null,{"$f":"BC106","v":0},null,{"$f":"BE106","v":0},{"$f":"BF106","v":0},null,{"$f":"BH106","v":0},{"$f":"BI106","v":0},{"$f":"BJ106","v":0}]
[null,null,null,null,null,null,null,null,null,null,null,null,null,null,null,null,null,null,null,null,null,null,null,null,null,null,null,null,{"$f":"CONCATENATE(B106,\" \",\"TOTAL\")","v":"CONCRETE & FLATWORK TOTAL"},{"$f":"SUBTOTAL(9,AD106:AD147)","v":0},null,null,null,{"$f":"SUBTOTAL(9,AH106:AH147)","v":0},null,null,null,{"$f":"SUBTOTAL(9,AL106:AL147)","v":0},null,null,null,{"$f":"SUBTOTAL(9,AP106:AP147)","v":0},null,null,null,{"$f":"SUM(AT106:AT126)","v":0},null,"CONCRETE & FLATWORK",{"$f":"SUM(AW107:AW147)","v":0},0,0,0,0,0,0,0,0,0,0,0,0,0]
[null,null,null,null,null,null,null,null,null,null,null,null,null,null,null,null,null,null,null,null,null,null,null,null,null,null,null,null,null,null,null,null,null,null,null,null,null,null,null,null,null,null,null,null,null,null,null,"CONCRETE & FLATWORK",{"$f":"AW106","v":0},{"$f":"AX106","v":0},{"$f":"AY106","v":0},{"$f":"AZ106","v":0},null,null,{"$f":"BC106","v":0},null,{"$f":"BE106","v":0},{"$f":"BF106","v":0},null,{"$f":"BH106","v":0},{"$f":"BI106","v":0},{"$f":"BJ106","v":0}]
[null,null,null,null,null,null,null,null,null,null,null,null,null,null,null,null,null,null,null,null,null,null,null,null,null,null,null,null,null,null,null,null,null,null,null,null,null,null,null,null,null,null,null,null,null,null,null,"CONCRETE & FLATWORK",{"$f":"AW148","v":0},{"$f":"AX148","v":0},{"$f":"AY148","v":0},{"$f":"AZ148","v":0},null,null,{"$f":"BC148","v":0},null,{"$f":"BE148","v":0},{"$f":"BF148","v":0},null,{"$f":"BH148","v":0},{"$f":"BI148","v":0},{"$f":"BJ148","v":0}]
["Hidden",{"$f":"T(N9)","v":"SIDING"},null,null,null,null,null,null,null,null,null,null,null,null,null,null,null,null,null,null,null,null,null,null,null,null,null,null,null,null,null,null,null,null,null,null,null,null,null,null,null,null,null,null,null,null,null,{"$f":"$B$151","v":"SIDING"}]
[null,"Siding",null,null,null,null,null,null,null,null,null,null,null,null,null,null,null,null,null,null,null,null,null,null,null,null,null,null,null,{"$f":"P152*U152","v":0},null,null,null,{"$f":"P152*X152","v":0},null,null,null,{"$f":"P152*AA152","v":0},null,null,null,{"$f":"SUM(AD152:AO152)","v":0},null,null,null,null,null,"SIDING",{"$f":"AD152","v":0},{"$f":"AH152","v":0},{"$f":"AL152","v":0},{"$f":"SUM(AW152:AY152)","v":0},{"$f":"IFERROR(AW152/$AZ$13,0)","v":0},{"$f":"BA152*TOTAL_ADDERS","v":0},{"$f":"AW152+BB152","v":0},{"$f":"IFERROR(AX152/$AZ$13,0)","v":0},{"$f":"BD152*TOTAL_ADDERS","v":0},{"$f":"AX152+BE152","v":0},{"$f":"IFERROR(AY152/$AZ$13,0)","v":0},{"$f":"BG152*TOTAL_ADDERS","v":0},{"$f":"AY152+BH152","v":0},{"$f":"BC152+BF152+BI152","v":0}]
[null,"Siding bid/allowance",null,null,null,null,null,null,null,null,null,null,null,null,null,null,null,null,"ls","ls",null,null,null,null,null,null,null,null,null,{"$f":"P153*U153","v":0},null,null,null,0,null,null,null,0,null,null,null,0,null,null,null,null,null,"SIDING",0,0,0,0,{"$f":"IFERROR(AW153/$AZ$13,0)","v":0},0,{"$f":"AW153+BB153","v":0},{"$f":"IFERROR(AX153/$AZ$13,0)","v":0},0,{"$f":"AX153+BE153","v":0},{"$f":"IFERROR(AY153/$AZ$13,0)","v":0},0,{"$f":"AY153+BH153","v":0},{"$f":"BC153+BF153+BI153","v":0}]
[null,"Demo existing siding",null,null,null,null,null,null,null,null,null,null,null,null,null,null,null,null,"sf","sf",0.75,null,null,null,null,null,null,null,null,0,null,null,null,0,null,null,null,0,null,null,null,0,null,null,null,null,null,"SIDING",0,0,0,0,0,0,0,0,0,0,0,0,0,0]
[null,"Plywood panel, douglas fir",null,null,null,null,null,null,null,null,null,null,null,null,null,null,null,null,"sf","sf",1.1499999999999999,null,null,1.25,null,1.25,null,null,null,0,null,null,null,0,null,null,null,0,null,null,null,0,null,null,null,null,null,"SIDING",0,0,0,0,0,0,0,0,0,0,0,0,0,0]
[null,"Plywood panel, cedar",null,null,null,null,null,null,null,null,null,null,null,null,null,null,null,null,"sf","sf",1.2,null,null,2.75,null,1,null,null,null,0,null,null,null,0,null,null,null,0,null,null,null,0,null,null,null,null,null,"SIDING",0,0,0,0,0,0,0,0,0,0,0,0,0,0]
[null,"Tongue and groove, douglas fir",null,null,null,null,null,null,null,null,null,null,null,null,null,null,null,null,"sf","sf",1.25,null,null,2.5,null,1.5,null,null,null,0,null,null,null,0,null,null,null,0,null,null,null,0,null,null,null,null,null,"SIDING",0,0,0,0,0,0,0,0,0,0,0,0,0,0]
[null,"Tongue and groove, cedar",null,null,null,null,null,null,null,null,null,null,null,null,null,null,null,null,"sf","sf",1.75,null,null,4,null,1,null,null,null,0,null,null,null,0,null,null,null,0,null,null,null,0,null,null,null,null,null,"SIDING",0,0,0,0,0,0,0,0,0,0,0,0,0,0]
[null,"Board and batten, douglas fir",null,null,null,null,null,null,null,null,null,null,null,null,null,null,null,null,"sf","sf",2.25,null,null,1,null,1.5,null,null,null,0,null,null,null,0,null,null,null,0,null,null,null,0,null,null,null,null,null,"SIDING",0,0,0,0,0,0,0,0,0,0,0,0,0,0]
[null,"Board and batten, cedar",null,null,null,null,null,null,null,null,null,null,null,null,null,null,null,null,"sf",null,2.5,null,null,1,null,null,null,null,null,0,null,null,null,0,null,null,null,0,null,null,null,0,null,null,null,null,null,"SIDING",0,0,0,0,0,0,0,0,0,0,0,0,0,0]
[null,"Wood shingle/shake",null,null,null,null,null,null,null,null,null,null,null,null,null,null,null,null,"sf",null,2.75,null,null,1.75,null,null,null,null,null,0,null,null,null,0,null,null,null,0,null,null,null,0,null,null,null,null,null,"SIDING",0,0,0,0,0,0,0,0,0,0,0,0,0,0]
[null,"Fiber cement siding, 4x8 panels",null,null,null,null,null,null,null,null,null,null,null,null,null,null,null,null,"sf",null,0.85,null,null,1,null,null,null,null,null,0,null,null,null,0,null,null,null,0,null,null,null,0,null,null,null,null,null,"SIDING",0,0,0,0,0,0,0,0,0,0,0,0,0,0]
[null,"Fiber cement siding, lap",null,null,null,null,null,null,null,null,null,null,null,null,null,null,null,null,"sf",null,1.5,null,null,1.2,null,null,null,null,null,0,null,null,null,0,null,null,null,0,null,null,null,0,null,null,null,null,null,"SIDING",0,0,0,0,0,0,0,0,0,0,0,0,0,0]
[null,"Vinyl siding, non-insulated",null,null,null,null,null,null,null,null,null,null,null,null,null,null,null,null,"sf",null,1.5,null,null,1.3,null,null,null,null,null,0,null,null,null,0,null,null,null,0,null,null,null,0,null,null,null,null,null,"SIDING",0,0,0,0,0,0,0,0,0,0,0,0,0,0]
[null,"Vinyl siding, insulated",null,null,null,null,null,null,null,null,null,null,null,null,null,null,null,null,"sf",null,3,null,null,1.75,null,null,null,null,null,0,null,null,null,0,null,null,null,0,null,null,null,0,null,null,null,null,null,"SIDING",0,0,0,0,0,0,0,0,0,0,0,0,0,0]
[null,"Trim, 1\"x3\", pine",null,null,null,null,null,null,null,null,null,null,null,null,null,null,null,null,"lf",null,1.25,null,null,0.4,null,null,null,null,null,0,null,null,null,0,null,null,null,0,null,null,null,0,null,null,null,null,null,"SIDING",0,0,0,0,0,0,0,0,0,0,0,0,0,0]
[null,"Trim, 1\"x4\", pine",null,null,null,null,null,null,null,null,null,null,null,null,null,null,null,null,"lf",null,1.5,null,null,0.9,null,null,null,null,null,0,null,null,null,0,null,null,null,0,null,null,null,0,null,null,null,null,null,"SIDING",0,0,0,0,0,0,0,0,0,0,0,0,0,0]
[null,"Trim, 1\"x6\", pine",null,null,null,null,null,null,null,null,null,null,null,null,null,null,null,null,"lf",null,1.5,null,null,1.3,null,null,null,null,null,0,null,null,null,0,null,null,null,0,null,null,null,0,null,null,null,null,null,"SIDING",0,0,0,0,0,0,0,0,0,0,0,0,0,0]
[null,"Siding patch, window/door, siding, insulation",null,null,null,null,null,null,null,null,null,null,null,null,null,null,null,null,"ea",null,125,null,null,75,null,null,null,null,null,0,null,null,null,0,null,null,null,0,null,null,null,0,null,null,null,null,null,"SIDING",0,0,0,0,0,0,0,0,0,0,0,0,0,0]
[null,"Stucco",null,null,null,null,null,null,null,null,null,null,null,null,null,null,null,null,"sf",null,7.25,null,null,3,null,null,null,null,null,0,null,null,null,0,null,null,null,0,null,null,null,0,null,null,null,null,null,"SIDING",0,0,0,0,0,0,0,0,0,0,0,0,0,0]
[null,null,null,null,null,null,null,null,null,null,null,null,null,null,null,null,null,null,null,null,null,null,null,null,null,null,null,null,null,0,null,null,null,0,null,null,null,0,null,null,null,0,null,null,null,null,null,"SIDING",0,0,0,0,0,0,0,0,0,0,0,0,0,0]
[null,null,null,null,null,null,null,null,null,null,null,null,null,null,null,null,null,null,null,null,null,null,null,null,null,null,null,null,null,0,null,null,null,0,null,null,null,0,null,null,null,0,null,null,null,null,null,"SIDING",0,0,0,0,0,0,0,0,0,0,0,0,0,0]
[null,"Masonry",null,null,null,null,null,null,null,null,null,null,null,null,null,null,null,null,null,null,null,null,null,null,null,null,null,null,null,0,null,null,null,0,null,null,null,0,null,null,null,0,null,null,null,null,null,"SIDING",0,0,0,0,0,0,0,0,0,0,0,0,0,0]
[null,"Masonry bid/allowance",null,null,null,null,null,null,null,null,null,null,null,null,null,null,null,null,"ls","ls",null,null,null,null,null,null,null,null,null,0,null,null,null,0,null,null,null,0,null,null,null,0,null,null,null,null,null,"SIDING",0,0,0,0,0,0,0,0,0,0,0,0,0,0]
[null,"CMU, 4x8",null,null,null,null,null,null,null,null,null,null,null,null,null,null,null,null,"sf","sf",3.75,null,null,2,null,2,null,null,null,0,null,null,null,0,null,null,null,0,null,null,null,0,null,null,null,null,null,"SIDING",0,0,0,0,0,0,0,0,0,0,0,0,0,0]
[null,"CMU, 8x8",null,null,null,null,null,null,null,null,null,null,null,null,null,null,null,null,"sf","sf",4.5,null,null,2.5,null,4,null,null,null,0,null,null,null,0,null,null,null,0,null,null,null,0,null,null,null,null,null,"SIDING",0,0,0,0,0,0,0,0,0,0,0,0,0,0]
[null,"Brick veneer",null,null,null,null,null,null,null,null,null,null,null,null,null,null,null,null,"sf","sf",8,null,null,6,null,8,null,null,null,0,null,null,null,0,null,null,null,0,null,null,null,0,null,null,null,null,null,"SIDING",0,0,0,0,0,0,0,0,0,0,0,0,0,0]
[null,"Natural stone",null,null,null,null,null,null,null,null,null,null,null,null,null,null,null,null,"sf","ls",17,null,null,13,null,2000,null,null,null,0,null,null,null,0,null,null,null,0,null,null,null,0,null,null,null,null,null,"SIDING",0,0,0,0,0,0,0,0,0,0,0,0,0,0]
[null,"Masonry waterproofing",null,null,null,null,null,null,null,null,null,null,null,null,null,null,null,null,"sf","sf",0.8,null,null,0.5,null,0.5,null,null,null,0,null,null,null,0,null,null,null,0,null,null,null,0,null,null,null,null,null,"SIDING",0,0,0,0,0,0,0,0,0,0,0,0,0,0]
[null,"Tuck-point masonry",null,null,null,null,null,null,null,null,null,null,null,null,null,null,null,null,"sf","sf",4.75,null,null,0.5,null,null,null,null,null,0,null,null,null,0,null,null,null,0,null,null,null,0,null,null,null,null,null,"SIDING",0,0,0,0,0,0,0,0,0,0,0,0,0,0]
[null,"Power wash masonry",null,null,null,null,null,null,null,null,null,null,null,null,null,null,null,null,"sf",null,0.5,null,null,null,null,null,null,null,null,0,null,null,null,0,null,null,null,0,null,null,null,0,null,null,null,null,null,"SIDING",0,0,0,0,0,0,0,0,0,0,0,0,0,0]
[null,"Chimney, brick ",null,null,null,null,null,null,null,null,null,null,null,null,null,null,null,null,"vlf",null,50,null,null,35,null,null,null,null,null,0,null,null,null,0,null,null,null,0,null,null,null,0,null,null,null,null,null,"SIDING",0,0,0,0,0,0,0,0,0,0,0,0,0,0]
[null,"Chimney, stone",null,null,null,null,null,null,null,null,null,null,null,null,null,null,null,null,"vlf",null,70,null,null,75,null,null,null,null,null,0,null,null,null,0,null,null,null,0,null,null,null,0,null,null,null,null,null,"SIDING",0,0,0,0,0,0,0,0,0,0,0,0,0,0]
[null,"Add to above for chimney cap",null,null,null,null,null,null,null,null,null,null,null,null,null,null,null,null,"ea",null,35,null,null,50,null,null,null,null,null,0,null,null,null,0,null,null,null,0,null,null,null,0,null,null,null,null,null,"SIDING",0,0,0,0,0,0,0,0,0,0,0,0,0,0]
[null,"Fireplace complete, brick, 3ft-4ft wide w/ chimney",null,null,null,null,null,null,null,null,null,null,null,null,null,null,null,null,"ea",null,3500,null,null,2000,null,null,null,null,null,0,null,null,null,0,null,null,null,0,null,null,null,0,null,null,null,null,null,"SIDING",0,0,0,0,0,0,0,0,0,0,0,0,0,0]
[null,null,null,null,null,null,null,null,null,null,null,null,null,null,null,null,null,null,null,null,null,null,null,null,null,null,null,null,null,0,null,null,null,0,null,null,null,0,null,null,null,0,null,null,null,null,null,"SIDING",0,0,0,0,0,0,0,0,0,0,0,0,0,0]
[null,null,null,null,null,null,null,null,null,null,null,null,null,null,null,null,null,null,null,null,null,null,null,null,null,null,null,null,null,0,null,null,null,0,null,null,null,0,null,null,null,0,null,null,null,null,null,"SIDING",0,0,0,0,0,0,0,0,0,0,0,0,0,0]
[null,null,null,null,null,null,null,null,null,null,null,null,null,null,null,null,null,null,null,null,null,null,null,null,null,null,null,null,null,0,null,null,null,{"$f":"P188*X188","v":0},null,null,null,{"$f":"P188*AA188","v":0},null,null,null,0,null,null,null,null,null,"SIDING",0,0,0,0,0,0,0,0,0,0,0,0,0,0]
[null,null,null,null,null,null,null,null,null,null,null,null,null,null,null,null,null,null,null,null,null,null,null,null,null,null,null,null,null,0,null,null,null,{"$f":"P189*X189","v":0},null,null,null,{"$f":"P189*AA189","v":0},null,null,null,0,null,null,null,null,null,"SIDING",0,0,0,0,0,0,0,0,0,0,0,0,0,0]
[null,null,null,null,null,null,null,null,null,null,null,null,null,null,null,null,null,null,null,null,null,null,null,null,null,null,null,null,null,0,null,null,null,{"$f":"P190*X190","v":0},null,null,null,{"$f":"P190*AA190","v":0},null,null,null,0,null,null,null,null,null,"SIDING",0,0,0,0,0,0,0,0,0,0,0,0,0,0]
[null,null,null,null,null,null,null,null,null,null,null,null,null,null,null,null,null,null,null,null,null,null,null,null,null,null,null,null,null,0,null,null,null,{"$f":"P191*X191","v":0},null,null,null,{"$f":"P191*AA191","v":0},null,null,null,0,null,null,null,null,null,"SIDING",0,0,0,0,0,0,0,0,0,0,0,0,0,0]
[null,null,null,null,null,null,null,null,null,null,null,null,null,null,null,null,null,null,null,null,null,null,null,null,null,null,null,null,null,null,null,null,null,null,null,null,null,null,null,null,null,null,null,null,null,null,null,"SIDING",{"$f":"AW151","v":0},{"$f":"AX151","v":0},{"$f":"AY151","v":0},{"$f":"AZ151","v":0},null,null,{"$f":"BC151","v":0},null,{"$f":"BE151","v":0},{"$f":"BF151","v":0},null,{"$f":"BH151","v":0},{"$f":"BI151","v":0},{"$f":"BJ151","v":0}]
[null,null,null,null,null,null,null,null,null,null,null,null,null,null,null,null,null,null,null,null,null,null,null,null,null,null,null,null,{"$f":"CONCATENATE(B151,\" \",\"TOTAL\")","v":"SIDING TOTAL"},{"$f":"SUBTOTAL(9,AD151:AD192)","v":0},null,null,null,{"$f":"SUBTOTAL(9,AH151:AH192)","v":0},null,null,null,{"$f":"SUBTOTAL(9,AL151:AL192)","v":0},null,null,null,{"$f":"SUBTOTAL(9,AP151:AP192)","v":0},null,null,null,{"$f":"SUM(AT154:AT174)","v":0},null,"SIDING",{"$f":"SUM(AW152:AW192)","v":0},0,0,0,0,0,0,0,0,0,0,0,0,0]
[null,null,null,null,null,null,null,null,null,null,null,null,null,null,null,null,null,null,null,null,null,null,null,null,null,null,null,null,null,null,null,null,null,null,null,null,null,null,null,null,null,null,null,null,null,null,null,"SIDING",{"$f":"AW151","v":0},{"$f":"AX151","v":0},{"$f":"AY151","v":0},{"$f":"AZ151","v":0},null,null,{"$f":"BC151","v":0},null,{"$f":"BE151","v":0},{"$f":"BF151","v":0},null,{"$f":"BH151","v":0},{"$f":"BI151","v":0},{"$f":"BJ151","v":0}]
[null,null,null,null,null,null,null,null,null,null,null,null,null,null,null,null,null,null,null,null,null,null,null,null,null,null,null,null,null,null,null,null,null,null,null,null,null,null,null,null,null,null,null,null,null,null,null,"SIDING",{"$f":"AW193","v":0},{"$f":"AX193","v":0},{"$f":"AY193","v":0},{"$f":"AZ193","v":0},null,null,{"$f":"BC193","v":0},null,{"$f":"BE193","v":0},{"$f":"BF193","v":0},null,{"$f":"BH193","v":0},{"$f":"BI193","v":0},{"$f":"BJ193","v":0}]
["Hidden",{"$f":"T(N10)","v":"ROOFING"},null,null,null,null,null,null,null,null,null,null,null,null,null,null,null,null,null,null,null,null,null,null,null,null,null,null,null,null,null,null,null,null,null,null,null,null,null,null,null,null,null,null,null,null,null,{"$f":"$B$196","v":"ROOFING"}]
[null,"Roofing bid/allowance",null,null,null,null,null,null,null,null,null,null,null,null,null,null,null,null,"ls","ls",null,null,null,null,null,null,null,null,null,{"$f":"P197*U197","v":0},null,null,null,{"$f":"P197*X197","v":0},null,null,null,{"$f":"P197*AA197","v":0},null,null,null,{"$f":"SUM(AD197:AO197)","v":0},null,null,null,{"$f":"SUM(AD197:AO197)","v":0},null,"ROOFING",{"$f":"AD197","v":0},{"$f":"AH197","v":0},{"$f":"AL197","v":0},{"$f":"SUM(AW197:AY197)","v":0},{"$f":"IFERROR(AW197/$AZ$13,0)","v":0},{"$f":"BA197*TOTAL_ADDERS","v":0},{"$f":"AW197+BB197","v":0},{"$f":"IFERROR(AX197/$AZ$13,0)","v":0},{"$f":"BD197*TOTAL_ADDERS","v":0},{"$f":"AX197+BE197","v":0},{"$f":"IFERROR(AY197/$AZ$13,0)","v":0},{"$f":"BG197*TOTAL_ADDERS","v":0},{"$f":"AY197+BH197","v":0},{"$f":"BC197+BF197+BI197","v":0}]
[null,"Asphalt shingle roof",null,null,null,null,null,null,null,null,null,null,null,null,null,null,null,null,null,null,null,null,null,null,null,null,null,null,null,{"$f":"P198*U198","v":0},null,null,null,0,null,null,null,0,null,null,null,0,null,null,null,0,null,"ROOFING",0,0,0,0,{"$f":"IFERROR(AW198/$AZ$13,0)","v":0},0,{"$f":"AW198+BB198","v":0},{"$f":"IFERROR(AX198/$AZ$13,0)","v":0},0,{"$f":"AX198+BE198","v":0},{"$f":"IFERROR(AY198/$AZ$13,0)","v":0},0,{"$f":"AY198+BH198","v":0},{"$f":"BC198+BF198+BI198","v":0}]
[null,"Roof repair/patch, asphalt",null,null,null,null,null,null,null,null,null,null,null,null,null,null,null,null,"ea","ea",250,null,null,100,null,100,null,null,null,0,null,null,null,0,null,null,null,0,null,null,null,0,null,null,null,0,null,"ROOFING",0,0,0,0,0,0,0,0,0,0,0,0,0,0]
[null,"Roof replacement-demo & replace, 3-tab",null,null,null,null,null,null,null,null,null,null,null,null,null,null,null,null,"sq",null,80,null,null,85,null,null,null,null,null,0,null,null,null,0,null,null,null,0,null,null,null,0,null,null,null,0,null,"ROOFING",0,0,0,0,0,0,0,0,0,0,0,0,0,0]
[null,"Roof replacement-demo & replace, architectural",null,null,null,null,null,null,null,null,null,null,null,null,null,null,null,null,"sq",null,110,null,null,125,null,100,null,null,null,0,null,null,null,0,null,null,null,0,null,null,null,0,null,null,null,0,null,"ROOFING",0,0,0,0,0,0,0,0,0,0,0,0,0,0]
[null,"Premium for 3 layer tear off",null,null,null,null,null,null,null,null,null,null,null,null,null,null,null,null,"sq","sq",35,null,null,null,null,null,null,null,null,0,null,null,null,0,null,null,null,0,null,null,null,0,null,null,null,0,null,"ROOFING",0,0,0,0,0,0,0,0,0,0,0,0,0,0]
[null,"Premium for steep pitch roof",null,null,null,null,null,null,null,null,null,null,null,null,null,null,null,null,"sq","sq",25,null,null,null,null,null,null,null,null,0,null,null,null,0,null,null,null,0,null,null,null,0,null,null,null,0,null,"ROOFING",0,0,0,0,0,0,0,0,0,0,0,0,0,0]
[null,null,null,null,null,null,null,null,null,null,null,null,null,null,null,null,null,null,null,null,null,null,null,null,null,null,null,null,null,0,null,null,null,0,null,null,null,0,null,null,null,0,null,null,null,0,null,"ROOFING",0,0,0,0,0,0,0,0,0,0,0,0,0,0]
[null,"Wood Shingle Roof",null,null,null,null,null,null,null,null,null,null,null,null,null,null,null,null,null,null,null,null,null,null,null,null,null,null,null,0,null,null,null,0,null,null,null,0,null,null,null,0,null,null,null,0,null,"ROOFING",0,0,0,0,0,0,0,0,0,0,0,0,0,0]
[null,"Roof repair/patch, wood",null,null,null,null,null,null,null,null,null,null,null,null,null,null,null,null,"ea","ea",250,null,null,100,null,100,null,null,null,0,null,null,null,0,null,null,null,0,null,null,null,0,null,null,null,0,null,"ROOFING",0,0,0,0,0,0,0,0,0,0,0,0,0,0]
[null,"Roof replacement-demo & replace, 3-tab",null,null,null,null,null,null,null,null,null,null,null,null,null,null,null,null,"sq",null,75,null,null,50,null,null,null,null,null,0,null,null,null,0,null,null,null,0,null,null,null,0,null,null,null,0,null,"ROOFING",0,0,0,0,0,0,0,0,0,0,0,0,0,0]
[null,"Wood shingle, low end",null,null,null,null,null,null,null,null,null,null,null,null,null,null,null,null,"sq",null,250,null,null,175,null,null,null,null,null,0,null,null,null,0,null,null,null,0,null,null,null,0,null,null,null,0,null,"ROOFING",0,0,0,0,0,0,0,0,0,0,0,0,0,0]
[null,"Wood shingle, high end",null,null,null,null,null,null,null,null,null,null,null,null,null,null,null,null,"sq",null,250,null,null,350,null,null,null,null,null,0,null,null,null,0,null,null,null,0,null,null,null,0,null,null,null,0,null,"ROOFING",0,0,0,0,0,0,0,0,0,0,0,0,0,0]
[null,"Roof sheathing, plywood 1/2\", remove & install",null,null,null,null,null,null,null,null,null,null,null,null,null,null,null,null,"sheet","sheet",15,null,null,25,null,25,null,null,null,0,null,null,null,0,null,null,null,0,null,null,null,0,null,null,null,0,null,"ROOFING",0,0,0,0,0,0,0,0,0,0,0,0,0,0]
[null,null,null,null,null,null,null,null,null,null,null,null,null,null,null,null,null,null,null,null,null,null,null,null,null,null,null,null,null,0,null,null,null,0,null,null,null,0,null,null,null,0,null,null,null,0,null,"ROOFING",0,0,0,0,0,0,0,0,0,0,0,0,0,0]
[null,"Slate/Clay Tile",null,null,null,null,null,null,null,null,null,null,null,null,null,null,null,null,null,null,null,null,null,null,null,null,null,null,null,0,null,null,null,0,null,null,null,0,null,null,null,0,null,null,null,0,null,"ROOFING",0,0,0,0,0,0,0,0,0,0,0,0,0,0]
[null,"Roof replacement-demo & replace, slate",null,null,null,null,null,null,null,null,null,null,null,null,null,null,null,null,"sq",null,300,null,null,500,null,null,null,null,null,0,null,null,null,0,null,null,null,0,null,null,null,0,null,null,null,0,null,"ROOFING",0,0,0,0,0,0,0,0,0,0,0,0,0,0]
[null,null,null,null,null,null,null,null,null,null,null,null,null,null,null,null,null,null,null,null,null,null,null,null,null,null,null,null,null,0,null,null,null,0,null,null,null,0,null,null,null,0,null,null,null,0,null,"ROOFING",0,0,0,0,0,0,0,0,0,0,0,0,0,0]
[null,"Gutters & downspouts, aluminum",null,null,null,null,null,null,null,null,null,null,null,null,null,null,null,null,"lf",null,4,null,null,3,null,null,null,null,null,0,null,null,null,0,null,null,null,0,null,null,null,0,null,null,null,0,null,"ROOFING",0,0,0,0,0,0,0,0,0,0,0,0,0,0]
[null,"Clean gutters & downspouts",null,null,null,null,null,null,null,null,null,null,null,null,null,null,null,null,null,null,null,null,null,null,null,null,null,null,null,0,null,null,null,0,null,null,null,0,null,null,null,0,null,null,null,0,null,"ROOFING",0,0,0,0,0,0,0,0,0,0,0,0,0,0]
[null,null,null,null,null,null,null,null,null,null,null,null,null,null,null,null,null,null,null,null,null,null,null,null,null,null,null,null,null,0,null,null,null,{"$f":"P217*X217","v":0},null,null,null,{"$f":"P217*AA217","v":0},null,null,null,0,null,null,null,0,null,"ROOFING",0,0,0,0,0,0,0,0,0,0,0,0,0,0]
[null,null,null,null,null,null,null,null,null,null,null,null,null,null,null,null,null,null,null,null,null,null,null,null,null,null,null,null,null,0,null,null,null,{"$f":"P218*X218","v":0},null,null,null,{"$f":"P218*AA218","v":0},null,null,null,0,null,null,null,0,null,"ROOFING",0,0,0,0,0,0,0,0,0,0,0,0,0,0]
[null,null,null,null,null,null,null,null,null,null,null,null,null,null,null,null,null,null,null,null,null,null,null,null,null,null,null,null,null,0,null,null,null,{"$f":"P219*X219","v":0},null,null,null,{"$f":"P219*AA219","v":0},null,null,null,0,null,null,null,0,null,"ROOFING",0,0,0,0,0,0,0,0,0,0,0,0,0,0]
[null,null,null,null,null,null,null,null,null,null,null,null,null,null,null,null,null,null,null,null,null,null,null,null,null,null,null,null,null,0,null,null,null,{"$f":"P220*X220","v":0},null,null,null,{"$f":"P220*AA220","v":0},null,null,null,0,null,null,null,0,null,"ROOFING",0,0,0,0,0,0,0,0,0,0,0,0,0,0]
[null,null,null,null,null,null,null,null,null,null,null,null,null,null,null,null,null,null,null,null,null,null,null,null,null,null,null,null,null,0,null,null,null,{"$f":"P221*X221","v":0},null,null,null,{"$f":"P221*AA221","v":0},null,null,null,0,null,null,null,0,null,"ROOFING",0,0,0,0,0,0,0,0,0,0,0,0,0,0]
[null,null,null,null,null,null,null,null,null,null,null,null,null,null,null,null,null,null,null,null,null,null,null,null,null,null,null,null,null,0,null,null,null,0,null,null,null,0,null,null,null,0,null,null,null,0,null,"ROOFING",0,0,0,0,0,0,0,0,0,0,0,0,0,0]
[null,null,null,null,null,null,null,null,null,null,null,null,null,null,null,null,null,null,null,null,null,null,null,null,null,null,null,null,null,0,null,null,null,0,null,null,null,0,null,null,null,0,null,null,null,0,null,"ROOFING",0,0,0,0,0,0,0,0,0,0,0,0,0,0]
[null,null,null,null,null,null,null,null,null,null,null,null,null,null,null,null,null,null,null,null,null,null,null,null,null,null,null,null,null,0,null,null,null,0,null,null,null,0,null,null,null,0,null,null,null,0,null,"ROOFING",0,0,0,0,0,0,0,0,0,0,0,0,0,0]
[null,null,null,null,null,null,null,null,null,null,null,null,null,null,null,null,null,null,null,null,null,null,null,null,null,null,null,null,null,0,null,null,null,0,null,null,null,0,null,null,null,0,null,null,null,0,null,"ROOFING",0,0,0,0,0,0,0,0,0,0,0,0,0,0]
[null,null,null,null,null,null,null,null,null,null,null,null,null,null,null,null,null,null,null,null,null,null,null,null,null,null,null,null,null,0,null,null,null,0,null,null,null,0,null,null,null,0,null,null,null,0,null,"ROOFING",0,0,0,0,0,0,0,0,0,0,0,0,0,0]
[null,null,null,null,null,null,null,null,null,null,null,null,null,null,null,null,null,null,null,null,null,null,null,null,null,null,null,null,null,0,null,null,null,0,null,null,null,0,null,null,null,0,null,null,null,0,null,"ROOFING",0,0,0,0,0,0,0,0,0,0,0,0,0,0]
[null,null,null,null,null,null,null,null,null,null,null,null,null,null,null,null,null,null,null,null,null,null,null,null,null,null,null,null,null,0,null,null,null,0,null,null,null,0,null,null,null,0,null,null,null,0,null,"ROOFING",0,0,0,0,0,0,0,0,0,0,0,0,0,0]
[null,null,null,null,null,null,null,null,null,null,null,null,null,null,null,null,null,null,null,null,null,null,null,null,null,null,null,null,null,0,null,null,null,0,null,null,null,0,null,null,null,0,null,null,null,0,null,"ROOFING",0,0,0,0,0,0,0,0,0,0,0,0,0,0]
[null,null,null,null,null,null,null,null,null,null,null,null,null,null,null,null,null,null,null,null,null,null,null,null,null,null,null,null,null,0,null,null,null,0,null,null,null,0,null,null,null,0,null,null,null,0,null,"ROOFING",0,0,0,0,0,0,0,0,0,0,0,0,0,0]
[null,null,null,null,null,null,null,null,null,null,null,null,null,null,null,null,null,null,null,null,null,null,null,null,null,null,null,null,null,0,null,null,null,0,null,null,null,0,null,null,null,0,null,null,null,0,null,"ROOFING",0,0,0,0,0,0,0,0,0,0,0,0,0,0]
[null,null,null,null,null,null,null,null,null,null,null,null,null,null,null,null,null,null,null,null,null,null,null,null,null,null,null,null,null,0,null,null,null,0,null,null,null,0,null,null,null,0,null,null,null,0,null,"ROOFING",0,0,0,0,0,0,0,0,0,0,0,0,0,0]
[null,null,null,null,null,null,null,null,null,null,null,null,null,null,null,null,null,null,null,null,null,null,null,null,null,null,null,null,null,0,null,null,null,0,null,null,null,0,null,null,null,0,null,null,null,0,null,"ROOFING",0,0,0,0,0,0,0,0,0,0,0,0,0,0]
[null,null,null,null,null,null,null,null,null,null,null,null,null,null,null,null,null,null,null,null,null,null,null,null,null,null,null,null,null,0,null,null,null,0,null,null,null,0,null,null,null,0,null,null,null,0,null,"ROOFING",0,0,0,0,0,0,0,0,0,0,0,0,0,0]
[null,null,null,null,null,null,null,null,null,null,null,null,null,null,null,null,null,null,null,null,null,null,null,null,null,null,null,null,null,0,null,null,null,0,null,null,null,0,null,null,null,0,null,null,null,0,null,"ROOFING",0,0,0,0,0,0,0,0,0,0,0,0,0,0]
[null,null,null,null,null,null,null,null,null,null,null,null,null,null,null,null,null,null,null,null,null,null,null,null,null,null,null,null,null,0,null,null,null,{"$f":"P236*X236","v":0},null,null,null,{"$f":"P236*AA236","v":0},null,null,null,0,null,null,null,0,null,"ROOFING",0,0,0,0,0,0,0,0,0,0,0,0,0,0]
[null,null,null,null,null,null,null,null,null,null,null,null,null,null,null,null,null,null,null,null,null,null,null,null,null,null,null,null,null,null,null,null,null,null,null,null,null,null,null,null,null,null,null,null,null,null,null,"ROOFING",{"$f":"AW196","v":0},{"$f":"AX196","v":0},{"$f":"AY196","v":0},{"$f":"AZ196","v":0},null,null,{"$f":"BC196","v":0},null,{"$f":"BE196","v":0},{"$f":"BF196","v":0},null,{"$f":"BH196","v":0},{"$f":"BI196","v":0},{"$f":"BJ196","v":0}]
[null,null,null,null,null,null,null,null,null,null,null,null,null,null,null,null,null,null,null,null,null,null,null,null,null,null,null,null,{"$f":"CONCATENATE(B196,\" \",\"TOTAL\")","v":"ROOFING TOTAL"},{"$f":"SUBTOTAL(9,AD196:AD237)","v":0},null,null,null,{"$f":"SUBTOTAL(9,AH196:AH237)","v":0},null,null,null,{"$f":"SUBTOTAL(9,AL196:AL237)","v":0},null,null,null,{"$f":"SUBTOTAL(9,AP196:AP237)","v":0},null,null,null,{"$f":"SUM(AT199:AT207)","v":0},null,"ROOFING",{"$f":"SUM(AW197:AW237)","v":0},0,0,0,0,0,0,0,0,0,0,0,0,0]
[null,null,null,null,null,null,null,null,null,null,null,null,null,null,null,null,null,null,null,null,null,null,null,null,null,null,null,null,null,null,null,null,null,null,null,null,null,null,null,null,null,null,null,null,null,null,null,"ROOFING",{"$f":"AW196","v":0},{"$f":"AX196","v":0},{"$f":"AY196","v":0},{"$f":"AZ196","v":0},null,null,{"$f":"BC196","v":0},null,{"$f":"BE196","v":0},{"$f":"BF196","v":0},null,{"$f":"BH196","v":0},{"$f":"BI196","v":0},{"$f":"BJ196","v":0}]
[null,null,null,null,null,null,null,null,null,null,null,null,null,null,null,null,null,null,null,null,null,null,null,null,null,null,null,null,null,null,null,null,null,null,null,null,null,null,null,null,null,null,null,null,null,null,null,"ROOFING",{"$f":"AW238","v":0},{"$f":"AX238","v":0},{"$f":"AY238","v":0},{"$f":"AZ238","v":0},null,null,{"$f":"BC238","v":0},null,{"$f":"BE238","v":0},{"$f":"BF238","v":0},null,{"$f":"BH238","v":0},{"$f":"BI238","v":0},{"$f":"BJ238","v":0}]
["Hidden",{"$f":"T(N11)","v":"EXT. DOORS & WINDOWS"},null,null,null,null,null,null,null,null,null,null,null,null,null,null,null,null,null,null,null,null,null,null,null,null,null,null,null,null,null,null,null,null,null,null,null,null,null,null,null,null,null,null,null,null,null,{"$f":"$B$241","v":"EXT. DOORS & WINDOWS"}]
[null,"Exterior Doors",null,null,null,null,null,null,null,null,null,null,null,null,null,null,null,null,null,null,null,null,null,null,null,null,null,null,null,{"$f":"P242*U242","v":0},null,null,null,{"$f":"P242*X242","v":0},null,null,null,{"$f":"P242*AA242","v":0},null,null,null,{"$f":"SUM(AD242:AO242)","v":0},null,null,null,{"$f":"SUM(AD242:AO242)","v":0},null,"EXT. DOORS & WINDOWS",{"$f":"AD242","v":0},{"$f":"AH242","v":0},{"$f":"AL242","v":0},{"$f":"SUM(AW242:AY242)","v":0},{"$f":"IFERROR(AW242/$AZ$13,0)","v":0},{"$f":"BA242*TOTAL_ADDERS","v":0},{"$f":"AW242+BB242","v":0},{"$f":"IFERROR(AX242/$AZ$13,0)","v":0},{"$f":"BD242*TOTAL_ADDERS","v":0},{"$f":"AX242+BE242","v":0},{"$f":"IFERROR(AY242/$AZ$13,0)","v":0},{"$f":"BG242*TOTAL_ADDERS","v":0},{"$f":"AY242+BH242","v":0},{"$f":"BC242+BF242+BI242","v":0}]
[null,"Exterior doors bid/allowance",null,null,null,null,null,null,null,null,null,null,null,null,null,null,null,null,"ls","ls",null,null,null,null,null,null,null,null,null,{"$f":"P243*U243","v":0},null,null,null,0,null,null,null,0,null,null,null,0,null,null,null,0,null,"EXT. DOORS & WINDOWS",0,0,0,0,{"$f":"IFERROR(AW243/$AZ$13,0)","v":0},0,{"$f":"AW243+BB243","v":0},{"$f":"IFERROR(AX243/$AZ$13,0)","v":0},0,{"$f":"AX243+BE243","v":0},{"$f":"IFERROR(AY243/$AZ$13,0)","v":0},0,{"$f":"AY243+BH243","v":0},{"$f":"BC243+BF243+BI243","v":0}]
[null,"Steel entry door,  single",null,null,null,null,null,null,null,null,null,null,null,null,null,null,null,null,"ea","ea",200,null,null,200,null,175,null,null,null,0,null,null,null,0,null,null,null,0,null,null,null,0,null,null,null,0,null,"EXT. DOORS & WINDOWS",0,0,0,0,0,0,0,0,0,0,0,0,0,0]
[null,"French patio door, pair",null,null,null,null,null,null,null,null,null,null,null,null,null,null,null,null,"ea","ea",300,null,null,500,null,400,null,null,null,0,null,null,null,0,null,null,null,0,null,null,null,0,null,null,null,0,null,"EXT. DOORS & WINDOWS",0,0,0,0,0,0,0,0,0,0,0,0,0,0]
[null,"Exterior door hardware w/ dead bolt ",null,null,null,null,null,null,null,null,null,null,null,null,null,null,null,null,"ea","ea",25,null,null,25,null,25,null,null,null,0,null,null,null,0,null,null,null,0,null,null,null,0,null,null,null,0,null,"EXT. DOORS & WINDOWS",0,0,0,0,0,0,0,0,0,0,0,0,0,0]
[null,"Glass storm door, single",null,null,null,null,null,null,null,null,null,null,null,null,null,null,null,null,"ea","ea",100,null,null,250,null,225,null,null,null,0,null,null,null,0,null,null,null,0,null,null,null,0,null,null,null,0,null,"EXT. DOORS & WINDOWS",0,0,0,0,0,0,0,0,0,0,0,0,0,0]
[null,"Sliding glass door, vinyl, double",null,null,null,null,null,null,null,null,null,null,null,null,null,null,null,null,"ea","ea",300,null,null,500,null,400,null,null,null,0,null,null,null,0,null,null,null,0,null,null,null,0,null,null,null,0,null,"EXT. DOORS & WINDOWS",0,0,0,0,0,0,0,0,0,0,0,0,0,0]
[null,null,null,null,null,null,null,null,null,null,null,null,null,null,null,null,null,null,null,null,null,null,null,null,null,null,null,null,null,0,null,null,null,0,null,null,null,0,null,null,null,0,null,null,null,0,null,"EXT. DOORS & WINDOWS",0,0,0,0,0,0,0,0,0,0,0,0,0,0]
[null,null,null,null,null,null,null,null,null,null,null,null,null,null,null,null,null,null,null,null,null,null,null,null,null,null,null,null,null,0,null,null,null,0,null,null,null,0,null,null,null,0,null,null,null,0,null,"EXT. DOORS & WINDOWS",0,0,0,0,0,0,0,0,0,0,0,0,0,0]
[null,"Windows",null,null,null,null,null,null,null,null,null,null,null,null,null,null,null,null,null,null,null,null,null,null,null,null,null,null,null,0,null,null,null,0,null,null,null,0,null,null,null,0,null,null,null,0,null,"EXT. DOORS & WINDOWS",0,0,0,0,0,0,0,0,0,0,0,0,0,0]
[null,"New windows, vinyl, average size",null,null,null,null,null,null,null,null,null,null,null,null,null,null,null,null,"ea",null,50,null,null,175,null,null,null,null,null,0,null,null,null,0,null,null,null,0,null,null,null,0,null,null,null,0,null,"EXT. DOORS & WINDOWS",0,0,0,0,0,0,0,0,0,0,0,0,0,0]
[null,"Replacement windows, vinyl, average size",null,null,null,null,null,null,null,null,null,null,null,null,null,null,null,null,"ea",null,75,null,null,175,null,null,null,null,null,0,null,null,null,0,null,null,null,0,null,null,null,0,null,null,null,0,null,"EXT. DOORS & WINDOWS",0,0,0,0,0,0,0,0,0,0,0,0,0,0]
[null,"Wood windows, average size",null,null,null,null,null,null,null,null,null,null,null,null,null,null,null,null,"ea",null,75,null,null,350,null,null,null,null,null,0,null,null,null,0,null,null,null,0,null,null,null,0,null,null,null,0,null,"EXT. DOORS & WINDOWS",0,0,0,0,0,0,0,0,0,0,0,0,0,0]
[null,"Replace broken window pane",null,null,null,null,null,null,null,null,null,null,null,null,null,null,null,null,"ea",null,75,null,null,50,null,null,null,null,null,0,null,null,null,0,null,null,null,0,null,null,null,0,null,null,null,0,null,"EXT. DOORS & WINDOWS",0,0,0,0,0,0,0,0,0,0,0,0,0,0]
[null,"Replace broken screens",null,null,null,null,null,null,null,null,null,null,null,null,null,null,null,null,"ea",null,10,null,null,50,null,null,null,null,null,0,null,null,null,0,null,null,null,0,null,null,null,0,null,null,null,0,null,"EXT. DOORS & WINDOWS",0,0,0,0,0,0,0,0,0,0,0,0,0,0]
[null,"Repair broken screens",null,null,null,null,null,null,null,null,null,null,null,null,null,null,null,null,"ea",null,10,null,null,12,null,null,null,null,null,0,null,null,null,0,null,null,null,0,null,null,null,0,null,null,null,0,null,"EXT. DOORS & WINDOWS",0,0,0,0,0,0,0,0,0,0,0,0,0,0]
[null,"Skylight, 3x3, fixed",null,null,null,null,null,null,null,null,null,null,null,null,null,null,null,null,"ea","ea",20,null,null,300,null,150,null,null,null,0,null,null,null,0,null,null,null,0,null,null,null,0,null,null,null,0,null,"EXT. DOORS & WINDOWS",0,0,0,0,0,0,0,0,0,0,0,0,0,0]
[null,"Skylight, operable",null,null,null,null,null,null,null,null,null,null,null,null,null,null,null,null,"ea","ea",200,null,null,400,null,null,null,null,null,0,null,null,null,0,null,null,null,0,null,null,null,0,null,null,null,0,null,"EXT. DOORS & WINDOWS",0,0,0,0,0,0,0,0,0,0,0,0,0,0]
[null,null,null,null,null,null,null,null,null,null,null,null,null,null,null,null,null,null,null,null,null,null,null,null,null,null,null,null,null,0,null,null,null,0,null,null,null,0,null,null,null,0,null,null,null,0,null,"EXT. DOORS & WINDOWS",0,0,0,0,0,0,0,0,0,0,0,0,0,0]
[null,null,null,null,null,null,null,null,null,null,null,null,null,null,null,null,null,null,null,null,null,null,null,null,null,null,null,null,null,0,null,null,null,0,null,null,null,0,null,null,null,0,null,null,null,0,null,"EXT. DOORS & WINDOWS",0,0,0,0,0,0,0,0,0,0,0,0,0,0]
[null,"Garage Doors",null,null,null,null,null,null,null,null,null,null,null,null,null,null,null,null,null,null,null,null,null,null,null,null,null,null,null,0,null,null,null,{"$f":"P262*X262","v":0},null,null,null,{"$f":"P262*AA262","v":0},null,null,null,0,null,null,null,0,null,"EXT. DOORS & WINDOWS",0,0,0,0,0,0,0,0,0,0,0,0,0,0]
[null,"Garage Doors Bid/Allowance",null,null,null,null,null,null,null,null,null,null,null,null,null,null,null,null,"ls","ea",null,null,null,null,null,null,null,null,null,0,null,null,null,{"$f":"P263*X263","v":0},null,null,null,{"$f":"P263*AA263","v":0},null,null,null,0,null,null,null,0,null,"EXT. DOORS & WINDOWS",0,0,0,0,0,0,0,0,0,0,0,0,0,0]
[null,"Garage Doors Only- 9'x7'  door, manual",null,null,null,null,null,null,null,null,null,null,null,null,null,null,null,null,"ea","ea",200,null,null,450,null,400,null,null,null,0,null,null,null,{"$f":"P264*X264","v":0},null,null,null,{"$f":"P264*AA264","v":0},null,null,null,0,null,null,null,0,null,"EXT. DOORS & WINDOWS",0,0,0,0,0,0,0,0,0,0,0,0,0,0]
[null,"Garage Doors Only- 16' door, manual",null,null,null,null,null,null,null,null,null,null,null,null,null,null,null,null,"ea","ea",300,null,null,750,null,750,null,null,null,0,null,null,null,0,null,null,null,0,null,null,null,0,null,null,null,0,null,"EXT. DOORS & WINDOWS",0,0,0,0,0,0,0,0,0,0,0,0,0,0]
[null,"Garage Door Operator only",null,null,null,null,null,null,null,null,null,null,null,null,null,null,null,null,"ea","ea",100,null,null,150,null,150,null,null,null,0,null,null,null,0,null,null,null,0,null,null,null,0,null,null,null,0,null,"EXT. DOORS & WINDOWS",0,0,0,0,0,0,0,0,0,0,0,0,0,0]
[null,"Replace springs for garage door",null,null,null,null,null,null,null,null,null,null,null,null,null,null,null,null,"ea",null,100,null,null,50,null,null,null,null,null,0,null,null,null,0,null,null,null,0,null,null,null,0,null,null,null,0,null,"EXT. DOORS & WINDOWS",0,0,0,0,0,0,0,0,0,0,0,0,0,0]
[null,null,null,null,null,null,null,null,null,null,null,null,null,null,null,null,null,null,null,null,null,null,null,null,null,null,null,null,null,0,null,null,null,0,null,null,null,0,null,null,null,0,null,null,null,0,null,"EXT. DOORS & WINDOWS",0,0,0,0,0,0,0,0,0,0,0,0,0,0]
[null,null,null,null,null,null,null,null,null,null,null,null,null,null,null,null,null,null,null,null,null,null,null,null,null,null,null,null,null,0,null,null,null,0,null,null,null,0,null,null,null,0,null,null,null,0,null,"EXT. DOORS & WINDOWS",0,0,0,0,0,0,0,0,0,0,0,0,0,0]
[null,null,null,null,null,null,null,null,null,null,null,null,null,null,null,null,null,null,null,null,null,null,null,null,null,null,null,null,null,0,null,null,null,0,null,null,null,0,null,null,null,0,null,null,null,0,null,"EXT. DOORS & WINDOWS",0,0,0,0,0,0,0,0,0,0,0,0,0,0]
[null,null,null,null,null,null,null,null,null,null,null,null,null,null,null,null,null,null,null,null,null,null,null,null,null,null,null,null,null,0,null,null,null,0,null,null,null,0,null,null,null,0,null,null,null,0,null,"EXT. DOORS & WINDOWS",0,0,0,0,0,0,0,0,0,0,0,0,0,0]
[null,null,null,null,null,null,null,null,null,null,null,null,null,null,null,null,null,null,null,null,null,null,null,null,null,null,null,null,null,0,null,null,null,0,null,null,null,0,null,null,null,0,null,null,null,0,null,"EXT. DOORS & WINDOWS",0,0,0,0,0,0,0,0,0,0,0,0,0,0]
[null,null,null,null,null,null,null,null,null,null,null,null,null,null,null,null,null,null,null,null,null,null,null,null,null,null,null,null,null,0,null,null,null,0,null,null,null,0,null,null,null,0,null,null,null,0,null,"EXT. DOORS & WINDOWS",0,0,0,0,0,0,0,0,0,0,0,0,0,0]
[null,null,null,null,null,null,null,null,null,null,null,null,null,null,null,null,null,null,null,null,null,null,null,null,null,null,null,null,null,0,null,null,null,0,null,null,null,0,null,null,null,0,null,null,null,0,null,"EXT. DOORS & WINDOWS",0,0,0,0,0,0,0,0,0,0,0,0,0,0]
[null,null,null,null,null,null,null,null,null,null,null,null,null,null,null,null,null,null,null,null,null,null,null,null,null,null,null,null,null,0,null,null,null,0,null,null,null,0,null,null,null,0,null,null,null,0,null,"EXT. DOORS & WINDOWS",0,0,0,0,0,0,0,0,0,0,0,0,0,0]
[null,null,null,null,null,null,null,null,null,null,null,null,null,null,null,null,null,null,null,null,null,null,null,null,null,null,null,null,null,0,null,null,null,0,null,null,null,0,null,null,null,0,null,null,null,0,null,"EXT. DOORS & WINDOWS",0,0,0,0,0,0,0,0,0,0,0,0,0,0]
[null,null,null,null,null,null,null,null,null,null,null,null,null,null,null,null,null,null,null,null,null,null,null,null,null,null,null,null,null,0,null,null,null,0,null,null,null,0,null,null,null,0,null,null,null,0,null,"EXT. DOORS & WINDOWS",0,0,0,0,0,0,0,0,0,0,0,0,0,0]
[null,null,null,null,null,null,null,null,null,null,null,null,null,null,null,null,null,null,null,null,null,null,null,null,null,null,null,null,null,0,null,null,null,0,null,null,null,0,null,null,null,0,null,null,null,0,null,"EXT. DOORS & WINDOWS",0,0,0,0,0,0,0,0,0,0,0,0,0,0]
[null,null,null,null,null,null,null,null,null,null,null,null,null,null,null,null,null,null,null,null,null,null,null,null,null,null,null,null,null,0,null,null,null,0,null,null,null,0,null,null,null,0,null,null,null,0,null,"EXT. DOORS & WINDOWS",0,0,0,0,0,0,0,0,0,0,0,0,0,0]
[null,null,null,null,null,null,null,null,null,null,null,null,null,null,null,null,null,null,null,null,null,null,null,null,null,null,null,null,null,0,null,null,null,0,null,null,null,0,null,null,null,0,null,null,null,0,null,"EXT. DOORS & WINDOWS",0,0,0,0,0,0,0,0,0,0,0,0,0,0]
[null,null,null,null,null,null,null,null,null,null,null,null,null,null,null,null,null,null,null,null,null,null,null,null,null,null,null,null,null,0,null,null,null,{"$f":"P281*X281","v":0},null,null,null,{"$f":"P281*AA281","v":0},null,null,null,0,null,null,null,0,null,"EXT. DOORS & WINDOWS",0,0,0,0,0,0,0,0,0,0,0,0,0,0]
[null,null,null,null,null,null,null,null,null,null,null,null,null,null,null,null,null,null,null,null,null,null,null,null,null,null,null,null,null,null,null,null,null,null,null,null,null,null,null,null,null,null,null,null,null,null,null,"EXT. DOORS & WINDOWS",{"$f":"AW241","v":0},{"$f":"AX241","v":0},{"$f":"AY241","v":0},{"$f":"AZ241","v":0},null,null,{"$f":"BC241","v":0},null,{"$f":"BE241","v":0},{"$f":"BF241","v":0},null,{"$f":"BH241","v":0},{"$f":"BI241","v":0},{"$f":"BJ241","v":0}]
[null,null,null,null,null,null,null,null,null,null,null,null,null,null,null,null,null,null,null,null,null,null,null,null,null,null,null,null,{"$f":"CONCATENATE(B241,\" \",\"TOTAL\")","v":"EXT. DOORS & WINDOWS TOTAL"},{"$f":"SUBTOTAL(9,AD241:AD282)","v":0},null,null,null,{"$f":"SUBTOTAL(9,AH241:AH282)","v":0},null,null,null,{"$f":"SUBTOTAL(9,AL241:AL282)","v":0},null,null,null,{"$f":"SUBTOTAL(9,AP241:AP282)","v":0},null,null,null,{"$f":"SUM(AT243:AT251)","v":0},null,"EXT. DOORS & WINDOWS",{"$f":"SUM(AW242:AW282)","v":0},0,0,0,0,0,0,0,0,0,0,0,0,0]
[null,null,null,null,null,null,null,null,null,null,null,null,null,null,null,null,null,null,null,null,null,null,null,null,null,null,null,null,null,null,null,null,null,null,null,null,null,null,null,null,null,null,null,null,null,null,null,"EXT. DOORS & WINDOWS",{"$f":"AW241","v":0},{"$f":"AX241","v":0},{"$f":"AY241","v":0},{"$f":"AZ241","v":0},null,null,{"$f":"BC241","v":0},null,{"$f":"BE241","v":0},{"$f":"BF241","v":0},null,{"$f":"BH241","v":0},{"$f":"BI241","v":0},{"$f":"BJ241","v":0}]
[null,null,null,null,null,null,null,null,null,null,null,null,null,null,null,null,null,null,null,null,null,null,null,null,null,null,null,null,null,null,null,null,null,null,null,null,null,null,null,null,null,null,null,null,null,null,null,"EXT. DOORS & WINDOWS",{"$f":"AW283","v":0},{"$f":"AX283","v":0},{"$f":"AY283","v":0},{"$f":"AZ283","v":0},null,null,{"$f":"BC283","v":0},null,{"$f":"BE283","v":0},{"$f":"BF283","v":0},null,{"$f":"BH283","v":0},{"$f":"BI283","v":0},{"$f":"BJ283","v":0}]
["Hidden",{"$f":"T(Y6)","v":"MISC. EXT. IMPROVEMENTS"},null,null,null,null,null,null,null,null,null,null,null,null,null,null,null,null,null,null,null,null,null,null,null,null,null,null,null,null,null,null,null,null,null,null,null,null,null,null,null,null,null,null,null,null,null,{"$f":"$B$286","v":"MISC. EXT. IMPROVEMENTS"}]
[null,"Decking",null,null,null,null,null,null,null,null,null,null,null,null,null,null,null,null,null,null,null,null,null,null,null,null,null,null,null,{"$f":"P287*U287","v":0},null,null,null,{"$f":"P287*X287","v":0},null,null,null,{"$f":"P287*AA287","v":0},null,null,null,{"$f":"SUM(AD287:AO287)","v":0},null,null,null,{"$f":"SUM(AD287:AO287)","v":0},null,"MISC. EXT. IMPROVEMENTS",{"$f":"AD287","v":0},{"$f":"AH287","v":0},{"$f":"AL287","v":0},{"$f":"SUM(AW287:AY287)","v":0},{"$f":"IFERROR(AW287/$AZ$13,0)","v":0},{"$f":"BA287*TOTAL_ADDERS","v":0},{"$f":"AW287+BB287","v":0},{"$f":"IFERROR(AX287/$AZ$13,0)","v":0},{"$f":"BD287*TOTAL_ADDERS","v":0},{"$f":"AX287+BE287","v":0},{"$f":"IFERROR(AY287/$AZ$13,0)","v":0},{"$f":"BG287*TOTAL_ADDERS","v":0},{"$f":"AY287+BH287","v":0},{"$f":"BC287+BF287+BI287","v":0}]
[null,"Deck bid/allowance",null,null,null,null,null,null,null,null,null,null,null,null,null,null,null,null,"ls","ls",null,null,null,null,null,null,null,null,null,{"$f":"P288*U288","v":0},null,null,null,0,null,null,null,0,null,null,null,0,null,null,null,0,null,"MISC. EXT. IMPROVEMENTS",0,0,0,0,{"$f":"IFERROR(AW288/$AZ$13,0)","v":0},0,{"$f":"AW288+BB288","v":0},{"$f":"IFERROR(AX288/$AZ$13,0)","v":0},0,{"$f":"AX288+BE288","v":0},{"$f":"IFERROR(AY288/$AZ$13,0)","v":0},0,{"$f":"AY288+BH288","v":0},{"$f":"BC288+BF288+BI288","v":0}]
[null,"New deck, columns, joists, railing-treated lumber",null,null,null,null,null,null,null,null,null,null,null,null,null,null,null,null,"sf","sf",10,null,null,5,null,5,null,null,null,0,null,null,null,0,null,null,null,0,null,null,null,0,null,null,null,0,null,"MISC. EXT. IMPROVEMENTS",0,0,0,0,0,0,0,0,0,0,0,0,0,0]
[null,"New deck, columns, joists, railing-cedar",null,null,null,null,null,null,null,null,null,null,null,null,null,null,null,null,"sf","sf",10,null,null,9,null,8.5,null,null,null,0,null,null,null,0,null,null,null,0,null,null,null,0,null,null,null,0,null,"MISC. EXT. IMPROVEMENTS",0,0,0,0,0,0,0,0,0,0,0,0,0,0]
[null,"Existing deck, replace decking",null,null,null,null,null,null,null,null,null,null,null,null,null,null,null,null,"sf","sf",5,null,null,2,null,2,null,null,null,0,null,null,null,0,null,null,null,0,null,null,null,0,null,null,null,0,null,"MISC. EXT. IMPROVEMENTS",0,0,0,0,0,0,0,0,0,0,0,0,0,0]
[null,"Install railing w/ wood balusters only",null,null,null,null,null,null,null,null,null,null,null,null,null,null,null,null,"lf","lf",15,null,null,15,null,7.5,null,null,null,0,null,null,null,0,null,null,null,0,null,null,null,0,null,null,null,0,null,"MISC. EXT. IMPROVEMENTS",0,0,0,0,0,0,0,0,0,0,0,0,0,0]
[null,"Install railing w/ metal balusters only",null,null,null,null,null,null,null,null,null,null,null,null,null,null,null,null,"lf","lf",15,null,null,25,null,25,null,null,null,0,null,null,null,0,null,null,null,0,null,null,null,0,null,null,null,0,null,"MISC. EXT. IMPROVEMENTS",0,0,0,0,0,0,0,0,0,0,0,0,0,0]
[null,"Stairs, 5 to 7 risers",null,null,null,null,null,null,null,null,null,null,null,null,null,null,null,null,"ea",null,700,null,null,175,null,null,null,null,null,0,null,null,null,0,null,null,null,0,null,null,null,0,null,null,null,0,null,"MISC. EXT. IMPROVEMENTS",0,0,0,0,0,0,0,0,0,0,0,0,0,0]
[null,null,null,null,null,null,null,null,null,null,null,null,null,null,null,null,null,null,null,null,null,null,null,null,null,null,null,null,null,0,null,null,null,0,null,null,null,0,null,null,null,0,null,null,null,0,null,"MISC. EXT. IMPROVEMENTS",0,0,0,0,0,0,0,0,0,0,0,0,0,0]
[null,null,null,null,null,null,null,null,null,null,null,null,null,null,null,null,null,null,null,null,null,null,null,null,null,null,null,null,null,0,null,null,null,0,null,null,null,0,null,null,null,0,null,null,null,0,null,"MISC. EXT. IMPROVEMENTS",0,0,0,0,0,0,0,0,0,0,0,0,0,0]
[null,"Fencing",null,null,null,null,null,null,null,null,null,null,null,null,null,null,null,null,null,null,null,null,null,null,null,null,null,null,null,0,null,null,null,0,null,null,null,0,null,null,null,0,null,null,null,0,null,"MISC. EXT. IMPROVEMENTS",0,0,0,0,0,0,0,0,0,0,0,0,0,0]
[null,"Chain link fencing",null,null,null,null,null,null,null,null,null,null,null,null,null,null,null,null,"lf",null,7,null,null,8,null,null,null,null,null,0,null,null,null,0,null,null,null,0,null,null,null,0,null,null,null,0,null,"MISC. EXT. IMPROVEMENTS",0,0,0,0,0,0,0,0,0,0,0,0,0,0]
[null,"Wood fencing",null,null,null,null,null,null,null,null,null,null,null,null,null,null,null,null,"lf",null,10,null,null,13.5,null,null,null,null,null,0,null,null,null,0,null,null,null,0,null,null,null,0,null,null,null,0,null,"MISC. EXT. IMPROVEMENTS",0,0,0,0,0,0,0,0,0,0,0,0,0,0]
[null,null,null,null,null,null,null,null,null,null,null,null,null,null,null,null,null,null,null,null,null,null,null,null,null,null,null,null,null,0,null,null,null,0,null,null,null,0,null,null,null,0,null,null,null,0,null,"MISC. EXT. IMPROVEMENTS",0,0,0,0,0,0,0,0,0,0,0,0,0,0]
[null,null,null,null,null,null,null,null,null,null,null,null,null,null,null,null,null,null,null,null,null,null,null,null,null,null,null,null,null,0,null,null,null,0,null,null,null,0,null,null,null,0,null,null,null,0,null,"MISC. EXT. IMPROVEMENTS",0,0,0,0,0,0,0,0,0,0,0,0,0,0]
[null,"Miscellaneous Specialties",null,null,null,null,null,null,null,null,null,null,null,null,null,null,null,null,null,null,null,null,null,null,null,null,null,null,null,0,null,null,null,0,null,null,null,0,null,null,null,0,null,null,null,0,null,"MISC. EXT. IMPROVEMENTS",0,0,0,0,0,0,0,0,0,0,0,0,0,0]
[null,"New mailbox",null,null,null,null,null,null,null,null,null,null,null,null,null,null,null,null,"ea",null,50,null,null,100,null,null,null,null,null,0,null,null,null,0,null,null,null,0,null,null,null,0,null,null,null,0,null,"MISC. EXT. IMPROVEMENTS",0,0,0,0,0,0,0,0,0,0,0,0,0,0]
[null,"New address #",null,null,null,null,null,null,null,null,null,null,null,null,null,null,null,null,"ea",null,25,null,null,40,null,null,null,null,null,0,null,null,null,0,null,null,null,0,null,null,null,0,null,null,null,0,null,"MISC. EXT. IMPROVEMENTS",0,0,0,0,0,0,0,0,0,0,0,0,0,0]
[null,"Shutters",null,null,null,null,null,null,null,null,null,null,null,null,null,null,null,null,"ea",null,25,null,null,40,null,null,null,null,null,0,null,null,null,0,null,null,null,0,null,null,null,0,null,null,null,0,null,"MISC. EXT. IMPROVEMENTS",0,0,0,0,0,0,0,0,0,0,0,0,0,0]
[null,null,null,null,null,null,null,null,null,null,null,null,null,null,null,null,null,null,null,null,null,null,null,null,null,null,null,null,null,0,null,null,null,0,null,null,null,0,null,null,null,0,null,null,null,0,null,"MISC. EXT. IMPROVEMENTS",0,0,0,0,0,0,0,0,0,0,0,0,0,0]
[null,null,null,null,null,null,null,null,null,null,null,null,null,null,null,null,null,null,null,null,null,null,null,null,null,null,null,null,null,0,null,null,null,0,null,null,null,0,null,null,null,0,null,null,null,0,null,"MISC. EXT. IMPROVEMENTS",0,0,0,0,0,0,0,0,0,0,0,0,0,0]
[null,"Misc. Exterior Structures",null,null,null,null,null,null,null,null,null,null,null,null,null,null,null,null,null,null,null,null,null,null,null,null,null,null,null,0,null,null,null,0,null,null,null,0,null,null,null,0,null,null,null,0,null,"MISC. EXT. IMPROVEMENTS",0,0,0,0,0,0,0,0,0,0,0,0,0,0]
[null,"Premanufactured carport",null,null,null,null,null,null,null,null,null,null,null,null,null,null,null,null,"ea","lf",750,null,null,4500,null,4500,null,null,null,0,null,null,null,0,null,null,null,0,null,null,null,0,null,null,null,0,null,"MISC. EXT. IMPROVEMENTS",0,0,0,0,0,0,0,0,0,0,0,0,0,0]
[null,"Storage shed, wood",null,null,null,null,null,null,null,null,null,null,null,null,null,null,null,null,"ea","ea",500,null,null,1750,null,1600,null,null,null,0,null,null,null,0,null,null,null,0,null,null,null,0,null,null,null,0,null,"MISC. EXT. IMPROVEMENTS",0,0,0,0,0,0,0,0,0,0,0,0,0,0]
[null,"Gazebo",null,null,null,null,null,null,null,null,null,null,null,null,null,null,null,null,"sf",null,30,null,null,45,null,null,null,null,null,0,null,null,null,0,null,null,null,0,null,null,null,0,null,null,null,0,null,"MISC. EXT. IMPROVEMENTS",0,0,0,0,0,0,0,0,0,0,0,0,0,0]
[null,"Covered patio, floor, roof frame, decking, treated",null,null,null,null,null,null,null,null,null,null,null,null,null,null,null,null,"sf",null,20,null,null,15,null,null,null,null,null,0,null,null,null,0,null,null,null,0,null,null,null,0,null,null,null,0,null,"MISC. EXT. IMPROVEMENTS",0,0,0,0,0,0,0,0,0,0,0,0,0,0]
[null,null,null,null,null,null,null,null,null,null,null,null,null,null,null,null,null,null,null,null,null,null,null,null,null,null,null,null,null,0,null,null,null,0,null,null,null,0,null,null,null,0,null,null,null,0,null,"MISC. EXT. IMPROVEMENTS",0,0,0,0,0,0,0,0,0,0,0,0,0,0]
[null,null,null,null,null,null,null,null,null,null,null,null,null,null,null,null,null,null,null,null,null,null,null,null,null,null,null,null,null,0,null,null,null,0,null,null,null,0,null,null,null,0,null,null,null,0,null,"MISC. EXT. IMPROVEMENTS",0,0,0,0,0,0,0,0,0,0,0,0,0,0]
[null,"Pools",null,null,null,null,null,null,null,null,null,null,null,null,null,null,null,null,null,null,null,null,null,null,null,null,null,null,null,0,null,null,null,0,null,null,null,0,null,null,null,0,null,null,null,0,null,"MISC. EXT. IMPROVEMENTS",0,0,0,0,0,0,0,0,0,0,0,0,0,0]
[null,"New Pool structure",null,null,null,null,null,null,null,null,null,null,null,null,null,null,null,null,"sf",null,null,null,null,null,null,null,65,null,null,0,null,null,null,0,null,null,null,0,null,null,null,0,null,null,null,0,null,"MISC. EXT. IMPROVEMENTS",0,0,0,0,0,0,0,0,0,0,0,0,0,0]
[null,"Pool heater/motor",null,null,null,null,null,null,null,null,null,null,null,null,null,null,null,null,"ea",null,2400,null,null,500,null,null,null,null,null,0,null,null,null,0,null,null,null,0,null,null,null,0,null,null,null,0,null,"MISC. EXT. IMPROVEMENTS",0,0,0,0,0,0,0,0,0,0,0,0,0,0]
[null,"Pool filter system",null,null,null,null,null,null,null,null,null,null,null,null,null,null,null,null,"ea",null,1500,null,null,400,null,null,null,null,null,0,null,null,null,0,null,null,null,0,null,null,null,0,null,null,null,0,null,"MISC. EXT. IMPROVEMENTS",0,0,0,0,0,0,0,0,0,0,0,0,0,0]
[null,"Replaster existing pool wall",null,null,null,null,null,null,null,null,null,null,null,null,null,null,null,null,"sf",null,9,null,null,1.5,null,null,null,null,null,0,null,null,null,0,null,null,null,0,null,null,null,0,null,null,null,0,null,"MISC. EXT. IMPROVEMENTS",0,0,0,0,0,0,0,0,0,0,0,0,0,0]
[null,null,null,null,null,null,null,null,null,null,null,null,null,null,null,null,null,null,null,null,null,null,null,null,null,null,null,null,null,0,null,null,null,0,null,null,null,0,null,null,null,0,null,null,null,0,null,"MISC. EXT. IMPROVEMENTS",0,0,0,0,0,0,0,0,0,0,0,0,0,0]
[null,null,null,null,null,null,null,null,null,null,null,null,null,null,null,null,null,null,null,null,null,null,null,null,null,null,null,null,null,0,null,null,null,0,null,null,null,0,null,null,null,0,null,null,null,0,null,"MISC. EXT. IMPROVEMENTS",0,0,0,0,0,0,0,0,0,0,0,0,0,0]
[null,null,null,null,null,null,null,null,null,null,null,null,null,null,null,null,null,null,null,null,null,null,null,null,null,null,null,null,null,0,null,null,null,0,null,null,null,0,null,null,null,0,null,null,null,0,null,"MISC. EXT. IMPROVEMENTS",0,0,0,0,0,0,0,0,0,0,0,0,0,0]
[null,null,null,null,null,null,null,null,null,null,null,null,null,null,null,null,null,null,null,null,null,null,null,null,null,null,null,null,null,0,null,null,null,{"$f":"P323*X323","v":0},null,null,null,{"$f":"P323*AA323","v":0},null,null,null,0,null,null,null,0,null,"MISC. EXT. IMPROVEMENTS",0,0,0,0,0,0,0,0,0,0,0,0,0,0]
[null,null,null,null,null,null,null,null,null,null,null,null,null,null,null,null,null,null,null,null,null,null,null,null,null,null,null,null,null,0,null,null,null,{"$f":"P324*X324","v":0},null,null,null,{"$f":"P324*AA324","v":0},null,null,null,0,null,null,null,0,null,"MISC. EXT. IMPROVEMENTS",0,0,0,0,0,0,0,0,0,0,0,0,0,0]
[null,null,null,null,null,null,null,null,null,null,null,null,null,null,null,null,null,null,null,null,null,null,null,null,null,null,null,null,null,0,null,null,null,{"$f":"P325*X325","v":0},null,null,null,{"$f":"P325*AA325","v":0},null,null,null,0,null,null,null,0,null,"MISC. EXT. IMPROVEMENTS",0,0,0,0,0,0,0,0,0,0,0,0,0,0]
[null,null,null,null,null,null,null,null,null,null,null,null,null,null,null,null,null,null,null,null,null,null,null,null,null,null,null,null,null,0,null,null,null,{"$f":"P326*X326","v":0},null,null,null,{"$f":"P326*AA326","v":0},null,null,null,0,null,null,null,0,null,"MISC. EXT. IMPROVEMENTS",0,0,0,0,0,0,0,0,0,0,0,0,0,0]
[null,null,null,null,null,null,null,null,null,null,null,null,null,null,null,null,null,null,null,null,null,null,null,null,null,null,null,null,null,null,null,null,null,null,null,null,null,null,null,null,null,null,null,null,null,null,null,"MISC. EXT. IMPROVEMENTS",{"$f":"AW286","v":0},{"$f":"AX286","v":0},{"$f":"AY286","v":0},{"$f":"AZ286","v":0},null,null,{"$f":"BC286","v":0},null,{"$f":"BE286","v":0},{"$f":"BF286","v":0},null,{"$f":"BH286","v":0},{"$f":"BI286","v":0},{"$f":"BJ286","v":0}]
[null,null,null,null,null,null,null,null,null,null,null,null,null,null,null,null,null,null,null,null,null,null,null,null,null,null,null,null,{"$f":"CONCATENATE(B286,\" \",\"TOTAL\")","v":"MISC. EXT. IMPROVEMENTS TOTAL"},{"$f":"SUBTOTAL(9,AD286:AD327)","v":0},null,null,null,{"$f":"SUBTOTAL(9,AH286:AH327)","v":0},null,null,null,{"$f":"SUBTOTAL(9,AL286:AL327)","v":0},null,null,null,{"$f":"SUBTOTAL(9,AP286:AP327)","v":0},null,null,null,{"$f":"SUM(AT291:AT299)","v":0},null,"MISC. EXT. IMPROVEMENTS",{"$f":"SUM(AW287:AW327)","v":0},0,0,0,0,0,0,0,0,0,0,0,0,0]
[null,null,null,null,null,null,null,null,null,null,null,null,null,null,null,null,null,null,null,null,null,null,null,null,null,null,null,null,null,null,null,null,null,null,null,null,null,null,null,null,null,null,null,null,null,null,null,"MISC. EXT. IMPROVEMENTS",{"$f":"AW286","v":0},{"$f":"AX286","v":0},{"$f":"AY286","v":0},{"$f":"AZ286","v":0},null,null,{"$f":"BC286","v":0},null,{"$f":"BE286","v":0},{"$f":"BF286","v":0},null,{"$f":"BH286","v":0},{"$f":"BI286","v":0},{"$f":"BJ286","v":0}]
[null,null,null,null,null,null,null,null,null,null,null,null,null,null,null,null,null,null,null,null,null,null,null,null,null,null,null,null,null,null,null,null,null,null,null,null,null,null,null,null,null,null,null,null,null,null,null,"MISC. EXT. IMPROVEMENTS",{"$f":"AW328","v":0},{"$f":"AX328","v":0},{"$f":"AY328","v":0},{"$f":"AZ328","v":0},null,null,{"$f":"BC328","v":0},null,{"$f":"BE328","v":0},{"$f":"BF328","v":0},null,{"$f":"BH328","v":0},{"$f":"BI328","v":0},{"$f":"BJ328","v":0}]
["Hidden",{"$f":"T(Y7)","v":"LANDSCAPING"},null,null,null,null,null,null,null,null,null,null,null,null,null,null,null,null,null,null,null,null,null,null,null,null,null,null,null,null,null,null,null,null,null,null,null,null,null,null,null,null,null,null,null,null,null,{"$f":"$B$331","v":"LANDSCAPING"}]
[null,"Landscaping bid/allowance, trees, bushes, flowers",null,null,null,null,null,null,null,null,null,null,null,null,null,null,null,null,"ls","ls",null,null,null,null,null,null,null,null,null,{"$f":"P332*U332","v":0},null,null,null,{"$f":"P332*X332","v":0},null,null,null,{"$f":"P332*AA332","v":0},null,null,null,{"$f":"SUM(AD332:AO332)","v":0},null,null,null,{"$f":"SUM(AD332:AO332)","v":0},null,"LANDSCAPING",{"$f":"AD332","v":0},{"$f":"AH332","v":0},{"$f":"AL332","v":0},{"$f":"SUM(AW332:AY332)","v":0},{"$f":"IFERROR(AW332/$AZ$13,0)","v":0},{"$f":"BA332*TOTAL_ADDERS","v":0},{"$f":"AW332+BB332","v":0},{"$f":"IFERROR(AX332/$AZ$13,0)","v":0},{"$f":"BD332*TOTAL_ADDERS","v":0},{"$f":"AX332+BE332","v":0},{"$f":"IFERROR(AY332/$AZ$13,0)","v":0},{"$f":"BG332*TOTAL_ADDERS","v":0},{"$f":"AY332+BH332","v":0},{"$f":"BC332+BF332+BI332","v":0}]
[null,"Sod",null,null,null,null,null,null,null,null,null,null,null,null,null,null,null,null,"sf","sf",0.15,null,null,0.25,null,0.25,null,null,null,{"$f":"P333*U333","v":0},null,null,null,0,null,null,null,0,null,null,null,0,null,null,null,0,null,"LANDSCAPING",0,0,0,0,{"$f":"IFERROR(AW333/$AZ$13,0)","v":0},0,{"$f":"AW333+BB333","v":0},{"$f":"IFERROR(AX333/$AZ$13,0)","v":0},0,{"$f":"AX333+BE333","v":0},{"$f":"IFERROR(AY333/$AZ$13,0)","v":0},0,{"$f":"AY333+BH333","v":0},{"$f":"BC333+BF333+BI333","v":0}]
[null,"Seeding",null,null,null,null,null,null,null,null,null,null,null,null,null,null,null,null,"sf","sf",0.05,null,null,0.05,null,0.05,null,null,null,0,null,null,null,0,null,null,null,0,null,null,null,0,null,null,null,0,null,"LANDSCAPING",0,0,0,0,0,0,0,0,0,0,0,0,0,0]
[null,"Shrubs/plantings, 1 gallon",null,null,null,null,null,null,null,null,null,null,null,null,null,null,null,null,"ea","ea",10,null,null,10,null,10,null,null,null,0,null,null,null,0,null,null,null,0,null,null,null,0,null,null,null,0,null,"LANDSCAPING",0,0,0,0,0,0,0,0,0,0,0,0,0,0]
[null,"Shrubs/plantings, 2 gallon",null,null,null,null,null,null,null,null,null,null,null,null,null,null,null,null,"ea","ea",15,null,null,20,null,25,null,null,null,0,null,null,null,0,null,null,null,0,null,null,null,0,null,null,null,0,null,"LANDSCAPING",0,0,0,0,0,0,0,0,0,0,0,0,0,0]
[null,"Shrubs/plantings, 5 gallon",null,null,null,null,null,null,null,null,null,null,null,null,null,null,null,null,"ea",null,25,null,null,35,null,null,null,null,null,0,null,null,null,0,null,null,null,0,null,null,null,0,null,null,null,0,null,"LANDSCAPING",0,0,0,0,0,0,0,0,0,0,0,0,0,0]
[null,"Small trees, 1-2\" caliper, 10 gallon",null,null,null,null,null,null,null,null,null,null,null,null,null,null,null,null,"ea","ea",45,null,null,50,null,85,null,null,null,0,null,null,null,0,null,null,null,0,null,null,null,0,null,null,null,0,null,"LANDSCAPING",0,0,0,0,0,0,0,0,0,0,0,0,0,0]
[null,"Small trees, 1-2\" 15 gallon",null,null,null,null,null,null,null,null,null,null,null,null,null,null,null,null,"ea",null,50,null,null,75,null,null,null,null,null,0,null,null,null,0,null,null,null,0,null,null,null,0,null,null,null,0,null,"LANDSCAPING",0,0,0,0,0,0,0,0,0,0,0,0,0,0]
[null,"36\" box tree",null,null,null,null,null,null,null,null,null,null,null,null,null,null,null,null,"ea",null,75,null,null,200,null,null,null,null,null,0,null,null,null,0,null,null,null,0,null,null,null,0,null,null,null,0,null,"LANDSCAPING",0,0,0,0,0,0,0,0,0,0,0,0,0,0]
[null,"Mulch, standard 3\" thick",null,null,null,null,null,null,null,null,null,null,null,null,null,null,null,null,"sf","sf",0.25,null,null,0.5,null,0.5,null,null,null,0,null,null,null,0,null,null,null,0,null,null,null,0,null,null,null,0,null,"LANDSCAPING",0,0,0,0,0,0,0,0,0,0,0,0,0,0]
[null,"Landscape rock, 3/4\"",null,null,null,null,null,null,null,null,null,null,null,null,null,null,null,null,"sf",null,0.5,null,null,1,null,null,null,null,null,0,null,null,null,0,null,null,null,0,null,null,null,0,null,null,null,0,null,"LANDSCAPING",0,0,0,0,0,0,0,0,0,0,0,0,0,0]
[null,"Cobble stone rock",null,null,null,null,null,null,null,null,null,null,null,null,null,null,null,null,"sf",null,0.5,null,null,1.75,null,null,null,null,null,0,null,null,null,0,null,null,null,0,null,null,null,0,null,null,null,0,null,"LANDSCAPING",0,0,0,0,0,0,0,0,0,0,0,0,0,0]
[null,"Tree removal, per tree",null,null,null,null,null,null,null,null,null,null,null,null,null,null,null,null,"ea","ea",500,null,null,null,null,null,null,null,null,0,null,null,null,0,null,null,null,0,null,null,null,0,null,null,null,0,null,"LANDSCAPING",0,0,0,0,0,0,0,0,0,0,0,0,0,0]
[null,"Stacked, retaining wall",null,null,null,null,null,null,null,null,null,null,null,null,null,null,null,null,"sf","sf",10,null,null,7.5,null,7.5,null,null,null,0,null,null,null,{"$f":"P345*X345","v":0},null,null,null,{"$f":"P345*AA345","v":0},null,null,null,0,null,null,null,0,null,"LANDSCAPING",0,0,0,0,0,0,0,0,0,0,0,0,0,0]
[null,null,null,null,null,null,null,null,null,null,null,null,null,null,null,null,null,null,null,null,null,null,null,null,null,null,null,null,null,0,null,null,null,{"$f":"P346*X346","v":0},null,null,null,{"$f":"P346*AA346","v":0},null,null,null,0,null,null,null,0,null,"LANDSCAPING",0,0,0,0,0,0,0,0,0,0,0,0,0,0]
[null,null,null,null,null,null,null,null,null,null,null,null,null,null,null,null,null,null,null,null,null,null,null,null,null,null,null,null,null,0,null,null,null,{"$f":"P347*X347","v":0},null,null,null,{"$f":"P347*AA347","v":0},null,null,null,0,null,null,null,0,null,"LANDSCAPING",0,0,0,0,0,0,0,0,0,0,0,0,0,0]
[null,null,null,null,null,null,null,null,null,null,null,null,null,null,null,null,null,null,null,null,null,null,null,null,null,null,null,null,null,0,null,null,null,0,null,null,null,0,null,null,null,0,null,null,null,0,null,"LANDSCAPING",0,0,0,0,0,0,0,0,0,0,0,0,0,0]
[null,null,null,null,null,null,null,null,null,null,null,null,null,null,null,null,null,null,null,null,null,null,null,null,null,null,null,null,null,0,null,null,null,0,null,null,null,0,null,null,null,0,null,null,null,0,null,"LANDSCAPING",0,0,0,0,0,0,0,0,0,0,0,0,0,0]
[null,null,null,null,null,null,null,null,null,null,null,null,null,null,null,null,null,null,null,null,null,null,null,null,null,null,null,null,null,0,null,null,null,0,null,null,null,0,null,null,null,0,null,null,null,0,null,"LANDSCAPING",0,0,0,0,0,0,0,0,0,0,0,0,0,0]
[null,null,null,null,null,null,null,null,null,null,null,null,null,null,null,null,null,null,null,null,null,null,null,null,null,null,null,null,null,0,null,null,null,0,null,null,null,0,null,null,null,0,null,null,null,0,null,"LANDSCAPING",0,0,0,0,0,0,0,0,0,0,0,0,0,0]
[null,null,null,null,null,null,null,null,null,null,null,null,null,null,null,null,null,null,null,null,null,null,null,null,null,null,null,null,null,0,null,null,null,0,null,null,null,0,null,null,null,0,null,null,null,0,null,"LANDSCAPING",0,0,0,0,0,0,0,0,0,0,0,0,0,0]
[null,null,null,null,null,null,null,null,null,null,null,null,null,null,null,null,null,null,null,null,null,null,null,null,null,null,null,null,null,0,null,null,null,0,null,null,null,0,null,null,null,0,null,null,null,0,null,"LANDSCAPING",0,0,0,0,0,0,0,0,0,0,0,0,0,0]
[null,null,null,null,null,null,null,null,null,null,null,null,null,null,null,null,null,null,null,null,null,null,null,null,null,null,null,null,null,0,null,null,null,0,null,null,null,0,null,null,null,0,null,null,null,0,null,"LANDSCAPING",0,0,0,0,0,0,0,0,0,0,0,0,0,0]
[null,null,null,null,null,null,null,null,null,null,null,null,null,null,null,null,null,null,null,null,null,null,null,null,null,null,null,null,null,0,null,null,null,0,null,null,null,0,null,null,null,0,null,null,null,0,null,"LANDSCAPING",0,0,0,0,0,0,0,0,0,0,0,0,0,0]
[null,null,null,null,null,null,null,null,null,null,null,null,null,null,null,null,null,null,null,null,null,null,null,null,null,null,null,null,null,0,null,null,null,0,null,null,null,0,null,null,null,0,null,null,null,0,null,"LANDSCAPING",0,0,0,0,0,0,0,0,0,0,0,0,0,0]
[null,null,null,null,null,null,null,null,null,null,null,null,null,null,null,null,null,null,null,null,null,null,null,null,null,null,null,null,null,0,null,null,null,0,null,null,null,0,null,null,null,0,null,null,null,0,null,"LANDSCAPING",0,0,0,0,0,0,0,0,0,0,0,0,0,0]
[null,null,null,null,null,null,null,null,null,null,null,null,null,null,null,null,null,null,null,null,null,null,null,null,null,null,null,null,null,0,null,null,null,0,null,null,null,0,null,null,null,0,null,null,null,0,null,"LANDSCAPING",0,0,0,0,0,0,0,0,0,0,0,0,0,0]
[null,null,null,null,null,null,null,null,null,null,null,null,null,null,null,null,null,null,null,null,null,null,null,null,null,null,null,null,null,0,null,null,null,0,null,null,null,0,null,null,null,0,null,null,null,0,null,"LANDSCAPING",0,0,0,0,0,0,0,0,0,0,0,0,0,0]
[null,null,null,null,null,null,null,null,null,null,null,null,null,null,null,null,null,null,null,null,null,null,null,null,null,null,null,null,null,0,null,null,null,{"$f":"P360*X360","v":0},null,null,null,{"$f":"P360*AA360","v":0},null,null,null,0,null,null,null,0,null,"LANDSCAPING",0,0,0,0,0,0,0,0,0,0,0,0,0,0]
[null,null,null,null,null,null,null,null,null,null,null,null,null,null,null,null,null,null,null,null,null,null,null,null,null,null,null,null,null,0,null,null,null,{"$f":"P361*X361","v":0},null,null,null,{"$f":"P361*AA361","v":0},null,null,null,0,null,null,null,0,null,"LANDSCAPING",0,0,0,0,0,0,0,0,0,0,0,0,0,0]
[null,null,null,null,null,null,null,null,null,null,null,null,null,null,null,null,null,null,null,null,null,null,null,null,null,null,null,null,null,0,null,null,null,{"$f":"P362*X362","v":0},null,null,null,{"$f":"P362*AA362","v":0},null,null,null,0,null,null,null,0,null,"LANDSCAPING",0,0,0,0,0,0,0,0,0,0,0,0,0,0]
[null,null,null,null,null,null,null,null,null,null,null,null,null,null,null,null,null,null,null,null,null,null,null,null,null,null,null,null,null,0,null,null,null,{"$f":"P363*X363","v":0},null,null,null,{"$f":"P363*AA363","v":0},null,null,null,0,null,null,null,0,null,"LANDSCAPING",0,0,0,0,0,0,0,0,0,0,0,0,0,0]
[null,null,null,null,null,null,null,null,null,null,null,null,null,null,null,null,null,null,null,null,null,null,null,null,null,null,null,null,null,0,null,null,null,0,null,null,null,0,null,null,null,0,null,null,null,0,null,"LANDSCAPING",0,0,0,0,0,0,0,0,0,0,0,0,0,0]
[null,null,null,null,null,null,null,null,null,null,null,null,null,null,null,null,null,null,null,null,null,null,null,null,null,null,null,null,null,0,null,null,null,0,null,null,null,0,null,null,null,0,null,null,null,0,null,"LANDSCAPING",0,0,0,0,0,0,0,0,0,0,0,0,0,0]
[null,null,null,null,null,null,null,null,null,null,null,null,null,null,null,null,null,null,null,null,null,null,null,null,null,null,null,null,null,0,null,null,null,{"$f":"P366*X366","v":0},null,null,null,{"$f":"P366*AA366","v":0},null,null,null,0,null,null,null,0,null,"LANDSCAPING",0,0,0,0,0,0,0,0,0,0,0,0,0,0]
[null,null,null,null,null,null,null,null,null,null,null,null,null,null,null,null,null,null,null,null,null,null,null,null,null,null,null,null,null,0,null,null,null,{"$f":"P367*X367","v":0},null,null,null,{"$f":"P367*AA367","v":0},null,null,null,0,null,null,null,0,null,"LANDSCAPING",0,0,0,0,0,0,0,0,0,0,0,0,0,0]
[null,null,null,null,null,null,null,null,null,null,null,null,null,null,null,null,null,null,null,null,null,null,null,null,null,null,null,null,null,0,null,null,null,{"$f":"P368*X368","v":0},null,null,null,{"$f":"P368*AA368","v":0},null,null,null,0,null,null,null,0,null,"LANDSCAPING",0,0,0,0,0,0,0,0,0,0,0,0,0,0]
[null,null,null,null,null,null,null,null,null,null,null,null,null,null,null,null,null,null,null,null,null,null,null,null,null,null,null,null,null,0,null,null,null,{"$f":"P369*X369","v":0},null,null,null,{"$f":"P369*AA369","v":0},null,null,null,0,null,null,null,0,null,"LANDSCAPING",0,0,0,0,0,0,0,0,0,0,0,0,0,0]
[null,null,null,null,null,null,null,null,null,null,null,null,null,null,null,null,null,null,null,null,null,null,null,null,null,null,null,null,null,0,null,null,null,0,null,null,null,0,null,null,null,0,null,null,null,0,null,"LANDSCAPING",0,0,0,0,0,0,0,0,0,0,0,0,0,0]
[null,null,null,null,null,null,null,null,null,null,null,null,null,null,null,null,null,null,null,null,null,null,null,null,null,null,null,null,null,0,null,null,null,0,null,null,null,0,null,null,null,0,null,null,null,0,null,"LANDSCAPING",0,0,0,0,0,0,0,0,0,0,0,0,0,0]
[null,null,null,null,null,null,null,null,null,null,null,null,null,null,null,null,null,null,null,null,null,null,null,null,null,null,null,null,null,null,null,null,null,null,null,null,null,null,null,null,null,null,null,null,null,null,null,"LANDSCAPING",{"$f":"AW331","v":0},{"$f":"AX331","v":0},{"$f":"AY331","v":0},{"$f":"AZ331","v":0},null,null,{"$f":"BC331","v":0},null,{"$f":"BE331","v":0},{"$f":"BF331","v":0},null,{"$f":"BH331","v":0},{"$f":"BI331","v":0},{"$f":"BJ331","v":0}]
[null,null,null,null,null,null,null,null,null,null,null,null,null,null,null,null,null,null,null,null,null,null,null,null,null,null,null,null,{"$f":"CONCATENATE(B331,\" \",\"TOTAL\")","v":"LANDSCAPING TOTAL"},{"$f":"SUBTOTAL(9,AD331:AD372)","v":0},null,null,null,{"$f":"SUBTOTAL(9,AH331:AH372)","v":0},null,null,null,{"$f":"SUBTOTAL(9,AL331:AL372)","v":0},null,null,null,{"$f":"SUBTOTAL(9,AP331:AP372)","v":0},null,null,null,{"$f":"SUM(AT335:AT343)","v":0},null,"LANDSCAPING",{"$f":"SUM(AW332:AW372)","v":0},0,0,0,0,0,0,0,0,0,0,0,0,0]
[null,null,null,null,null,null,null,null,null,null,null,null,null,null,null,null,null,null,null,null,null,null,null,null,null,null,null,null,null,null,null,null,null,null,null,null,null,null,null,null,null,null,null,null,null,null,null,"LANDSCAPING",{"$f":"AW331","v":0},{"$f":"AX331","v":0},{"$f":"AY331","v":0},{"$f":"AZ331","v":0},null,null,{"$f":"BC331","v":0},null,{"$f":"BE331","v":0},{"$f":"BF331","v":0},null,{"$f":"BH331","v":0},{"$f":"BI331","v":0},{"$f":"BJ331","v":0}]
[null,null,null,null,null,null,null,null,null,null,null,null,null,null,null,null,null,null,null,null,null,null,null,null,null,null,null,null,null,null,null,null,null,null,null,null,null,null,null,null,null,null,null,null,null,null,null,"LANDSCAPING",{"$f":"AW373","v":0},{"$f":"AX373","v":0},{"$f":"AY373","v":0},{"$f":"AZ373","v":0},null,null,{"$f":"BC373","v":0},null,{"$f":"BE373","v":0},{"$f":"BF373","v":0},null,{"$f":"BH373","v":0},{"$f":"BI373","v":0},{"$f":"BJ373","v":0}]
["Hidden",{"$f":"T(Y8)","v":"KITCHENS"},null,null,null,null,null,null,null,null,null,null,null,null,null,null,null,null,null,null,null,null,null,null,null,null,null,null,null,null,null,null,null,null,null,null,null,null,null,null,null,null,null,null,null,null,null,{"$f":"$B$376","v":"KITCHENS"}]
[null,"Kitchen Installation bid/allowance",null,null,null,null,null,null,null,null,null,null,null,null,null,null,null,null,"ls","ls",null,null,null,null,null,null,null,null,null,{"$f":"P377*U377","v":0},null,null,null,{"$f":"P377*X377","v":0},null,null,null,{"$f":"P377*AA377","v":0},null,null,null,{"$f":"SUM(AD377:AO377)","v":0},null,null,null,{"$f":"SUM(AD377:AO377)","v":0},null,"KITCHENS",{"$f":"AD377","v":0},{"$f":"AH377","v":0},{"$f":"AL377","v":0},{"$f":"SUM(AW377:AY377)","v":0},{"$f":"IFERROR(AW377/$AZ$13,0)","v":0},{"$f":"BA377*TOTAL_ADDERS","v":0},{"$f":"AW377+BB377","v":0},{"$f":"IFERROR(AX377/$AZ$13,0)","v":0},{"$f":"BD377*TOTAL_ADDERS","v":0},{"$f":"AX377+BE377","v":0},{"$f":"IFERROR(AY377/$AZ$13,0)","v":0},{"$f":"BG377*TOTAL_ADDERS","v":0},{"$f":"AY377+BH377","v":0},{"$f":"BC377+BF377+BI377","v":0}]
[null,"Kitchen Material bid/allowance",null,null,null,null,null,null,null,null,null,null,null,null,null,null,null,null,"ls","ls",null,null,null,null,null,null,null,null,null,{"$f":"P378*U378","v":0},null,null,null,0,null,null,null,0,null,null,null,0,null,null,null,0,null,"KITCHENS",0,0,0,0,{"$f":"IFERROR(AW378/$AZ$13,0)","v":0},0,{"$f":"AW378+BB378","v":0},{"$f":"IFERROR(AX378/$AZ$13,0)","v":0},0,{"$f":"AX378+BE378","v":0},{"$f":"IFERROR(AY378/$AZ$13,0)","v":0},0,{"$f":"AY378+BH378","v":0},{"$f":"BC378+BF378+BI378","v":0}]
[null,null,null,null,null,null,null,null,null,null,null,null,null,null,null,null,null,null,null,null,null,null,null,null,null,null,null,null,null,0,null,null,null,0,null,null,null,0,null,null,null,0,null,null,null,0,null,"KITCHENS",0,0,0,0,0,0,0,0,0,0,0,0,0,0]
[null,"Kitchens, Lump Sum",null,null,null,null,null,null,null,null,null,null,null,null,null,null,null,null,null,null,null,null,null,null,null,null,null,null,null,0,null,null,null,0,null,null,null,0,null,null,null,0,null,null,null,0,null,"KITCHENS",0,0,0,0,0,0,0,0,0,0,0,0,0,0]
[null,"High end, (cabinets, countertops, MEP rough-in)",null,null,null,null,null,null,null,null,null,null,null,null,null,null,null,null,"ls",null,4000,null,null,10000,null,null,null,null,null,0,null,null,null,0,null,null,null,0,null,null,null,0,null,null,null,0,null,"KITCHENS",0,0,0,0,0,0,0,0,0,0,0,0,0,0]
[null,"Average, (cabinets, countertops, MEP rough-in)",null,null,null,null,null,null,null,null,null,null,null,null,null,null,null,null,"ls",null,2000,null,null,6500,null,null,null,null,null,0,null,null,null,0,null,null,null,0,null,null,null,0,null,null,null,0,null,"KITCHENS",0,0,0,0,0,0,0,0,0,0,0,0,0,0]
[null,"Economy, (cabinets, countertops, MEP rough-in)",null,null,null,null,null,null,null,null,null,null,null,null,null,null,null,null,"ls",null,2000,null,null,4000,null,null,null,null,null,0,null,null,null,0,null,null,null,0,null,null,null,0,null,null,null,0,null,"KITCHENS",0,0,0,0,0,0,0,0,0,0,0,0,0,0]
[null,null,null,null,null,null,null,null,null,null,null,null,null,null,null,null,null,null,null,null,null,null,null,null,null,null,null,null,null,0,null,null,null,0,null,null,null,0,null,null,null,0,null,null,null,0,null,"KITCHENS",0,0,0,0,0,0,0,0,0,0,0,0,0,0]
[null,"Kitchens, Detailed, Average",null,null,null,null,null,null,null,null,null,null,null,null,null,null,null,null,null,null,null,null,null,null,null,null,null,null,null,0,null,null,null,0,null,null,null,0,null,null,null,0,null,null,null,0,null,"KITCHENS",0,0,0,0,0,0,0,0,0,0,0,0,0,0]
[null,"Cabinetry/Countertops",null,null,null,null,null,null,null,null,null,null,null,null,null,null,null,null,null,null,null,null,null,null,null,null,null,null,null,0,null,null,null,0,null,null,null,0,null,null,null,0,null,null,null,0,null,"KITCHENS",0,0,0,0,0,0,0,0,0,0,0,0,0,0]
[null,"Kitchen Base Cabinetry",null,null,null,null,null,null,null,null,null,null,null,null,null,null,null,null,"lf","lf",50,null,null,150,null,130,null,null,null,0,null,null,null,0,null,null,null,0,null,null,null,0,null,null,null,0,null,"KITCHENS",0,0,0,0,0,0,0,0,0,0,0,0,0,0]
[null,"Kitchen Upper Cabinetry",null,null,null,null,null,null,null,null,null,null,null,null,null,null,null,null,"lf","lf",35,null,null,125,null,100,null,null,null,0,null,null,null,0,null,null,null,0,null,null,null,0,null,null,null,0,null,"KITCHENS",0,0,0,0,0,0,0,0,0,0,0,0,0,0]
[null,"Kitchen Pantry Cabinet",null,null,null,null,null,null,null,null,null,null,null,null,null,null,null,null,"ea","ea",150,null,null,800,null,800,null,null,null,0,null,null,null,0,null,null,null,0,null,null,null,0,null,null,null,0,null,"KITCHENS",0,0,0,0,0,0,0,0,0,0,0,0,0,0]
[null,"Plastic laminate countertop",null,null,null,null,null,null,null,null,null,null,null,null,null,null,null,null,"sf","sf",5,null,null,12.5,null,12.5,null,null,null,0,null,null,null,0,null,null,null,0,null,null,null,0,null,null,null,0,null,"KITCHENS",0,0,0,0,0,0,0,0,0,0,0,0,0,0]
[null,"Replace cabinet doors, only",null,null,null,null,null,null,null,null,null,null,null,null,null,null,null,null,"ea","ea",20,null,null,100,null,100,null,null,null,0,null,null,null,0,null,null,null,0,null,null,null,0,null,null,null,0,null,"KITCHENS",0,0,0,0,0,0,0,0,0,0,0,0,0,0]
[null,"New cabinet door pulls",null,null,null,null,null,null,null,null,null,null,null,null,null,null,null,null,"ea","ea",4,null,null,3,null,3,null,null,null,0,null,null,null,0,null,null,null,0,null,null,null,0,null,null,null,0,null,"KITCHENS",0,0,0,0,0,0,0,0,0,0,0,0,0,0]
[null,"Stone/solid surface countertop, kitchen",null,null,null,null,null,null,null,null,null,null,null,null,null,null,null,null,"sf","sf",null,null,null,55,null,45,null,null,null,0,null,null,null,0,null,null,null,0,null,null,null,0,null,null,null,0,null,"KITCHENS",0,0,0,0,0,0,0,0,0,0,0,0,0,0]
[null,"Plumbing",null,null,null,null,null,null,null,null,null,null,null,null,null,null,null,null,null,null,null,null,null,null,null,null,null,null,null,0,null,null,null,0,null,null,null,0,null,null,null,0,null,null,null,0,null,"KITCHENS",0,0,0,0,0,0,0,0,0,0,0,0,0,0]
[null,"Kitchen sink bowl, stainless steel, undermount",null,null,null,null,null,null,null,null,null,null,null,null,null,null,null,null,"ea","ea",100,null,null,300,null,300,null,null,null,0,null,null,null,0,null,null,null,0,null,null,null,0,null,null,null,0,null,"KITCHENS",0,0,0,0,0,0,0,0,0,0,0,0,0,0]
[null,"Kitchen faucet fixture",null,null,null,null,null,null,null,null,null,null,null,null,null,null,null,null,"ea","ea",75,null,null,150,null,null,null,null,null,0,null,null,null,0,null,null,null,0,null,null,null,0,null,null,null,0,null,"KITCHENS",0,0,0,0,0,0,0,0,0,0,0,0,0,0]
[null,"Garbage disposal",null,null,null,null,null,null,null,null,null,null,null,null,null,null,null,null,"ea","ea",50,null,null,100,null,null,null,null,null,0,null,null,null,0,null,null,null,0,null,null,null,0,null,null,null,0,null,"KITCHENS",0,0,0,0,0,0,0,0,0,0,0,0,0,0]
[null,"Hookup dishwasher",null,null,null,null,null,null,null,null,null,null,null,null,null,null,null,null,"ea","ea",50,null,null,25,null,null,null,null,null,0,null,null,null,0,null,null,null,0,null,null,null,0,null,null,null,0,null,"KITCHENS",0,0,0,0,0,0,0,0,0,0,0,0,0,0]
[null,"Water supply line for refrigerator",null,null,null,null,null,null,null,null,null,null,null,null,null,null,null,null,"ea","ea",50,null,null,25,null,null,null,null,null,0,null,null,null,0,null,null,null,0,null,null,null,0,null,null,null,0,null,"KITCHENS",0,0,0,0,0,0,0,0,0,0,0,0,0,0]
[null,null,null,null,null,null,null,null,null,null,null,null,null,null,null,null,null,null,null,null,null,null,null,null,null,null,null,null,null,0,null,null,null,0,null,null,null,0,null,null,null,0,null,null,null,0,null,"KITCHENS",0,0,0,0,0,0,0,0,0,0,0,0,0,0]
[null,"Appliance Package",null,null,null,null,null,null,null,null,null,null,null,null,null,null,null,null,null,null,null,null,null,null,null,null,null,null,null,0,null,null,null,0,null,null,null,0,null,null,null,0,null,null,null,0,null,"KITCHENS",0,0,0,0,0,0,0,0,0,0,0,0,0,0]
[null,"High end, (fridge, range, hood, dw, microwave)",null,null,null,null,null,null,null,null,null,null,null,null,null,null,null,null,"ls",null,null,null,null,7500,null,null,null,null,null,0,null,null,null,0,null,null,null,0,null,null,null,0,null,null,null,0,null,"KITCHENS",0,0,0,0,0,0,0,0,0,0,0,0,0,0]
[null,"Average, (fridge, range, hood, dw, microwave)",null,null,null,null,null,null,null,null,null,null,null,null,null,null,null,null,"ls",null,null,null,null,3000,null,null,null,null,null,0,null,null,null,0,null,null,null,0,null,null,null,0,null,null,null,0,null,"KITCHENS",0,0,0,0,0,0,0,0,0,0,0,0,0,0]
[null,"Economy, (fridge, range, hood, dw, microwave)",null,null,null,null,null,null,null,null,null,null,null,null,null,null,null,null,"ls",null,null,null,null,2000,null,null,null,null,null,0,null,null,null,0,null,null,null,0,null,null,null,0,null,null,null,0,null,"KITCHENS",0,0,0,0,0,0,0,0,0,0,0,0,0,0]
[null,null,null,null,null,null,null,null,null,null,null,null,null,null,null,null,null,null,null,null,null,null,null,null,null,null,null,null,null,0,null,null,null,0,null,null,null,0,null,null,null,0,null,null,null,0,null,"KITCHENS",0,0,0,0,0,0,0,0,0,0,0,0,0,0]
[null,"Appliances, Detailed, Average",null,null,null,null,null,null,null,null,null,null,null,null,null,null,null,null,null,null,null,null,null,null,null,null,null,null,null,0,null,null,null,0,null,null,null,0,null,null,null,0,null,null,null,0,null,"KITCHENS",0,0,0,0,0,0,0,0,0,0,0,0,0,0]
[null,"Refrigerator, average",null,null,null,null,null,null,null,null,null,null,null,null,null,null,null,null,"ea",null,null,null,null,1200,null,null,null,null,null,0,null,null,null,{"$f":"P407*X407","v":0},null,null,null,{"$f":"P407*AA407","v":0},null,null,null,0,null,null,null,0,null,"KITCHENS",0,0,0,0,0,0,0,0,0,0,0,0,0,0]
[null,"Range, average",null,null,null,null,null,null,null,null,null,null,null,null,null,null,null,null,"ea",null,null,null,null,750,null,null,null,null,null,0,null,null,null,{"$f":"P408*X408","v":0},null,null,null,{"$f":"P408*AA408","v":0},null,null,null,0,null,null,null,0,null,"KITCHENS",0,0,0,0,0,0,0,0,0,0,0,0,0,0]
[null,"Range Hood, average",null,null,null,null,null,null,null,null,null,null,null,null,null,null,null,null,"ea",null,null,null,null,350,null,null,null,null,null,0,null,null,null,0,null,null,null,0,null,null,null,0,null,null,null,0,null,"KITCHENS",0,0,0,0,0,0,0,0,0,0,0,0,0,0]
[null,"Dishwasher, average",null,null,null,null,null,null,null,null,null,null,null,null,null,null,null,null,"ea",null,null,null,null,500,null,null,null,null,null,0,null,null,null,0,null,null,null,0,null,null,null,0,null,null,null,0,null,"KITCHENS",0,0,0,0,0,0,0,0,0,0,0,0,0,0]
[null,"Microwave, average",null,null,null,null,null,null,null,null,null,null,null,null,null,null,null,null,"ea",null,null,null,null,250,null,null,null,null,null,0,null,null,null,0,null,null,null,0,null,null,null,0,null,null,null,0,null,"KITCHENS",0,0,0,0,0,0,0,0,0,0,0,0,0,0]
[null,"Appliance delivery",null,null,null,null,null,null,null,null,null,null,null,null,null,null,null,null,"ea",null,null,null,null,75,null,null,null,null,null,0,null,null,null,0,null,null,null,0,null,null,null,0,null,null,null,0,null,"KITCHENS",0,0,0,0,0,0,0,0,0,0,0,0,0,0]
[null,null,null,null,null,null,null,null,null,null,null,null,null,null,null,null,null,null,null,null,null,null,null,null,null,null,null,null,null,0,null,null,null,{"$f":"P413*X413","v":0},null,null,null,{"$f":"P413*AA413","v":0},null,null,null,0,null,null,null,0,null,"KITCHENS",0,0,0,0,0,0,0,0,0,0,0,0,0,0]
[null,null,null,null,null,null,null,null,null,null,null,null,null,null,null,null,null,null,null,null,null,null,null,null,null,null,null,null,null,0,null,null,null,{"$f":"P414*X414","v":0},null,null,null,{"$f":"P414*AA414","v":0},null,null,null,0,null,null,null,0,null,"KITCHENS",0,0,0,0,0,0,0,0,0,0,0,0,0,0]
[null,null,null,null,null,null,null,null,null,null,null,null,null,null,null,null,null,null,null,null,null,null,null,null,null,null,null,null,null,0,null,null,null,{"$f":"P415*X415","v":0},null,null,null,{"$f":"P415*AA415","v":0},null,null,null,0,null,null,null,0,null,"KITCHENS",0,0,0,0,0,0,0,0,0,0,0,0,0,0]
[null,null,null,null,null,null,null,null,null,null,null,null,null,null,null,null,null,null,null,null,null,null,null,null,null,null,null,null,null,0,null,null,null,{"$f":"P416*X416","v":0},null,null,null,{"$f":"P416*AA416","v":0},null,null,null,0,null,null,null,0,null,"KITCHENS",0,0,0,0,0,0,0,0,0,0,0,0,0,0]
[null,null,null,null,null,null,null,null,null,null,null,null,null,null,null,null,null,null,null,null,null,null,null,null,null,null,null,null,null,null,null,null,null,null,null,null,null,null,null,null,null,null,null,null,null,null,null,"KITCHENS",{"$f":"AW376","v":0},{"$f":"AX376","v":0},{"$f":"AY376","v":0},{"$f":"AZ376","v":0},null,null,{"$f":"BC376","v":0},null,{"$f":"BE376","v":0},{"$f":"BF376","v":0},null,{"$f":"BH376","v":0},{"$f":"BI376","v":0},{"$f":"BJ376","v":0}]
[null,null,null,null,null,null,null,null,null,null,null,null,null,null,null,null,null,null,null,null,null,null,null,null,null,null,null,null,{"$f":"CONCATENATE(B376,\" \",\"TOTAL\")","v":"KITCHENS TOTAL"},{"$f":"SUBTOTAL(9,AD376:AD417)","v":0},null,null,null,{"$f":"SUBTOTAL(9,AH376:AH417)","v":0},null,null,null,{"$f":"SUBTOTAL(9,AL376:AL417)","v":0},null,null,null,{"$f":"SUBTOTAL(9,AP376:AP417)","v":0},null,null,null,{"$f":"SUM(AT381:AT389)","v":0},null,"KITCHENS",{"$f":"SUM(AW377:AW417)","v":0},0,0,0,0,0,0,0,0,0,0,0,0,0]
[null,null,null,null,null,null,null,null,null,null,null,null,null,null,null,null,null,null,null,null,null,null,null,null,null,null,null,null,null,null,null,null,null,null,null,null,null,null,null,null,null,null,null,null,null,null,null,"KITCHENS",{"$f":"AW376","v":0},{"$f":"AX376","v":0},{"$f":"AY376","v":0},{"$f":"AZ376","v":0},null,null,{"$f":"BC376","v":0},null,{"$f":"BE376","v":0},{"$f":"BF376","v":0},null,{"$f":"BH376","v":0},{"$f":"BI376","v":0},{"$f":"BJ376","v":0}]
[null,null,null,null,null,null,null,null,null,null,null,null,null,null,null,null,null,null,null,null,null,null,null,null,null,null,null,null,null,null,null,null,null,null,null,null,null,null,null,null,null,null,null,null,null,null,null,"KITCHENS",{"$f":"AW418","v":0},{"$f":"AX418","v":0},{"$f":"AY418","v":0},{"$f":"AZ418","v":0},null,null,{"$f":"BC418","v":0},null,{"$f":"BE418","v":0},{"$f":"BF418","v":0},null,{"$f":"BH418","v":0},{"$f":"BI418","v":0},{"$f":"BJ418","v":0}]
["Hidden",{"$f":"T(Y9)","v":"BATHROOMS"},null,null,null,null,null,null,null,null,null,null,null,null,null,null,null,null,null,null,null,null,null,null,null,null,null,null,null,null,null,null,null,null,null,null,null,null,null,null,null,null,null,null,null,null,null,{"$f":"$B$421","v":"BATHROOMS"}]
[null,"Bathroom Installation bid/allowance",null,null,null,null,null,null,null,null,null,null,null,null,null,null,null,null,"ls","ls",null,null,null,null,null,null,null,null,null,{"$f":"P422*U422","v":0},null,null,null,{"$f":"P422*X422","v":0},null,null,null,{"$f":"P422*AA422","v":0},null,null,null,{"$f":"SUM(AD422:AO422)","v":0},null,null,null,{"$f":"SUM(AD422:AO422)","v":0},null,"BATHROOMS",{"$f":"AD422","v":0},{"$f":"AH422","v":0},{"$f":"AL422","v":0},{"$f":"SUM(AW422:AY422)","v":0},{"$f":"IFERROR(AW422/$AZ$13,0)","v":0},{"$f":"BA422*TOTAL_ADDERS","v":0},{"$f":"AW422+BB422","v":0},{"$f":"IFERROR(AX422/$AZ$13,0)","v":0},{"$f":"BD422*TOTAL_ADDERS","v":0},{"$f":"AX422+BE422","v":0},{"$f":"IFERROR(AY422/$AZ$13,0)","v":0},{"$f":"BG422*TOTAL_ADDERS","v":0},{"$f":"AY422+BH422","v":0},{"$f":"BC422+BF422+BI422","v":0}]
[null,"Bathroom Material bid/allowance",null,null,null,null,null,null,null,null,null,null,null,null,null,null,null,null,"ls","ls",null,null,null,null,null,null,null,null,null,{"$f":"P423*U423","v":0},null,null,null,0,null,null,null,0,null,null,null,0,null,null,null,0,null,"BATHROOMS",0,0,0,0,{"$f":"IFERROR(AW423/$AZ$13,0)","v":0},0,{"$f":"AW423+BB423","v":0},{"$f":"IFERROR(AX423/$AZ$13,0)","v":0},0,{"$f":"AX423+BE423","v":0},{"$f":"IFERROR(AY423/$AZ$13,0)","v":0},0,{"$f":"AY423+BH423","v":0},{"$f":"BC423+BF423+BI423","v":0}]
[null,null,null,null,null,null,null,null,null,null,null,null,null,null,null,null,null,null,null,null,null,null,null,null,null,null,null,null,null,0,null,null,null,0,null,null,null,0,null,null,null,0,null,null,null,0,null,"BATHROOMS",0,0,0,0,0,0,0,0,0,0,0,0,0,0]
[null,"Bathroom, Lump Sum, Replace Existing",null,null,null,null,null,null,null,null,null,null,null,null,null,null,null,null,null,null,null,null,null,null,null,null,null,null,null,0,null,null,null,0,null,null,null,0,null,null,null,0,null,null,null,0,null,"BATHROOMS",0,0,0,0,0,0,0,0,0,0,0,0,0,0]
[null,"Full bathrooms",null,null,null,null,null,null,null,null,null,null,null,null,null,null,null,null,null,null,null,null,null,null,null,null,null,null,null,0,null,null,null,0,null,null,null,0,null,null,null,0,null,null,null,0,null,"BATHROOMS",0,0,0,0,0,0,0,0,0,0,0,0,0,0]
[null,"High end, (new finishes, fixtures, MEP finish work)",null,null,null,null,null,null,null,null,null,null,null,null,null,null,null,null,"ea",null,4000,null,null,5000,null,null,null,null,null,0,null,null,null,0,null,null,null,0,null,null,null,0,null,null,null,0,null,"BATHROOMS",0,0,0,0,0,0,0,0,0,0,0,0,0,0]
[null,"Average, (new finishes, fixtures, MEP finish work)",null,null,null,null,null,null,null,null,null,null,null,null,null,null,null,null,"ea",null,2000,null,null,3000,null,null,null,null,null,0,null,null,null,0,null,null,null,0,null,null,null,0,null,null,null,0,null,"BATHROOMS",0,0,0,0,0,0,0,0,0,0,0,0,0,0]
[null,"Economy, (new finishes, fixtures, MEP finish work)",null,null,null,null,null,null,null,null,null,null,null,null,null,null,null,null,"ea",null,1500,null,null,1500,null,null,null,null,null,0,null,null,null,0,null,null,null,0,null,null,null,0,null,null,null,0,null,"BATHROOMS",0,0,0,0,0,0,0,0,0,0,0,0,0,0]
[null,"Half bathrooms",null,null,null,null,null,null,null,null,null,null,null,null,null,null,null,null,null,null,null,null,null,null,null,null,null,null,null,0,null,null,null,0,null,null,null,0,null,null,null,0,null,null,null,0,null,"BATHROOMS",0,0,0,0,0,0,0,0,0,0,0,0,0,0]
[null,"High end, (new finishes, fixtures, MEP finish work)",null,null,null,null,null,null,null,null,null,null,null,null,null,null,null,null,"ea",null,1500,null,null,2500,null,null,null,null,null,0,null,null,null,0,null,null,null,0,null,null,null,0,null,null,null,0,null,"BATHROOMS",0,0,0,0,0,0,0,0,0,0,0,0,0,0]
[null,"Average, (new finishes, fixtures, MEP finish work)",null,null,null,null,null,null,null,null,null,null,null,null,null,null,null,null,"ea",null,1000,null,null,1250,null,null,null,null,null,0,null,null,null,0,null,null,null,0,null,null,null,0,null,null,null,0,null,"BATHROOMS",0,0,0,0,0,0,0,0,0,0,0,0,0,0]
[null,"Economy, (new finishes, fixtures, MEP finish work)",null,null,null,null,null,null,null,null,null,null,null,null,null,null,null,null,"ea",null,750,null,null,750,null,null,null,null,null,0,null,null,null,0,null,null,null,0,null,null,null,0,null,null,null,0,null,"BATHROOMS",0,0,0,0,0,0,0,0,0,0,0,0,0,0]
[null,"+Add for MEP rough-in or relocation work",null,null,null,null,null,null,null,null,null,null,null,null,null,null,null,null,"ea",null,500,null,null,500,null,null,null,null,null,0,null,null,null,0,null,null,null,0,null,null,null,0,null,null,null,0,null,"BATHROOMS",0,0,0,0,0,0,0,0,0,0,0,0,0,0]
[null,null,null,null,null,null,null,null,null,null,null,null,null,null,null,null,null,null,null,null,null,null,null,null,null,null,null,null,null,0,null,null,null,0,null,null,null,0,null,null,null,0,null,null,null,0,null,"BATHROOMS",0,0,0,0,0,0,0,0,0,0,0,0,0,0]
[null,"Bathrooms, Detailed, Average",null,null,null,null,null,null,null,null,null,null,null,null,null,null,null,null,null,"ls",null,null,null,null,null,null,null,null,null,0,null,null,null,0,null,null,null,0,null,null,null,0,null,null,null,0,null,"BATHROOMS",0,0,0,0,0,0,0,0,0,0,0,0,0,0]
[null,"Vanities/Countertop",null,null,null,null,null,null,null,null,null,null,null,null,null,null,null,null,null,null,null,null,null,null,null,null,null,null,null,0,null,null,null,0,null,null,null,0,null,null,null,0,null,null,null,0,null,"BATHROOMS",0,0,0,0,0,0,0,0,0,0,0,0,0,0]
[null,"Vanity cabinet",null,null,null,null,null,null,null,null,null,null,null,null,null,null,null,null,"ea","ea",150,null,null,500,null,450,null,null,null,0,null,null,null,0,null,null,null,0,null,null,null,0,null,null,null,0,null,"BATHROOMS",0,0,0,0,0,0,0,0,0,0,0,0,0,0]
[null,"New cabinet door pulls",null,null,null,null,null,null,null,null,null,null,null,null,null,null,null,null,"ea","ea",4,null,null,4.25,null,4.25,null,null,null,0,null,null,null,0,null,null,null,0,null,null,null,0,null,null,null,0,null,"BATHROOMS",0,0,0,0,0,0,0,0,0,0,0,0,0,0]
[null,"Vanity countertop, stone/solid surface",null,null,null,null,null,null,null,null,null,null,null,null,null,null,null,null,"sf","sf",null,null,null,50,null,50,null,null,null,0,null,null,null,0,null,null,null,0,null,null,null,0,null,null,null,0,null,"BATHROOMS",0,0,0,0,0,0,0,0,0,0,0,0,0,0]
[null,"Finishes",null,null,null,null,null,null,null,null,null,null,null,null,null,null,null,null,null,null,null,null,null,null,null,null,null,null,null,0,null,null,null,0,null,null,null,0,null,null,null,0,null,null,null,0,null,"BATHROOMS",0,0,0,0,0,0,0,0,0,0,0,0,0,0]
[null,"Shower tile, standard",null,null,null,null,null,null,null,null,null,null,null,null,null,null,null,null,"sf","sf",5,null,null,4,null,4,null,null,null,0,null,null,null,0,null,null,null,0,null,null,null,0,null,null,null,0,null,"BATHROOMS",0,0,0,0,0,0,0,0,0,0,0,0,0,0]
[null,"Shower tile, accent mosaic tile",null,null,null,null,null,null,null,null,null,null,null,null,null,null,null,null,"sf","sf",5,null,null,12,null,12,null,null,null,0,null,null,null,0,null,null,null,0,null,null,null,0,null,null,null,0,null,"BATHROOMS",0,0,0,0,0,0,0,0,0,0,0,0,0,0]
[null,"Floor tile, bathrooms",null,null,null,null,null,null,null,null,null,null,null,null,null,null,null,null,"sf","sf",5,null,null,5,null,5,null,null,null,0,null,null,null,0,null,null,null,0,null,null,null,0,null,null,null,0,null,"BATHROOMS",0,0,0,0,0,0,0,0,0,0,0,0,0,0]
[null,"Plumbing",null,null,null,null,null,null,null,null,null,null,null,null,null,null,null,null,null,null,null,null,null,null,null,null,null,null,null,0,null,null,null,0,null,null,null,0,null,null,null,0,null,null,null,0,null,"BATHROOMS",0,0,0,0,0,0,0,0,0,0,0,0,0,0]
[null,"Bathroom faucet fixture",null,null,null,null,null,null,null,null,null,null,null,null,null,null,null,null,"ea",null,75,null,null,125,null,125,null,null,null,0,null,null,null,0,null,null,null,0,null,null,null,0,null,null,null,0,null,"BATHROOMS",0,0,0,0,0,0,0,0,0,0,0,0,0,0]
[null,"Fiberglass shower stall",null,null,null,null,null,null,null,null,null,null,null,null,null,null,null,null,"ea",null,150,null,null,250,null,250,null,null,null,0,null,null,null,0,null,null,null,0,null,null,null,0,null,null,null,0,null,"BATHROOMS",0,0,0,0,0,0,0,0,0,0,0,0,0,0]
[null,"Fiberglass tub",null,null,null,null,null,null,null,null,null,null,null,null,null,null,null,null,"ea",null,150,null,null,250,null,185,null,null,null,0,null,null,null,0,null,null,null,0,null,null,null,0,null,null,null,0,null,"BATHROOMS",0,0,0,0,0,0,0,0,0,0,0,0,0,0]
[null,"Fiberglass tub/shower surround",null,null,null,null,null,null,null,null,null,null,null,null,null,null,null,null,"ea",null,200,null,null,350,null,300,null,null,null,0,null,null,null,0,null,null,null,0,null,null,null,0,null,null,null,0,null,"BATHROOMS",0,0,0,0,0,0,0,0,0,0,0,0,0,0]
[null,"Showerhead/tub kit",null,null,null,null,null,null,null,null,null,null,null,null,null,null,null,null,"ea",null,75,null,null,150,null,135,null,null,null,0,null,null,null,0,null,null,null,0,null,null,null,0,null,null,null,0,null,"BATHROOMS",0,0,0,0,0,0,0,0,0,0,0,0,0,0]
[null,"Toilets",null,null,null,null,null,null,null,null,null,null,null,null,null,null,null,null,"ea",null,75,null,null,125,null,125,null,null,null,0,null,null,null,0,null,null,null,0,null,null,null,0,null,null,null,0,null,"BATHROOMS",0,0,0,0,0,0,0,0,0,0,0,0,0,0]
[null,"Toilet seats",null,null,null,null,null,null,null,null,null,null,null,null,null,null,null,null,"ea",null,12,null,null,20,null,20,null,null,null,0,null,null,null,0,null,null,null,0,null,null,null,0,null,null,null,0,null,"BATHROOMS",0,0,0,0,0,0,0,0,0,0,0,0,0,0]
[null,"Pedestal sink",null,null,null,null,null,null,null,null,null,null,null,null,null,null,null,null,"ea",null,100,null,null,250,null,250,null,null,null,0,null,null,null,0,null,null,null,0,null,null,null,0,null,null,null,0,null,"BATHROOMS",0,0,0,0,0,0,0,0,0,0,0,0,0,0]
[null,"Electrical",null,null,null,null,null,null,null,null,null,null,null,null,null,null,null,null,null,null,null,null,null,null,null,null,null,null,null,0,null,null,null,0,null,null,null,0,null,null,null,0,null,null,null,0,null,"BATHROOMS",0,0,0,0,0,0,0,0,0,0,0,0,0,0]
[null,"Exhaust Fan",null,null,null,null,null,null,null,null,null,null,null,null,null,null,null,null,"ea",null,40,null,null,85,null,40,null,null,null,0,null,null,null,0,null,null,null,0,null,null,null,0,null,null,null,0,null,"BATHROOMS",0,0,0,0,0,0,0,0,0,0,0,0,0,0]
[null,"Bathroom vanity light",null,null,null,null,null,null,null,null,null,null,null,null,null,null,null,null,"ea",null,50,null,null,85,null,85,null,null,null,0,null,null,null,0,null,null,null,0,null,null,null,0,null,null,null,0,null,"BATHROOMS",0,0,0,0,0,0,0,0,0,0,0,0,0,0]
[null,"Accessories",null,null,null,null,null,null,null,null,null,null,null,null,null,null,null,null,null,null,null,null,null,null,null,null,null,null,null,0,null,null,null,0,null,null,null,0,null,null,null,0,null,null,null,0,null,"BATHROOMS",0,0,0,0,0,0,0,0,0,0,0,0,0,0]
[null,"Bath accessories, towel bar, toilet disp, ea bathroom",null,null,null,null,null,null,null,null,null,null,null,null,null,null,null,null,"ea","ea",50,null,null,50,null,50,null,null,null,0,null,null,null,0,null,null,null,0,null,null,null,0,null,null,null,0,null,"BATHROOMS",0,0,0,0,0,0,0,0,0,0,0,0,0,0]
[null,"Bathroom mirrors",null,null,null,null,null,null,null,null,null,null,null,null,null,null,null,null,"ea","ea",25,null,null,70,null,70,null,null,null,0,null,null,null,0,null,null,null,0,null,null,null,0,null,null,null,0,null,"BATHROOMS",0,0,0,0,0,0,0,0,0,0,0,0,0,0]
[null,null,null,null,null,null,null,null,null,null,null,null,null,null,null,null,null,null,null,null,null,null,null,null,null,null,null,null,null,0,null,null,null,0,null,null,null,0,null,null,null,0,null,null,null,0,null,"BATHROOMS",0,0,0,0,0,0,0,0,0,0,0,0,0,0]
[null,null,null,null,null,null,null,null,null,null,null,null,null,null,null,null,null,null,null,null,null,null,null,null,null,null,null,null,null,0,null,null,null,0,null,null,null,0,null,null,null,0,null,null,null,0,null,"BATHROOMS",0,0,0,0,0,0,0,0,0,0,0,0,0,0]
[null,null,null,null,null,null,null,null,null,null,null,null,null,null,null,null,null,null,null,null,null,null,null,null,null,null,null,null,null,null,null,null,null,null,null,null,null,null,null,null,null,null,null,null,null,null,null,"BATHROOMS",{"$f":"AW421","v":0},{"$f":"AX421","v":0},{"$f":"AY421","v":0},{"$f":"AZ421","v":0},null,null,{"$f":"BC421","v":0},null,{"$f":"BE421","v":0},{"$f":"BF421","v":0},null,{"$f":"BH421","v":0},{"$f":"BI421","v":0},{"$f":"BJ421","v":0}]
[null,null,null,null,null,null,null,null,null,null,null,null,null,null,null,null,null,null,null,null,null,null,null,null,null,null,null,null,{"$f":"CONCATENATE(B421,\" \",\"TOTAL\")","v":"BATHROOMS TOTAL"},{"$f":"SUBTOTAL(9,AD421:AD462)","v":0},null,null,null,{"$f":"SUBTOTAL(9,AH421:AH462)","v":0},null,null,null,{"$f":"SUBTOTAL(9,AL421:AL462)","v":0},null,null,null,{"$f":"SUBTOTAL(9,AP421:AP462)","v":0},null,null,null,{"$f":"SUM(AT436:AT441)","v":0},null,"BATHROOMS",{"$f":"SUM(AW422:AW462)","v":0},0,0,0,0,0,0,0,0,0,0,0,0,0]
[null,null,null,null,null,null,null,null,null,null,null,null,null,null,null,null,null,null,null,null,null,null,null,null,null,null,null,null,null,null,null,null,null,null,null,null,null,null,null,null,null,null,null,null,null,null,null,"BATHROOMS",{"$f":"AW421","v":0},{"$f":"AX421","v":0},{"$f":"AY421","v":0},{"$f":"AZ421","v":0},null,null,{"$f":"BC421","v":0},null,{"$f":"BE421","v":0},{"$f":"BF421","v":0},null,{"$f":"BH421","v":0},{"$f":"BI421","v":0},{"$f":"BJ421","v":0}]
[null,null,null,null,null,null,null,null,null,null,null,null,null,null,null,null,null,null,null,null,null,null,null,null,null,null,null,null,null,null,null,null,null,null,null,null,null,null,null,null,null,null,null,null,null,null,null,"BATHROOMS",{"$f":"AW463","v":0},{"$f":"AX463","v":0},{"$f":"AY463","v":0},{"$f":"AZ463","v":0},null,null,{"$f":"BC463","v":0},null,{"$f":"BE463","v":0},{"$f":"BF463","v":0},null,{"$f":"BH463","v":0},{"$f":"BI463","v":0},{"$f":"BJ463","v":0}]
["Hidden",{"$f":"T(Y10)","v":"DOORS & TRIM"},null,null,null,null,null,null,null,null,null,null,null,null,null,null,null,null,null,null,null,null,null,null,null,null,null,null,null,null,null,null,null,null,null,null,null,null,null,null,null,null,null,null,null,null,null,{"$f":"$B$466","v":"DOORS & TRIM"}]
[null,"Finish carpentry bid/allowance",null,null,null,null,null,null,null,null,null,null,null,null,null,null,null,null,"ls","ls",null,null,null,null,null,null,null,null,null,{"$f":"P467*U467","v":0},null,null,null,{"$f":"P467*X467","v":0},null,null,null,{"$f":"P467*AA467","v":0},null,null,null,{"$f":"SUM(AD467:AO467)","v":0},null,null,null,null,null,"DOORS & TRIM",{"$f":"AD467","v":0},{"$f":"AH467","v":0},{"$f":"AL467","v":0},{"$f":"SUM(AW467:AY467)","v":0},{"$f":"IFERROR(AW467/$AZ$13,0)","v":0},{"$f":"BA467*TOTAL_ADDERS","v":0},{"$f":"AW467+BB467","v":0},{"$f":"IFERROR(AX467/$AZ$13,0)","v":0},{"$f":"BD467*TOTAL_ADDERS","v":0},{"$f":"AX467+BE467","v":0},{"$f":"IFERROR(AY467/$AZ$13,0)","v":0},{"$f":"BG467*TOTAL_ADDERS","v":0},{"$f":"AY467+BH467","v":0},{"$f":"BC467+BF467+BI467","v":0}]
[null,"Interior door, prehung, hollow-core door",null,null,null,null,null,null,null,null,null,null,null,null,null,null,null,null,"ea","ea",75,null,null,75,null,75,null,null,null,{"$f":"P468*U468","v":0},null,null,null,0,null,null,null,0,null,null,null,0,null,null,null,null,null,"DOORS & TRIM",0,0,0,0,{"$f":"IFERROR(AW468/$AZ$13,0)","v":0},0,{"$f":"AW468+BB468","v":0},{"$f":"IFERROR(AX468/$AZ$13,0)","v":0},0,{"$f":"AX468+BE468","v":0},{"$f":"IFERROR(AY468/$AZ$13,0)","v":0},0,{"$f":"AY468+BH468","v":0},{"$f":"BC468+BF468+BI468","v":0}]
[null,"Interior mirrored, sliding, closet doors",null,null,null,null,null,null,null,null,null,null,null,null,null,null,null,null,"ea","ea",75,null,null,85,null,75,null,null,null,0,null,null,null,0,null,null,null,0,null,null,null,0,null,null,null,null,null,"DOORS & TRIM",0,0,0,0,0,0,0,0,0,0,0,0,0,0]
[null,"Interior bi-fold, closet doors",null,null,null,null,null,null,null,null,null,null,null,null,null,null,null,null,"ea","ea",75,null,null,100,null,100,null,null,null,0,null,null,null,0,null,null,null,0,null,null,null,0,null,null,null,null,null,"DOORS & TRIM",0,0,0,0,0,0,0,0,0,0,0,0,0,0]
[null,"Door hardware, knobs only",null,null,null,null,null,null,null,null,null,null,null,null,null,null,null,null,"ea","ea",15,null,null,15,null,15,null,null,null,0,null,null,null,0,null,null,null,0,null,null,null,0,null,null,null,null,null,"DOORS & TRIM",0,0,0,0,0,0,0,0,0,0,0,0,0,0]
[null,"Door casings",null,null,null,null,null,null,null,null,null,null,null,null,null,null,null,null,"ea","lf",50,null,null,55,null,null,null,null,null,0,null,null,null,0,null,null,null,0,null,null,null,0,null,null,null,null,null,"DOORS & TRIM",0,0,0,0,0,0,0,0,0,0,0,0,0,0]
[null,"Window casings",null,null,null,null,null,null,null,null,null,null,null,null,null,null,null,null,"ea",null,50,null,null,45,null,null,null,null,null,0,null,null,null,0,null,null,null,0,null,null,null,0,null,null,null,null,null,"DOORS & TRIM",0,0,0,0,0,0,0,0,0,0,0,0,0,0]
[null,"Window sills",null,null,null,null,null,null,null,null,null,null,null,null,null,null,null,null,"lf",null,5,null,null,2.5,null,null,null,null,null,0,null,null,null,0,null,null,null,0,null,null,null,0,null,null,null,null,null,"DOORS & TRIM",0,0,0,0,0,0,0,0,0,0,0,0,0,0]
[null,"Wood  base",null,null,null,null,null,null,null,null,null,null,null,null,null,null,null,null,"lf","lf",1.75,null,null,1,null,1,null,null,null,0,null,null,null,0,null,null,null,0,null,null,null,0,null,null,null,null,null,"DOORS & TRIM",0,0,0,0,0,0,0,0,0,0,0,0,0,0]
[null,"Crown molding",null,null,null,null,null,null,null,null,null,null,null,null,null,null,null,null,"lf","lf",2,null,null,1.75,null,1.75,null,null,null,0,null,null,null,0,null,null,null,0,null,null,null,0,null,null,null,null,null,"DOORS & TRIM",0,0,0,0,0,0,0,0,0,0,0,0,0,0]
[null,"Raised panel wood wainscoting",null,null,null,null,null,null,null,null,null,null,null,null,null,null,null,null,"lf","lf",10,null,null,7.5,null,7.5,null,null,null,0,null,null,null,0,null,null,null,0,null,null,null,0,null,null,null,null,null,"DOORS & TRIM",0,0,0,0,0,0,0,0,0,0,0,0,0,0]
[null,"Bead board wainscoting",null,null,null,null,null,null,null,null,null,null,null,null,null,null,null,null,"lf","lf",17.5,null,null,12.5,null,12.5,null,null,null,0,null,null,null,0,null,null,null,0,null,null,null,0,null,null,null,null,null,"DOORS & TRIM",0,0,0,0,0,0,0,0,0,0,0,0,0,0]
[null,"Fireplace mantel",null,null,null,null,null,null,null,null,null,null,null,null,null,null,null,null,"ea","ea",250,null,null,300,null,300,null,null,null,0,null,null,null,0,null,null,null,0,null,null,null,0,null,null,null,null,null,"DOORS & TRIM",0,0,0,0,0,0,0,0,0,0,0,0,0,0]
[null,"Wood columns",null,null,null,null,null,null,null,null,null,null,null,null,null,null,null,null,"ea","ea",150,null,null,150,null,125,null,null,null,0,null,null,null,0,null,null,null,0,null,null,null,0,null,null,null,null,null,"DOORS & TRIM",0,0,0,0,0,0,0,0,0,0,0,0,0,0]
[null,"Closet shelf and rod",null,null,null,null,null,null,null,null,null,null,null,null,null,null,null,null,"lf","lf",10,null,null,3.5,null,3.5,null,null,null,0,null,null,null,0,null,null,null,0,null,null,null,0,null,null,null,null,null,"DOORS & TRIM",0,0,0,0,0,0,0,0,0,0,0,0,0,0]
[null,"Closet kit, 8ft long",null,null,null,null,null,null,null,null,null,null,null,null,null,null,null,null,"lf",null,125,null,null,350,null,null,null,null,null,0,null,null,null,0,null,null,null,0,null,null,null,0,null,null,null,null,null,"DOORS & TRIM",0,0,0,0,0,0,0,0,0,0,0,0,0,0]
[null,"Wood handrail - rail only",null,null,null,null,null,null,null,null,null,null,null,null,null,null,null,null,"lf","lf",10,null,null,4,null,4,null,null,null,0,null,null,null,0,null,null,null,0,null,null,null,0,null,null,null,null,null,"DOORS & TRIM",0,0,0,0,0,0,0,0,0,0,0,0,0,0]
[null,"Wood balusters",null,null,null,null,null,null,null,null,null,null,null,null,null,null,null,null,"lf","lf",20,null,null,10,null,4,null,null,null,0,null,null,null,0,null,null,null,0,null,null,null,0,null,null,null,null,null,"DOORS & TRIM",0,0,0,0,0,0,0,0,0,0,0,0,0,0]
[null,"Iron balusters",null,null,null,null,null,null,null,null,null,null,null,null,null,null,null,null,"lf","lf",25,null,null,30,null,21,null,null,null,0,null,null,null,0,null,null,null,0,null,null,null,0,null,null,null,null,null,"DOORS & TRIM",0,0,0,0,0,0,0,0,0,0,0,0,0,0]
[null,null,null,null,null,null,null,null,null,null,null,null,null,null,null,null,null,null,null,null,null,null,null,null,null,null,null,null,null,0,null,null,null,0,null,null,null,0,null,null,null,0,null,null,null,null,null,"DOORS & TRIM",0,0,0,0,0,0,0,0,0,0,0,0,0,0]
[null,null,null,null,null,null,null,null,null,null,null,null,null,null,null,null,null,null,null,null,null,null,null,null,null,null,null,null,null,0,null,null,null,0,null,null,null,0,null,null,null,0,null,null,null,null,null,"DOORS & TRIM",0,0,0,0,0,0,0,0,0,0,0,0,0,0]
[null,null,null,null,null,null,null,null,null,null,null,null,null,null,null,null,null,null,null,null,null,null,null,null,null,null,null,null,null,0,null,null,null,0,null,null,null,0,null,null,null,0,null,null,null,null,null,"DOORS & TRIM",0,0,0,0,0,0,0,0,0,0,0,0,0,0]
[null,null,null,null,null,null,null,null,null,null,null,null,null,null,null,null,null,null,null,null,null,null,null,null,null,null,null,null,null,0,null,null,null,0,null,null,null,0,null,null,null,0,null,null,null,null,null,"DOORS & TRIM",0,0,0,0,0,0,0,0,0,0,0,0,0,0]
[null,null,null,null,null,null,null,null,null,null,null,null,null,null,null,null,null,null,null,null,null,null,null,null,null,null,null,null,null,0,null,null,null,0,null,null,null,0,null,null,null,0,null,null,null,null,null,"DOORS & TRIM",0,0,0,0,0,0,0,0,0,0,0,0,0,0]
[null,null,null,null,null,null,null,null,null,null,null,null,null,null,null,null,null,null,null,null,null,null,null,null,null,null,null,null,null,0,null,null,null,0,null,null,null,0,null,null,null,0,null,null,null,null,null,"DOORS & TRIM",0,0,0,0,0,0,0,0,0,0,0,0,0,0]
[null,null,null,null,null,null,null,null,null,null,null,null,null,null,null,null,null,null,null,null,null,null,null,null,null,null,null,null,null,0,null,null,null,0,null,null,null,0,null,null,null,0,null,null,null,null,null,"DOORS & TRIM",0,0,0,0,0,0,0,0,0,0,0,0,0,0]
[null,null,null,null,null,null,null,null,null,null,null,null,null,null,null,null,null,null,null,null,null,null,null,null,null,null,null,null,null,0,null,null,null,0,null,null,null,0,null,null,null,0,null,null,null,null,null,"DOORS & TRIM",0,0,0,0,0,0,0,0,0,0,0,0,0,0]
[null,null,null,null,null,null,null,null,null,null,null,null,null,null,null,null,null,null,null,null,null,null,null,null,null,null,null,null,null,0,null,null,null,0,null,null,null,0,null,null,null,0,null,null,null,null,null,"DOORS & TRIM",0,0,0,0,0,0,0,0,0,0,0,0,0,0]
[null,null,null,null,null,null,null,null,null,null,null,null,null,null,null,null,null,null,null,null,null,null,null,null,null,null,null,null,null,0,null,null,null,0,null,null,null,0,null,null,null,0,null,null,null,null,null,"DOORS & TRIM",0,0,0,0,0,0,0,0,0,0,0,0,0,0]
[null,null,null,null,null,null,null,null,null,null,null,null,null,null,null,null,null,null,null,null,null,null,null,null,null,null,null,null,null,0,null,null,null,0,null,null,null,0,null,null,null,0,null,null,null,null,null,"DOORS & TRIM",0,0,0,0,0,0,0,0,0,0,0,0,0,0]
[null,null,null,null,null,null,null,null,null,null,null,null,null,null,null,null,null,null,null,null,null,null,null,null,null,null,null,null,null,0,null,null,null,0,null,null,null,0,null,null,null,0,null,null,null,null,null,"DOORS & TRIM",0,0,0,0,0,0,0,0,0,0,0,0,0,0]
[null,null,null,null,null,null,null,null,null,null,null,null,null,null,null,null,null,null,null,null,null,null,null,null,null,null,null,null,null,0,null,null,null,0,null,null,null,0,null,null,null,0,null,null,null,null,null,"DOORS & TRIM",0,0,0,0,0,0,0,0,0,0,0,0,0,0]
[null,null,null,null,null,null,null,null,null,null,null,null,null,null,null,null,null,null,null,null,null,null,null,null,null,null,null,null,null,0,null,null,null,0,null,null,null,0,null,null,null,0,null,null,null,null,null,"DOORS & TRIM",0,0,0,0,0,0,0,0,0,0,0,0,0,0]
[null,null,null,null,null,null,null,null,null,null,null,null,null,null,null,null,null,null,null,null,null,null,null,null,null,null,null,null,null,0,null,null,null,0,null,null,null,0,null,null,null,0,null,null,null,null,null,"DOORS & TRIM",0,0,0,0,0,0,0,0,0,0,0,0,0,0]
[null,null,null,null,null,null,null,null,null,null,null,null,null,null,null,null,null,null,null,null,null,null,null,null,null,null,null,null,null,0,null,null,null,0,null,null,null,0,null,null,null,0,null,null,null,null,null,"DOORS & TRIM",0,0,0,0,0,0,0,0,0,0,0,0,0,0]
[null,null,null,null,null,null,null,null,null,null,null,null,null,null,null,null,null,null,null,null,null,null,null,null,null,null,null,null,null,0,null,null,null,0,null,null,null,0,null,null,null,0,null,null,null,null,null,"DOORS & TRIM",0,0,0,0,0,0,0,0,0,0,0,0,0,0]
[null,null,null,null,null,null,null,null,null,null,null,null,null,null,null,null,null,null,null,null,null,null,null,null,null,null,null,null,null,0,null,null,null,0,null,null,null,0,null,null,null,0,null,null,null,null,null,"DOORS & TRIM",0,0,0,0,0,0,0,0,0,0,0,0,0,0]
[null,null,null,null,null,null,null,null,null,null,null,null,null,null,null,null,null,null,null,null,null,null,null,null,null,null,null,null,null,0,null,null,null,{"$f":"P504*X504","v":0},null,null,null,{"$f":"P504*AA504","v":0},null,null,null,0,null,null,null,null,null,"DOORS & TRIM",0,0,0,0,0,0,0,0,0,0,0,0,0,0]
[null,null,null,null,null,null,null,null,null,null,null,null,null,null,null,null,null,null,null,null,null,null,null,null,null,null,null,null,null,0,null,null,null,{"$f":"P505*X505","v":0},null,null,null,{"$f":"P505*AA505","v":0},null,null,null,0,null,null,null,null,null,"DOORS & TRIM",0,0,0,0,0,0,0,0,0,0,0,0,0,0]
[null,null,null,null,null,null,null,null,null,null,null,null,null,null,null,null,null,null,null,null,null,null,null,null,null,null,null,null,null,0,null,null,null,{"$f":"P506*X506","v":0},null,null,null,{"$f":"P506*AA506","v":0},null,null,null,0,null,null,null,null,null,"DOORS & TRIM",0,0,0,0,0,0,0,0,0,0,0,0,0,0]
[null,null,null,null,null,null,null,null,null,null,null,null,null,null,null,null,null,null,null,null,null,null,null,null,null,null,null,null,null,null,null,null,null,null,null,null,null,null,null,null,null,null,null,null,null,null,null,"DOORS & TRIM",{"$f":"AW466","v":0},{"$f":"AX466","v":0},{"$f":"AY466","v":0},{"$f":"AZ466","v":0},null,null,{"$f":"BC466","v":0},null,{"$f":"BE466","v":0},{"$f":"BF466","v":0},null,{"$f":"BH466","v":0},{"$f":"BI466","v":0},{"$f":"BJ466","v":0}]
[null,null,null,null,null,null,null,null,null,null,null,null,null,null,null,null,null,null,null,null,null,null,null,null,null,null,null,null,{"$f":"CONCATENATE(B466,\" \",\"TOTAL\")","v":"DOORS & TRIM TOTAL"},{"$f":"SUBTOTAL(9,AD466:AD507)","v":0},null,null,null,{"$f":"SUBTOTAL(9,AH466:AH507)","v":0},null,null,null,{"$f":"SUBTOTAL(9,AL466:AL507)","v":0},null,null,null,{"$f":"SUBTOTAL(9,AP466:AP507)","v":0},null,null,null,{"$f":"SUM(AT480:AT492)","v":0},null,"DOORS & TRIM",{"$f":"SUM(AW467:AW507)","v":0},0,0,0,0,0,0,0,0,0,0,0,0,0]
[null,null,null,null,null,null,null,null,null,null,null,null,null,null,null,null,null,null,null,null,null,null,null,null,null,null,null,null,null,null,null,null,null,null,null,null,null,null,null,null,null,null,null,null,null,null,null,"DOORS & TRIM",{"$f":"AW466","v":0},{"$f":"AX466","v":0},{"$f":"AY466","v":0},{"$f":"AZ466","v":0},null,null,{"$f":"BC466","v":0},null,{"$f":"BE466","v":0},{"$f":"BF466","v":0},null,{"$f":"BH466","v":0},{"$f":"BI466","v":0},{"$f":"BJ466","v":0}]
[null,null,null,null,null,null,null,null,null,null,null,null,null,null,null,null,null,null,null,null,null,null,null,null,null,null,null,null,null,null,null,null,null,null,null,null,null,null,null,null,null,null,null,null,null,null,null,"DOORS & TRIM",{"$f":"AW508","v":0},{"$f":"AX508","v":0},{"$f":"AY508","v":0},{"$f":"AZ508","v":0},null,null,{"$f":"BC508","v":0},null,{"$f":"BE508","v":0},{"$f":"BF508","v":0},null,{"$f":"BH508","v":0},{"$f":"BI508","v":0},{"$f":"BJ508","v":0}]
["Hidden",{"$f":"T(Y11)","v":"FRAMING & DRYWALL"},null,null,null,null,null,null,null,null,null,null,null,null,null,null,null,null,null,null,null,null,null,null,null,null,null,null,null,null,null,null,null,null,null,null,null,null,null,null,null,null,null,null,null,null,null,{"$f":"$B$511","v":"FRAMING & DRYWALL"}]
[null,"Framing",null,null,null,null,null,null,null,null,null,null,null,null,null,null,null,null,null,null,null,null,null,null,null,null,null,null,null,{"$f":"P512*U512","v":0},null,null,null,{"$f":"P512*X512","v":0},null,null,null,{"$f":"P512*AA512","v":0},null,null,null,{"$f":"SUM(AD512:AO512)","v":0},null,null,null,{"$f":"SUM(AD512:AO512)","v":0},null,"FRAMING & DRYWALL",{"$f":"AD512","v":0},{"$f":"AH512","v":0},{"$f":"AL512","v":0},{"$f":"SUM(AW512:AY512)","v":0},{"$f":"IFERROR(AW512/$AZ$13,0)","v":0},{"$f":"BA512*TOTAL_ADDERS","v":0},{"$f":"AW512+BB512","v":0},{"$f":"IFERROR(AX512/$AZ$13,0)","v":0},{"$f":"BD512*TOTAL_ADDERS","v":0},{"$f":"AX512+BE512","v":0},{"$f":"IFERROR(AY512/$AZ$13,0)","v":0},{"$f":"BG512*TOTAL_ADDERS","v":0},{"$f":"AY512+BH512","v":0},{"$f":"BC512+BF512+BI512","v":0}]
[null,"Structural framing bid/allowance, case by case",null,null,null,null,null,null,null,null,null,null,null,null,null,null,null,null,"ls","ls",null,null,null,null,null,null,1000,null,null,{"$f":"P513*U513","v":0},null,null,null,0,null,null,null,0,null,null,null,0,null,null,null,0,null,"FRAMING & DRYWALL",0,0,0,0,{"$f":"IFERROR(AW513/$AZ$13,0)","v":0},0,{"$f":"AW513+BB513","v":0},{"$f":"IFERROR(AX513/$AZ$13,0)","v":0},0,{"$f":"AX513+BE513","v":0},{"$f":"IFERROR(AY513/$AZ$13,0)","v":0},0,{"$f":"AY513+BH513","v":0},{"$f":"BC513+BF513+BI513","v":0}]
[null,"Subflooring, 3/4\" plywood",null,null,null,null,null,null,null,null,null,null,null,null,null,null,null,null,"sf","sf",1,null,null,0.85,null,0.85,null,null,null,0,null,null,null,0,null,null,null,0,null,null,null,0,null,null,null,0,null,"FRAMING & DRYWALL",0,0,0,0,0,0,0,0,0,0,0,0,0,0]
[null,"Interior wall framing",null,null,null,null,null,null,null,null,null,null,null,null,null,null,null,null,"sf","sf",1,null,null,1.75,null,null,null,null,null,0,null,null,null,0,null,null,null,0,null,null,null,0,null,null,null,0,null,"FRAMING & DRYWALL",0,0,0,0,0,0,0,0,0,0,0,0,0,0]
[null,"Structural/Exterior wall framing",null,null,null,null,null,null,null,null,null,null,null,null,null,null,null,null,"sf","sf",1.25,null,null,1.75,null,1.75,null,null,null,0,null,null,null,0,null,null,null,0,null,null,null,0,null,null,null,0,null,"FRAMING & DRYWALL",0,0,0,0,0,0,0,0,0,0,0,0,0,0]
[null,"Rough-in openings",null,null,null,null,null,null,null,null,null,null,null,null,null,null,null,null,"ea","ea",25,null,null,20,null,20,null,null,null,0,null,null,null,0,null,null,null,0,null,null,null,0,null,null,null,0,null,"FRAMING & DRYWALL",0,0,0,0,0,0,0,0,0,0,0,0,0,0]
[null,"Floor joists/ceiling joists",null,null,null,null,null,null,null,null,null,null,null,null,null,null,null,null,"sf","sf",0.75,null,null,0.75,null,0.75,null,null,null,0,null,null,null,0,null,null,null,0,null,null,null,0,null,null,null,0,null,"FRAMING & DRYWALL",0,0,0,0,0,0,0,0,0,0,0,0,0,0]
[null,"Roof framing/rafters",null,null,null,null,null,null,null,null,null,null,null,null,null,null,null,null,"sf","sf",1.25,null,null,1,null,1,null,null,null,0,null,null,null,0,null,null,null,0,null,null,null,0,null,null,null,0,null,"FRAMING & DRYWALL",0,0,0,0,0,0,0,0,0,0,0,0,0,0]
[null,"Open load bearing/structural wall",null,null,null,null,null,null,null,null,null,null,null,null,null,null,null,null,"ea","ea",750,null,null,250,null,250,null,null,null,0,null,null,null,0,null,null,null,0,null,null,null,0,null,null,null,0,null,"FRAMING & DRYWALL",0,0,0,0,0,0,0,0,0,0,0,0,0,0]
[null,null,null,null,null,null,null,null,null,null,null,null,null,null,null,null,null,null,null,null,null,null,null,null,null,null,null,null,null,0,null,null,null,0,null,null,null,0,null,null,null,0,null,null,null,0,null,"FRAMING & DRYWALL",0,0,0,0,0,0,0,0,0,0,0,0,0,0]
[null,null,null,null,null,null,null,null,null,null,null,null,null,null,null,null,null,null,null,null,null,null,null,null,null,null,null,null,null,0,null,null,null,0,null,null,null,0,null,null,null,0,null,null,null,0,null,"FRAMING & DRYWALL",0,0,0,0,0,0,0,0,0,0,0,0,0,0]
[null,"Insulation",null,null,null,null,null,null,null,null,null,null,null,null,null,null,null,null,null,null,null,null,null,null,null,null,null,null,null,0,null,null,null,0,null,null,null,0,null,null,null,0,null,null,null,0,null,"FRAMING & DRYWALL",0,0,0,0,0,0,0,0,0,0,0,0,0,0]
[null,"Insulation bid/allowance",null,null,null,null,null,null,null,null,null,null,null,null,null,null,null,null,"ls","ls",null,null,null,null,null,null,null,null,null,0,null,null,null,0,null,null,null,0,null,null,null,0,null,null,null,0,null,"FRAMING & DRYWALL",0,0,0,0,0,0,0,0,0,0,0,0,0,0]
[null,"Wall insulation",null,null,null,null,null,null,null,null,null,null,null,null,null,null,null,null,"sf","sf",0.5,null,null,0.5,null,0.5,null,null,null,0,null,null,null,0,null,null,null,0,null,null,null,0,null,null,null,0,null,"FRAMING & DRYWALL",0,0,0,0,0,0,0,0,0,0,0,0,0,0]
[null,"Floor insulation",null,null,null,null,null,null,null,null,null,null,null,null,null,null,null,null,"sf","sf",0.75,null,null,0.5,null,0.5,null,null,null,0,null,null,null,0,null,null,null,0,null,null,null,0,null,null,null,0,null,"FRAMING & DRYWALL",0,0,0,0,0,0,0,0,0,0,0,0,0,0]
[null,"Attic insulation, blown-in",null,null,null,null,null,null,null,null,null,null,null,null,null,null,null,null,"sf","sf",0.5,null,null,0.3,null,0.3,null,null,null,0,null,null,null,0,null,null,null,0,null,null,null,0,null,null,null,0,null,"FRAMING & DRYWALL",0,0,0,0,0,0,0,0,0,0,0,0,0,0]
[null,null,null,null,null,null,null,null,null,null,null,null,null,null,null,null,null,null,null,null,null,null,null,null,null,null,null,null,null,0,null,null,null,0,null,null,null,0,null,null,null,0,null,null,null,0,null,"FRAMING & DRYWALL",0,0,0,0,0,0,0,0,0,0,0,0,0,0]
[null,null,null,null,null,null,null,null,null,null,null,null,null,null,null,null,null,null,null,null,null,null,null,null,null,null,null,null,null,0,null,null,null,0,null,null,null,0,null,null,null,0,null,null,null,0,null,"FRAMING & DRYWALL",0,0,0,0,0,0,0,0,0,0,0,0,0,0]
[null,"Walls/Ceilings",null,null,null,null,null,null,null,null,null,null,null,null,null,null,null,null,null,null,null,null,null,null,null,null,null,null,null,0,null,null,null,0,null,null,null,0,null,null,null,0,null,null,null,0,null,"FRAMING & DRYWALL",0,0,0,0,0,0,0,0,0,0,0,0,0,0]
[null,"Drywall bid/allowance, case by case",null,null,null,null,null,null,null,null,null,null,null,null,null,null,null,null,"ls","ls",750,null,null,null,null,null,null,null,null,0,null,null,null,0,null,null,null,0,null,null,null,0,null,null,null,0,null,"FRAMING & DRYWALL",0,0,0,0,0,0,0,0,0,0,0,0,0,0]
[null,"Drywall wallboard, 1/2\" thick, finish one side",null,null,null,null,null,null,null,null,null,null,null,null,null,null,null,null,"sf","sf",1.5,null,null,1,null,1,null,null,null,0,null,null,null,0,null,null,null,0,null,null,null,0,null,null,null,0,null,"FRAMING & DRYWALL",0,0,0,0,0,0,0,0,0,0,0,0,0,0]
[null,"Drywall ceilings, 1/2\" thick",null,null,null,null,null,null,null,null,null,null,null,null,null,null,null,null,"sf","sf",4,null,null,0.75,null,0.75,null,null,null,0,null,null,null,0,null,null,null,0,null,null,null,0,null,null,null,0,null,"FRAMING & DRYWALL",0,0,0,0,0,0,0,0,0,0,0,0,0,0]
[null,"Skim coating/texturing walls",null,null,null,null,null,null,null,null,null,null,null,null,null,null,null,null,"sf","sf",1,null,null,0.25,null,0.25,null,null,null,0,null,null,null,0,null,null,null,0,null,null,null,0,null,null,null,0,null,"FRAMING & DRYWALL",0,0,0,0,0,0,0,0,0,0,0,0,0,0]
[null,"Skim coating/texturing ceilings",null,null,null,null,null,null,null,null,null,null,null,null,null,null,null,null,"sf","sf",1.25,null,null,0.25,null,0.25,null,null,null,0,null,null,null,0,null,null,null,0,null,null,null,0,null,null,null,0,null,"FRAMING & DRYWALL",0,0,0,0,0,0,0,0,0,0,0,0,0,0]
[null,null,null,null,null,null,null,null,null,null,null,null,null,null,null,null,null,null,null,null,null,null,null,null,null,null,null,null,null,0,null,null,null,0,null,null,null,0,null,null,null,0,null,null,null,0,null,"FRAMING & DRYWALL",0,0,0,0,0,0,0,0,0,0,0,0,0,0]
[null,null,null,null,null,null,null,null,null,null,null,null,null,null,null,null,null,null,null,null,null,null,null,null,null,null,null,null,null,0,null,null,null,0,null,null,null,0,null,null,null,0,null,null,null,0,null,"FRAMING & DRYWALL",0,0,0,0,0,0,0,0,0,0,0,0,0,0]
[null,null,null,null,null,null,null,null,null,null,null,null,null,null,null,null,null,null,null,null,null,null,null,null,null,null,null,null,null,0,null,null,null,0,null,null,null,0,null,null,null,0,null,null,null,0,null,"FRAMING & DRYWALL",0,0,0,0,0,0,0,0,0,0,0,0,0,0]
[null,null,null,null,null,null,null,null,null,null,null,null,null,null,null,null,null,null,null,null,null,null,null,null,null,null,null,null,null,0,null,null,null,0,null,null,null,0,null,null,null,0,null,null,null,0,null,"FRAMING & DRYWALL",0,0,0,0,0,0,0,0,0,0,0,0,0,0]
[null,null,null,null,null,null,null,null,null,null,null,null,null,null,null,null,null,null,null,null,null,null,null,null,null,null,null,null,null,0,null,null,null,0,null,null,null,0,null,null,null,0,null,null,null,0,null,"FRAMING & DRYWALL",0,0,0,0,0,0,0,0,0,0,0,0,0,0]
[null,null,null,null,null,null,null,null,null,null,null,null,null,null,null,null,null,null,null,null,null,null,null,null,null,null,null,null,null,0,null,null,null,0,null,null,null,0,null,null,null,0,null,null,null,0,null,"FRAMING & DRYWALL",0,0,0,0,0,0,0,0,0,0,0,0,0,0]
[null,null,null,null,null,null,null,null,null,null,null,null,null,null,null,null,null,null,null,null,null,null,null,null,null,null,null,null,null,0,null,null,null,0,null,null,null,0,null,null,null,0,null,null,null,0,null,"FRAMING & DRYWALL",0,0,0,0,0,0,0,0,0,0,0,0,0,0]
[null,null,null,null,null,null,null,null,null,null,null,null,null,null,null,null,null,null,null,null,null,null,null,null,null,null,null,null,null,0,null,null,null,0,null,null,null,0,null,null,null,0,null,null,null,0,null,"FRAMING & DRYWALL",0,0,0,0,0,0,0,0,0,0,0,0,0,0]
[null,null,null,null,null,null,null,null,null,null,null,null,null,null,null,null,null,null,null,null,null,null,null,null,null,null,null,null,null,0,null,null,null,0,null,null,null,0,null,null,null,0,null,null,null,0,null,"FRAMING & DRYWALL",0,0,0,0,0,0,0,0,0,0,0,0,0,0]
[null,null,null,null,null,null,null,null,null,null,null,null,null,null,null,null,null,null,null,null,null,null,null,null,null,null,null,null,null,0,null,null,null,0,null,null,null,0,null,null,null,0,null,null,null,0,null,"FRAMING & DRYWALL",0,0,0,0,0,0,0,0,0,0,0,0,0,0]
[null,null,null,null,null,null,null,null,null,null,null,null,null,null,null,null,null,null,null,null,null,null,null,null,null,null,null,null,null,0,null,null,null,0,null,null,null,0,null,null,null,0,null,null,null,0,null,"FRAMING & DRYWALL",0,0,0,0,0,0,0,0,0,0,0,0,0,0]
[null,null,null,null,null,null,null,null,null,null,null,null,null,null,null,null,null,null,null,null,null,null,null,null,null,null,null,null,null,0,null,null,null,0,null,null,null,0,null,null,null,0,null,null,null,0,null,"FRAMING & DRYWALL",0,0,0,0,0,0,0,0,0,0,0,0,0,0]
[null,null,null,null,null,null,null,null,null,null,null,null,null,null,null,null,null,null,null,null,null,null,null,null,null,null,null,null,null,0,null,null,null,0,null,null,null,0,null,null,null,0,null,null,null,0,null,"FRAMING & DRYWALL",0,0,0,0,0,0,0,0,0,0,0,0,0,0]
[null,null,null,null,null,null,null,null,null,null,null,null,null,null,null,null,null,null,null,null,null,null,null,null,null,null,null,null,null,0,null,null,null,0,null,null,null,0,null,null,null,0,null,null,null,0,null,"FRAMING & DRYWALL",0,0,0,0,0,0,0,0,0,0,0,0,0,0]
[null,null,null,null,null,null,null,null,null,null,null,null,null,null,null,null,null,null,null,null,null,null,null,null,null,null,null,null,null,0,null,null,null,0,null,null,null,0,null,null,null,0,null,null,null,0,null,"FRAMING & DRYWALL",0,0,0,0,0,0,0,0,0,0,0,0,0,0]
[null,null,null,null,null,null,null,null,null,null,null,null,null,null,null,null,null,null,null,null,null,null,null,null,null,null,null,null,null,0,null,null,null,0,null,null,null,0,null,null,null,0,null,null,null,0,null,"FRAMING & DRYWALL",0,0,0,0,0,0,0,0,0,0,0,0,0,0]
[null,null,null,null,null,null,null,null,null,null,null,null,null,null,null,null,null,null,null,null,null,null,null,null,null,null,null,null,null,null,null,null,null,null,null,null,null,null,null,null,null,null,null,null,null,null,null,"FRAMING & DRYWALL",{"$f":"AW511","v":0},{"$f":"AX511","v":0},{"$f":"AY511","v":0},{"$f":"AZ511","v":0},null,null,{"$f":"BC511","v":0},null,{"$f":"BE511","v":0},{"$f":"BF511","v":0},null,{"$f":"BH511","v":0},{"$f":"BI511","v":0},{"$f":"BJ511","v":0}]
[null,null,null,null,null,null,null,null,null,null,null,null,null,null,null,null,null,null,null,null,null,null,null,null,null,null,null,null,{"$f":"CONCATENATE(B511,\" \",\"TOTAL\")","v":"FRAMING & DRYWALL TOTAL"},{"$f":"SUBTOTAL(9,AD511:AD552)","v":0},null,null,null,{"$f":"SUBTOTAL(9,AH511:AH552)","v":0},null,null,null,{"$f":"SUBTOTAL(9,AL511:AL552)","v":0},null,null,null,{"$f":"SUBTOTAL(9,AP511:AP552)","v":0},null,null,null,{"$f":"SUM(AT522:AT530)","v":0},null,"FRAMING & DRYWALL",{"$f":"SUM(AW512:AW552)","v":0},0,0,0,0,0,0,0,0,0,0,0,0,0]
[null,null,null,null,null,null,null,null,null,null,null,null,null,null,null,null,null,null,null,null,null,null,null,null,null,null,null,null,null,null,null,null,null,null,null,null,null,null,null,null,null,null,null,null,null,null,null,"FRAMING & DRYWALL",{"$f":"AW511","v":0},{"$f":"AX511","v":0},{"$f":"AY511","v":0},{"$f":"AZ511","v":0},null,null,{"$f":"BC511","v":0},null,{"$f":"BE511","v":0},{"$f":"BF511","v":0},null,{"$f":"BH511","v":0},{"$f":"BI511","v":0},{"$f":"BJ511","v":0}]
[null,null,null,null,null,null,null,null,null,null,null,null,null,null,null,null,null,null,null,null,null,null,null,null,null,null,null,null,null,null,null,null,null,null,null,null,null,null,null,null,null,null,null,null,null,null,null,"FRAMING & DRYWALL",{"$f":"AW553","v":0},{"$f":"AX553","v":0},{"$f":"AY553","v":0},{"$f":"AZ553","v":0},null,null,{"$f":"BC553","v":0},null,{"$f":"BE553","v":0},{"$f":"BF553","v":0},null,{"$f":"BH553","v":0},{"$f":"BI553","v":0},{"$f":"BJ553","v":0}]
["Hidden",{"$f":"T(AJ6)","v":"FLOORING"},null,null,null,null,null,null,null,null,null,null,null,null,null,null,null,null,null,null,null,null,null,null,null,null,null,null,null,null,null,null,null,null,null,null,null,null,null,null,null,null,null,null,null,null,null,{"$f":"$B$556","v":"FLOORING"}]
[null,"Flooring bid/allowance",null,null,null,null,null,null,null,null,null,null,null,null,null,null,null,null,"ls","ls",null,null,null,null,null,null,null,null,null,{"$f":"P557*U557","v":0},null,null,null,{"$f":"P557*X557","v":0},null,null,null,{"$f":"P557*AA557","v":0},null,null,null,{"$f":"SUM(AD557:AO557)","v":0},null,null,null,{"$f":"SUM(AD557:AO557)","v":0},null,"FLOORING",{"$f":"AD557","v":0},{"$f":"AH557","v":0},{"$f":"AL557","v":0},{"$f":"SUM(AW557:AY557)","v":0},{"$f":"IFERROR(AW557/$AZ$13,0)","v":0},{"$f":"BA557*TOTAL_ADDERS","v":0},{"$f":"AW557+BB557","v":0},{"$f":"IFERROR(AX557/$AZ$13,0)","v":0},{"$f":"BD557*TOTAL_ADDERS","v":0},{"$f":"AX557+BE557","v":0},{"$f":"IFERROR(AY557/$AZ$13,0)","v":0},{"$f":"BG557*TOTAL_ADDERS","v":0},{"$f":"AY557+BH557","v":0},{"$f":"BC557+BF557+BI557","v":0}]
[null,"Carpeting",null,null,null,null,null,null,null,null,null,null,null,null,null,null,null,null,null,null,null,null,null,null,null,null,null,null,null,{"$f":"P558*U558","v":0},null,null,null,0,null,null,null,0,null,null,null,0,null,null,null,0,null,"FLOORING",0,0,0,0,{"$f":"IFERROR(AW558/$AZ$13,0)","v":0},0,{"$f":"AW558+BB558","v":0},{"$f":"IFERROR(AX558/$AZ$13,0)","v":0},0,{"$f":"AX558+BE558","v":0},{"$f":"IFERROR(AY558/$AZ$13,0)","v":0},0,{"$f":"AY558+BH558","v":0},{"$f":"BC558+BF558+BI558","v":0}]
[null,"Carpet, economy grade",null,null,null,null,null,null,null,null,null,null,null,null,null,null,null,null,"sf",null,0.75,null,null,1.25,null,null,null,null,null,0,null,null,null,0,null,null,null,0,null,null,null,0,null,null,null,0,null,"FLOORING",0,0,0,0,0,0,0,0,0,0,0,0,0,0]
[null,"Carpet average grade",null,null,null,null,null,null,null,null,null,null,null,null,null,null,null,null,"sf",null,0.75,null,null,2,null,null,null,null,null,0,null,null,null,0,null,null,null,0,null,null,null,0,null,null,null,0,null,"FLOORING",0,0,0,0,0,0,0,0,0,0,0,0,0,0]
[null,"Carpet, premium grade",null,null,null,null,null,null,null,null,null,null,null,null,null,null,null,null,"sf",null,0.75,null,null,3,null,null,null,null,null,0,null,null,null,0,null,null,null,0,null,null,null,0,null,null,null,0,null,"FLOORING",0,0,0,0,0,0,0,0,0,0,0,0,0,0]
[null,null,null,null,null,null,null,null,null,null,null,null,null,null,null,null,null,null,null,null,null,null,null,null,null,null,null,null,null,0,null,null,null,0,null,null,null,0,null,null,null,0,null,null,null,0,null,"FLOORING",0,0,0,0,0,0,0,0,0,0,0,0,0,0]
[null,null,null,null,null,null,null,null,null,null,null,null,null,null,null,null,null,null,null,null,null,null,null,null,null,null,null,null,null,0,null,null,null,0,null,null,null,0,null,null,null,0,null,null,null,0,null,"FLOORING",0,0,0,0,0,0,0,0,0,0,0,0,0,0]
[null,"Sheet Vinyl",null,null,null,null,null,null,null,null,null,null,null,null,null,null,null,null,null,null,null,null,null,null,null,null,null,null,null,0,null,null,null,0,null,null,null,0,null,null,null,0,null,null,null,0,null,"FLOORING",0,0,0,0,0,0,0,0,0,0,0,0,0,0]
[null,"Sheet vinyl, economy grade",null,null,null,null,null,null,null,null,null,null,null,null,null,null,null,null,"sf",null,1,null,null,2,null,null,null,null,null,0,null,null,null,0,null,null,null,0,null,null,null,0,null,null,null,0,null,"FLOORING",0,0,0,0,0,0,0,0,0,0,0,0,0,0]
[null,"Sheet vinyl, average grade",null,null,null,null,null,null,null,null,null,null,null,null,null,null,null,null,"sf",null,1,null,null,3,null,null,null,null,null,0,null,null,null,0,null,null,null,0,null,null,null,0,null,null,null,0,null,"FLOORING",0,0,0,0,0,0,0,0,0,0,0,0,0,0]
[null,"Sheet vinyl, premium grade",null,null,null,null,null,null,null,null,null,null,null,null,null,null,null,null,"sf",null,1,null,null,4.5,null,null,null,null,null,0,null,null,null,0,null,null,null,0,null,null,null,0,null,null,null,0,null,"FLOORING",0,0,0,0,0,0,0,0,0,0,0,0,0,0]
[null,null,null,null,null,null,null,null,null,null,null,null,null,null,null,null,null,null,null,null,null,null,null,null,null,null,null,null,null,0,null,null,null,0,null,null,null,0,null,null,null,0,null,null,null,0,null,"FLOORING",0,0,0,0,0,0,0,0,0,0,0,0,0,0]
[null,null,null,null,null,null,null,null,null,null,null,null,null,null,null,null,null,null,null,null,null,null,null,null,null,null,null,null,null,0,null,null,null,0,null,null,null,0,null,null,null,0,null,null,null,0,null,"FLOORING",0,0,0,0,0,0,0,0,0,0,0,0,0,0]
[null,"Vinyl Tile",null,null,null,null,null,null,null,null,null,null,null,null,null,null,null,null,null,"sf",null,null,null,null,null,null,null,null,null,0,null,null,null,0,null,null,null,0,null,null,null,0,null,null,null,0,null,"FLOORING",0,0,0,0,0,0,0,0,0,0,0,0,0,0]
[null,"Vinyl tile, economy grade",null,null,null,null,null,null,null,null,null,null,null,null,null,null,null,null,"sf","lf",0.65,null,null,2,null,null,null,null,null,0,null,null,null,0,null,null,null,0,null,null,null,0,null,null,null,0,null,"FLOORING",0,0,0,0,0,0,0,0,0,0,0,0,0,0]
[null,"Vinyl tile, average grade",null,null,null,null,null,null,null,null,null,null,null,null,null,null,null,null,"sf",null,0.65,null,null,5,null,null,null,null,null,0,null,null,null,0,null,null,null,0,null,null,null,0,null,null,null,0,null,"FLOORING",0,0,0,0,0,0,0,0,0,0,0,0,0,0]
[null,"Vinyl tile, premium grade",null,null,null,null,null,null,null,null,null,null,null,null,null,null,null,null,"sf",null,0.65,null,null,8,null,null,null,null,null,0,null,null,null,0,null,null,null,0,null,null,null,0,null,null,null,0,null,"FLOORING",0,0,0,0,0,0,0,0,0,0,0,0,0,0]
[null,"Clean and wax vinyl",null,null,null,null,null,null,null,null,null,null,null,null,null,null,null,null,"sf",null,0.17,null,null,0.03,null,null,null,null,null,0,null,null,null,0,null,null,null,0,null,null,null,0,null,null,null,0,null,"FLOORING",0,0,0,0,0,0,0,0,0,0,0,0,0,0]
[null,null,null,null,null,null,null,null,null,null,null,null,null,null,null,null,null,null,null,null,null,null,null,null,null,null,null,null,null,0,null,null,null,0,null,null,null,0,null,null,null,0,null,null,null,0,null,"FLOORING",0,0,0,0,0,0,0,0,0,0,0,0,0,0]
[null,null,null,null,null,null,null,null,null,null,null,null,null,null,null,null,null,null,null,null,null,null,null,null,null,null,null,null,null,0,null,null,null,0,null,null,null,0,null,null,null,0,null,null,null,0,null,"FLOORING",0,0,0,0,0,0,0,0,0,0,0,0,0,0]
[null,"Laminate Flooring",null,null,null,null,null,null,null,null,null,null,null,null,null,null,null,null,null,null,null,null,null,null,null,null,null,null,null,0,null,null,null,0,null,null,null,0,null,null,null,0,null,null,null,0,null,"FLOORING",0,0,0,0,0,0,0,0,0,0,0,0,0,0]
[null,"Laminate wood flooring, economy grade",null,null,null,null,null,null,null,null,null,null,null,null,null,null,null,null,"sf","sf",2,null,null,1,null,4,null,null,null,0,null,null,null,0,null,null,null,0,null,null,null,0,null,null,null,0,null,"FLOORING",0,0,0,0,0,0,0,0,0,0,0,0,0,0]
[null,"Laminate wood flooring, average grade",null,null,null,null,null,null,null,null,null,null,null,null,null,null,null,null,"sf","sf",2,null,null,1.75,null,null,null,null,null,0,null,null,null,0,null,null,null,0,null,null,null,0,null,null,null,0,null,"FLOORING",0,0,0,0,0,0,0,0,0,0,0,0,0,0]
[null,"Laminate wood flooring, premium grade",null,null,null,null,null,null,null,null,null,null,null,null,null,null,null,null,"sf",null,2,null,null,2.5,null,null,null,null,null,0,null,null,null,0,null,null,null,0,null,null,null,0,null,null,null,0,null,"FLOORING",0,0,0,0,0,0,0,0,0,0,0,0,0,0]
[null,null,null,null,null,null,null,null,null,null,null,null,null,null,null,null,null,null,null,null,null,null,null,null,null,null,null,null,null,0,null,null,null,0,null,null,null,0,null,null,null,0,null,null,null,0,null,"FLOORING",0,0,0,0,0,0,0,0,0,0,0,0,0,0]
[null,null,null,null,null,null,null,null,null,null,null,null,null,null,null,null,null,null,null,null,null,null,null,null,null,null,null,null,null,0,null,null,null,0,null,null,null,0,null,null,null,0,null,null,null,0,null,"FLOORING",0,0,0,0,0,0,0,0,0,0,0,0,0,0]
[null,"Hardwood Flooring",null,null,null,null,null,null,null,null,null,null,null,null,null,null,null,null,null,null,null,null,null,null,null,null,null,null,null,0,null,null,null,0,null,null,null,0,null,null,null,0,null,null,null,0,null,"FLOORING",0,0,0,0,0,0,0,0,0,0,0,0,0,0]
[null,"Hardwood flooring, economy grade",null,null,null,null,null,null,null,null,null,null,null,null,null,null,null,null,"sf",null,3,null,null,2.5,null,null,null,null,null,0,null,null,null,0,null,null,null,0,null,null,null,0,null,null,null,0,null,"FLOORING",0,0,0,0,0,0,0,0,0,0,0,0,0,0]
[null,"Hardwood flooring, average grade",null,null,null,null,null,null,null,null,null,null,null,null,null,null,null,null,"sf",null,3,null,null,4,null,null,null,null,null,0,null,null,null,0,null,null,null,0,null,null,null,0,null,null,null,0,null,"FLOORING",0,0,0,0,0,0,0,0,0,0,0,0,0,0]
[null,"Hardwood flooring, premium grade",null,null,null,null,null,null,null,null,null,null,null,null,null,null,null,null,"sf",null,3,null,null,7,null,null,null,null,null,0,null,null,null,0,null,null,null,0,null,null,null,0,null,null,null,0,null,"FLOORING",0,0,0,0,0,0,0,0,0,0,0,0,0,0]
[null,"Floor refinishing",null,null,null,null,null,null,null,null,null,null,null,null,null,null,null,null,"sf",null,2.25,null,null,0.25,null,null,null,null,null,0,null,null,null,0,null,null,null,0,null,null,null,0,null,null,null,0,null,"FLOORING",0,0,0,0,0,0,0,0,0,0,0,0,0,0]
[null,null,null,null,null,null,null,null,null,null,null,null,null,null,null,null,null,null,null,null,null,null,null,null,null,null,null,null,null,0,null,null,null,0,null,null,null,0,null,null,null,0,null,null,null,0,null,"FLOORING",0,0,0,0,0,0,0,0,0,0,0,0,0,0]
[null,null,null,null,null,null,null,null,null,null,null,null,null,null,null,null,null,null,null,null,null,null,null,null,null,null,null,null,null,0,null,null,null,0,null,null,null,0,null,null,null,0,null,null,null,0,null,"FLOORING",0,0,0,0,0,0,0,0,0,0,0,0,0,0]
[null,"Tiling",null,null,null,null,null,null,null,null,null,null,null,null,null,null,null,null,null,null,null,null,null,null,null,null,null,null,null,0,null,null,null,0,null,null,null,0,null,null,null,0,null,null,null,0,null,"FLOORING",0,0,0,0,0,0,0,0,0,0,0,0,0,0]
[null,"Tile flooring, economy grade (tile, backer, grout, accs)",null,null,null,null,null,null,null,null,null,null,null,null,null,null,null,null,"sf","sf",6,null,null,2,null,6,null,null,null,0,null,null,null,0,null,null,null,0,null,null,null,0,null,null,null,0,null,"FLOORING",0,0,0,0,0,0,0,0,0,0,0,0,0,0]
[null,"Tile flooring, average grade (tile, backer, grout, accs)",null,null,null,null,null,null,null,null,null,null,null,null,null,null,null,null,"sf",null,6,null,null,3,null,null,null,null,null,0,null,null,null,0,null,null,null,0,null,null,null,0,null,null,null,0,null,"FLOORING",0,0,0,0,0,0,0,0,0,0,0,0,0,0]
[null,"Tile flooring, premium grade (tile, backer, grout, accs)",null,null,null,null,null,null,null,null,null,null,null,null,null,null,null,null,"sf",null,6,null,null,5,null,null,null,null,null,0,null,null,null,0,null,null,null,0,null,null,null,0,null,null,null,0,null,"FLOORING",0,0,0,0,0,0,0,0,0,0,0,0,0,0]
[null,null,null,null,null,null,null,null,null,null,null,null,null,null,null,null,null,null,null,null,null,null,null,null,null,null,null,null,null,0,null,null,null,0,null,null,null,0,null,null,null,0,null,null,null,0,null,"FLOORING",0,0,0,0,0,0,0,0,0,0,0,0,0,0]
[null,null,null,null,null,null,null,null,null,null,null,null,null,null,null,null,null,null,null,null,null,null,null,null,null,null,null,null,null,0,null,null,null,0,null,null,null,0,null,null,null,0,null,null,null,0,null,"FLOORING",0,0,0,0,0,0,0,0,0,0,0,0,0,0]
[null,null,null,null,null,null,null,null,null,null,null,null,null,null,null,null,null,null,null,null,null,null,null,null,null,null,null,null,null,0,null,null,null,0,null,null,null,0,null,null,null,0,null,null,null,0,null,"FLOORING",0,0,0,0,0,0,0,0,0,0,0,0,0,0]
[null,null,null,null,null,null,null,null,null,null,null,null,null,null,null,null,null,null,null,null,null,null,null,null,null,null,null,null,null,null,null,null,null,null,null,null,null,null,null,null,null,null,null,null,null,null,null,"FLOORING",{"$f":"AW556","v":0},{"$f":"AX556","v":0},{"$f":"AY556","v":0},{"$f":"AZ556","v":0},null,null,{"$f":"BC556","v":0},null,{"$f":"BE556","v":0},{"$f":"BF556","v":0},null,{"$f":"BH556","v":0},{"$f":"BI556","v":0},{"$f":"BJ556","v":0}]
[null,null,null,null,null,null,null,null,null,null,null,null,null,null,null,null,null,null,null,null,null,null,null,null,null,null,null,null,{"$f":"CONCATENATE(B556,\" \",\"TOTAL\")","v":"FLOORING TOTAL"},{"$f":"SUBTOTAL(9,AD556:AD597)","v":0},null,null,null,{"$f":"SUBTOTAL(9,AH556:AH597)","v":0},null,null,null,{"$f":"SUBTOTAL(9,AL556:AL597)","v":0},null,null,null,{"$f":"SUBTOTAL(9,AP556:AP597)","v":0},null,null,null,{"$f":"SUM(AT556:AT564)","v":0},null,"FLOORING",{"$f":"SUM(AW557:AW597)","v":0},0,0,0,0,0,0,0,0,0,0,0,0,0]
[null,null,null,null,null,null,null,null,null,null,null,null,null,null,null,null,null,null,null,null,null,null,null,null,null,null,null,null,null,null,null,null,null,null,null,null,null,null,null,null,null,null,null,null,null,null,null,"FLOORING",{"$f":"AW556","v":0},{"$f":"AX556","v":0},{"$f":"AY556","v":0},{"$f":"AZ556","v":0},null,null,{"$f":"BC556","v":0},null,{"$f":"BE556","v":0},{"$f":"BF556","v":0},null,{"$f":"BH556","v":0},{"$f":"BI556","v":0},{"$f":"BJ556","v":0}]
[null,null,null,null,null,null,null,null,null,null,null,null,null,null,null,null,null,null,null,null,null,null,null,null,null,null,null,null,null,null,null,null,null,null,null,null,null,null,null,null,null,null,null,null,null,null,null,"FLOORING",{"$f":"AW598","v":0},{"$f":"AX598","v":0},{"$f":"AY598","v":0},{"$f":"AZ598","v":0},null,null,{"$f":"BC598","v":0},null,{"$f":"BE598","v":0},{"$f":"BF598","v":0},null,{"$f":"BH598","v":0},{"$f":"BI598","v":0},{"$f":"BJ598","v":0}]
["Hidden",{"$f":"T(AJ7)","v":"PAINTING"},null,null,null,null,null,null,null,null,null,null,null,null,null,null,null,null,null,null,null,null,null,null,null,null,null,null,null,null,null,null,null,null,null,null,null,null,null,null,null,null,null,null,null,null,null,{"$f":"$B$601","v":"PAINTING"}]
[null,"Painting Installation bid/allowance",null,null,null,null,null,null,null,null,null,null,null,null,null,null,null,null,null,null,null,null,null,null,null,null,null,null,null,{"$f":"P602*U602","v":0},null,null,null,{"$f":"P602*X602","v":0},null,null,null,{"$f":"P602*AA602","v":0},null,null,null,{"$f":"SUM(AD602:AO602)","v":0},null,null,null,{"$f":"SUM(AD602:AO602)","v":0},null,"PAINTING",{"$f":"AD602","v":0},{"$f":"AH602","v":0},{"$f":"AL602","v":0},{"$f":"SUM(AW602:AY602)","v":0},{"$f":"IFERROR(AW602/$AZ$13,0)","v":0},{"$f":"BA602*TOTAL_ADDERS","v":0},{"$f":"AW602+BB602","v":0},{"$f":"IFERROR(AX602/$AZ$13,0)","v":0},{"$f":"BD602*TOTAL_ADDERS","v":0},{"$f":"AX602+BE602","v":0},{"$f":"IFERROR(AY602/$AZ$13,0)","v":0},{"$f":"BG602*TOTAL_ADDERS","v":0},{"$f":"AY602+BH602","v":0},{"$f":"BC602+BF602+BI602","v":0}]
[null,"Painting Material bid/allowance",null,null,null,null,null,null,null,null,null,null,null,null,null,null,null,null,null,null,null,null,null,null,null,null,null,null,null,{"$f":"P603*U603","v":0},null,null,null,0,null,null,null,0,null,null,null,0,null,null,null,0,null,"PAINTING",0,0,0,0,{"$f":"IFERROR(AW603/$AZ$13,0)","v":0},0,{"$f":"AW603+BB603","v":0},{"$f":"IFERROR(AX603/$AZ$13,0)","v":0},0,{"$f":"AX603+BE603","v":0},{"$f":"IFERROR(AY603/$AZ$13,0)","v":0},0,{"$f":"AY603+BH603","v":0},{"$f":"BC603+BF603+BI603","v":0}]
[null,null,null,null,null,null,null,null,null,null,null,null,null,null,null,null,null,null,null,null,null,null,null,null,null,null,null,null,null,0,null,null,null,0,null,null,null,0,null,null,null,0,null,null,null,0,null,"PAINTING",0,0,0,0,0,0,0,0,0,0,0,0,0,0]
[null,"Painting, Lump Sum",null,null,null,null,null,null,null,null,null,null,null,null,null,null,null,null,null,null,null,null,null,null,null,null,null,null,null,0,null,null,null,0,null,null,null,0,null,null,null,0,null,null,null,0,null,"PAINTING",0,0,0,0,0,0,0,0,0,0,0,0,0,0]
[null,"Painting, both exterior & interior (property sf)",null,null,null,null,null,null,null,null,null,null,null,null,null,null,null,null,"sf",null,2.5,null,null,1,null,null,null,null,null,0,null,null,null,0,null,null,null,0,null,null,null,0,null,null,null,0,null,"PAINTING",0,0,0,0,0,0,0,0,0,0,0,0,0,0]
[null,null,null,null,null,null,null,null,null,null,null,null,null,null,null,null,null,null,null,null,null,null,null,null,null,null,null,null,null,0,null,null,null,0,null,null,null,0,null,null,null,0,null,null,null,0,null,"PAINTING",0,0,0,0,0,0,0,0,0,0,0,0,0,0]
[null,null,null,null,null,null,null,null,null,null,null,null,null,null,null,null,null,null,null,null,null,null,null,null,null,null,null,null,null,0,null,null,null,0,null,null,null,0,null,null,null,0,null,null,null,0,null,"PAINTING",0,0,0,0,0,0,0,0,0,0,0,0,0,0]
[null,"Exterior Painting",null,null,null,null,null,null,null,null,null,null,null,null,null,null,null,null,null,null,null,null,null,null,null,null,null,null,null,0,null,null,null,0,null,null,null,0,null,null,null,0,null,null,null,0,null,"PAINTING",0,0,0,0,0,0,0,0,0,0,0,0,0,0]
[null,"Exterior painting, bid/allowance",null,null,null,null,null,null,null,null,null,null,null,null,null,null,null,null,"ls","ls",2000,null,null,null,null,null,null,null,null,0,null,null,null,0,null,null,null,0,null,null,null,0,null,null,null,0,null,"PAINTING",0,0,0,0,0,0,0,0,0,0,0,0,0,0]
[null,"Exterior painting materials allowance",null,null,null,null,null,null,null,null,null,null,null,null,null,null,null,null,"gal","gall",null,null,null,35,null,35,null,null,null,0,null,null,null,0,null,null,null,0,null,null,null,0,null,null,null,0,null,"PAINTING",0,0,0,0,0,0,0,0,0,0,0,0,0,0]
[null,"Prep/clean siding",null,null,null,null,null,null,null,null,null,null,null,null,null,null,null,null,"sf","sf",0.2,null,null,null,null,null,null,null,null,0,null,null,null,0,null,null,null,0,null,null,null,0,null,null,null,0,null,"PAINTING",0,0,0,0,0,0,0,0,0,0,0,0,0,0]
[null,"Paint siding",null,null,null,null,null,null,null,null,null,null,null,null,null,null,null,null,"sf","sf",0.75,null,null,0.25,null,0.25,null,null,null,0,null,null,null,0,null,null,null,0,null,null,null,0,null,null,null,0,null,"PAINTING",0,0,0,0,0,0,0,0,0,0,0,0,0,0]
[null,"Paint exterior door",null,null,null,null,null,null,null,null,null,null,null,null,null,null,null,null,"ea","ea",75,null,null,10,null,10,null,null,null,0,null,null,null,0,null,null,null,0,null,null,null,0,null,null,null,0,null,"PAINTING",0,0,0,0,0,0,0,0,0,0,0,0,0,0]
[null,"Paint trim only",null,null,null,null,null,null,null,null,null,null,null,null,null,null,null,null,"lf","lf",1.5,null,null,0.15,null,0.15,null,null,null,0,null,null,null,0,null,null,null,0,null,null,null,0,null,null,null,0,null,"PAINTING",0,0,0,0,0,0,0,0,0,0,0,0,0,0]
[null,"Sand & refinish decking",null,null,null,null,null,null,null,null,null,null,null,null,null,null,null,null,"sf","sf",1.5,null,null,0.25,null,0.25,null,null,null,0,null,null,null,0,null,null,null,0,null,null,null,0,null,null,null,0,null,"PAINTING",0,0,0,0,0,0,0,0,0,0,0,0,0,0]
[null,null,null,null,null,null,null,null,null,null,null,null,null,null,null,null,null,null,null,null,null,null,null,null,null,null,null,null,null,0,null,null,null,0,null,null,null,0,null,null,null,0,null,null,null,0,null,"PAINTING",0,0,0,0,0,0,0,0,0,0,0,0,0,0]
[null,null,null,null,null,null,null,null,null,null,null,null,null,null,null,null,null,null,null,null,null,null,null,null,null,null,null,null,null,0,null,null,null,0,null,null,null,0,null,null,null,0,null,null,null,0,null,"PAINTING",0,0,0,0,0,0,0,0,0,0,0,0,0,0]
[null,"Interior Painting",null,null,null,null,null,null,null,null,null,null,null,null,null,null,null,null,null,null,null,null,null,null,null,null,null,null,null,0,null,null,null,0,null,null,null,0,null,null,null,0,null,null,null,0,null,"PAINTING",0,0,0,0,0,0,0,0,0,0,0,0,0,0]
[null,"Interior painting, bid/allowance",null,null,null,null,null,null,null,null,null,null,null,null,null,null,null,null,"ls","ls",2000,null,null,null,null,null,null,null,null,0,null,null,null,0,null,null,null,0,null,null,null,0,null,null,null,0,null,"PAINTING",0,0,0,0,0,0,0,0,0,0,0,0,0,0]
[null,"Interior painting materials allowance",null,null,null,null,null,null,null,null,null,null,null,null,null,null,null,null,"gal","gall",null,null,null,35,null,35,null,null,null,0,null,null,null,0,null,null,null,0,null,null,null,0,null,null,null,0,null,"PAINTING",0,0,0,0,0,0,0,0,0,0,0,0,0,0]
[null,"Paint doors & frames",null,null,null,null,null,null,null,null,null,null,null,null,null,null,null,null,"ea","ea",50,null,null,5,null,5,null,null,null,0,null,null,null,0,null,null,null,0,null,null,null,0,null,null,null,0,null,"PAINTING",0,0,0,0,0,0,0,0,0,0,0,0,0,0]
[null,"Paint walls",null,null,null,null,null,null,null,null,null,null,null,null,null,null,null,null,"sf","sf",1,null,null,0.2,null,0.2,null,null,null,0,null,null,null,0,null,null,null,0,null,null,null,0,null,null,null,0,null,"PAINTING",0,0,0,0,0,0,0,0,0,0,0,0,0,0]
[null,"Paint ceilings",null,null,null,null,null,null,null,null,null,null,null,null,null,null,null,null,"sf","sf",1.25,null,null,0.25,null,0.25,null,null,null,0,null,null,null,0,null,null,null,0,null,null,null,0,null,null,null,0,null,"PAINTING",0,0,0,0,0,0,0,0,0,0,0,0,0,0]
[null,"Paint wood base",null,null,null,null,null,null,null,null,null,null,null,null,null,null,null,null,"lf","lf",2,null,null,0.1,null,0.1,null,null,null,0,null,null,null,0,null,null,null,0,null,null,null,0,null,null,null,0,null,"PAINTING",0,0,0,0,0,0,0,0,0,0,0,0,0,0]
[null,"Strip, paint cabinets/vanities",null,null,null,null,null,null,null,null,null,null,null,null,null,null,null,null,"sf","sf",2.5,null,null,0.5,null,0.5,null,null,null,0,null,null,null,0,null,null,null,0,null,null,null,0,null,null,null,0,null,"PAINTING",0,0,0,0,0,0,0,0,0,0,0,0,0,0]
[null,null,null,null,null,null,null,null,null,null,null,null,null,null,null,null,null,null,null,null,null,null,null,null,null,null,null,null,null,0,null,null,null,0,null,null,null,0,null,null,null,0,null,null,null,0,null,"PAINTING",0,0,0,0,0,0,0,0,0,0,0,0,0,0]
[null,null,null,null,null,null,null,null,null,null,null,null,null,null,null,null,null,null,null,null,null,null,null,null,null,null,null,null,null,0,null,null,null,0,null,null,null,0,null,null,null,0,null,null,null,0,null,"PAINTING",0,0,0,0,0,0,0,0,0,0,0,0,0,0]
[null,null,null,null,null,null,null,null,null,null,null,null,null,null,null,null,null,null,null,null,null,null,null,null,null,null,null,null,null,0,null,null,null,0,null,null,null,0,null,null,null,0,null,null,null,0,null,"PAINTING",0,0,0,0,0,0,0,0,0,0,0,0,0,0]
[null,null,null,null,null,null,null,null,null,null,null,null,null,null,null,null,null,null,null,null,null,null,null,null,null,null,null,null,null,0,null,null,null,0,null,null,null,0,null,null,null,0,null,null,null,0,null,"PAINTING",0,0,0,0,0,0,0,0,0,0,0,0,0,0]
[null,null,null,null,null,null,null,null,null,null,null,null,null,null,null,null,null,null,null,null,null,null,null,null,null,null,null,null,null,0,null,null,null,0,null,null,null,0,null,null,null,0,null,null,null,0,null,"PAINTING",0,0,0,0,0,0,0,0,0,0,0,0,0,0]
[null,null,null,null,null,null,null,null,null,null,null,null,null,null,null,null,null,null,null,null,null,null,null,null,null,null,null,null,null,0,null,null,null,0,null,null,null,0,null,null,null,0,null,null,null,0,null,"PAINTING",0,0,0,0,0,0,0,0,0,0,0,0,0,0]
[null,null,null,null,null,null,null,null,null,null,null,null,null,null,null,null,null,null,null,null,null,null,null,null,null,null,null,null,null,0,null,null,null,0,null,null,null,0,null,null,null,0,null,null,null,0,null,"PAINTING",0,0,0,0,0,0,0,0,0,0,0,0,0,0]
[null,null,null,null,null,null,null,null,null,null,null,null,null,null,null,null,null,null,null,null,null,null,null,null,null,null,null,null,null,0,null,null,null,0,null,null,null,0,null,null,null,0,null,null,null,0,null,"PAINTING",0,0,0,0,0,0,0,0,0,0,0,0,0,0]
[null,null,null,null,null,null,null,null,null,null,null,null,null,null,null,null,null,null,null,null,null,null,null,null,null,null,null,null,null,0,null,null,null,0,null,null,null,0,null,null,null,0,null,null,null,0,null,"PAINTING",0,0,0,0,0,0,0,0,0,0,0,0,0,0]
[null,null,null,null,null,null,null,null,null,null,null,null,null,null,null,null,null,null,null,null,null,null,null,null,null,null,null,null,null,0,null,null,null,0,null,null,null,0,null,null,null,0,null,null,null,0,null,"PAINTING",0,0,0,0,0,0,0,0,0,0,0,0,0,0]
[null,null,null,null,null,null,null,null,null,null,null,null,null,null,null,null,null,null,null,null,null,null,null,null,null,null,null,null,null,0,null,null,null,0,null,null,null,0,null,null,null,0,null,null,null,0,null,"PAINTING",0,0,0,0,0,0,0,0,0,0,0,0,0,0]
[null,null,null,null,null,null,null,null,null,null,null,null,null,null,null,null,null,null,null,null,null,null,null,null,null,null,null,null,null,0,null,null,null,0,null,null,null,0,null,null,null,0,null,null,null,0,null,"PAINTING",0,0,0,0,0,0,0,0,0,0,0,0,0,0]
[null,null,null,null,null,null,null,null,null,null,null,null,null,null,null,null,null,null,null,null,null,null,null,null,null,null,null,null,null,0,null,null,null,0,null,null,null,0,null,null,null,0,null,null,null,0,null,"PAINTING",0,0,0,0,0,0,0,0,0,0,0,0,0,0]
[null,null,null,null,null,null,null,null,null,null,null,null,null,null,null,null,null,null,null,null,null,null,null,null,null,null,null,null,null,0,null,null,null,0,null,null,null,0,null,null,null,0,null,null,null,0,null,"PAINTING",0,0,0,0,0,0,0,0,0,0,0,0,0,0]
[null,null,null,null,null,null,null,null,null,null,null,null,null,null,null,null,null,null,null,null,null,null,null,null,null,null,null,null,null,0,null,null,null,0,null,null,null,0,null,null,null,0,null,null,null,0,null,"PAINTING",0,0,0,0,0,0,0,0,0,0,0,0,0,0]
[null,null,null,null,null,null,null,null,null,null,null,null,null,null,null,null,null,null,null,null,null,null,null,null,null,null,null,null,null,null,null,null,null,null,null,null,null,null,null,null,null,null,null,null,null,null,null,"PAINTING",{"$f":"AW601","v":0},{"$f":"AX601","v":0},{"$f":"AY601","v":0},{"$f":"AZ601","v":0},null,null,{"$f":"BC601","v":0},null,{"$f":"BE601","v":0},{"$f":"BF601","v":0},null,{"$f":"BH601","v":0},{"$f":"BI601","v":0},{"$f":"BJ601","v":0}]
[null,null,null,null,null,null,null,null,null,null,null,null,null,null,null,null,null,null,null,null,null,null,null,null,null,null,null,null,{"$f":"CONCATENATE(B601,\" \",\"TOTAL\")","v":"PAINTING TOTAL"},{"$f":"SUBTOTAL(9,AD602:AD642)","v":0},null,null,null,{"$f":"SUBTOTAL(9,AH602:AH642)","v":0},null,null,null,{"$f":"SUBTOTAL(9,AL602:AL642)","v":0},null,null,null,{"$f":"SUBTOTAL(9,AP601:AP642)","v":0},null,null,null,{"$f":"SUM(AT601:AT621)","v":0},null,"PAINTING",{"$f":"SUM(AW602:AW642)","v":0},0,0,0,0,0,0,0,0,0,0,0,0,0]
[null,null,null,null,null,null,null,null,null,null,null,null,null,null,null,null,null,null,null,null,null,null,null,null,null,null,null,null,null,null,null,null,null,null,null,null,null,null,null,null,null,null,null,null,null,null,null,"PAINTING",{"$f":"AW601","v":0},{"$f":"AX601","v":0},{"$f":"AY601","v":0},{"$f":"AZ601","v":0},null,null,{"$f":"BC601","v":0},null,{"$f":"BE601","v":0},{"$f":"BF601","v":0},null,{"$f":"BH601","v":0},{"$f":"BI601","v":0},{"$f":"BJ601","v":0}]
[null,null,null,null,null,null,null,null,null,null,null,null,null,null,null,null,null,null,null,null,null,null,null,null,null,null,null,null,null,null,null,null,null,null,null,null,null,null,null,null,null,null,null,null,null,null,null,"PAINTING",{"$f":"AW643","v":0},{"$f":"AX643","v":0},{"$f":"AY643","v":0},{"$f":"AZ643","v":0},null,null,{"$f":"BC643","v":0},null,{"$f":"BE643","v":0},{"$f":"BF643","v":0},null,{"$f":"BH643","v":0},{"$f":"BI643","v":0},{"$f":"BJ643","v":0}]
["Hidden",{"$f":"T(AJ8)","v":"PLUMBING"},null,null,null,null,null,null,null,null,null,null,null,null,null,null,null,null,null,null,null,null,null,null,null,null,null,null,null,null,null,null,null,null,null,null,null,null,null,null,null,null,null,null,null,null,null,{"$f":"$B$646","v":"PLUMBING"}]
[null,"Plumbing, bid/allowance",null,null,null,null,null,null,null,null,null,null,null,null,null,null,null,null,"ls","ls",null,null,null,null,null,null,null,null,null,{"$f":"P647*U647","v":0},null,null,null,{"$f":"P647*X647","v":0},null,null,null,{"$f":"P647*AA647","v":0},null,null,null,{"$f":"SUM(AD647:AO647)","v":0},null,null,null,{"$f":"SUM(AD647:AO647)","v":0},null,"PLUMBING",{"$f":"AD647","v":0},{"$f":"AH647","v":0},{"$f":"AL647","v":0},{"$f":"SUM(AW647:AY647)","v":0},{"$f":"IFERROR(AW647/$AZ$13,0)","v":0},{"$f":"BA647*TOTAL_ADDERS","v":0},{"$f":"AW647+BB647","v":0},{"$f":"IFERROR(AX647/$AZ$13,0)","v":0},{"$f":"BD647*TOTAL_ADDERS","v":0},{"$f":"AX647+BE647","v":0},{"$f":"IFERROR(AY647/$AZ$13,0)","v":0},{"$f":"BG647*TOTAL_ADDERS","v":0},{"$f":"AY647+BH647","v":0},{"$f":"BC647+BF647+BI647","v":0}]
[null,null,null,null,null,null,null,null,null,null,null,null,null,null,null,null,null,null,null,null,null,null,null,null,null,null,null,null,null,{"$f":"P648*U648","v":0},null,null,null,0,null,null,null,0,null,null,null,0,null,null,null,0,null,"PLUMBING",0,0,0,0,{"$f":"IFERROR(AW648/$AZ$13,0)","v":0},0,{"$f":"AW648+BB648","v":0},{"$f":"IFERROR(AX648/$AZ$13,0)","v":0},0,{"$f":"AX648+BE648","v":0},{"$f":"IFERROR(AY648/$AZ$13,0)","v":0},0,{"$f":"AY648+BH648","v":0},{"$f":"BC648+BF648+BI648","v":0}]
[null,"Plumbing Work, Per Hour",null,null,null,null,null,null,null,null,null,null,null,null,null,null,null,null,null,null,null,null,null,null,null,null,null,null,null,0,null,null,null,0,null,null,null,0,null,null,null,0,null,null,null,0,null,"PLUMBING",0,0,0,0,0,0,0,0,0,0,0,0,0,0]
[null,"Plumbing rough-in, per hour",null,null,null,null,null,null,null,null,null,null,null,null,null,null,null,null,"hrs","hrs",65,null,null,null,null,null,null,null,null,0,null,null,null,0,null,null,null,0,null,null,null,0,null,null,null,0,null,"PLUMBING",0,0,0,0,0,0,0,0,0,0,0,0,0,0]
[null,"Plumbing finish work, per hour",null,null,null,null,null,null,null,null,null,null,null,null,null,null,null,null,"hrs","sf",65,null,null,null,null,null,null,null,null,0,null,null,null,0,null,null,null,0,null,null,null,0,null,null,null,0,null,"PLUMBING",0,0,0,0,0,0,0,0,0,0,0,0,0,0]
[null,null,null,null,null,null,null,null,null,null,null,null,null,null,null,null,null,null,null,null,null,null,null,null,null,null,null,null,null,0,null,null,null,0,null,null,null,0,null,null,null,0,null,null,null,0,null,"PLUMBING",0,0,0,0,0,0,0,0,0,0,0,0,0,0]
[null,"Plumbing Work, per SF",null,null,null,null,null,null,null,null,null,null,null,null,null,null,null,null,null,null,null,null,null,null,null,null,null,null,null,0,null,null,null,0,null,null,null,0,null,null,null,0,null,null,null,0,null,"PLUMBING",0,0,0,0,0,0,0,0,0,0,0,0,0,0]
[null,"New plumbing system throughout (waste/supply)",null,null,null,null,null,null,null,null,null,null,null,null,null,null,null,null,"sf",null,null,null,null,null,null,null,3.5,null,null,0,null,null,null,0,null,null,null,0,null,null,null,0,null,null,null,0,null,"PLUMBING",0,0,0,0,0,0,0,0,0,0,0,0,0,0]
[null,"New gas lines to kitchen/fireplace",null,null,null,null,null,null,null,null,null,null,null,null,null,null,null,null,"sf",null,null,null,null,null,null,null,1,null,null,0,null,null,null,0,null,null,null,0,null,null,null,0,null,null,null,0,null,"PLUMBING",0,0,0,0,0,0,0,0,0,0,0,0,0,0]
[null,null,null,null,null,null,null,null,null,null,null,null,null,null,null,null,null,null,null,null,null,null,null,null,null,null,null,null,null,0,null,null,null,0,null,null,null,0,null,null,null,0,null,null,null,0,null,"PLUMBING",0,0,0,0,0,0,0,0,0,0,0,0,0,0]
[null,"Plumbing, Detailed",null,null,null,null,null,null,null,null,null,null,null,null,null,null,null,null,null,null,null,null,null,null,null,null,null,null,null,0,null,null,null,0,null,null,null,0,null,null,null,0,null,null,null,0,null,"PLUMBING",0,0,0,0,0,0,0,0,0,0,0,0,0,0]
[null,"Miscellaneous",null,null,null,null,null,null,null,null,null,null,null,null,null,null,null,null,null,null,null,null,null,null,null,null,null,null,null,0,null,null,null,0,null,null,null,0,null,null,null,0,null,null,null,0,null,"PLUMBING",0,0,0,0,0,0,0,0,0,0,0,0,0,0]
[null,"Concrete demo for below slab rough-in",null,null,null,null,null,null,null,null,null,null,null,null,null,null,null,null,"sf","sf",15,null,null,null,null,null,null,null,null,0,null,null,null,0,null,null,null,0,null,null,null,0,null,null,null,0,null,"PLUMBING",0,0,0,0,0,0,0,0,0,0,0,0,0,0]
[null,"Concrete patching for below slab rough-in",null,null,null,null,null,null,null,null,null,null,null,null,null,null,null,null,"sf","sf",10,null,null,null,null,null,null,null,null,0,null,null,null,0,null,null,null,0,null,null,null,0,null,null,null,0,null,"PLUMBING",0,0,0,0,0,0,0,0,0,0,0,0,0,0]
[null,"New sanitary line below slab rough-in",null,null,null,null,null,null,null,null,null,null,null,null,null,null,null,null,"lf",null,25,null,null,null,null,null,null,null,null,0,null,null,null,0,null,null,null,0,null,null,null,0,null,null,null,0,null,"PLUMBING",0,0,0,0,0,0,0,0,0,0,0,0,0,0]
[null,"New sanitary line, outside",null,null,null,null,null,null,null,null,null,null,null,null,null,null,null,null,"lf",null,40,null,null,null,null,null,null,null,null,0,null,null,null,0,null,null,null,0,null,null,null,0,null,null,null,0,null,"PLUMBING",0,0,0,0,0,0,0,0,0,0,0,0,0,0]
[null,"Replace gas hot water heater, 40 gallon",null,null,null,null,null,null,null,null,null,null,null,null,null,null,null,null,"ea","ea",250,null,null,400,null,350,null,null,null,0,null,null,null,0,null,null,null,0,null,null,null,0,null,null,null,0,null,"PLUMBING",0,0,0,0,0,0,0,0,0,0,0,0,0,0]
[null,"Replace existing sump pump, 1/2 HP",null,null,null,null,null,null,null,null,null,null,null,null,null,null,null,null,"ea",null,200,null,null,300,null,null,null,null,null,0,null,null,null,0,null,null,null,0,null,null,null,0,null,null,null,0,null,"PLUMBING",0,0,0,0,0,0,0,0,0,0,0,0,0,0]
[null,"Kitchens (duplicate from Kitchens section)",null,null,null,null,null,null,null,null,null,null,null,null,null,null,null,null,null,null,null,null,null,null,null,null,null,null,null,0,null,null,null,0,null,null,null,0,null,null,null,0,null,null,null,0,null,"PLUMBING",0,0,0,0,0,0,0,0,0,0,0,0,0,0]
[null,"Kitchen sink bowl, stainless steel, undermount",null,null,null,null,null,null,null,null,null,null,null,null,null,null,null,null,"ea","ea",100,null,null,300,null,300,null,null,null,0,null,null,null,0,null,null,null,0,null,null,null,0,null,null,null,0,null,"PLUMBING",0,0,0,0,0,0,0,0,0,0,0,0,0,0]
[null,"Kitchen faucet fixture",null,null,null,null,null,null,null,null,null,null,null,null,null,null,null,null,"ea","ea",75,null,null,150,null,null,null,null,null,0,null,null,null,0,null,null,null,0,null,null,null,0,null,null,null,0,null,"PLUMBING",0,0,0,0,0,0,0,0,0,0,0,0,0,0]
[null,"Garbage disposal",null,null,null,null,null,null,null,null,null,null,null,null,null,null,null,null,"ea","ea",50,null,null,100,null,null,null,null,null,0,null,null,null,0,null,null,null,0,null,null,null,0,null,null,null,0,null,"PLUMBING",0,0,0,0,0,0,0,0,0,0,0,0,0,0]
[null,"Hookup dishwasher",null,null,null,null,null,null,null,null,null,null,null,null,null,null,null,null,"ea","ea",50,null,null,25,null,null,null,null,null,0,null,null,null,0,null,null,null,0,null,null,null,0,null,null,null,0,null,"PLUMBING",0,0,0,0,0,0,0,0,0,0,0,0,0,0]
[null,"Water supply line for refrigerator",null,null,null,null,null,null,null,null,null,null,null,null,null,null,null,null,"ea","ea",50,null,null,25,null,null,null,null,null,0,null,null,null,0,null,null,null,0,null,null,null,0,null,null,null,0,null,"PLUMBING",0,0,0,0,0,0,0,0,0,0,0,0,0,0]
[null,"Bathrooms (duplicate from Bathrooms section)",null,null,null,null,null,null,null,null,null,null,null,null,null,null,null,null,null,null,null,null,null,null,null,null,null,null,null,0,null,null,null,0,null,null,null,0,null,null,null,0,null,null,null,0,null,"PLUMBING",0,0,0,0,0,0,0,0,0,0,0,0,0,0]
[null,"Bathroom faucet fixture",null,null,null,null,null,null,null,null,null,null,null,null,null,null,null,null,"ea",null,75,null,null,125,null,125,null,null,null,0,null,null,null,0,null,null,null,0,null,null,null,0,null,null,null,0,null,"PLUMBING",0,0,0,0,0,0,0,0,0,0,0,0,0,0]
[null,"Fiberglass shower stall",null,null,null,null,null,null,null,null,null,null,null,null,null,null,null,null,"ea",null,150,null,null,250,null,250,null,null,null,0,null,null,null,0,null,null,null,0,null,null,null,0,null,null,null,0,null,"PLUMBING",0,0,0,0,0,0,0,0,0,0,0,0,0,0]
[null,"Fiberglass tub",null,null,null,null,null,null,null,null,null,null,null,null,null,null,null,null,"ea",null,150,null,null,250,null,185,null,null,null,0,null,null,null,0,null,null,null,0,null,null,null,0,null,null,null,0,null,"PLUMBING",0,0,0,0,0,0,0,0,0,0,0,0,0,0]
[null,"Fiberglass tub/shower surround",null,null,null,null,null,null,null,null,null,null,null,null,null,null,null,null,"ea",null,200,null,null,350,null,300,null,null,null,0,null,null,null,0,null,null,null,0,null,null,null,0,null,null,null,0,null,"PLUMBING",0,0,0,0,0,0,0,0,0,0,0,0,0,0]
[null,"Showerhead/tub kit",null,null,null,null,null,null,null,null,null,null,null,null,null,null,null,null,"ea",null,75,null,null,150,null,135,null,null,null,0,null,null,null,0,null,null,null,0,null,null,null,0,null,null,null,0,null,"PLUMBING",0,0,0,0,0,0,0,0,0,0,0,0,0,0]
[null,"Toilets",null,null,null,null,null,null,null,null,null,null,null,null,null,null,null,null,"ea",null,75,null,null,125,null,125,null,null,null,0,null,null,null,0,null,null,null,0,null,null,null,0,null,null,null,0,null,"PLUMBING",0,0,0,0,0,0,0,0,0,0,0,0,0,0]
[null,"Toilet seats",null,null,null,null,null,null,null,null,null,null,null,null,null,null,null,null,"ea",null,12,null,null,20,null,20,null,null,null,0,null,null,null,0,null,null,null,0,null,null,null,0,null,null,null,0,null,"PLUMBING",0,0,0,0,0,0,0,0,0,0,0,0,0,0]
[null,"Pedestal sink",null,null,null,null,null,null,null,null,null,null,null,null,null,null,null,null,"ea",null,100,null,null,250,null,250,null,null,null,0,null,null,null,0,null,null,null,0,null,null,null,0,null,null,null,0,null,"PLUMBING",0,0,0,0,0,0,0,0,0,0,0,0,0,0]
[null,null,null,null,null,null,null,null,null,null,null,null,null,null,null,null,null,null,null,null,null,null,null,null,null,null,null,null,null,0,null,null,null,0,null,null,null,0,null,null,null,0,null,null,null,0,null,"PLUMBING",0,0,0,0,0,0,0,0,0,0,0,0,0,0]
[null,null,null,null,null,null,null,null,null,null,null,null,null,null,null,null,null,null,null,null,null,null,null,null,null,null,null,null,null,0,null,null,null,0,null,null,null,0,null,null,null,0,null,null,null,0,null,"PLUMBING",0,0,0,0,0,0,0,0,0,0,0,0,0,0]
[null,null,null,null,null,null,null,null,null,null,null,null,null,null,null,null,null,null,null,null,null,null,null,null,null,null,null,null,null,0,null,null,null,0,null,null,null,0,null,null,null,0,null,null,null,0,null,"PLUMBING",0,0,0,0,0,0,0,0,0,0,0,0,0,0]
[null,null,null,null,null,null,null,null,null,null,null,null,null,null,null,null,null,null,null,null,null,null,null,null,null,null,null,null,null,0,null,null,null,0,null,null,null,0,null,null,null,0,null,null,null,0,null,"PLUMBING",0,0,0,0,0,0,0,0,0,0,0,0,0,0]
[null,null,null,null,null,null,null,null,null,null,null,null,null,null,null,null,null,null,null,null,null,null,null,null,null,null,null,null,null,0,null,null,null,0,null,null,null,0,null,null,null,0,null,null,null,0,null,"PLUMBING",0,0,0,0,0,0,0,0,0,0,0,0,0,0]
[null,null,null,null,null,null,null,null,null,null,null,null,null,null,null,null,null,null,null,null,null,null,null,null,null,null,null,null,null,0,null,null,null,0,null,null,null,0,null,null,null,0,null,null,null,0,null,"PLUMBING",0,0,0,0,0,0,0,0,0,0,0,0,0,0]
[null,null,null,null,null,null,null,null,null,null,null,null,null,null,null,null,null,null,null,null,null,null,null,null,null,null,null,null,null,0,null,null,null,0,null,null,null,0,null,null,null,0,null,null,null,0,null,"PLUMBING",0,0,0,0,0,0,0,0,0,0,0,0,0,0]
[null,null,null,null,null,null,null,null,null,null,null,null,null,null,null,null,null,null,null,null,null,null,null,null,null,null,null,null,null,null,null,null,null,null,null,null,null,null,null,null,null,null,null,null,null,null,null,"PLUMBING",{"$f":"AW646","v":0},{"$f":"AX646","v":0},{"$f":"AY646","v":0},{"$f":"AZ646","v":0},null,null,{"$f":"BC646","v":0},null,{"$f":"BE646","v":0},{"$f":"BF646","v":0},null,{"$f":"BH646","v":0},{"$f":"BI646","v":0},{"$f":"BJ646","v":0}]
[null,null,null,null,null,null,null,null,null,null,null,null,null,null,null,null,null,null,null,null,null,null,null,null,null,null,null,null,{"$f":"CONCATENATE(B646,\" \",\"TOTAL\")","v":"PLUMBING TOTAL"},{"$f":"SUBTOTAL(9,AD646:AD687)","v":0},null,null,null,{"$f":"SUBTOTAL(9,AH646:AH687)","v":0},null,null,null,{"$f":"SUBTOTAL(9,AL646:AL687)","v":0},null,null,null,{"$f":"SUBTOTAL(9,AP646:AP687)","v":0},null,null,null,{"$f":"SUM(AT646:AT666)","v":0},null,"PLUMBING",{"$f":"SUM(AW647:AW687)","v":0},0,0,0,0,0,0,0,0,0,0,0,0,0]
[null,null,null,null,null,null,null,null,null,null,null,null,null,null,null,null,null,null,null,null,null,null,null,null,null,null,null,null,null,null,null,null,null,null,null,null,null,null,null,null,null,null,null,null,null,null,null,"PLUMBING",{"$f":"AW646","v":0},{"$f":"AX646","v":0},{"$f":"AY646","v":0},{"$f":"AZ646","v":0},null,null,{"$f":"BC646","v":0},null,{"$f":"BE646","v":0},{"$f":"BF646","v":0},null,{"$f":"BH646","v":0},{"$f":"BI646","v":0},{"$f":"BJ646","v":0}]
[null,null,null,null,null,null,null,null,null,null,null,null,null,null,null,null,null,null,null,null,null,null,null,null,null,null,null,null,null,null,null,null,null,null,null,null,null,null,null,null,null,null,null,null,null,null,null,"PLUMBING",{"$f":"AW688","v":0},{"$f":"AX688","v":0},{"$f":"AY688","v":0},{"$f":"AZ688","v":0},null,null,{"$f":"BC688","v":0},null,{"$f":"BE688","v":0},{"$f":"BF688","v":0},null,{"$f":"BH688","v":0},{"$f":"BI688","v":0},{"$f":"BJ688","v":0}]
["Hidden",{"$f":"T(AJ9)","v":"HVAC"},null,null,null,null,null,null,null,null,null,null,null,null,null,null,null,null,null,null,null,null,null,null,null,null,null,null,null,null,null,null,null,null,null,null,null,null,null,null,null,null,null,null,null,null,null,{"$f":"$B$691","v":"HVAC"}]
[null,"HVAC, bid/allowance",null,null,null,null,null,null,null,null,null,null,null,null,null,null,null,null,"ls","ls",null,null,null,null,null,null,4000,null,null,{"$f":"P692*U692","v":0},null,null,null,{"$f":"P692*X692","v":0},null,null,null,{"$f":"P692*AA692","v":0},null,null,null,{"$f":"SUM(AD692:AO692)","v":0},null,null,null,{"$f":"SUM(AD692:AO692)","v":0},null,"HVAC",{"$f":"AD692","v":0},{"$f":"AH692","v":0},{"$f":"AL692","v":0},{"$f":"SUM(AW692:AY692)","v":0},{"$f":"IFERROR(AW692/$AZ$13,0)","v":0},{"$f":"BA692*TOTAL_ADDERS","v":0},{"$f":"AW692+BB692","v":0},{"$f":"IFERROR(AX692/$AZ$13,0)","v":0},{"$f":"BD692*TOTAL_ADDERS","v":0},{"$f":"AX692+BE692","v":0},{"$f":"IFERROR(AY692/$AZ$13,0)","v":0},{"$f":"BG692*TOTAL_ADDERS","v":0},{"$f":"AY692+BH692","v":0},{"$f":"BC692+BF692+BI692","v":0}]
[null,"HVAC Rough-In, per hour",null,null,null,null,null,null,null,null,null,null,null,null,null,null,null,null,"hrs","hrs",null,null,null,null,null,null,65,null,65,{"$f":"P693*U693","v":0},null,null,null,0,null,null,null,0,null,null,null,0,null,null,null,0,null,"HVAC",0,0,0,0,{"$f":"IFERROR(AW693/$AZ$13,0)","v":0},0,{"$f":"AW693+BB693","v":0},{"$f":"IFERROR(AX693/$AZ$13,0)","v":0},0,{"$f":"AX693+BE693","v":0},{"$f":"IFERROR(AY693/$AZ$13,0)","v":0},0,{"$f":"AY693+BH693","v":0},{"$f":"BC693+BF693+BI693","v":0}]
[null,"HVAC Finish Work, per hour",null,null,null,null,null,null,null,null,null,null,null,null,null,null,null,null,"hrs",null,null,null,null,null,null,null,65,null,null,0,null,null,null,0,null,null,null,0,null,null,null,0,null,null,null,0,null,"HVAC",0,0,0,0,0,0,0,0,0,0,0,0,0,0]
[null,"Replace gas fired forced air unit, 1000 sf, 60k btus",null,null,null,null,null,null,null,null,null,null,null,null,null,null,null,null,"ea","ea",null,null,null,null,null,null,1650,null,1650,0,null,null,null,0,null,null,null,0,null,null,null,0,null,null,null,0,null,"HVAC",0,0,0,0,0,0,0,0,0,0,0,0,0,0]
[null,"Replace gas fired forced air unit, 2,000, 80k btus",null,null,null,null,null,null,null,null,null,null,null,null,null,null,null,null,"ea",null,null,null,null,null,null,null,2300,null,null,0,null,null,null,0,null,null,null,0,null,null,null,0,null,null,null,0,null,"HVAC",0,0,0,0,0,0,0,0,0,0,0,0,0,0]
[null,"Replace gas fired forced air unit, 3,000, 100k btus",null,null,null,null,null,null,null,null,null,null,null,null,null,null,null,null,"ea",null,null,null,null,null,null,null,2750,null,null,0,null,null,null,0,null,null,null,0,null,null,null,0,null,null,null,0,null,"HVAC",0,0,0,0,0,0,0,0,0,0,0,0,0,0]
[null,"Replace air conditioning unit, ~1,000 sf, 2 ton",null,null,null,null,null,null,null,null,null,null,null,null,null,null,null,null,"ea",null,null,null,null,null,null,null,1850,null,null,0,null,null,null,0,null,null,null,0,null,null,null,0,null,null,null,0,null,"HVAC",0,0,0,0,0,0,0,0,0,0,0,0,0,0]
[null,"Replace air conditioning unit, ~2,000 sf, 3.5 ton",null,null,null,null,null,null,null,null,null,null,null,null,null,null,null,null,"ea",null,null,null,null,null,null,null,2850,null,null,0,null,null,null,0,null,null,null,0,null,null,null,0,null,null,null,0,null,"HVAC",0,0,0,0,0,0,0,0,0,0,0,0,0,0]
[null,"Replace air conditioning unit, ~3,000sf, 5 ton",null,null,null,null,null,null,null,null,null,null,null,null,null,null,null,null,"ea",null,null,null,null,null,null,null,3250,null,null,0,null,null,null,0,null,null,null,0,null,null,null,0,null,null,null,0,null,"HVAC",0,0,0,0,0,0,0,0,0,0,0,0,0,0]
[null,"Hotel type, hot/cold packaged unit",null,null,null,null,null,null,null,null,null,null,null,null,null,null,null,null,"ea",null,null,null,null,null,null,null,1200,null,null,0,null,null,null,0,null,null,null,0,null,null,null,0,null,null,null,0,null,"HVAC",0,0,0,0,0,0,0,0,0,0,0,0,0,0]
[null,"Window mounted unit",null,null,null,null,null,null,null,null,null,null,null,null,null,null,null,null,"ea",null,null,null,null,null,null,null,400,null,null,0,null,null,null,0,null,null,null,0,null,null,null,0,null,null,null,0,null,"HVAC",0,0,0,0,0,0,0,0,0,0,0,0,0,0]
[null,"HVAC equipment tune-up/service call",null,null,null,null,null,null,null,null,null,null,null,null,null,null,null,null,"ea",null,null,null,null,null,null,null,250,null,null,0,null,null,null,0,null,null,null,0,null,null,null,0,null,null,null,0,null,"HVAC",0,0,0,0,0,0,0,0,0,0,0,0,0,0]
[null,"Programmable thermostat",null,null,null,null,null,null,null,null,null,null,null,null,null,null,null,null,"ea","ea",50,null,null,75,null,50,null,null,null,0,null,null,null,0,null,null,null,0,null,null,null,0,null,null,null,0,null,"HVAC",0,0,0,0,0,0,0,0,0,0,0,0,0,0]
[null,"Replace supply air grilles/returns",null,null,null,null,null,null,null,null,null,null,null,null,null,null,null,null,"ea","ea",7.5,null,null,15,null,null,null,null,null,0,null,null,null,0,null,null,null,0,null,null,null,0,null,null,null,0,null,"HVAC",0,0,0,0,0,0,0,0,0,0,0,0,0,0]
[null,"Clean ductwork",null,null,null,null,null,null,null,null,null,null,null,null,null,null,null,null,"ls","ea",null,null,null,null,null,null,250,null,1850,0,null,null,null,0,null,null,null,0,null,null,null,0,null,null,null,0,null,"HVAC",0,0,0,0,0,0,0,0,0,0,0,0,0,0]
[null,null,null,null,null,null,null,null,null,null,null,null,null,null,null,null,null,null,null,null,null,null,null,null,null,null,null,null,null,0,null,null,null,0,null,null,null,0,null,null,null,0,null,null,null,0,null,"HVAC",0,0,0,0,0,0,0,0,0,0,0,0,0,0]
[null,null,null,null,null,null,null,null,null,null,null,null,null,null,null,null,null,null,null,null,null,null,null,null,null,null,null,null,null,0,null,null,null,0,null,null,null,0,null,null,null,0,null,null,null,0,null,"HVAC",0,0,0,0,0,0,0,0,0,0,0,0,0,0]
[null,null,null,null,null,null,null,null,null,null,null,null,null,null,null,null,null,null,null,null,null,null,null,null,null,null,null,null,null,0,null,null,null,0,null,null,null,0,null,null,null,0,null,null,null,0,null,"HVAC",0,0,0,0,0,0,0,0,0,0,0,0,0,0]
[null,null,null,null,null,null,null,null,null,null,null,null,null,null,null,null,null,null,null,null,null,null,null,null,null,null,null,null,null,0,null,null,null,0,null,null,null,0,null,null,null,0,null,null,null,0,null,"HVAC",0,0,0,0,0,0,0,0,0,0,0,0,0,0]
[null,null,null,null,null,null,null,null,null,null,null,null,null,null,null,null,null,null,null,null,null,null,null,null,null,null,null,null,null,0,null,null,null,0,null,null,null,0,null,null,null,0,null,null,null,0,null,"HVAC",0,0,0,0,0,0,0,0,0,0,0,0,0,0]
[null,null,null,null,null,null,null,null,null,null,null,null,null,null,null,null,null,null,null,null,null,null,null,null,null,null,null,null,null,0,null,null,null,0,null,null,null,0,null,null,null,0,null,null,null,0,null,"HVAC",0,0,0,0,0,0,0,0,0,0,0,0,0,0]
[null,null,null,null,null,null,null,null,null,null,null,null,null,null,null,null,null,null,null,null,null,null,null,null,null,null,null,null,null,0,null,null,null,0,null,null,null,0,null,null,null,0,null,null,null,0,null,"HVAC",0,0,0,0,0,0,0,0,0,0,0,0,0,0]
[null,null,null,null,null,null,null,null,null,null,null,null,null,null,null,null,null,null,null,null,null,null,null,null,null,null,null,null,null,0,null,null,null,0,null,null,null,0,null,null,null,0,null,null,null,0,null,"HVAC",0,0,0,0,0,0,0,0,0,0,0,0,0,0]
[null,null,null,null,null,null,null,null,null,null,null,null,null,null,null,null,null,null,null,null,null,null,null,null,null,null,null,null,null,0,null,null,null,0,null,null,null,0,null,null,null,0,null,null,null,0,null,"HVAC",0,0,0,0,0,0,0,0,0,0,0,0,0,0]
[null,null,null,null,null,null,null,null,null,null,null,null,null,null,null,null,null,null,null,null,null,null,null,null,null,null,null,null,null,0,null,null,null,0,null,null,null,0,null,null,null,0,null,null,null,0,null,"HVAC",0,0,0,0,0,0,0,0,0,0,0,0,0,0]
[null,null,null,null,null,null,null,null,null,null,null,null,null,null,null,null,null,null,null,null,null,null,null,null,null,null,null,null,null,0,null,null,null,0,null,null,null,0,null,null,null,0,null,null,null,0,null,"HVAC",0,0,0,0,0,0,0,0,0,0,0,0,0,0]
[null,null,null,null,null,null,null,null,null,null,null,null,null,null,null,null,null,null,null,null,null,null,null,null,null,null,null,null,null,0,null,null,null,0,null,null,null,0,null,null,null,0,null,null,null,0,null,"HVAC",0,0,0,0,0,0,0,0,0,0,0,0,0,0]
[null,null,null,null,null,null,null,null,null,null,null,null,null,null,null,null,null,null,null,null,null,null,null,null,null,null,null,null,null,0,null,null,null,0,null,null,null,0,null,null,null,0,null,null,null,0,null,"HVAC",0,0,0,0,0,0,0,0,0,0,0,0,0,0]
[null,null,null,null,null,null,null,null,null,null,null,null,null,null,null,null,null,null,null,null,null,null,null,null,null,null,null,null,null,0,null,null,null,0,null,null,null,0,null,null,null,0,null,null,null,0,null,"HVAC",0,0,0,0,0,0,0,0,0,0,0,0,0,0]
[null,null,null,null,null,null,null,null,null,null,null,null,null,null,null,null,null,null,null,null,null,null,null,null,null,null,null,null,null,0,null,null,null,0,null,null,null,0,null,null,null,0,null,null,null,0,null,"HVAC",0,0,0,0,0,0,0,0,0,0,0,0,0,0]
[null,null,null,null,null,null,null,null,null,null,null,null,null,null,null,null,null,null,null,null,null,null,null,null,null,null,null,null,null,0,null,null,null,0,null,null,null,0,null,null,null,0,null,null,null,0,null,"HVAC",0,0,0,0,0,0,0,0,0,0,0,0,0,0]
[null,null,null,null,null,null,null,null,null,null,null,null,null,null,null,null,null,null,null,null,null,null,null,null,null,null,null,null,null,0,null,null,null,0,null,null,null,0,null,null,null,0,null,null,null,0,null,"HVAC",0,0,0,0,0,0,0,0,0,0,0,0,0,0]
[null,null,null,null,null,null,null,null,null,null,null,null,null,null,null,null,null,null,null,null,null,null,null,null,null,null,null,null,null,0,null,null,null,0,null,null,null,0,null,null,null,0,null,null,null,0,null,"HVAC",0,0,0,0,0,0,0,0,0,0,0,0,0,0]
[null,null,null,null,null,null,null,null,null,null,null,null,null,null,null,null,null,null,null,null,null,null,null,null,null,null,null,null,null,0,null,null,null,0,null,null,null,0,null,null,null,0,null,null,null,0,null,"HVAC",0,0,0,0,0,0,0,0,0,0,0,0,0,0]
[null,null,null,null,null,null,null,null,null,null,null,null,null,null,null,null,null,null,null,null,null,null,null,null,null,null,null,null,null,0,null,null,null,0,null,null,null,0,null,null,null,0,null,null,null,0,null,"HVAC",0,0,0,0,0,0,0,0,0,0,0,0,0,0]
[null,null,null,null,null,null,null,null,null,null,null,null,null,null,null,null,null,null,null,null,null,null,null,null,null,null,null,null,null,0,null,null,null,0,null,null,null,0,null,null,null,0,null,null,null,0,null,"HVAC",0,0,0,0,0,0,0,0,0,0,0,0,0,0]
[null,null,null,null,null,null,null,null,null,null,null,null,null,null,null,null,null,null,null,null,null,null,null,null,null,null,null,null,null,0,null,null,null,0,null,null,null,0,null,null,null,0,null,null,null,0,null,"HVAC",0,0,0,0,0,0,0,0,0,0,0,0,0,0]
[null,null,null,null,null,null,null,null,null,null,null,null,null,null,null,null,null,null,null,null,null,null,null,null,null,null,null,null,null,0,null,null,null,0,null,null,null,0,null,null,null,0,null,null,null,0,null,"HVAC",0,0,0,0,0,0,0,0,0,0,0,0,0,0]
[null,null,null,null,null,null,null,null,null,null,null,null,null,null,null,null,null,null,null,null,null,null,null,null,null,null,null,null,null,0,null,null,null,0,null,null,null,0,null,null,null,0,null,null,null,0,null,"HVAC",0,0,0,0,0,0,0,0,0,0,0,0,0,0]
[null,null,null,null,null,null,null,null,null,null,null,null,null,null,null,null,null,null,null,null,null,null,null,null,null,null,null,null,null,0,null,null,null,0,null,null,null,0,null,null,null,0,null,null,null,0,null,"HVAC",0,0,0,0,0,0,0,0,0,0,0,0,0,0]
[null,null,null,null,null,null,null,null,null,null,null,null,null,null,null,null,null,null,null,null,null,null,null,null,null,null,null,null,null,null,null,null,null,null,null,null,null,null,null,null,null,null,null,null,null,null,null,"HVAC",{"$f":"AW691","v":0},{"$f":"AX691","v":0},{"$f":"AY691","v":0},{"$f":"AZ691","v":0},null,null,{"$f":"BC691","v":0},null,{"$f":"BE691","v":0},{"$f":"BF691","v":0},null,{"$f":"BH691","v":0},{"$f":"BI691","v":0},{"$f":"BJ691","v":0}]
[null,null,null,null,null,null,null,null,null,null,null,null,null,null,null,null,null,null,null,null,null,null,null,null,null,null,null,null,{"$f":"CONCATENATE(B691,\" \",\"TOTAL\")","v":"HVAC TOTAL"},{"$f":"SUBTOTAL(9,AD691:AD732)","v":0},null,null,null,{"$f":"SUBTOTAL(9,AH691:AH732)","v":0},null,null,null,{"$f":"SUBTOTAL(9,AL691:AL732)","v":0},null,null,null,{"$f":"SUBTOTAL(9,AP691:AP732)","v":0},null,null,null,{"$f":"SUM(AT691:AT703)","v":0},null,"HVAC",{"$f":"SUM(AW692:AW732)","v":0},0,0,0,0,0,0,0,0,0,0,0,0,0]
[null,null,null,null,null,null,null,null,null,null,null,null,null,null,null,null,null,null,null,null,null,null,null,null,null,null,null,null,null,null,null,null,null,null,null,null,null,null,null,null,null,null,null,null,null,null,null,"HVAC",{"$f":"AW691","v":0},{"$f":"AX691","v":0},{"$f":"AY691","v":0},{"$f":"AZ691","v":0},null,null,{"$f":"BC691","v":0},null,{"$f":"BE691","v":0},{"$f":"BF691","v":0},null,{"$f":"BH691","v":0},{"$f":"BI691","v":0},{"$f":"BJ691","v":0}]
[null,null,null,null,null,null,null,null,null,null,null,null,null,null,null,null,null,null,null,null,null,null,null,null,null,null,null,null,null,null,null,null,null,null,null,null,null,null,null,null,null,null,null,null,null,null,null,"HVAC",{"$f":"AW733","v":0},{"$f":"AX733","v":0},{"$f":"AY733","v":0},{"$f":"AZ733","v":0},null,null,{"$f":"BC733","v":0},null,{"$f":"BE733","v":0},{"$f":"BF733","v":0},null,{"$f":"BH733","v":0},{"$f":"BI733","v":0},{"$f":"BJ733","v":0}]
["Hidden",{"$f":"T(AJ10)","v":"ELECTRICAL"},null,null,null,null,null,null,null,null,null,null,null,null,null,null,null,null,null,null,null,null,null,null,null,null,null,null,null,null,null,null,null,null,null,null,null,null,null,null,null,null,null,null,null,null,null,{"$f":"$B$736","v":"ELECTRICAL"}]
[null,"Electrical, bid/allowance",null,null,null,null,null,null,null,null,null,null,null,null,null,null,null,null,"ls","ls",null,null,null,null,null,null,null,null,null,{"$f":"P737*U737","v":0},null,null,null,{"$f":"P737*X737","v":0},null,null,null,{"$f":"P737*AA737","v":0},null,null,null,{"$f":"SUM(AD737:AO737)","v":0},null,null,null,{"$f":"SUM(AD737:AO737)","v":0},null,"ELECTRICAL",{"$f":"AD737","v":0},{"$f":"AH737","v":0},{"$f":"AL737","v":0},{"$f":"SUM(AW737:AY737)","v":0},{"$f":"IFERROR(AW737/$AZ$13,0)","v":0},{"$f":"BA737*TOTAL_ADDERS","v":0},{"$f":"AW737+BB737","v":0},{"$f":"IFERROR(AX737/$AZ$13,0)","v":0},{"$f":"BD737*TOTAL_ADDERS","v":0},{"$f":"AX737+BE737","v":0},{"$f":"IFERROR(AY737/$AZ$13,0)","v":0},{"$f":"BG737*TOTAL_ADDERS","v":0},{"$f":"AY737+BH737","v":0},{"$f":"BC737+BF737+BI737","v":0}]
[null,null,null,null,null,null,null,null,null,null,null,null,null,null,null,null,null,null,null,null,null,null,null,null,null,null,null,null,null,{"$f":"P738*U738","v":0},null,null,null,0,null,null,null,0,null,null,null,0,null,null,null,0,null,"ELECTRICAL",0,0,0,0,{"$f":"IFERROR(AW738/$AZ$13,0)","v":0},0,{"$f":"AW738+BB738","v":0},{"$f":"IFERROR(AX738/$AZ$13,0)","v":0},0,{"$f":"AX738+BE738","v":0},{"$f":"IFERROR(AY738/$AZ$13,0)","v":0},0,{"$f":"AY738+BH738","v":0},{"$f":"BC738+BF738+BI738","v":0}]
[null,"Electrical Work, Per Hour",null,null,null,null,null,null,null,null,null,null,null,null,null,null,null,null,null,null,null,null,null,null,null,null,null,null,null,0,null,null,null,0,null,null,null,0,null,null,null,0,null,null,null,0,null,"ELECTRICAL",0,0,0,0,0,0,0,0,0,0,0,0,0,0]
[null,"Electrical rough-in, per hour",null,null,null,null,null,null,null,null,null,null,null,null,null,null,null,null,"hrs","hrs",65,null,null,null,null,null,null,null,null,0,null,null,null,0,null,null,null,0,null,null,null,0,null,null,null,0,null,"ELECTRICAL",0,0,0,0,0,0,0,0,0,0,0,0,0,0]
[null,"Electrical finish work, per hour",null,null,null,null,null,null,null,null,null,null,null,null,null,null,null,null,"hrs","sf",65,null,null,null,null,null,null,null,null,0,null,null,null,0,null,null,null,0,null,null,null,0,null,null,null,0,null,"ELECTRICAL",0,0,0,0,0,0,0,0,0,0,0,0,0,0]
[null,null,null,null,null,null,null,null,null,null,null,null,null,null,null,null,null,null,null,null,null,null,null,null,null,null,null,null,null,0,null,null,null,0,null,null,null,0,null,null,null,0,null,null,null,0,null,"ELECTRICAL",0,0,0,0,0,0,0,0,0,0,0,0,0,0]
[null,"Electrical Work, per SF",null,null,null,null,null,null,null,null,null,null,null,null,null,null,null,null,null,null,null,null,null,null,null,null,null,null,null,0,null,null,null,0,null,null,null,0,null,null,null,0,null,null,null,0,null,"ELECTRICAL",0,0,0,0,0,0,0,0,0,0,0,0,0,0]
[null,"Rewire entire house (new panel, circuits, outlets, lighting)",null,null,null,null,null,null,null,null,null,null,null,null,null,null,null,null,"sf",null,null,null,null,null,null,null,3,null,null,0,null,null,null,0,null,null,null,0,null,null,null,0,null,null,null,0,null,"ELECTRICAL",0,0,0,0,0,0,0,0,0,0,0,0,0,0]
[null,"Electrical, finish work only, etc (fixtures, cover plates, etc)",null,null,null,null,null,null,null,null,null,null,null,null,null,null,null,null,"sf",null,null,null,null,null,null,null,1.25,null,null,0,null,null,null,0,null,null,null,0,null,null,null,0,null,null,null,0,null,"ELECTRICAL",0,0,0,0,0,0,0,0,0,0,0,0,0,0]
[null,null,null,null,null,null,null,null,null,null,null,null,null,null,null,null,null,null,null,null,null,null,null,null,null,null,null,null,null,0,null,null,null,0,null,null,null,0,null,null,null,0,null,null,null,0,null,"ELECTRICAL",0,0,0,0,0,0,0,0,0,0,0,0,0,0]
[null,"Electrical work, Detailed",null,null,null,null,null,null,null,null,null,null,null,null,null,null,null,null,null,null,null,null,null,null,null,null,null,null,null,0,null,null,null,0,null,null,null,0,null,null,null,0,null,null,null,0,null,"ELECTRICAL",0,0,0,0,0,0,0,0,0,0,0,0,0,0]
[null,"Miscellaneous",null,null,null,null,null,null,null,null,null,null,null,null,null,null,null,null,null,null,null,null,null,null,null,null,null,null,null,0,null,null,null,0,null,null,null,0,null,null,null,0,null,null,null,0,null,"ELECTRICAL",0,0,0,0,0,0,0,0,0,0,0,0,0,0]
[null,"Replace electrical panel, 100 AMP",null,null,null,null,null,null,null,null,null,null,null,null,null,null,null,null,"ea","ea",null,null,null,null,null,null,975,null,null,0,null,null,null,0,null,null,null,0,null,null,null,0,null,null,null,0,null,"ELECTRICAL",0,0,0,0,0,0,0,0,0,0,0,0,0,0]
[null,"Replace electrical panel, 200 AMP",null,null,null,null,null,null,null,null,null,null,null,null,null,null,null,null,"ea","ea",null,null,null,null,null,null,1250,null,null,0,null,null,null,0,null,null,null,0,null,null,null,0,null,null,null,0,null,"ELECTRICAL",0,0,0,0,0,0,0,0,0,0,0,0,0,0]
[null,"Replace outlets, light switches",null,null,null,null,null,null,null,null,null,null,null,null,null,null,null,null,"ea","ea",null,null,null,null,null,null,10,null,null,0,null,null,null,0,null,null,null,0,null,null,null,0,null,null,null,0,null,"ELECTRICAL",0,0,0,0,0,0,0,0,0,0,0,0,0,0]
[null,"Replace GFI outlets/ground back to panel",null,null,null,null,null,null,null,null,null,null,null,null,null,null,null,null,"ea","ea",null,null,null,null,null,null,75,null,null,0,null,null,null,0,null,null,null,0,null,null,null,0,null,null,null,0,null,"ELECTRICAL",0,0,0,0,0,0,0,0,0,0,0,0,0,0]
[null,"Exhaust Fan",null,null,null,null,null,null,null,null,null,null,null,null,null,null,null,null,"ea","ea",null,null,null,40,null,40,85,null,null,0,null,null,null,0,null,null,null,0,null,null,null,0,null,null,null,0,null,"ELECTRICAL",0,0,0,0,0,0,0,0,0,0,0,0,0,0]
[null,"Smoke detectors",null,null,null,null,null,null,null,null,null,null,null,null,null,null,null,null,"ea","ea",null,null,null,15,null,15,25,null,null,0,null,null,null,0,null,null,null,0,null,null,null,0,null,null,null,0,null,"ELECTRICAL",0,0,0,0,0,0,0,0,0,0,0,0,0,0]
[null,"Carbon monoxide detector",null,null,null,null,null,null,null,null,null,null,null,null,null,null,null,null,"ea","ea",null,null,null,20,null,20,25,null,null,0,null,null,null,0,null,null,null,0,null,null,null,0,null,null,null,0,null,"ELECTRICAL",0,0,0,0,0,0,0,0,0,0,0,0,0,0]
[null,"Lighting",null,null,null,null,null,null,null,null,null,null,null,null,null,null,null,null,null,"ea",null,null,null,null,null,null,null,null,null,0,null,null,null,0,null,null,null,0,null,null,null,0,null,null,null,0,null,"ELECTRICAL",0,0,0,0,0,0,0,0,0,0,0,0,0,0]
[null,"Track/Pendent light",null,null,null,null,null,null,null,null,null,null,null,null,null,null,null,null,"ea","ea",null,null,null,100,null,100,50,null,null,0,null,null,null,0,null,null,null,0,null,null,null,0,null,null,null,0,null,"ELECTRICAL",0,0,0,0,0,0,0,0,0,0,0,0,0,0]
[null,"Chandelier light fixture",null,null,null,null,null,null,null,null,null,null,null,null,null,null,null,null,"ea","ea",null,null,null,150,null,150,50,null,null,0,null,null,null,0,null,null,null,0,null,null,null,0,null,null,null,0,null,"ELECTRICAL",0,0,0,0,0,0,0,0,0,0,0,0,0,0]
[null,"Ceiling dome light",null,null,null,null,null,null,null,null,null,null,null,null,null,null,null,null,"ea","ea",null,null,null,35,null,35,25,null,null,0,null,null,null,0,null,null,null,0,null,null,null,0,null,null,null,0,null,"ELECTRICAL",0,0,0,0,0,0,0,0,0,0,0,0,0,0]
[null,"Ceiling fan fixture",null,null,null,null,null,null,null,null,null,null,null,null,null,null,null,null,"ea","ea",null,null,null,115,null,115,75,null,null,0,null,null,null,0,null,null,null,0,null,null,null,0,null,null,null,0,null,"ELECTRICAL",0,0,0,0,0,0,0,0,0,0,0,0,0,0]
[null,"Can lighting",null,null,null,null,null,null,null,null,null,null,null,null,null,null,null,null,"ea","ea",null,null,null,21.5,null,21.5,125,null,null,0,null,null,null,0,null,null,null,0,null,null,null,0,null,null,null,0,null,"ELECTRICAL",0,0,0,0,0,0,0,0,0,0,0,0,0,0]
[null,"Exterior light fixture",null,null,null,null,null,null,null,null,null,null,null,null,null,null,null,null,"ea","ea",null,null,null,75,null,75,50,null,null,0,null,null,null,0,null,null,null,0,null,null,null,0,null,null,null,0,null,"ELECTRICAL",0,0,0,0,0,0,0,0,0,0,0,0,0,0]
[null,null,null,null,null,null,null,null,null,null,null,null,null,null,null,null,null,null,null,null,null,null,null,null,null,null,null,null,null,0,null,null,null,0,null,null,null,0,null,null,null,0,null,null,null,0,null,"ELECTRICAL",0,0,0,0,0,0,0,0,0,0,0,0,0,0]
[null,null,null,null,null,null,null,null,null,null,null,null,null,null,null,null,null,null,null,null,null,null,null,null,null,null,null,null,null,0,null,null,null,0,null,null,null,0,null,null,null,0,null,null,null,0,null,"ELECTRICAL",0,0,0,0,0,0,0,0,0,0,0,0,0,0]
[null,null,null,null,null,null,null,null,null,null,null,null,null,null,null,null,null,null,null,null,null,null,null,null,null,null,null,null,null,0,null,null,null,0,null,null,null,0,null,null,null,0,null,null,null,0,null,"ELECTRICAL",0,0,0,0,0,0,0,0,0,0,0,0,0,0]
[null,null,null,null,null,null,null,null,null,null,null,null,null,null,null,null,null,null,null,null,null,null,null,null,null,null,null,null,null,0,null,null,null,0,null,null,null,0,null,null,null,0,null,null,null,0,null,"ELECTRICAL",0,0,0,0,0,0,0,0,0,0,0,0,0,0]
[null,null,null,null,null,null,null,null,null,null,null,null,null,null,null,null,null,null,null,null,null,null,null,null,null,null,null,null,null,0,null,null,null,0,null,null,null,0,null,null,null,0,null,null,null,0,null,"ELECTRICAL",0,0,0,0,0,0,0,0,0,0,0,0,0,0]
[null,null,null,null,null,null,null,null,null,null,null,null,null,null,null,null,null,null,null,null,null,null,null,null,null,null,null,null,null,0,null,null,null,0,null,null,null,0,null,null,null,0,null,null,null,0,null,"ELECTRICAL",0,0,0,0,0,0,0,0,0,0,0,0,0,0]
[null,null,null,null,null,null,null,null,null,null,null,null,null,null,null,null,null,null,null,null,null,null,null,null,null,null,null,null,null,0,null,null,null,0,null,null,null,0,null,null,null,0,null,null,null,0,null,"ELECTRICAL",0,0,0,0,0,0,0,0,0,0,0,0,0,0]
[null,null,null,null,null,null,null,null,null,null,null,null,null,null,null,null,null,null,null,null,null,null,null,null,null,null,null,null,null,0,null,null,null,0,null,null,null,0,null,null,null,0,null,null,null,0,null,"ELECTRICAL",0,0,0,0,0,0,0,0,0,0,0,0,0,0]
[null,null,null,null,null,null,null,null,null,null,null,null,null,null,null,null,null,null,null,null,null,null,null,null,null,null,null,null,null,0,null,null,null,0,null,null,null,0,null,null,null,0,null,null,null,0,null,"ELECTRICAL",0,0,0,0,0,0,0,0,0,0,0,0,0,0]
[null,null,null,null,null,null,null,null,null,null,null,null,null,null,null,null,null,null,null,null,null,null,null,null,null,null,null,null,null,0,null,null,null,0,null,null,null,0,null,null,null,0,null,null,null,0,null,"ELECTRICAL",0,0,0,0,0,0,0,0,0,0,0,0,0,0]
[null,null,null,null,null,null,null,null,null,null,null,null,null,null,null,null,null,null,null,null,null,null,null,null,null,null,null,null,null,0,null,null,null,0,null,null,null,0,null,null,null,0,null,null,null,0,null,"ELECTRICAL",0,0,0,0,0,0,0,0,0,0,0,0,0,0]
[null,null,null,null,null,null,null,null,null,null,null,null,null,null,null,null,null,null,null,null,null,null,null,null,null,null,null,null,null,0,null,null,null,0,null,null,null,0,null,null,null,0,null,null,null,0,null,"ELECTRICAL",0,0,0,0,0,0,0,0,0,0,0,0,0,0]
[null,null,null,null,null,null,null,null,null,null,null,null,null,null,null,null,null,null,null,null,null,null,null,null,null,null,null,null,null,0,null,null,null,0,null,null,null,0,null,null,null,0,null,null,null,0,null,"ELECTRICAL",0,0,0,0,0,0,0,0,0,0,0,0,0,0]
[null,null,null,null,null,null,null,null,null,null,null,null,null,null,null,null,null,null,null,null,null,null,null,null,null,null,null,null,null,0,null,null,null,0,null,null,null,0,null,null,null,0,null,null,null,0,null,"ELECTRICAL",0,0,0,0,0,0,0,0,0,0,0,0,0,0]
[null,null,null,null,null,null,null,null,null,null,null,null,null,null,null,null,null,null,null,null,null,null,null,null,null,null,null,null,null,null,null,null,null,null,null,null,null,null,null,null,null,null,null,null,null,null,null,"ELECTRICAL",{"$f":"AW736","v":0},{"$f":"AX736","v":0},{"$f":"AY736","v":0},{"$f":"AZ736","v":0},null,null,{"$f":"BC736","v":0},null,{"$f":"BE736","v":0},{"$f":"BF736","v":0},null,{"$f":"BH736","v":0},{"$f":"BI736","v":0},{"$f":"BJ736","v":0}]
[null,null,null,null,null,null,null,null,null,null,null,null,null,null,null,null,null,null,null,null,null,null,null,null,null,null,null,null,{"$f":"CONCATENATE(B736,\" \",\"TOTAL\")","v":"ELECTRICAL TOTAL"},{"$f":"SUBTOTAL(9,AD736:AD777)","v":0},null,null,null,{"$f":"SUBTOTAL(9,AH736:AH777)","v":0},null,null,null,{"$f":"SUBTOTAL(9,AL736:AL777)","v":0},null,null,null,{"$f":"SUBTOTAL(9,AP736:AP777)","v":0},null,null,null,{"$f":"SUM(AT746:AT756)","v":0},null,"ELECTRICAL",{"$f":"SUM(AW737:AW777)","v":0},0,0,0,0,0,0,0,0,0,0,0,0,0]
[null,null,null,null,null,null,null,null,null,null,null,null,null,null,null,null,null,null,null,null,null,null,null,null,null,null,null,null,null,null,null,null,null,null,null,null,null,null,null,null,null,null,null,null,null,null,null,"ELECTRICAL",{"$f":"AW736","v":0},{"$f":"AX736","v":0},{"$f":"AY736","v":0},{"$f":"AZ736","v":0},null,null,{"$f":"BC736","v":0},null,{"$f":"BE736","v":0},{"$f":"BF736","v":0},null,{"$f":"BH736","v":0},{"$f":"BI736","v":0},{"$f":"BJ736","v":0}]
[null,null,null,null,null,null,null,null,null,null,null,null,null,null,null,null,null,null,null,null,null,null,null,null,null,null,null,null,null,null,null,null,null,null,null,null,null,null,null,null,null,null,null,null,null,null,null,"ELECTRICAL",{"$f":"AW778","v":0},{"$f":"AX778","v":0},{"$f":"AY778","v":0},{"$f":"AZ778","v":0},null,null,{"$f":"BC778","v":0},null,{"$f":"BE778","v":0},{"$f":"BF778","v":0},null,{"$f":"BH778","v":0},{"$f":"BI778","v":0},{"$f":"BJ778","v":0}]
["Hidden",{"$f":"T(AJ11)","v":"OTHER"},null,null,null,null,null,null,null,null,null,null,null,null,null,null,null,null,null,null,null,null,null,null,null,null,null,null,null,null,null,null,null,null,null,null,null,null,null,null,null,null,null,null,null,null,null,{"$f":"$B$781","v":"OTHER"}]
[null,null,null,null,null,null,null,null,null,null,null,null,null,null,null,null,null,null,null,null,null,null,null,null,null,null,null,null,null,{"$f":"P782*U782","v":0},null,null,null,{"$f":"P782*X782","v":0},null,null,null,{"$f":"P782*AA782","v":0},null,null,null,{"$f":"SUM(AD782:AO782)","v":0},null,null,null,{"$f":"SUM(AD782:AO782)","v":0},null,"OTHER",{"$f":"AD782","v":0},{"$f":"AH782","v":0},{"$f":"AL782","v":0},{"$f":"SUM(AW782:AY782)","v":0},{"$f":"IFERROR(AW782/$AZ$13,0)","v":0},{"$f":"BA782*TOTAL_ADDERS","v":0},{"$f":"AW782+BB782","v":0},{"$f":"IFERROR(AX782/$AZ$13,0)","v":0},{"$f":"BD782*TOTAL_ADDERS","v":0},{"$f":"AX782+BE782","v":0},{"$f":"IFERROR(AY782/$AZ$13,0)","v":0},{"$f":"BG782*TOTAL_ADDERS","v":0},{"$f":"AY782+BH782","v":0},{"$f":"BC782+BF782+BI782","v":0}]
[null,null,null,null,null,null,null,null,null,null,null,null,null,null,null,null,null,null,null,null,null,null,null,null,null,null,null,null,null,{"$f":"P783*U783","v":0},null,null,null,0,null,null,null,0,null,null,null,0,null,null,null,0,null,"OTHER",0,0,0,0,{"$f":"IFERROR(AW783/$AZ$13,0)","v":0},0,{"$f":"AW783+BB783","v":0},{"$f":"IFERROR(AX783/$AZ$13,0)","v":0},0,{"$f":"AX783+BE783","v":0},{"$f":"IFERROR(AY783/$AZ$13,0)","v":0},0,{"$f":"AY783+BH783","v":0},{"$f":"BC783+BF783+BI783","v":0}]
[null,null,null,null,null,null,null,null,null,null,null,null,null,null,null,null,null,null,null,null,null,null,null,null,null,null,null,null,null,0,null,null,null,0,null,null,null,0,null,null,null,0,null,null,null,0,null,"OTHER",0,0,0,0,0,0,0,0,0,0,0,0,0,0]
[null,null,null,null,null,null,null,null,null,null,null,null,null,null,null,null,null,null,null,null,null,null,null,null,null,null,null,null,null,0,null,null,null,0,null,null,null,0,null,null,null,0,null,null,null,0,null,"OTHER",0,0,0,0,0,0,0,0,0,0,0,0,0,0]
[null,null,null,null,null,null,null,null,null,null,null,null,null,null,null,null,null,null,null,null,null,null,null,null,null,null,null,null,null,0,null,null,null,0,null,null,null,0,null,null,null,0,null,null,null,0,null,"OTHER",0,0,0,0,0,0,0,0,0,0,0,0,0,0]
[null,null,null,null,null,null,null,null,null,null,null,null,null,null,null,null,null,null,null,null,null,null,null,null,null,null,null,null,null,0,null,null,null,0,null,null,null,0,null,null,null,0,null,null,null,0,null,"OTHER",0,0,0,0,0,0,0,0,0,0,0,0,0,0]
[null,null,null,null,null,null,null,null,null,null,null,null,null,null,null,null,null,null,null,null,null,null,null,null,null,null,null,null,null,0,null,null,null,0,null,null,null,0,null,null,null,0,null,null,null,0,null,"OTHER",0,0,0,0,0,0,0,0,0,0,0,0,0,0]
[null,null,null,null,null,null,null,null,null,null,null,null,null,null,null,null,null,null,null,null,null,null,null,null,null,null,null,null,null,0,null,null,null,0,null,null,null,0,null,null,null,0,null,null,null,0,null,"OTHER",0,0,0,0,0,0,0,0,0,0,0,0,0,0]
[null,null,null,null,null,null,null,null,null,null,null,null,null,null,null,null,null,null,null,null,null,null,null,null,null,null,null,null,null,0,null,null,null,0,null,null,null,0,null,null,null,0,null,null,null,0,null,"OTHER",0,0,0,0,0,0,0,0,0,0,0,0,0,0]
[null,null,null,null,null,null,null,null,null,null,null,null,null,null,null,null,null,null,null,null,null,null,null,null,null,null,null,null,null,0,null,null,null,0,null,null,null,0,null,null,null,0,null,null,null,0,null,"OTHER",0,0,0,0,0,0,0,0,0,0,0,0,0,0]
[null,null,null,null,null,null,null,null,null,null,null,null,null,null,null,null,null,null,null,null,null,null,null,null,null,null,null,null,null,0,null,null,null,0,null,null,null,0,null,null,null,0,null,null,null,0,null,"OTHER",0,0,0,0,0,0,0,0,0,0,0,0,0,0]
[null,null,null,null,null,null,null,null,null,null,null,null,null,null,null,null,null,null,null,null,null,null,null,null,null,null,null,null,null,0,null,null,null,0,null,null,null,0,null,null,null,0,null,null,null,0,null,"OTHER",0,0,0,0,0,0,0,0,0,0,0,0,0,0]
[null,null,null,null,null,null,null,null,null,null,null,null,null,null,null,null,null,null,null,null,null,null,null,null,null,null,null,null,null,0,null,null,null,0,null,null,null,0,null,null,null,0,null,null,null,0,null,"OTHER",0,0,0,0,0,0,0,0,0,0,0,0,0,0]
[null,null,null,null,null,null,null,null,null,null,null,null,null,null,null,null,null,null,null,null,null,null,null,null,null,null,null,null,null,0,null,null,null,0,null,null,null,0,null,null,null,0,null,null,null,0,null,"OTHER",0,0,0,0,0,0,0,0,0,0,0,0,0,0]
[null,null,null,null,null,null,null,null,null,null,null,null,null,null,null,null,null,null,null,null,null,null,null,null,null,null,null,null,null,0,null,null,null,0,null,null,null,0,null,null,null,0,null,null,null,0,null,"OTHER",0,0,0,0,0,0,0,0,0,0,0,0,0,0]
[null,null,null,null,null,null,null,null,null,null,null,null,null,null,null,null,null,null,null,null,null,null,null,null,null,null,null,null,null,0,null,null,null,0,null,null,null,0,null,null,null,0,null,null,null,0,null,"OTHER",0,0,0,0,0,0,0,0,0,0,0,0,0,0]
[null,null,null,null,null,null,null,null,null,null,null,null,null,null,null,null,null,null,null,null,null,null,null,null,null,null,null,null,null,0,null,null,null,0,null,null,null,0,null,null,null,0,null,null,null,0,null,"OTHER",0,0,0,0,0,0,0,0,0,0,0,0,0,0]
[null,null,null,null,null,null,null,null,null,null,null,null,null,null,null,null,null,null,null,null,null,null,null,null,null,null,null,null,null,0,null,null,null,0,null,null,null,0,null,null,null,0,null,null,null,0,null,"OTHER",0,0,0,0,0,0,0,0,0,0,0,0,0,0]
[null,null,null,null,null,null,null,null,null,null,null,null,null,null,null,null,null,null,null,null,null,null,null,null,null,null,null,null,null,0,null,null,null,0,null,null,null,0,null,null,null,0,null,null,null,0,null,"OTHER",0,0,0,0,0,0,0,0,0,0,0,0,0,0]
[null,null,null,null,null,null,null,null,null,null,null,null,null,null,null,null,null,null,null,null,null,null,null,null,null,null,null,null,null,0,null,null,null,0,null,null,null,0,null,null,null,0,null,null,null,0,null,"OTHER",0,0,0,0,0,0,0,0,0,0,0,0,0,0]
[null,null,null,null,null,null,null,null,null,null,null,null,null,null,null,null,null,null,null,null,null,null,null,null,null,null,null,null,null,0,null,null,null,0,null,null,null,0,null,null,null,0,null,null,null,0,null,"OTHER",0,0,0,0,0,0,0,0,0,0,0,0,0,0]
[null,null,null,null,null,null,null,null,null,null,null,null,null,null,null,null,null,null,null,null,null,null,null,null,null,null,null,null,null,0,null,null,null,0,null,null,null,0,null,null,null,0,null,null,null,0,null,"OTHER",0,0,0,0,0,0,0,0,0,0,0,0,0,0]
[null,null,null,null,null,null,null,null,null,null,null,null,null,null,null,null,null,null,null,null,null,null,null,null,null,null,null,null,null,0,null,null,null,0,null,null,null,0,null,null,null,0,null,null,null,0,null,"OTHER",0,0,0,0,0,0,0,0,0,0,0,0,0,0]
[null,null,null,null,null,null,null,null,null,null,null,null,null,null,null,null,null,null,null,null,null,null,null,null,null,null,null,null,null,0,null,null,null,0,null,null,null,0,null,null,null,0,null,null,null,0,null,"OTHER",0,0,0,0,0,0,0,0,0,0,0,0,0,0]
[null,null,null,null,null,null,null,null,null,null,null,null,null,null,null,null,null,null,null,null,null,null,null,null,null,null,null,null,null,0,null,null,null,0,null,null,null,0,null,null,null,0,null,null,null,0,null,"OTHER",0,0,0,0,0,0,0,0,0,0,0,0,0,0]
[null,null,null,null,null,null,null,null,null,null,null,null,null,null,null,null,null,null,null,null,null,null,null,null,null,null,null,null,null,0,null,null,null,0,null,null,null,0,null,null,null,0,null,null,null,0,null,"OTHER",0,0,0,0,0,0,0,0,0,0,0,0,0,0]
[null,null,null,null,null,null,null,null,null,null,null,null,null,null,null,null,null,null,null,null,null,null,null,null,null,null,null,null,null,0,null,null,null,0,null,null,null,0,null,null,null,0,null,null,null,0,null,"OTHER",0,0,0,0,0,0,0,0,0,0,0,0,0,0]
[null,null,null,null,null,null,null,null,null,null,null,null,null,null,null,null,null,null,null,null,null,null,null,null,null,null,null,null,null,0,null,null,null,0,null,null,null,0,null,null,null,0,null,null,null,0,null,"OTHER",0,0,0,0,0,0,0,0,0,0,0,0,0,0]
[null,null,null,null,null,null,null,null,null,null,null,null,null,null,null,null,null,null,null,null,null,null,null,null,null,null,null,null,null,0,null,null,null,0,null,null,null,0,null,null,null,0,null,null,null,0,null,"OTHER",0,0,0,0,0,0,0,0,0,0,0,0,0,0]
[null,null,null,null,null,null,null,null,null,null,null,null,null,null,null,null,null,null,null,null,null,null,null,null,null,null,null,null,null,0,null,null,null,0,null,null,null,0,null,null,null,0,null,null,null,0,null,"OTHER",0,0,0,0,0,0,0,0,0,0,0,0,0,0]
[null,null,null,null,null,null,null,null,null,null,null,null,null,null,null,null,null,null,null,null,null,null,null,null,null,null,null,null,null,0,null,null,null,0,null,null,null,0,null,null,null,0,null,null,null,0,null,"OTHER",0,0,0,0,0,0,0,0,0,0,0,0,0,0]
[null,null,null,null,null,null,null,null,null,null,null,null,null,null,null,null,null,null,null,null,null,null,null,null,null,null,null,null,null,0,null,null,null,0,null,null,null,0,null,null,null,0,null,null,null,0,null,"OTHER",0,0,0,0,0,0,0,0,0,0,0,0,0,0]
[null,null,null,null,null,null,null,null,null,null,null,null,null,null,null,null,null,null,null,null,null,null,null,null,null,null,null,null,null,0,null,null,null,0,null,null,null,0,null,null,null,0,null,null,null,0,null,"OTHER",0,0,0,0,0,0,0,0,0,0,0,0,0,0]
[null,null,null,null,null,null,null,null,null,null,null,null,null,null,null,null,null,null,null,null,null,null,null,null,null,null,null,null,null,0,null,null,null,0,null,null,null,0,null,null,null,0,null,null,null,0,null,"OTHER",0,0,0,0,0,0,0,0,0,0,0,0,0,0]
[null,null,null,null,null,null,null,null,null,null,null,null,null,null,null,null,null,null,null,null,null,null,null,null,null,null,null,null,null,0,null,null,null,0,null,null,null,0,null,null,null,0,null,null,null,0,null,"OTHER",0,0,0,0,0,0,0,0,0,0,0,0,0,0]
[null,null,null,null,null,null,null,null,null,null,null,null,null,null,null,null,null,null,null,null,null,null,null,null,null,null,null,null,null,0,null,null,null,0,null,null,null,0,null,null,null,0,null,null,null,0,null,"OTHER",0,0,0,0,0,0,0,0,0,0,0,0,0,0]
[null,null,null,null,null,null,null,null,null,null,null,null,null,null,null,null,null,null,null,null,null,null,null,null,null,null,null,null,null,0,null,null,null,0,null,null,null,0,null,null,null,0,null,null,null,0,null,"OTHER",0,0,0,0,0,0,0,0,0,0,0,0,0,0]
[null,null,null,null,null,null,null,null,null,null,null,null,null,null,null,null,null,null,null,null,null,null,null,null,null,null,null,null,null,0,null,null,null,0,null,null,null,0,null,null,null,0,null,null,null,0,null,"OTHER",0,0,0,0,0,0,0,0,0,0,0,0,0,0]
[null,null,null,null,null,null,null,null,null,null,null,null,null,null,null,null,null,null,null,null,null,null,null,null,null,null,null,null,null,0,null,null,null,0,null,null,null,0,null,null,null,0,null,null,null,0,null,"OTHER",0,0,0,0,0,0,0,0,0,0,0,0,0,0]
[null,null,null,null,null,null,null,null,null,null,null,null,null,null,null,null,null,null,null,null,null,null,null,null,null,null,null,null,null,0,null,null,null,0,null,null,null,0,null,null,null,0,null,null,null,0,null,"OTHER",0,0,0,0,0,0,0,0,0,0,0,0,0,0]
[null,null,null,null,null,null,null,null,null,null,null,null,null,null,null,null,null,null,null,null,null,null,null,null,null,null,null,null,null,null,null,null,null,null,null,null,null,null,null,null,null,null,null,null,null,null,null,"OTHER",{"$f":"AW781","v":0},{"$f":"AX781","v":0},{"$f":"AY781","v":0},{"$f":"AZ781","v":0},null,null,{"$f":"BC781","v":0},null,{"$f":"BE781","v":0},{"$f":"BF781","v":0},null,{"$f":"BH781","v":0},{"$f":"BI781","v":0},{"$f":"BJ781","v":0}]
[null,null,null,null,null,null,null,null,null,null,null,null,null,null,null,null,null,null,null,null,null,null,null,null,null,null,null,null,{"$f":"CONCATENATE(B781,\" \",\"TOTAL\")","v":"OTHER TOTAL"},{"$f":"SUBTOTAL(9,AD781:AD822)","v":0},null,null,null,{"$f":"SUBTOTAL(9,AH781:AH822)","v":0},null,null,null,{"$f":"SUBTOTAL(9,AL781:AL822)","v":0},null,null,null,{"$f":"SUBTOTAL(9,AP781:AP822)","v":0},null,null,null,{"$f":"SUM(AT777:AT788)","v":0},null,"OTHER",{"$f":"SUM(AW782:AW822)","v":0},0,0,0,0,0,0,0,0,0,0,0,0,0]
[null,null,null,null,null,null,null,null,null,null,null,null,null,null,null,null,null,null,null,null,null,null,null,null,null,null,null,null,null,null,null,null,null,null,null,null,null,null,null,null,null,null,null,null,null,null,null,"OTHER",{"$f":"AW781","v":0},{"$f":"AX781","v":0},{"$f":"AY781","v":0},{"$f":"AZ781","v":0},null,null,{"$f":"BC781","v":0},null,{"$f":"BE781","v":0},{"$f":"BF781","v":0},null,{"$f":"BH781","v":0},{"$f":"BI781","v":0},{"$f":"BJ781","v":0}]
[]
[]
[null,"© 2017 by RemodelCostSpreadsheet.comAll rights reserved"]
[]
[null,null,"CAPITAL IMPROVEMENTS - BY SCOPE",null,null,null,null,null,null,null,null,null,null,null,null,null,null,null,null,null,null,null,null,null,"TOTAL CAPITAL IMPROVEMENTS ESTIMATE",null,null,null,null,null,null,null,null,null,null,null,null,null,null,null,"COST PER SF"]
[null,null,null,null,null,null,null,null,null,null,null,null,null,null,null,null,null,null,null,null,null,null,null,null,{"$f":"AA833","v":45075}]
[]
[]
[null,null,"DESCRIPTION OF WORK",null,null,null,null,null,null,null,null,null,null,null,null,null,null,null,"QTY",null,null,"UNIT",null,"UNIT COST",null,null,{"$f":"AA855","v":45075},null,null,null,null,"NOTES"]
[null,null,null,null,null,null,null,null,null,null,null,null,null,null,null,null,null,null,null,null,null,null,null,null,null,null,"ESTIMATE"]
[]
[null,null,{"$f":"T(N6)","v":"GENERAL REQUIREMENTS"},null,null,null,null,null,null,null,null,null,null,null,null,null,null,null,null,null,null,"ls",null,null,null,null,{"$f":"S836*X836","v":0},null,null,null,null,"lump sum for GCs (dumpsters, permit costs, etc.)"]
[null,null,"DEMOLITION",null,null,null,null,null,null,null,null,null,null,null,null,null,null,null,1500,null,null,"sf",null,0.75,null,null,{"$f":"S837*X837","v":1125},null,null,null,null,"cost per square foot of building"]
[null,null,"CONCRETE & FLATWORK",null,null,null,null,null,null,null,null,null,null,null,null,null,null,null,null,null,null,"sf",null,8,null,null,0,null,null,null,null,"cost per square foot of pavement replacement"]
[null,null,"SIDING",null,null,null,null,null,null,null,null,null,null,null,null,null,null,null,null,null,null,"sf",null,3,null,null,0,null,null,null,null,"cost per square foot of siding"]
[null,null,"ROOFING",null,null,null,null,null,null,null,null,null,null,null,null,null,null,null,1750,null,null,"sf",null,3,null,null,5250,null,null,null,null,"cost per square foot of roof area"]
[null,null,"EXT. DOORS & WINDOWS",null,null,null,null,null,null,null,null,null,null,null,null,null,null,null,12,null,null,"ea",null,350,null,null,4200,null,null,null,null,"cost per each window or door"]
[null,null,{"$f":"T(Y6)","v":"MISC. EXT. IMPROVEMENTS"},null,null,null,null,null,null,null,null,null,null,null,null,null,null,null,null,null,null,"ls",null,null,null,null,0,null,null,null,null,"lump sum amount for misc. exterior improvements"]
[null,null,"LANDSCAPING",null,null,null,null,null,null,null,null,null,null,null,null,null,null,null,1,null,null,"ls",null,1000,null,null,1000,null,null,null,null,"lump sum amount for landscaping at front only"]
[null,null,"KITCHENS",null,null,null,null,null,null,null,null,null,null,null,null,null,null,null,1,null,null,"ls",null,10000,null,null,10000,null,null,null,null,"lump sum amount for new cabinets, countertops, appliances, finishes"]
[null,null,"BATHROOMS",null,null,null,null,null,null,null,null,null,null,null,null,null,null,null,2,null,null,"ls",null,5000,null,null,10000,null,null,null,null,"lump sum amount for new vanity, finishes, fixtures"]
[null,null,"DOORS & TRIM",null,null,null,null,null,null,null,null,null,null,null,null,null,null,null,null,null,null,"ls",null,null,null,null,0,null,null,null,null,"lump sum amount for interior doors, interior trim/carpentry"]
[null,null,"FRAMING & DRYWALL",null,null,null,null,null,null,null,null,null,null,null,null,null,null,null,null,null,null,"ls",null,null,null,null,0,null,null,null,null,"lump sum amount for framing/drywall "]
[null,null,{"$f":"T(AJ6)","v":"FLOORING"},null,null,null,null,null,null,null,null,null,null,null,null,null,null,null,1500,null,null,"sf",null,2.5,null,null,3750,null,null,null,null,"cost per square foot of new flooring"]
[null,null,"PAINTING",null,null,null,null,null,null,null,null,null,null,null,null,null,null,null,1500,null,null,"sf",null,3.5,null,null,5250,null,null,null,null,"cost per property square foot"]
[null,null,"PLUMBING",null,null,null,null,null,null,null,null,null,null,null,null,null,null,null,null,null,null,"sf",null,3.5,null,null,0,null,null,null,null,"cost per square foot for re-plumb of existing"]
[null,null,"HVAC",null,null,null,null,null,null,null,null,null,null,null,null,null,null,null,null,null,null,"sf",null,2.5,null,null,0,null,null,null,null,"cost per square foot for new HVAC system (furnace, a/c)"]
[null,null,"ELECTRICAL",null,null,null,null,null,null,null,null,null,null,null,null,null,null,null,1500,null,null,"sf",null,3,null,null,4500,null,null,null,null,"cost per square foot to rewire, new panel, wiring, lighting"]
[null,null,"OTHER",null,null,null,null,null,null,null,null,null,null,null,null,null,null,null,null,null,null,"ls",null,null,null,null,0]
[]
[null,null,"TOTAL ESTIMATE",null,null,null,null,null,null,null,null,null,null,null,null,null,null,null,null,null,null,null,null,null,null,null,{"$f":"SUM(AA836:AD854)","v":45075},null,null,{"$f":"SUM(AA822:AA827)","v":0}]
[]
[]
[null,null,"CAPITAL IMPROVEMENTS - PER SF",null,null,null,null,null,null,null,null,null,null,null,null,null,null,null,null,null,null,null,null,null,"TOTAL RENOVATION ESTIMATE",null,null,null,null,null,null,null,null,null,null,null,null,null,null,null,"COST PER SF"]
[null,null,null,null,null,null,null,null,null,null,null,null,null,null,null,null,null,null,null,null,null,null,null,null,{"$f":"AA862","v":0}]
[]
[]
[null,null,"DESCRIPTION OF WORK",null,null,null,null,null,null,null,null,null,null,null,null,null,null,null,"QTY",null,null,"UNIT",null,"UNIT COST",null,null,{"$f":"AA905","v":0},null,null,null,null,"NOTES"]
[null,null,null,null,null,null,null,null,null,null,null,null,null,null,null,null,null,null,null,null,null,null,null,null,null,null,"ESTIMATE"]
[]
[null,null,"RENOVATION COST - PER SF"]
[null,null,"Light Cosmetic Renovation",null,null,null,null,null,null,null,null,null,null,null,null,null,null,null,null,null,null,"sf",null,15,null,null,{"$f":"S866*X866","v":0},null,null,null,null,"New flooring, paint, fixtures, lightly remodel existing bathroom/kitchen"]
[null,null,"Heavy Cosmetic Renovation",null,null,null,null,null,null,null,null,null,null,null,null,null,null,null,null,null,null,"sf",null,30,null,null,0,null,null,null,null,"Light cosmetic scope + new bathrooms/kitchen, new panel/circuits"]
[null,null,"Structural & Cosmetic Renovation",null,null,null,null,null,null,null,null,null,null,null,null,null,null,null,null,null,null,"sf",null,50,null,null,0,null,null,null,null,"Heavy cosmetic renovation scope + removing/relocating walls, MEP"]
[null,null,null,null,null,null,null,null,null,null,null,null,null,null,null,null,null,null,null,null,null,"sf",null,null,null,null,0]
[null,null,null,null,null,null,null,null,null,null,null,null,null,null,null,null,null,null,null,null,null,"sf",null,null,null,null,0]
[null,null,null,null,null,null,null,null,null,null,null,null,null,null,null,null,null,null,null,null,null,"sf",null,null,null,null,0]
[null,null,null,null,null,null,null,null,null,null,null,null,null,null,null,null,null,null,null,null,null,"sf",null,null,null,null,0]
[null,null,null,null,null,null,null,null,null,null,null,null,null,null,null,null,null,null,null,null,null,"sf",null,null,null,null,0]
[]
[null,null,"TOTAL RENOVATION ESTIMATE",null,null,null,null,null,null,null,null,null,null,null,null,null,null,null,null,null,null,null,null,null,null,null,{"$f":"SUM(AA866:AD874)","v":0},null,null,{"$f":"SUM(AA838:AA844)","v":20450}]
[]
[]
[null,null,"NEW CONSTRUCTION COST - PER SF"]
[null,null,"Economy New Construction ~1,500 sf",null,null,null,null,null,null,null,null,null,null,null,null,null,null,null,null,null,null,"sf",null,95,null,null,{"$f":"S879*X879","v":0},null,null,null,null,"Mass produced from stock plans to meet basic codes & quality"]
[null,null,"Average New Construction ~1,500 sf",null,null,null,null,null,null,null,null,null,null,null,null,null,null,null,null,null,null,"sf",null,110,null,null,0,null,null,null,null,"Simple design from standard plans, materials & workmanship are average"]
[null,null,"Custom New Construction ~1,500 sf",null,null,null,null,null,null,null,null,null,null,null,null,null,null,null,null,null,null,"sf",null,120,null,null,0,null,null,null,null,"Built from designers plans, materials & workmanship above average"]
[null,null,"Luxury New Construction ~1,500 sf",null,null,null,null,null,null,null,null,null,null,null,null,null,null,null,null,null,null,"sf",null,150,null,null,0,null,null,null,null,"Built from architects plans, extraordinary materials & workmanship"]
[null,null,null,null,null,null,null,null,null,null,null,null,null,null,null,null,null,null,null,null,null,null,null,null,null,null,0]
[null,null,null,null,null,null,null,null,null,null,null,null,null,null,null,null,null,null,null,null,null,null,null,null,null,null,0]
[null,null,null,null,null,null,null,null,null,null,null,null,null,null,null,null,null,null,null,null,null,null,null,null,null,null,0]
[null,null,null,null,null,null,null,null,null,null,null,null,null,null,null,null,null,null,null,null,null,null,null,null,null,null,0]
[]
[null,null,"TOTAL NEW CONSTRUCTION ESTIMATE",null,null,null,null,null,null,null,null,null,null,null,null,null,null,null,null,null,null,null,null,null,null,null,{"$f":"SUM(AA879:AD887)","v":0},null,null,{"$f":"SUM(AA848:AA854)","v":13500}]

{"sheet":"REPORTING","index":7,"n_rows":35,"n_cols":16,"rows_kept":35,"cut":false,"hidden":false,"merged":[[4,15,33,49],[2,15,3,49],[34,15,35,49]]}
[]
[]
[null,null,null,null,null,null,null,null,null,null,null,null,null,null,null,"Reporting"]
[]
[]
[]
[]
[]
[]
[]
[]
[]
[]
[]
[]
[]
[]
[]
[]
[]
[]
[]
[]
[]
[]
[]
[]
[]
[]
[]
[]
[]
[]
[]
[null,null,null,null,null,null,null,null,null,null,null,null,null,null,null,"© 2017 by RemodelCostSpreadsheet.com. All rights reserved"]

{"sheet":"INSPECTION CHECKLIST","index":8,"n_rows":185,"n_cols":52,"rows_kept":185,"cut":false,"hidden":true,"merged":[[184,5,185,53],[69,5,70,15],[183,14,183,15],[183,24,183,25],[183,34,183,35],[183,44,183,45],[68,28,68,30],[68,5,68,13],[68,14,68,15],[68,16,68,18],[68,19,68,21],[68,22,68,24],[68,25,68,27],[65,51,65,53],[66,5,66,13],[66,14,66,15],[66,16,66,18],[66,19,66,21],[66,22,66,24],[66,25,66,27],[66,28,66,30],[66,41,68,53],[67,5,67,13],[65,5,65,13],[65,14,65,15],[65,16,65,18],[65,19,65,21],[65,22,65,24],[65,25,65,27],[65,28,65,30],[65,41,65,50],[67,14,67,15],[67,16,67,18],[67,19,67,21],[67,22,67,24],[67,25,67,27],[67,28,67,30],[63,28,63,30],[63,41,63,50],[63,51,63,53],[64,5,64,13],[64,14,64,15],[64,16,64,18],[64,19,64,21],[64,22,64,24],[64,25,64,27],[64,28,64,30],[63,5,63,13],[63,14,63,15],[63,16,63,18],[63,19,63,21],[63,22,63,24],[63,25,63,27],[64,41,64,50],[64,51,64,53],[62,5,62,13],[62,14,62,15],[62,16,62,18],[62,19,62,21],[62,22,62,24],[62,25,62,27],[62,28,62,30],[62,41,62,50],[62,51,62,53],[60,28,60,30],[60,41,60,50],[60,51,60,53],[61,5,61,13],[61,14,61,15],[61,16,61,18],[61,19,61,21],[61,22,61,24],[61,25,61,27],[61,28,61,30],[60,5,60,13],[60,14,60,15],[60,16,60,18],[60,19,60,21],[60,22,60,24],[60,25,60,27],[61,41,61,53],[59,5,59,13],[59,14,59,15],[59,16,59,18],[59,19,59,21],[59,22,59,24],[59,25,59,27],[59,28,59,30],[59,41,59,50],[59,51,59,53],[58,5,58,13],[58,14,58,15],[58,16,58,18],[58,19,58,21],[58,22,58,24],[58,25,58,27],[58,28,58,30],[58,41,58,50],[58,51,58,53],[54,16,54,18],[54,19,54,21],[54,22,54,24],[54,25,54,27],[54,28,54,30],[56,28,56,30],[56,41,56,50],[56,51,56,53],[57,5,57,13],[57,14,57,15],[57,16,57,18],[57,19,57,21],[57,22,57,24],[57,25,57,27],[57,28,57,30],[56,5,56,13],[56,14,56,15],[56,16,56,18],[56,19,56,21],[56,22,56,24],[56,25,56,27],[57,41,57,50],[57,51,57,53],[52,22,52,24],[52,25,52,27],[52,28,52,30],[52,41,52,50],[52,51,52,53],[50,31,68,40],[50,41,50,53],[51,5,51,13],[51,14,51,15],[51,16,51,18],[51,19,51,21],[51,22,51,24],[51,25,51,27],[54,41,54,50],[54,51,54,53],[55,5,55,13],[55,14,55,15],[55,16,55,18],[55,19,55,21],[55,22,55,24],[55,25,55,27],[55,28,55,30],[55,41,55,53],[54,14,54,15],[51,28,51,30],[51,41,51,50],[53,28,53,30],[53,41,53,50],[53,51,53,53],[54,5,54,13],[50,5,50,13],[50,14,50,15],[50,16,50,18],[50,19,50,21],[50,22,50,24],[50,25,50,27],[50,28,50,30],[53,5,53,13],[53,14,53,15],[53,16,53,18],[53,19,53,21],[53,22,53,24],[53,25,53,27],[51,51,51,53],[52,5,52,13],[52,14,52,15],[52,16,52,18],[52,19,52,21],[48,5,49,13],[48,14,49,15],[48,16,48,30],[48,31,49,40],[48,41,49,50],[48,51,49,53],[49,16,49,18],[49,19,49,21],[49,22,49,24],[49,25,49,27],[46,31,46,33],[46,34,46,36],[46,37,46,39],[46,40,46,42],[46,43,46,53],[47,5,47,40],[47,41,47,53],[49,28,49,30],[45,37,45,39],[45,40,45,42],[45,43,45,53],[46,5,46,13],[46,14,46,15],[46,16,46,18],[46,19,46,21],[46,22,46,24],[46,25,46,27],[46,28,46,30],[45,5,45,13],[45,14,45,15],[45,16,45,18],[45,19,45,21],[45,22,45,24],[45,25,45,27],[45,28,45,30],[45,31,45,33],[45,34,45,36],[43,37,43,39],[43,40,43,42],[43,43,43,53],[44,5,44,13],[44,14,44,15],[44,16,44,18],[44,19,44,21],[44,22,44,24],[44,43,44,53],[44,25,44,27],[44,28,44,30],[44,31,44,33],[44,34,44,36],[44,37,44,39],[44,40,44,42],[43,5,43,13],[43,14,43,15],[43,16,43,18],[43,19,43,21],[43,22,43,24],[43,25,43,27],[43,28,43,30],[43,31,43,33],[43,34,43,36],[41,5,41,13],[41,14,41,15],[41,16,41,18],[41,19,41,21],[41,22,41,24],[41,43,41,53],[42,5,42,13],[42,14,42,15],[42,16,42,18],[42,19,42,21],[42,22,42,24],[42,25,42,27],[42,28,42,30],[42,31,42,33],[42,34,42,36],[41,25,41,27],[41,28,41,30],[41,31,41,33],[41,34,41,36],[41,37,41,39],[41,40,41,42],[42,37,42,39],[42,40,42,42],[42,43,42,53],[39,37,39,39],[39,40,39,42],[39,43,39,53],[40,5,40,13],[40,14,40,15],[40,16,40,18],[40,19,40,21],[40,22,40,24],[40,25,40,27],[40,28,40,30],[40,31,40,33],[40,34,40,36],[40,37,40,39],[40,40,40,42],[40,43,40,53],[39,5,39,13],[39,14,39,15],[39,16,39,18],[39,19,39,21],[39,22,39,24],[39,25,39,27],[39,28,39,30],[39,31,39,33],[39,34,39,36],[37,37,37,39],[37,40,37,42],[37,43,37,53],[38,5,38,13],[38,14,38,15],[38,16,38,18],[38,19,38,21],[38,22,38,24],[38,43,38,53],[38,25,38,27],[38,28,38,30],[38,31,38,33],[38,34,38,36],[38,37,38,39],[38,40,38,42],[37,5,37,13],[37,14,37,15],[37,16,37,18],[37,19,37,21],[37,22,37,24],[37,25,37,27],[37,28,37,30],[37,31,37,33],[37,34,37,36],[35,5,35,13],[35,14,35,15],[35,16,35,18],[35,19,35,21],[35,22,35,24],[35,43,35,53],[36,5,36,13],[36,14,36,15],[36,16,36,18],[36,19,36,21],[36,22,36,24],[36,25,36,27],[36,28,36,30],[36,31,36,33],[36,34,36,36],[35,25,35,27],[35,28,35,30],[35,31,35,33],[35,34,35,36],[35,37,35,39],[35,40,35,42],[36,37,36,39],[36,40,36,42],[36,43,36,53],[33,37,33,39],[33,40,33,42],[33,43,33,53],[34,5,34,13],[34,14,34,15],[34,16,34,18],[34,19,34,21],[34,22,34,24],[34,25,34,27],[34,28,34,30],[34,31,34,33],[34,34,34,36],[34,37,34,39],[34,40,34,42],[34,43,34,53],[33,5,33,13],[33,14,33,15],[33,16,33,18],[33,19,33,21],[33,22,33,24],[33,25,33,27],[33,28,33,30],[33,31,33,33],[33,34,33,36],[31,37,31,39],[31,40,31,42],[31,43,31,53],[32,5,32,13],[32,14,32,15],[32,16,32,18],[32,19,32,21],[32,22,32,24],[32,43,32,53],[32,25,32,27],[32,28,32,30],[32,31,32,33],[32,34,32,36],[32,37,32,39],[32,40,32,42],[31,5,31,13],[31,14,31,15],[31,16,31,18],[31,19,31,21],[31,22,31,24],[31,25,31,27],[31,28,31,30],[31,31,31,33],[31,34,31,36],[28,5,28,53],[29,5,30,13],[29,14,30,15],[29,16,29,42],[29,43,30,53],[30,16,30,18],[30,19,30,21],[30,25,30,27],[30,28,30,30],[30,31,30,33],[30,34,30,36],[30,37,30,39],[30,40,30,42],[26,41,26,42],[26,43,26,53],[27,5,27,13],[27,14,27,16],[27,17,27,18],[27,19,27,28],[27,29,27,37],[27,38,27,40],[27,41,27,42],[27,43,27,53],[26,5,26,13],[26,14,26,16],[26,17,26,18],[26,19,26,28],[26,29,26,37],[26,38,26,40],[24,41,24,42],[24,43,24,53],[25,5,25,13],[25,14,25,16],[25,17,25,18],[25,19,25,28],[25,29,25,37],[25,38,25,40],[25,41,25,42],[25,43,25,53],[24,5,24,13],[24,14,24,16],[24,17,24,18],[24,19,24,28],[24,29,24,37],[24,38,24,40],[22,41,22,42],[22,43,22,53],[23,5,23,13],[23,14,23,16],[23,17,23,18],[23,19,23,28],[23,29,23,37],[23,38,23,40],[23,41,23,42],[23,43,23,53],[22,5,22,13],[22,14,22,16],[22,17,22,18],[22,19,22,28],[22,29,22,37],[22,38,22,40],[20,41,20,42],[20,43,20,53],[21,5,21,13],[21,14,21,16],[21,17,21,18],[21,19,21,28],[21,29,21,37],[21,38,21,40],[21,41,21,42],[21,43,21,53],[20,5,20,13],[20,14,20,16],[20,17,20,18],[20,19,20,28],[20,29,20,37],[20,38,20,40],[18,41,18,42],[18,43,18,53],[19,5,19,13],[19,14,19,16],[19,17,19,18],[19,19,19,28],[19,29,19,37],[19,38,19,40],[19,41,19,42],[19,43,19,53],[18,5,18,13],[18,14,18,16],[18,17,18,18],[18,19,18,28],[18,29,18,37],[18,38,18,40],[16,41,16,42],[16,43,16,53],[17,5,17,13],[17,14,17,16],[17,17,17,18],[17,19,17,28],[17,29,17,37],[17,38,17,40],[17,41,17,42],[17,43,17,53],[16,5,16,13],[16,14,16,16],[16,17,16,18],[16,19,16,28],[16,29,16,37],[16,38,16,40],[14,41,14,42],[14,43,14,53],[15,5,15,13],[15,14,15,16],[15,17,15,18],[15,19,15,28],[15,29,15,37],[15,38,15,40],[15,41,15,42],[15,43,15,53],[14,5,14,13],[14,14,14,16],[14,17,14,18],[14,19,14,28],[14,29,14,37],[14,38,14,40],[12,41,12,42],[12,43,12,53],[13,5,13,13],[13,14,13,16],[13,17,13,18],[13,19,13,28],[13,29,13,37],[13,38,13,40],[13,41,13,42],[13,43,13,53],[12,5,12,13],[12,14,12,16],[12,17,12,18],[12,19,12,28],[12,29,12,37],[12,38,12,40],[10,41,10,42],[10,43,10,53],[11,5,11,13],[11,14,11,16],[11,17,11,18],[11,19,11,28],[11,29,11,37],[11,38,11,40],[11,41,11,42],[11,43,11,53],[10,5,10,13],[10,14,10,16],[10,17,10,18],[10,19,10,28],[10,29,10,37],[10,38,10,40],[7,41,8,42],[7,43,8,53],[9,5,9,13],[9,14,9,16],[9,17,9,18],[9,19,9,28],[9,29,9,37],[9,38,9,40],[9,41,9,42],[9,43,9,53],[7,5,8,13],[7,14,8,16],[7,17,8,18],[7,19,8,28],[7,29,8,37],[7,38,8,40],[2,5,2,28],[2,29,2,53],[3,5,3,10],[3,11,3,28],[3,29,3,39],[3,40,3,53],[5,29,5,53],[6,5,6,28],[6,29,6,53],[4,5,4,10],[4,11,4,28],[4,29,4,38],[4,40,4,53],[5,5,5,9],[5,10,5,13],[5,14,5,17],[5,18,5,19],[5,20,5,23],[5,24,5,25]]}
[]
[]
[null,null,null,null,null,"PROPERTY FEATURES",null,null,null,null,null,null,null,null,null,null,null,null,null,null,null,null,null,null,null,null,null,null,null,"STRUCTURAL REPAIRS"]
[null,null,null,null,null,"Street Address:",null,null,null,null,null,{"$f":"Street_Address","v":"1234 N. Main St"},null,null,null,null,null,null,null,null,null,null,null,null,null,null,null,null,null,"Cracks?:   YES  /  NO",null,null,null,null,null,null,null,null,null,null,"Moisture?:  YES  /  NO"]
[null,null,null,null,null,"City/State/Zip:",null,null,null,null,null,{"$f":"T(City_State_Zip)","v":"Kansas City, MO 64116"},null,null,null,null,null,null,null,null,null,null,null,null,null,null,null,null,null,"Settling?:    YES  /   NO",null,null,null,null,null,null,null,null,null,null,"Bowing Walls:   YES   /   NO"]
[null,null,null,null,null,"Square Feet:",null,null,null,null,{"$f":"PROJECT_SIZE","v":0},null,null,null,"# of Beds:",null,null,null,{"$f":"BEDS","v":0},null,"Baths:",null,null,null,{"$f":"BATHS","v":0},null,null,null,null,"Piers:  SOG 8ft oc  |  1-Story 7ft oc  |  2-Story 6ft oc | Masonry  5ft oc + 2 piers @ corners"]
[null,null,null,null,null,"EXTERIOR PROPERTY FEATURES/REPAIRS",null,null,null,null,null,null,null,null,null,null,null,null,null,null,null,null,null,null,null,null,null,null,null,"KITCHEN FEATURES/REPAIRS"]
[null,null,null,null,null,"Repair/Replace",null,null,null,null,null,null,null,null,"QTY",null,null,"Unit",null,"Exterior Notes:",null,null,null,null,null,null,null,null,null,"Repair/Replace",null,null,null,null,null,null,null,null,"QTY",null,null,"Unit",null,"Kitchen Notes:"]
[]
[null,null,null,null,null,"Painting",null,null,null,null,null,null,null,null,null,null,null,"Sq ft",null,null,null,null,null,null,null,null,null,null,null,"Base Cabinets",null,null,null,null,null,null,null,null,null,null,null,"lf"]
[null,null,null,null,null,"Wood siding",null,null,null,null,null,null,null,null,null,null,null,"Sq ft",null,null,null,null,null,null,null,null,null,null,null,"Upper Cabinets",null,null,null,null,null,null,null,null,null,null,null,"lf"]
[null,null,null,null,null,"Wood trim",null,null,null,null,null,null,null,null,null,null,null,"lf",null,null,null,null,null,null,null,null,null,null,null,"Countertop",null,null,null,null,null,null,null,null,null,null,null,"Sq ft"]
[null,null,null,null,null,"Vinyl siding",null,null,null,null,null,null,null,null,null,null,null,"Sq ft",null,null,null,null,null,null,null,null,null,null,null,"Backsplash",null,null,null,null,null,null,null,null,null,null,null,"Sq ft"]
[null,null,null,null,null,"Brick/stone ",null,null,null,null,null,null,null,null,null,null,null,"Sq ft",null,null,null,null,null,null,null,null,null,null,null,"Tile flooring",null,null,null,null,null,null,null,null,null,null,null,"Sq ft"]
[null,null,null,null,null,"Roofing",null,null,null,null,null,null,null,null,null,null,null,"SQ",null,null,null,null,null,null,null,null,null,null,null,"Hardwood flooring",null,null,null,null,null,null,null,null,null,null,null,"Sq ft"]
[null,null,null,null,null,"Gutters/downspouts",null,null,null,null,null,null,null,null,null,null,null,"lf",null,null,null,null,null,null,null,null,null,null,null,"Paint",null,null,null,null,null,null,null,null,null,null,null,"Sq ft"]
[null,null,null,null,null,"Garage Doors",null,null,null,null,null,null,null,null,null,null,null,"ea",null,null,null,null,null,null,null,null,null,null,null,"Wood trim",null,null,null,null,null,null,null,null,null,null,null,"lf"]
[null,null,null,null,null,"Entry door",null,null,null,null,null,null,null,null,null,null,null,"ea",null,null,null,null,null,null,null,null,null,null,null,"Sink",null,null,null,null,null,null,null,null,null,null,null,"ea"]
[null,null,null,null,null,"Patio door",null,null,null,null,null,null,null,null,null,null,null,"ea",null,null,null,null,null,null,null,null,null,null,null,"Faucet Fixture",null,null,null,null,null,null,null,null,null,null,null,"ea"]
[null,null,null,null,null,"Windows",null,null,null,null,null,null,null,null,null,null,null,"ea",null,null,null,null,null,null,null,null,null,null,null,"Garbage Disposal",null,null,null,null,null,null,null,null,null,null,null,"ea"]
[null,null,null,null,null,"Shutters",null,null,null,null,null,null,null,null,null,null,null,"ea",null,null,null,null,null,null,null,null,null,null,null,"Range",null,null,null,null,null,null,null,null,null,null,null,"ea"]
[null,null,null,null,null,"Deck",null,null,null,null,null,null,null,null,null,null,null,"Sq ft",null,null,null,null,null,null,null,null,null,null,null,"Refrigerator",null,null,null,null,null,null,null,null,null,null,null,"ea"]
[null,null,null,null,null,"Fence",null,null,null,null,null,null,null,null,null,null,null,"lf",null,null,null,null,null,null,null,null,null,null,null,"Dishwasher",null,null,null,null,null,null,null,null,null,null,null,"ea"]
[null,null,null,null,null,"Concrete driveway",null,null,null,null,null,null,null,null,null,null,null,"Sq ft",null,null,null,null,null,null,null,null,null,null,null,"Microwave/Range Hood",null,null,null,null,null,null,null,null,null,null,null,"ea"]
[null,null,null,null,null,"Concrete sidewalk",null,null,null,null,null,null,null,null,null,null,null,"Sq ft",null,null,null,null,null,null,null,null,null,null,null,"Duct vent",null,null,null,null,null,null,null,null,null,null,null,"ea"]
[null,null,null,null,null,"Shed",null,null,null,null,null,null,null,null,null,null,null,"ea",null,null,null,null,null,null,null,null,null,null,null,"GFI Plugs/Outlets",null,null,null,null,null,null,null,null,null,null,null,"ea"]
[null,null,null,null,null,"Mulch",null,null,null,null,null,null,null,null,null,null,null,"Sq ft",null,null,null,null,null,null,null,null,null,null,null,"Light fixtures",null,null,null,null,null,null,null,null,null,null,null,"ea"]
[null,null,null,null,null,"Tree removal/trim",null,null,null,null,null,null,null,null,null,null,null,"ea",null,null,null,null,null,null,null,null,null,null,null,"Can lighting",null,null,null,null,null,null,null,null,null,null,null,"ea"]
[null,null,null,null,null,"COMMON ROOM FEATURES/REPAIRS"]
[null,null,null,null,null,"Repair/Replace",null,null,null,null,null,null,null,null,"Unit",null,"Fill in Quantity Below:",null,null,null,null,null,null,null,null,null,null,null,null,null,null,null,null,null,null,null,null,null,null,null,null,null,null,"Notes:"]
[null,null,null,null,null,null,null,null,null,null,null,null,null,null,null,null,"Master",null,null,"Bed 1",null,null,null,"Bed 2",null,"Bed 3",null,null,"Living ",null,null,"Dining ",null,null,"Other 1",null,null,"Other 2",null,null,"Total"]
[null,null,null,null,null,"Carpet",null,null,null,null,null,null,null,null,"Sq ft",null,null,null,null,null,null,null,null,null,null,null,null,null,null,null,null,null,null,null,null,null,null,null,null,null,{"$f":"SUM(Q32:AN32)","v":0}]
[null,null,null,null,null,"Tile flooring",null,null,null,null,null,null,null,null,"Sq ft",null,null,null,null,null,null,null,null,null,null,null,null,null,null,null,null,null,null,null,null,null,null,null,null,null,{"$f":"SUM(Q33:AN33)","v":0}]
[null,null,null,null,null,"Hardwood",null,null,null,null,null,null,null,null,"Sq ft",null,null,null,null,null,null,null,null,null,null,null,null,null,null,null,null,null,null,null,null,null,null,null,null,null,0]
[null,null,null,null,null,"Vinyl flooring",null,null,null,null,null,null,null,null,"Sq ft",null,null,null,null,null,null,null,null,null,null,null,null,null,null,null,null,null,null,null,null,null,null,null,null,null,0]
[null,null,null,null,null,"Wallpaper",null,null,null,null,null,null,null,null,"Sq ft",null,null,null,null,null,null,null,null,null,null,null,null,null,null,null,null,null,null,null,null,null,null,null,null,null,0]
[null,null,null,null,null,"Paint",null,null,null,null,null,null,null,null,"Sq ft",null,null,null,null,null,null,null,null,null,null,null,null,null,null,null,null,null,null,null,null,null,null,null,null,null,0]
[null,null,null,null,null,"Doors",null,null,null,null,null,null,null,null,"ea",null,null,null,null,null,null,null,null,null,null,null,null,null,null,null,null,null,null,null,null,null,null,null,null,null,0]
[null,null,null,null,null,"Door hardware",null,null,null,null,null,null,null,null,"ea",null,null,null,null,null,null,null,null,null,null,null,null,null,null,null,null,null,null,null,null,null,null,null,null,null,0]
[null,null,null,null,null,"Closet Doors",null,null,null,null,null,null,null,null,"ea",null,null,null,null,null,null,null,null,null,null,null,null,null,null,null,null,null,null,null,null,null,null,null,null,null,0]
[null,null,null,null,null,"Closet Shelving",null,null,null,null,null,null,null,null,"lf",null,null,null,null,null,null,null,null,null,null,null,null,null,null,null,null,null,null,null,null,null,null,null,null,null,0]
[null,null,null,null,null,"Crown Molding",null,null,null,null,null,null,null,null,"lf",null,null,null,null,null,null,null,null,null,null,null,null,null,null,null,null,null,null,null,null,null,null,null,null,null,0]
[null,null,null,null,null,"Wood Trim",null,null,null,null,null,null,null,null,"lf",null,null,null,null,null,null,null,null,null,null,null,null,null,null,null,null,null,null,null,null,null,null,null,null,null,0]
[null,null,null,null,null,"Duct Vents",null,null,null,null,null,null,null,null,"ea",null,null,null,null,null,null,null,null,null,null,null,null,null,null,null,null,null,null,null,null,null,null,null,null,null,0]
[null,null,null,null,null,"Can light",null,null,null,null,null,null,null,null,"ea",null,null,null,null,null,null,null,null,null,null,null,null,null,null,null,null,null,null,null,null,null,null,null,null,null,0]
[null,null,null,null,null,"Dome light",null,null,null,null,null,null,null,null,"ea",null,null,null,null,null,null,null,null,null,null,null,null,null,null,null,null,null,null,null,null,null,null,null,null,null,0]
[null,null,null,null,null,"Fan Lights",null,null,null,null,null,null,null,null,"ea",null,null,null,null,null,null,null,null,null,null,null,null,null,null,null,null,null,null,null,null,null,null,null,null,null,0]
[null,null,null,null,null,"BATHROOM FEATURES/REPAIRS",null,null,null,null,null,null,null,null,null,null,null,null,null,null,null,null,null,null,null,null,null,null,null,null,null,null,null,null,null,null,null,null,null,null,null,"MEP SYSTEMS"]
[null,null,null,null,null,"Repair/Replace",null,null,null,null,null,null,null,null,"Unit",null,"Fill in Quantity Below:",null,null,null,null,null,null,null,null,null,null,null,null,null,null,"Bathroom Notes",null,null,null,null,null,null,null,null,null,"System",null,null,null,null,null,null,null,null,null,"Replace:"]
[null,null,null,null,null,null,null,null,null,null,null,null,null,null,null,null,"Master",null,null,"Bath 1",null,null,"Bath 2",null,null,"Bath 3",null,null,"Total"]
[null,null,null,null,null,"Subfloor",null,null,null,null,null,null,null,null,"Sq ft",null,null,null,null,null,null,null,null,null,null,null,null,null,{"$f":"SUM(Q51:AB51)","v":0},null,null,null,null,null,null,null,null,null,null,null,null,"HVAC SYSTEM"]
[null,null,null,null,null,"Wall tile",null,null,null,null,null,null,null,null,"Sq ft",null,null,null,null,null,null,null,null,null,null,null,null,null,{"$f":"SUM(Q52:AB52)","v":0},null,null,null,null,null,null,null,null,null,null,null,null,"Air conditioner unit",null,null,null,null,null,null,null,null,null,"YES  /  NO"]
[null,null,null,null,null,"Floor tile",null,null,null,null,null,null,null,null,"Sq ft",null,null,null,null,null,null,null,null,null,null,null,null,null,0,null,null,null,null,null,null,null,null,null,null,null,null,"Furnace:     GAS     /    ELECTRIC",null,null,null,null,null,null,null,null,null,"YES  /  NO"]
[null,null,null,null,null,"Paint",null,null,null,null,null,null,null,null,"Sq ft",null,null,null,null,null,null,null,null,null,null,null,null,null,0,null,null,null,null,null,null,null,null,null,null,null,null,"Duct work modification req'd:",null,null,null,null,null,null,null,null,null,"YES  /  NO"]
[null,null,null,null,null,"Vanity cabinet",null,null,null,null,null,null,null,null,"lf",null,null,null,null,null,null,null,null,null,null,null,null,null,0,null,null,null,null,null,null,null,null,null,null,null,null,"Asbestos wrapping on duct?",null,null,null,null,null,null,null,null,null,"YES  /  NO"]
[null,null,null,null,null,"Vanity countertop",null,null,null,null,null,null,null,null,"Sq ft",null,null,null,null,null,null,null,null,null,null,null,null,null,0,null,null,null,null,null,null,null,null,null,null,null,null,"PLUMBING SYSTEM"]
[null,null,null,null,null,"Mirror",null,null,null,null,null,null,null,null,"ea",null,null,null,null,null,null,null,null,null,null,null,null,null,0,null,null,null,null,null,null,null,null,null,null,null,null,"Water Heater:     GAS /  ELEC",null,null,null,null,null,null,null,null,null,"YES  /  NO"]
[null,null,null,null,null,"Faucet",null,null,null,null,null,null,null,null,"ea",null,null,null,null,null,null,null,null,null,null,null,null,null,0,null,null,null,null,null,null,null,null,null,null,null,null,"Piping:    COPP /  GALV   /  LEAD",null,null,null,null,null,null,null,null,null,"YES  /  NO"]
[null,null,null,null,null,"Doors",null,null,null,null,null,null,null,null,"ea",null,null,null,null,null,null,null,null,null,null,null,null,null,0,null,null,null,null,null,null,null,null,null,null,null,null,"Water supply line work:",null,null,null,null,null,null,null,null,null,"YES  /  NO"]
[null,null,null,null,null,"Door hardware",null,null,null,null,null,null,null,null,"ea",null,null,null,null,null,null,null,null,null,null,null,null,null,0,null,null,null,null,null,null,null,null,null,null,null,null,"Sanitary line work:",null,null,null,null,null,null,null,null,null,"YES  /  NO"]
[null,null,null,null,null,"Wood trim",null,null,null,null,null,null,null,null,"ea",null,null,null,null,null,null,null,null,null,null,null,null,null,0,null,null,null,null,null,null,null,null,null,null,null,null,"Asbestos insulation on piping",null,null,null,null,null,null,null,null,null,"YES  /  NO"]
[null,null,null,null,null,"Duct Vents",null,null,null,null,null,null,null,null,"Lf",null,null,null,null,null,null,null,null,null,null,null,null,null,0,null,null,null,null,null,null,null,null,null,null,null,null,"ELECTRICAL SYSTEM"]
[null,null,null,null,null,"Shower pan",null,null,null,null,null,null,null,null,"ea",null,null,null,null,null,null,null,null,null,null,null,null,null,0,null,null,null,null,null,null,null,null,null,null,null,null,"Electrical Service:    ",null,null,null,null,null,null,null,null,null,"YES  /  NO"]
[null,null,null,null,null,"Bathtub",null,null,null,null,null,null,null,null,"ea",null,null,null,null,null,null,null,null,null,null,null,null,null,0,null,null,null,null,null,null,null,null,null,null,null,null,"Electrical Panel:       ",null,null,null,null,null,null,null,null,null,"YES  /  NO"]
[null,null,null,null,null,"Shower/tub faucet",null,null,null,null,null,null,null,null,"ea",null,null,null,null,null,null,null,null,null,null,null,null,null,0,null,null,null,null,null,null,null,null,null,null,null,null,"Wiring:    COPP  / ALUM / KNOB",null,null,null,null,null,null,null,null,null,"YES  /  NO"]
[null,null,null,null,null,"Toilet",null,null,null,null,null,null,null,null,"ea",null,null,null,null,null,null,null,null,null,null,null,null,null,0,null,null,null,null,null,null,null,null,null,null,null,null,"Cable Service Work:",null,null,null,null,null,null,null,null,null,"YES  /  NO"]
[null,null,null,null,null,"GFI",null,null,null,null,null,null,null,null,"ea",null,null,null,null,null,null,null,null,null,null,null,null,null,0,null,null,null,null,null,null,null,null,null,null,null,null,"Notes:"]
[null,null,null,null,null,"Vanity light",null,null,null,null,null,null,null,null,"ea",null,null,null,null,null,null,null,null,null,null,null,null,null,0]
[null,null,null,null,null,"Exhaust fan",null,null,null,null,null,null,null,null,"ea",null,null,null,null,null,null,null,null,null,null,null,null,null,0]
[null,null,null,null,null,"NOTES:"]
[]
[]
[]
[]
[]
[]
[]
[]
[]
[]
[]
[]
[]
[]
[]
[]
[]
[]
[]
[]
[]
[]
[]
[]
[]
[]
[]
[]
[]
[]
[]
[]
[]
[]
[]
[]
[]
[]
[]
[]
[]
[]
[]
[]
[]
[]
[]
[]
[]
[]
[]
[]
[]
[null,null,null,null,null,60]
[]
[]
[]
[]
[null,null,null,null,null,55]
[]
[]
[]
[]
[null,null,null,null,null,50]
[]
[]
[]
[]
[null,null,null,null,null,45]
[]
[]
[]
[]
[null,null,null,null,null,40]
[]
[]
[]
[]
[null,null,null,null,null,35]
[]
[]
[]
[]
[null,null,null,null,null,30]
[]
[]
[]
[]
[null,null,null,null,null,25]
[]
[]
[]
[]
[null,null,null,null,null,20]
[]
[]
[]
[]
[null,null,null,null,null,15]
[]
[]
[]
[]
[null,null,null,null,null,10]
[]
[]
[]
[]
[null,null,null,null,null,5]
[]
[]
[]
[]
[null,null,null,null,null,0,null,null,null,null,5,null,null,null,10,null,null,null,null,null,15,null,null,null,20,null,null,null,null,null,25,null,null,null,30,null,null,null,null,null,35,null,null,null,40,null,null,null,null,null,45]
[null,null,null,null,null,"© 2017 by RemodelCostSpreadsheet.com. All rights reserved"]

{"sheet":"SUMMARY COST PROPOSAL","index":9,"n_rows":76,"n_cols":18,"rows_kept":76,"cut":false,"hidden":true,"merged":[[75,2,76,13],[5,2,6,7],[32,2,33,5],[32,6,33,7],[5,9,6,13],[21,2,22,4],[23,2,26,4],[21,5,30,13],[14,3,14,6],[15,3,15,6],[16,3,16,6],[14,9,14,12],[15,9,15,12],[16,9,16,12],[12,8,13,12],[7,2,9,8],[10,2,11,8],[47,2,47,5],[43,9,43,13],[44,9,44,13],[45,9,45,13],[46,9,46,13],[47,9,47,13],[44,6,44,7],[44,2,44,5],[45,2,45,5],[46,2,46,5],[38,9,38,13],[47,6,47,7],[34,2,34,5],[36,2,36,5],[38,2,38,5],[38,6,38,7],[40,6,40,7],[42,6,42,7],[39,6,39,7],[41,6,41,7],[51,6,51,7],[49,2,49,5],[49,6,49,7],[41,9,41,13],[42,9,42,13],[48,9,48,13],[49,9,49,13],[71,11,71,13],[55,2,59,13],[53,2,53,5],[53,6,53,7],[54,2,54,5],[54,6,54,7],[60,2,62,13],[71,2,71,4],[71,5,71,7],[71,8,71,10],[67,4,68,8],[67,2,68,3],[67,9,68,10],[67,11,68,13],[40,2,40,5],[42,2,42,5],[35,2,35,5],[37,2,37,5],[63,2,64,13],[39,9,39,13],[40,9,40,13],[50,2,50,5],[37,9,37,13],[37,6,37,7],[50,9,50,13],[51,9,51,13],[52,2,52,5],[52,6,52,7],[48,2,48,5],[51,2,51,5],[24,15,25,15],[12,2,13,6],[17,9,17,12],[19,2,19,13],[32,8,33,8],[28,2,28,4],[2,4,2,5],[32,9,33,13],[50,6,50,7],[43,2,43,5],[41,2,41,5],[39,2,39,5],[43,6,43,7],[45,6,45,7],[46,6,46,7],[48,6,48,7],[34,9,34,13],[35,9,35,13],[36,9,36,13],[34,6,34,7],[35,6,35,7],[36,6,36,7]]}
[]
[]
[null,null,null,null,"Client Proposal"]
[]
[]
[null,null,{"$f":"IF(E3=\"Client Proposal\",\"PROPOSAL\",\"SUMMARY ESTIMATE\")","v":"PROPOSAL"}]
[]
[null,null,{"$f":"T(Street_Address)","v":"1234 N. Main St"}]
[]
[]
[null,null,{"$f":"T(City_State_Zip)","v":"Kansas City, MO 64116"}]
[]
[null,null,"Client Information:",null,null,null,null,null,{"$f":"T(Company_Name)","v":"Test Company"}]
[]
[null,null,"Contact:",{"$f":"T(CLIENT_NAME)","v":"Test Client"},null,null,null,null,"Contact:",{"$f":"T(Company_Contact)","v":"Test Contact"}]
[null,null,"Phone #:",null,null,null,null,null,"Phone #:",{"$f":"Company_Phone","v":0}]
[null,null,"Email:",null,null,null,null,null,"Email:",{"$f":"T(Company_Email)","v":"Test@test.com"}]
[null,null,null,null,null,null,null,null,"Website",{"$f":"T(Company_Website)","v":""}]
[]
[null,null,"We hereby propose to furnish labor, material & equipment - complete in accordance with the below specifications."]
[]
[null,null,"Total Estimate",null,null,"Input a brief executive summary of the project."]
[]
[null,null,{"$f":"G55","v":0},null,null,null,null,null,null,null,null,null,null,null,null,"Client Proposal",null,"Client Proposal"]
[null,null,null,null,null,null,null,null,null,null,null,null,null,null,null,"Raw Costs"]
[]
[null,null,null,null,null,null,null,null,null,null,null,null,null,null,null,{"$f":"G53-G55","v":0}]
[]
[null,null,"Breakdown by Work Type"]
[null,null,"LAB/EQUIP","MAT'L","SUB"]
[null,null,{"$f":"IF($P$25=\"Allocate Adders\",ESTIMATE!BC13,ESTIMATE!AW13)","v":0},{"$f":"IF($P$25=\"Allocate Adders\",ESTIMATE!BF13,ESTIMATE!AX13)","v":0},{"$f":"IF($P$25=\"Allocate Adders\",ESTIMATE!BI13,ESTIMATE!AY13)","v":0}]
[]
[null,null,"SCOPE OF WORK",null,null,null,"TOTAL COSTS",null,"$/SF","NOTES"]
[]
[null,null,{"$f":"T(ESTIMATE!N6)","v":"GENERAL REQUIREMENTS"},null,null,null,{"$f":"IF(P25=\"Allocate Adders\",ESTIMATE!BJ58,ESTIMATE!AZ58)","v":0},null,{"$f":"IFERROR(G35/PROJECT_SIZE,0)","v":0}]
[null,null,{"$f":"T(ESTIMATE!N7)","v":"DEMOLITION"},null,null,null,{"$f":"IF(P25=\"Allocate Adders\",ESTIMATE!BJ103,ESTIMATE!AZ103)","v":0},null,0]
[null,null,{"$f":"T(ESTIMATE!N8)","v":"CONCRETE & FLATWORK"},null,null,null,{"$f":"IF(P25=\"Allocate Adders\",ESTIMATE!BJ148,ESTIMATE!AZ148)","v":0},null,0]
[null,null,{"$f":"T(ESTIMATE!N9)","v":"SIDING"},null,null,null,{"$f":"IF(P25=\"Allocate Adders\",ESTIMATE!BJ193,ESTIMATE!AZ193)","v":0},null,0]
[null,null,{"$f":"T(ESTIMATE!N10)","v":"ROOFING"},null,null,null,{"$f":"IF(P25=\"Allocate Adders\",ESTIMATE!BJ238,ESTIMATE!AZ238)","v":0},null,0]
[null,null,{"$f":"T(ESTIMATE!N11)","v":"EXT. DOORS & WINDOWS"},null,null,null,{"$f":"IF(P25=\"Allocate Adders\",ESTIMATE!BJ283,ESTIMATE!AZ283)","v":0},null,0]
[null,null,{"$f":"T(ESTIMATE!Y6)","v":"MISC. EXT. IMPROVEMENTS"},null,null,null,{"$f":"IF(P25=\"Allocate Adders\",ESTIMATE!BJ328,ESTIMATE!AZ328)","v":0},null,0]
[null,null,{"$f":"T(ESTIMATE!Y7)","v":"LANDSCAPING"},null,null,null,{"$f":"IF(P25=\"Allocate Adders\",ESTIMATE!BJ373,ESTIMATE!AZ373)","v":0},null,0]
[null,null,{"$f":"T(ESTIMATE!Y8)","v":"KITCHENS"},null,null,null,{"$f":"IF(P25=\"Allocate Adders\",ESTIMATE!BJ418,ESTIMATE!AZ418)","v":0},null,0]
[null,null,{"$f":"T(ESTIMATE!Y9)","v":"BATHROOMS"},null,null,null,{"$f":"IF(P25=\"Allocate Adders\",ESTIMATE!BJ463,ESTIMATE!AZ463)","v":0},null,0]
[null,null,{"$f":"T(ESTIMATE!Y10)","v":"DOORS & TRIM"},null,null,null,{"$f":"IF(P25=\"Allocate Adders\",ESTIMATE!BJ508,ESTIMATE!AZ508)","v":0},null,0]
[null,null,{"$f":"T(ESTIMATE!Y11)","v":"FRAMING & DRYWALL"},null,null,null,{"$f":"IF(P25=\"Allocate Adders\",ESTIMATE!BJ553,ESTIMATE!AZ553)","v":0},null,0]
[null,null,{"$f":"T(ESTIMATE!AJ6)","v":"FLOORING"},null,null,null,{"$f":"IF(P25=\"Allocate Adders\",ESTIMATE!BJ598,ESTIMATE!AZ598)","v":0},null,0]
[null,null,{"$f":"T(ESTIMATE!AJ7)","v":"PAINTING"},null,null,null,{"$f":"IF(P25=\"Allocate Adders\",ESTIMATE!BJ643,ESTIMATE!AZ643)","v":0},null,0]
[null,null,{"$f":"T(ESTIMATE!AJ8)","v":"PLUMBING"},null,null,null,{"$f":"IF(P25=\"Allocate Adders\",ESTIMATE!BJ688,ESTIMATE!AZ688)","v":0},null,0]
[null,null,{"$f":"T(ESTIMATE!AJ9)","v":"HVAC"},null,null,null,{"$f":"IF(P25=\"Allocate Adders\",ESTIMATE!BJ733,ESTIMATE!AZ733)","v":0},null,0]
[null,null,{"$f":"T(ESTIMATE!AJ10)","v":"ELECTRICAL"},null,null,null,{"$f":"IF(P25=\"Allocate Adders\",ESTIMATE!BJ778,ESTIMATE!AZ778)","v":0},null,0]
[null,null,{"$f":"T(ESTIMATE!AJ11)","v":"OTHER"},null,null,null,{"$f":"IF(P25=\"Allocate Adders\",ESTIMATE!BJ823,ESTIMATE!AZ823)","v":0},null,0]
[null,null,{"$f":"IF(P27=0,\"TOTAL PROPOSAL\",\"TOTAL CONSTRUCTION COSTS\")","v":"TOTAL PROPOSAL"},null,null,null,{"$f":"SUM(G35:H52)","v":0},null,{"$f":"SUM(I35:I52)","v":0}]
[null,null,"SOFT COSTS",null,null,null,{"$f":"IF(P25=\"Raw Costs\",ADDERS!AW58,ADDERS!BY58)","v":0},null,{"$f":"IFERROR(G54/PROJECT_SIZE,0)","v":0}]
[null,null,{"$f":"IF(P24=\"Internal Report\",\"TOTAL ESTIMATE\",\"TOTAL PROPOSAL\")","v":"TOTAL PROPOSAL"},null,null,null,{"$f":"G53+G54","v":0},null,{"$f":"I53+I54","v":0}]
[null,null,"All work to be completed in a workmanlike manner according to standard practices & local building codes.  Any alteration or deviation from the above specifications involving extra costs, will be executed only upon written and will be an extra charge over and above the estimate.  This proposal is subject to acceptance within ______ days and is void thereafter at the option of the undersigned."]
[]
[]
[]
[]
[null,null,"Acceptance of Proposal"]
[]
[]
[null,null,"The above prices, specifications and conditions are satisfactory and are hereby accepted.  You are authorized to do the work specified."]
[]
[]
[]
[null,null,"SIGNATURE",null,null,null,null,null,null,"DATE"]
[]
[]
[]
[null,null,{"$f":"T(Company_Name)","v":"Test Company"},null,null,{"$f":"(Company_Phone)","v":0},null,null,{"$f":"T(Company_Email)","v":"Test@test.com"},null,null,{"$f":"T(Company_Website)","v":""}]
[]
[]
[]
[null,null,"© 2017 by RemodelCostSpreadsheet.com. All rights reserved"]

{"sheet":"DETAIL COST PROPOSAL","index":10,"n_rows":879,"n_cols":19,"rows_kept":879,"cut":false,"hidden":true,"merged":[[878,2,879,13],[856,2,856,8],[856,12,856,13],[843,12,843,13],[844,2,844,6],[844,12,844,13],[845,2,845,6],[845,12,845,13],[840,2,840,6],[840,12,840,13],[2,4,2,5],[814,2,814,6],[814,12,814,13],[815,2,815,6],[815,12,815,13],[816,2,816,6],[816,12,816,13],[817,2,817,6],[817,12,817,13],[836,12,836,13],[838,12,838,13],[852,2,852,8],[849,2,849,6],[849,12,849,13],[850,2,850,6],[850,12,850,13],[852,12,852,13],[7,2,9,9],[10,2,11,9],[802,2,802,6],[802,12,802,13],[803,2,803,6],[803,12,803,13],[804,2,804,6],[804,12,804,13],[805,2,805,6],[805,12,805,13],[810,2,810,6],[810,12,810,13],[811,2,811,6],[811,12,811,13],[812,2,812,6],[812,12,812,13],[813,2,813,6],[813,12,813,13],[807,2,807,8],[807,12,807,13],[765,2,765,6],[765,12,765,13],[766,2,766,6],[766,12,766,13],[767,2,767,6],[767,12,767,13],[795,2,795,6],[795,12,795,13],[796,2,796,6],[796,12,796,13],[790,2,790,6],[790,12,790,13],[789,2,789,6],[789,12,789,13],[777,2,777,6],[777,12,777,13],[778,2,778,6],[778,12,778,13],[779,2,779,6],[779,12,779,13],[774,2,774,6],[774,12,774,13],[775,2,775,6],[775,12,775,13],[791,2,791,6],[791,12,791,13],[792,2,792,6],[792,12,792,13],[776,2,776,6],[776,12,776,13],[771,2,771,6],[771,12,771,13],[772,2,772,6],[772,12,772,13],[773,2,773,6],[773,12,773,13],[780,2,780,6],[780,12,780,13],[781,2,781,6],[781,12,781,13],[782,2,782,6],[782,12,782,13],[768,2,768,6],[768,12,768,13],[769,2,769,6],[769,12,769,13],[770,2,770,6],[770,12,770,13],[726,2,726,6],[726,12,726,13],[721,2,721,6],[721,12,721,13],[722,2,722,6],[722,12,722,13],[723,2,723,6],[723,12,723,13],[756,2,756,6],[756,12,756,13],[757,2,757,6],[757,12,757,13],[758,2,758,6],[758,12,758,13],[759,2,759,6],[759,12,759,13],[760,2,760,6],[760,12,760,13],[762,2,762,8],[762,12,762,13],[736,2,736,6],[736,12,736,13],[737,2,737,6],[739,2,739,6],[739,12,739,13],[740,2,740,6],[579,2,579,6],[579,12,579,13],[580,2,580,6],[580,12,580,13],[750,2,750,6],[750,12,750,13],[751,2,751,6],[751,12,751,13],[752,2,752,6],[752,12,752,13],[744,2,744,6],[744,12,744,13],[745,2,745,6],[745,12,745,13],[732,2,732,6],[732,12,732,13],[727,2,727,6],[727,12,727,13],[728,2,728,6],[728,12,728,13],[729,2,729,6],[729,12,729,13],[724,2,724,6],[724,12,724,13],[725,2,725,6],[725,12,725,13],[737,12,737,13],[743,2,743,6],[743,12,743,13],[742,12,742,13],[738,2,738,6],[738,12,738,13],[515,2,515,6],[515,12,515,13],[516,2,516,6],[516,12,516,13],[507,2,507,6],[507,12,507,13],[508,2,508,6],[508,12,508,13],[509,2,509,6],[509,12,509,13],[567,2,567,6],[567,12,567,13],[577,2,577,6],[578,2,578,6],[577,12,577,13],[578,12,578,13],[568,2,568,6],[568,12,568,13],[569,2,569,6],[569,12,569,13],[570,2,570,6],[570,12,570,13],[571,2,571,6],[571,12,571,13],[572,2,572,6],[572,12,572,13],[573,2,573,6],[573,12,573,13],[574,2,574,6],[574,12,574,13],[555,2,555,6],[555,12,555,13],[483,2,483,6],[483,12,483,13],[484,2,484,6],[484,12,484,13],[485,2,485,6],[485,12,485,13],[486,2,486,6],[486,12,486,13],[487,2,487,6],[487,12,487,13],[488,2,488,6],[488,12,488,13],[489,2,489,6],[489,12,489,13],[490,2,490,6],[490,12,490,13],[492,2,492,8],[492,12,492,13],[556,2,556,6],[556,12,556,13],[548,2,548,6],[548,12,548,13],[549,2,549,6],[549,12,549,13],[550,2,550,6],[550,12,550,13],[545,2,545,6],[474,2,474,6],[474,12,474,13],[475,2,475,6],[475,12,475,13],[476,2,476,6],[476,12,476,13],[477,2,477,6],[477,12,477,13],[478,2,478,6],[478,12,478,13],[479,2,479,6],[479,12,479,13],[480,2,480,6],[480,12,480,13],[481,2,481,6],[481,12,481,13],[482,2,482,6],[482,12,482,13],[545,12,545,13],[546,2,546,6],[546,12,546,13],[547,2,547,6],[547,12,547,13],[465,2,465,6],[465,12,465,13],[466,2,466,6],[466,12,466,13],[467,2,467,6],[467,12,467,13],[468,2,468,6],[468,12,468,13],[469,2,469,6],[469,12,469,13],[470,2,470,6],[470,12,470,13],[471,2,471,6],[471,12,471,13],[472,2,472,6],[472,12,472,13],[473,2,473,6],[473,12,473,13],[456,2,456,6],[456,12,456,13],[457,2,457,6],[457,12,457,13],[458,2,458,6],[458,12,458,13],[459,2,459,6],[459,12,459,13],[460,2,460,6],[460,12,460,13],[461,2,461,6],[461,12,461,13],[462,2,462,6],[462,12,462,13],[463,2,463,6],[463,12,463,13],[464,2,464,6],[464,12,464,13],[444,2,444,6],[444,12,444,13],[445,2,445,6],[445,12,445,13],[447,2,447,8],[447,12,447,13],[450,2,450,6],[450,12,450,13],[451,2,451,6],[451,12,451,13],[452,2,452,6],[452,12,452,13],[453,2,453,6],[453,12,453,13],[454,2,454,6],[454,12,454,13],[455,2,455,6],[455,12,455,13],[435,2,435,6],[435,12,435,13],[436,2,436,6],[436,12,436,13],[437,2,437,6],[437,12,437,13],[438,2,438,6],[438,12,438,13],[439,2,439,6],[439,12,439,13],[440,2,440,6],[440,12,440,13],[441,2,441,6],[441,12,441,13],[442,2,442,6],[442,12,442,13],[443,2,443,6],[443,12,443,13],[426,2,426,6],[426,12,426,13],[427,2,427,6],[427,12,427,13],[428,2,428,6],[428,12,428,13],[429,2,429,6],[429,12,429,13],[430,2,430,6],[430,12,430,13],[431,2,431,6],[431,12,431,13],[432,2,432,6],[432,12,432,13],[433,2,433,6],[433,12,433,13],[434,2,434,6],[434,12,434,13],[417,2,417,6],[417,12,417,13],[418,2,418,6],[418,12,418,13],[419,2,419,6],[419,12,419,13],[420,2,420,6],[420,12,420,13],[421,2,421,6],[421,12,421,13],[422,2,422,6],[422,12,422,13],[423,2,423,6],[423,12,423,13],[424,2,424,6],[424,12,424,13],[425,2,425,6],[425,12,425,13],[408,2,408,6],[408,12,408,13],[409,2,409,6],[409,12,409,13],[410,2,410,6],[410,12,410,13],[411,2,411,6],[411,12,411,13],[412,2,412,6],[412,12,412,13],[413,2,413,6],[413,12,413,13],[414,2,414,6],[414,12,414,13],[415,2,415,6],[415,12,415,13],[416,2,416,6],[416,12,416,13],[399,2,399,6],[399,12,399,13],[400,2,400,6],[400,12,400,13],[405,2,405,6],[405,12,405,13],[406,2,406,6],[406,12,406,13],[407,2,407,6],[407,12,407,13],[396,2,396,6],[396,12,396,13],[397,2,397,6],[397,12,397,13],[398,2,398,6],[398,12,398,13],[391,2,391,6],[391,12,391,13],[392,2,392,6],[392,12,392,13],[393,2,393,6],[393,12,393,13],[394,2,394,6],[394,12,394,13],[395,2,395,6],[395,12,395,13],[352,2,352,6],[352,12,352,13],[353,2,353,6],[353,12,353,13],[354,2,354,6],[354,12,354,13],[355,2,355,6],[355,12,355,13],[359,2,359,6],[359,12,359,13],[386,2,386,6],[386,12,386,13],[387,2,387,6],[387,12,387,13],[388,2,388,6],[388,12,388,13],[389,2,389,6],[389,12,389,13],[370,2,370,6],[370,12,370,13],[361,2,361,6],[361,12,361,13],[362,2,362,6],[362,12,362,13],[363,2,363,6],[363,12,363,13],[357,2,357,8],[357,12,357,13],[360,2,360,6],[360,12,360,13],[376,2,376,6],[376,12,376,13],[347,2,347,6],[347,12,347,13],[348,2,348,6],[348,12,348,13],[349,2,349,6],[349,12,349,13],[350,2,350,6],[350,12,350,13],[351,2,351,6],[351,12,351,13],[340,2,340,6],[340,12,340,13],[332,2,332,6],[332,12,332,13],[333,2,333,6],[333,12,333,13],[334,2,334,6],[334,12,334,13],[335,2,335,6],[335,12,335,13],[336,2,336,6],[336,12,336,13],[337,2,337,6],[337,12,337,13],[338,2,338,6],[338,12,338,13],[339,2,339,6],[339,12,339,13],[345,2,345,6],[345,12,345,13],[346,2,346,6],[346,12,346,13],[260,2,260,6],[260,12,260,13],[261,2,261,6],[261,12,261,13],[262,2,262,6],[262,12,262,13],[263,2,263,6],[263,12,263,13],[264,2,264,6],[264,12,264,13],[265,2,265,6],[265,12,265,13],[269,2,269,6],[269,12,269,13],[267,2,267,8],[267,12,267,13],[341,2,341,6],[341,12,341,13],[303,2,303,6],[303,12,303,13],[304,2,304,6],[304,12,304,13],[305,2,305,6],[305,12,305,13],[306,2,306,6],[306,12,306,13],[307,2,307,6],[307,12,307,13],[308,2,308,6],[308,12,308,13],[309,2,309,6],[309,12,309,13],[251,2,251,6],[251,12,251,13],[252,2,252,6],[252,12,252,13],[253,2,253,6],[253,12,253,13],[254,2,254,6],[254,12,254,13],[255,2,255,6],[255,12,255,13],[256,2,256,6],[256,12,256,13],[257,2,257,6],[257,12,257,13],[258,2,258,6],[258,12,258,13],[259,2,259,6],[259,12,259,13],[242,2,242,6],[242,12,242,13],[243,2,243,6],[243,12,243,13],[244,2,244,6],[244,12,244,13],[245,2,245,6],[245,12,245,13],[246,2,246,6],[246,12,246,13],[247,2,247,6],[247,12,247,13],[248,2,248,6],[248,12,248,13],[249,2,249,6],[249,12,249,13],[250,2,250,6],[250,12,250,13],[233,2,233,6],[233,12,233,13],[234,2,234,6],[234,12,234,13],[235,2,235,6],[235,12,235,13],[236,2,236,6],[236,12,236,13],[237,2,237,6],[237,12,237,13],[238,2,238,6],[238,12,238,13],[239,2,239,6],[239,12,239,13],[240,2,240,6],[240,12,240,13],[241,2,241,6],[241,12,241,13],[225,2,225,6],[226,2,226,6],[227,2,227,6],[222,2,222,8],[222,12,222,13],[225,12,225,13],[226,12,226,13],[227,12,227,13],[228,2,228,6],[228,12,228,13],[229,2,229,6],[229,12,229,13],[230,2,230,6],[230,12,230,13],[231,2,231,6],[231,12,231,13],[232,2,232,6],[232,12,232,13],[213,2,213,6],[213,12,213,13],[214,2,214,6],[214,12,214,13],[215,2,215,6],[215,12,215,13],[216,2,216,6],[216,12,216,13],[217,2,217,6],[217,12,217,13],[218,2,218,6],[218,12,218,13],[219,2,219,6],[219,12,219,13],[220,2,220,6],[220,12,220,13],[224,2,224,6],[224,12,224,13],[204,2,204,6],[204,12,204,13],[205,2,205,6],[205,12,205,13],[206,2,206,6],[206,12,206,13],[207,2,207,6],[207,12,207,13],[208,2,208,6],[208,12,208,13],[209,2,209,6],[209,12,209,13],[210,2,210,6],[210,12,210,13],[211,2,211,6],[211,12,211,13],[212,2,212,6],[212,12,212,13],[195,2,195,6],[195,12,195,13],[196,2,196,6],[196,12,196,13],[197,2,197,6],[197,12,197,13],[198,2,198,6],[198,12,198,13],[199,2,199,6],[199,12,199,13],[200,2,200,6],[200,12,200,13],[201,2,201,6],[201,12,201,13],[202,2,202,6],[202,12,202,13],[203,2,203,6],[203,12,203,13],[186,2,186,6],[186,12,186,13],[187,2,187,6],[187,12,187,13],[188,2,188,6],[188,12,188,13],[189,2,189,6],[189,12,189,13],[190,2,190,6],[190,12,190,13],[191,2,191,6],[191,12,191,13],[192,2,192,6],[192,12,192,13],[193,2,193,6],[193,12,193,13],[194,2,194,6],[194,12,194,13],[175,12,175,13],[177,12,177,13],[179,2,179,6],[179,12,179,13],[180,2,180,6],[181,2,181,6],[182,2,182,6],[183,2,183,6],[177,2,177,8],[180,12,180,13],[181,12,181,13],[182,12,182,13],[183,12,183,13],[184,2,184,6],[184,12,184,13],[185,2,185,6],[185,12,185,13],[150,2,150,6],[150,12,150,13],[300,12,300,13],[152,2,152,6],[152,12,152,13],[153,2,153,6],[153,12,153,13],[154,2,154,6],[154,12,154,13],[155,2,155,6],[155,12,155,13],[156,2,156,6],[156,12,156,13],[157,2,157,6],[157,12,157,13],[158,2,158,6],[167,12,167,13],[168,2,168,6],[168,12,168,13],[169,2,169,6],[169,12,169,13],[170,2,170,6],[170,12,170,13],[171,2,171,6],[171,12,171,13],[172,2,172,6],[172,12,172,13],[173,2,173,6],[173,12,173,13],[174,2,174,6],[174,12,174,13],[175,2,175,6],[135,2,135,6],[135,12,135,13],[136,2,136,6],[136,12,136,13],[137,2,137,6],[137,12,137,13],[138,2,138,6],[138,12,138,13],[139,2,139,6],[139,12,139,13],[140,2,140,6],[140,12,140,13],[141,2,141,6],[141,12,141,13],[142,2,142,6],[142,12,142,13],[151,2,151,6],[151,12,151,13],[143,2,143,6],[143,12,143,13],[144,2,144,6],[144,12,144,13],[145,2,145,6],[145,12,145,13],[146,2,146,6],[146,12,146,13],[147,2,147,6],[147,12,147,13],[148,2,148,6],[148,12,148,13],[149,2,149,6],[149,12,149,13],[82,2,82,6],[82,12,82,13],[83,2,83,6],[83,12,83,13],[84,2,84,6],[84,12,84,13],[85,2,85,6],[85,12,85,13],[87,2,87,8],[87,12,87,13],[296,2,296,6],[296,12,296,13],[297,2,297,6],[297,12,297,13],[298,2,298,6],[298,12,298,13],[299,2,299,6],[299,12,299,13],[158,12,158,13],[159,2,159,6],[159,12,159,13],[160,2,160,6],[160,12,160,13],[161,2,161,6],[161,12,161,13],[162,2,162,6],[162,12,162,13],[163,2,163,6],[163,12,163,13],[164,2,164,6],[164,12,164,13],[165,2,165,6],[73,2,73,6],[73,12,73,13],[74,2,74,6],[74,12,74,13],[75,2,75,6],[75,12,75,13],[76,2,76,6],[76,12,76,13],[77,2,77,6],[77,12,77,13],[78,2,78,6],[78,12,78,13],[79,2,79,6],[79,12,79,13],[80,2,80,6],[80,12,80,13],[81,2,81,6],[81,12,81,13],[64,2,64,6],[64,12,64,13],[65,2,65,6],[65,12,65,13],[66,2,66,6],[66,12,66,13],[67,2,67,6],[67,12,67,13],[68,2,68,6],[68,12,68,13],[69,2,69,6],[69,12,69,13],[70,2,70,6],[70,12,70,13],[71,2,71,6],[71,12,71,13],[72,2,72,6],[72,12,72,13],[54,2,54,6],[54,12,54,13],[55,2,55,6],[55,12,55,13],[56,2,56,6],[56,12,56,13],[58,2,58,6],[58,12,58,13],[59,2,59,6],[59,12,59,13],[60,2,60,6],[60,12,60,13],[61,2,61,6],[61,12,61,13],[62,2,62,6],[62,12,62,13],[63,2,63,6],[63,12,63,13],[45,2,45,6],[45,12,45,13],[46,2,46,6],[46,12,46,13],[47,2,47,6],[47,12,47,13],[48,2,48,6],[48,12,48,13],[49,2,49,6],[49,12,49,13],[50,2,50,6],[50,12,50,13],[51,2,51,6],[51,12,51,13],[52,2,52,6],[52,12,52,13],[53,2,53,6],[53,12,53,13],[119,12,119,13],[120,2,120,6],[120,12,120,13],[121,2,121,6],[121,12,121,13],[122,2,122,6],[122,12,122,13],[123,2,123,6],[123,12,123,13],[124,2,124,6],[124,12,124,13],[125,2,125,6],[125,12,125,13],[126,2,126,6],[126,12,126,13],[127,2,127,6],[127,12,127,13],[128,2,128,6],[128,12,128,13],[129,2,129,6],[129,12,129,13],[130,2,130,6],[130,12,130,13],[300,2,300,6],[846,2,846,6],[846,12,846,13],[847,2,847,6],[847,12,847,13],[848,2,848,6],[848,12,848,13],[843,2,843,6],[841,12,841,13],[842,2,842,6],[842,12,842,13],[835,2,835,6],[835,12,835,13],[837,12,837,13],[839,2,839,6],[839,12,839,13],[827,2,827,6],[827,12,827,13],[828,2,828,6],[828,12,828,13],[834,2,834,6],[834,12,834,13],[829,2,829,6],[829,12,829,13],[830,2,830,6],[830,12,830,13],[831,2,831,6],[831,12,831,13],[832,2,832,6],[832,12,832,13],[833,2,833,6],[833,12,833,13],[836,2,836,6],[837,2,837,6],[838,2,838,6],[841,2,841,6],[824,2,824,6],[824,12,824,13],[825,2,825,6],[825,12,825,13],[826,2,826,6],[826,12,826,13],[821,2,821,6],[821,12,821,13],[822,2,822,6],[822,12,822,13],[823,2,823,6],[823,12,823,13],[818,2,818,6],[818,12,818,13],[819,2,819,6],[819,12,819,13],[820,2,820,6],[820,12,820,13],[797,2,797,6],[797,12,797,13],[798,2,798,6],[798,12,798,13],[799,2,799,6],[799,12,799,13],[800,2,800,6],[800,12,800,13],[801,2,801,6],[801,12,801,13],[783,2,783,6],[783,12,783,13],[784,2,784,6],[784,12,784,13],[788,2,788,6],[788,12,788,13],[785,2,785,6],[785,12,785,13],[786,2,786,6],[786,12,786,13],[787,2,787,6],[787,12,787,13],[793,2,793,6],[793,12,793,13],[794,2,794,6],[794,12,794,13],[740,12,740,13],[748,2,748,6],[748,12,748,13],[749,2,749,6],[749,12,749,13],[746,2,746,6],[746,12,746,13],[747,2,747,6],[747,12,747,13],[754,2,754,6],[754,12,754,13],[753,2,753,6],[753,12,753,13],[741,2,741,6],[741,12,741,13],[742,2,742,6],[755,2,755,6],[755,12,755,13],[733,2,733,6],[733,12,733,13],[734,2,734,6],[734,12,734,13],[735,2,735,6],[735,12,735,13],[730,2,730,6],[730,12,730,13],[731,2,731,6],[731,12,731,13],[582,2,582,8],[582,12,582,13],[720,2,720,6],[720,12,720,13],[610,12,610,13],[593,2,593,6],[593,12,593,13],[594,2,594,6],[594,12,594,13],[595,2,595,6],[595,12,595,13],[596,2,596,6],[596,12,596,13],[597,2,597,6],[597,12,597,13],[598,2,598,6],[598,12,598,13],[599,2,599,6],[599,12,599,13],[600,2,600,6],[600,12,600,13],[601,2,601,6],[575,2,575,6],[575,12,575,13],[576,2,576,6],[576,12,576,13],[551,2,551,6],[551,12,551,13],[552,2,552,6],[552,12,552,13],[553,2,553,6],[553,12,553,13],[559,2,559,6],[559,12,559,13],[560,2,560,6],[560,12,560,13],[561,2,561,6],[561,12,561,13],[563,2,563,6],[563,12,563,13],[562,2,562,6],[562,12,562,13],[566,2,566,6],[566,12,566,13],[565,2,565,6],[565,12,565,13],[557,2,557,6],[557,12,557,13],[558,2,558,6],[558,12,558,13],[564,2,564,6],[564,12,564,13],[554,2,554,6],[554,12,554,13],[542,2,542,6],[542,12,542,13],[543,2,543,6]],"merged_total":1614,"flags":["merged_cut"]}
[]
[]
[null,null,null,null,"Client Proposal"]
[]
[]
[null,null,{"$f":"IF(E3=\"Client Proposal\",\"PROPOSAL\",\"DETAILED ESTIMATE\")","v":"PROPOSAL"}]
[]
[null,null,{"$f":"T(Street_Address)","v":"1234 N. Main St"}]
[]
[]
[null,null,{"$f":"T(City_State_Zip)","v":"Kansas City, MO 64116"}]
[]
[]
[null,null,"Client Information:",null,null,null,null,null,{"$f":"T(Company_Name)","v":"Test Company"}]
[]
[null,null,"Contact:",{"$f":"T(CLIENT_NAME)","v":"Test Client"},null,null,null,null,"Contact:",{"$f":"T(Company_Contact)","v":"Test Contact"}]
[null,null,"Phone #:",null,null,null,null,null,"Phone #:",{"$f":"Company_Phone","v":0}]
[null,null,"Email:",null,null,null,null,null,"Email:",{"$f":"T(Company_Email)","v":"Test@test.com"}]
[null,null,null,null,null,null,null,null,"Website",{"$f":"T(Company_Website)","v":""}]
[]
[null,null,"We hereby propose to furnish labor, material & equipment - complete in accordance with the below specifications."]
[]
[null,null,"Total Estimate",null,null,"Input a brief executive summary of the project."]
[]
[null,null,{"$f":"ADDERS!AW60","v":0}]
[]
[null,null,null,null,null,null,null,null,null,null,null,null,null,null,null,null,"Client Proposal",null,"Client Proposal"]
[null,null,{"$f":"IFERROR(C25/PROJECT_SIZE,0)","v":0},null,null,null,null,null,null,null,null,null,null,null,null,null,"Raw Costs"]
[null,null,null,null,null,null,null,null,null,null,null,null,null,null,null,null,{"$f":"J860-J862","v":0}]
[null,null,"Breakdown by Work Type"]
[null,null,"LAB/EQUIP","MAT'L","SUB"]
[null,null,{"$f":"J857","v":0},{"$f":"K857","v":0},{"$f":"L857","v":0}]
[]
[null,null,"Breakdown by Scope of Work"]
[]
[null,null,{"$f":"T(ESTIMATE!N6)","v":"GENERAL REQUIREMENTS"},null,null,{"$f":"M88","v":0},{"$f":"T(ESTIMATE!Y6)","v":"MISC. EXT. IMPROVEMENTS"},null,null,{"$f":"M358","v":0},{"$f":"T(ESTIMATE!AJ6)","v":"FLOORING"},null,null,{"$f":"M628","v":0}]
[null,null,{"$f":"T(ESTIMATE!N7)","v":"DEMOLITION"},null,null,{"$f":"M133","v":0},{"$f":"T(ESTIMATE!Y7)","v":"LANDSCAPING"},null,null,{"$f":"M403","v":0},{"$f":"T(ESTIMATE!AJ7)","v":"PAINTING"},null,null,{"$f":"M673","v":0}]
[null,null,{"$f":"T(ESTIMATE!N8)","v":"CONCRETE & FLATWORK"},null,null,{"$f":"M178","v":0},{"$f":"T(ESTIMATE!Y8)","v":"KITCHENS"},null,null,{"$f":"M448","v":0},{"$f":"T(ESTIMATE!AJ8)","v":"PLUMBING"},null,null,{"$f":"M718","v":0}]
[null,null,{"$f":"T(ESTIMATE!N9)","v":"SIDING"},null,null,{"$f":"M223","v":0},{"$f":"T(ESTIMATE!Y9)","v":"BATHROOMS"},null,null,{"$f":"M493","v":0},{"$f":"T(ESTIMATE!AJ9)","v":"HVAC"},null,null,{"$f":"M763","v":0}]
[null,null,{"$f":"T(ESTIMATE!N10)","v":"ROOFING"},null,null,{"$f":"M268","v":0},{"$f":"T(ESTIMATE!Y10)","v":"DOORS & TRIM"},null,null,{"$f":"M538","v":0},{"$f":"T(ESTIMATE!AJ10)","v":"ELECTRICAL"},null,null,{"$f":"M808","v":0}]
[null,null,{"$f":"T(ESTIMATE!N11)","v":"EXT. DOORS & WINDOWS"},null,null,{"$f":"M313","v":0},{"$f":"T(ESTIMATE!Y11)","v":"FRAMING & DRYWALL"},null,null,{"$f":"M583","v":0},{"$f":"T(ESTIMATE!AJ11)","v":"OTHER"},null,null,{"$f":"M853","v":0}]
[]
[null,null,null,null,null,null,null,null,null,"Totals",null,null,{"$f":"M857","v":0}]
[null,null,"Description of Work",null,null,null,null,"QTY","Unit","Lab","Mat'l","Sub","Total Cost",null,"SORTER"]
[]
[null,null,{"$f":"T(ESTIMATE!B16)","v":"GENERAL REQUIREMENTS"},null,null,null,null,{"$f":"SUM(H47:H86)","v":0},null,null,null,null,null,null,{"$f":"H46","v":0}]
[null,null,{"$f":"T(ESTIMATE!B17)","v":"Dumpster rental-40 yard"},null,null,null,null,{"$f":"ESTIMATE!P17","v":0},{"$f":"T(ESTIMATE!S17)","v":"ea"},{"$f":"IF($Q$28=\"Allocate Adders\",ESTIMATE!BC17,ESTIMATE!AW17)","v":0},{"$f":"IF($Q$28=\"Allocate Adders\",ESTIMATE!BF17,ESTIMATE!AX17)","v":0},{"$f":"IF($Q$28=\"Allocate Adders\",ESTIMATE!BI17,ESTIMATE!AY17)","v":0},{"$f":"SUM(J47:L47)","v":0},null,0]
[null,null,{"$f":"T(ESTIMATE!B18)","v":"Construction Permits < $10k"},null,null,null,null,{"$f":"ESTIMATE!P18","v":0},{"$f":"T(ESTIMATE!S18)","v":"job"},{"$f":"IF($Q$28=\"Allocate Adders\",ESTIMATE!BC18,ESTIMATE!AW18)","v":0},{"$f":"IF($Q$28=\"Allocate Adders\",ESTIMATE!BF18,ESTIMATE!AX18)","v":0},{"$f":"IF($Q$28=\"Allocate Adders\",ESTIMATE!BI18,ESTIMATE!AY18)","v":0},0,null,0]
[null,null,{"$f":"T(ESTIMATE!B19)","v":"Construction Permits, 10k to $25k"},null,null,null,null,{"$f":"ESTIMATE!P19","v":0},{"$f":"T(ESTIMATE!S19)","v":"job"},{"$f":"IF($Q$28=\"Allocate Adders\",ESTIMATE!BC19,ESTIMATE!AW19)","v":0},{"$f":"IF($Q$28=\"Allocate Adders\",ESTIMATE!BF19,ESTIMATE!AX19)","v":0},{"$f":"IF($Q$28=\"Allocate Adders\",ESTIMATE!BI19,ESTIMATE!AY19)","v":0},0,null,0]
[null,null,{"$f":"T(ESTIMATE!B20)","v":"Construction Permits, 25k to 50k"},null,null,null,null,{"$f":"ESTIMATE!P20","v":0},{"$f":"T(ESTIMATE!S20)","v":"job"},{"$f":"IF($Q$28=\"Allocate Adders\",ESTIMATE!BC20,ESTIMATE!AW20)","v":0},{"$f":"IF($Q$28=\"Allocate Adders\",ESTIMATE!BF20,ESTIMATE!AX20)","v":0},{"$f":"IF($Q$28=\"Allocate Adders\",ESTIMATE!BI20,ESTIMATE!AY20)","v":0},0,null,0]
[null,null,{"$f":"T(ESTIMATE!B21)","v":"Storage Container"},null,null,null,null,{"$f":"ESTIMATE!P21","v":0},{"$f":"T(ESTIMATE!S21)","v":"job"},{"$f":"IF($Q$28=\"Allocate Adders\",ESTIMATE!BC21,ESTIMATE!AW21)","v":0},{"$f":"IF($Q$28=\"Allocate Adders\",ESTIMATE!BF21,ESTIMATE!AX21)","v":0},{"$f":"IF($Q$28=\"Allocate Adders\",ESTIMATE!BI21,ESTIMATE!AY21)","v":0},0,null,0]
[null,null,{"$f":"T(ESTIMATE!B22)","v":"Chemical Toilet"},null,null,null,null,{"$f":"ESTIMATE!P22","v":0},{"$f":"T(ESTIMATE!S22)","v":"mo"},{"$f":"IF($Q$28=\"Allocate Adders\",ESTIMATE!BC22,ESTIMATE!AW22)","v":0},{"$f":"IF($Q$28=\"Allocate Adders\",ESTIMATE!BF22,ESTIMATE!AX22)","v":0},{"$f":"IF($Q$28=\"Allocate Adders\",ESTIMATE!BI22,ESTIMATE!AY22)","v":0},0,null,0]
[null,null,{"$f":"T(ESTIMATE!B23)","v":"Misc. Tools & Materials"},null,null,null,null,{"$f":"ESTIMATE!P23","v":0},{"$f":"T(ESTIMATE!S23)","v":"ls"},{"$f":"IF($Q$28=\"Allocate Adders\",ESTIMATE!BC23,ESTIMATE!AW23)","v":0},{"$f":"IF($Q$28=\"Allocate Adders\",ESTIMATE!BF23,ESTIMATE!AX23)","v":0},{"$f":"IF($Q$28=\"Allocate Adders\",ESTIMATE!BI23,ESTIMATE!AY23)","v":0},0,null,0]
[null,null,{"$f":"T(ESTIMATE!B24)","v":"Rekey/lock box"},null,null,null,null,{"$f":"ESTIMATE!P24","v":0},{"$f":"T(ESTIMATE!S24)","v":"ea"},{"$f":"IF($Q$28=\"Allocate Adders\",ESTIMATE!BC24,ESTIMATE!AW24)","v":0},{"$f":"IF($Q$28=\"Allocate Adders\",ESTIMATE!BF24,ESTIMATE!AX24)","v":0},{"$f":"IF($Q$28=\"Allocate Adders\",ESTIMATE!BI24,ESTIMATE!AY24)","v":0},0,null,0]
[null,null,{"$f":"T(ESTIMATE!B25)","v":"Turn on utilities"},null,null,null,null,{"$f":"ESTIMATE!P25","v":0},{"$f":"T(ESTIMATE!S25)","v":"ls"},{"$f":"IF($Q$28=\"Allocate Adders\",ESTIMATE!BC25,ESTIMATE!AW25)","v":0},{"$f":"IF($Q$28=\"Allocate Adders\",ESTIMATE!BF25,ESTIMATE!AX25)","v":0},{"$f":"IF($Q$28=\"Allocate Adders\",ESTIMATE!BI25,ESTIMATE!AY25)","v":0},0,null,0]
[null,null,{"$f":"T(ESTIMATE!B26)","v":"Truck expense/car payment"},null,null,null,null,{"$f":"ESTIMATE!P26","v":0},{"$f":"T(ESTIMATE!S26)","v":"month"},{"$f":"IF($Q$28=\"Allocate Adders\",ESTIMATE!BC26,ESTIMATE!AW26)","v":0},{"$f":"IF($Q$28=\"Allocate Adders\",ESTIMATE!BF26,ESTIMATE!AX26)","v":0},{"$f":"IF($Q$28=\"Allocate Adders\",ESTIMATE!BI26,ESTIMATE!AY26)","v":0},0,null,0]
[null,null,{"$f":"T(ESTIMATE!B27)","v":"Fuel/gas expense"},null,null,null,null,{"$f":"ESTIMATE!P27","v":0},{"$f":"T(ESTIMATE!S27)","v":"wk"},{"$f":"IF($Q$28=\"Allocate Adders\",ESTIMATE!BC27,ESTIMATE!AW27)","v":0},{"$f":"IF($Q$28=\"Allocate Adders\",ESTIMATE!BF27,ESTIMATE!AX27)","v":0},{"$f":"IF($Q$28=\"Allocate Adders\",ESTIMATE!BI27,ESTIMATE!AY27)","v":0},0,null,0]
[null,null,{"$f":"T(ESTIMATE!B28)","v":"Project management"},null,null,null,null,{"$f":"ESTIMATE!P28","v":0},{"$f":"T(ESTIMATE!S28)","v":"wk"},{"$f":"IF($Q$28=\"Allocate Adders\",ESTIMATE!BC28,ESTIMATE!AW28)","v":0},{"$f":"IF($Q$28=\"Allocate Adders\",ESTIMATE!BF28,ESTIMATE!AX28)","v":0},{"$f":"IF($Q$28=\"Allocate Adders\",ESTIMATE!BI28,ESTIMATE!AY28)","v":0},0,null,0]
[null,null,{"$f":"T(ESTIMATE!B29)","v":"Architectural Fees"},null,null,null,null,{"$f":"ESTIMATE!P29","v":0},{"$f":"T(ESTIMATE!S29)","v":"hrs"},{"$f":"IF($Q$28=\"Allocate Adders\",ESTIMATE!BC29,ESTIMATE!AW29)","v":0},{"$f":"IF($Q$28=\"Allocate Adders\",ESTIMATE!BF29,ESTIMATE!AX29)","v":0},{"$f":"IF($Q$28=\"Allocate Adders\",ESTIMATE!BI29,ESTIMATE!AY29)","v":0},0,null,0]
[null,null,{"$f":"T(ESTIMATE!B30)","v":"Engineering Fees"},null,null,null,null,{"$f":"ESTIMATE!P30","v":0},{"$f":"T(ESTIMATE!S30)","v":"hrs"},{"$f":"IF($Q$28=\"Allocate Adders\",ESTIMATE!BC30,ESTIMATE!AW30)","v":0},{"$f":"IF($Q$28=\"Allocate Adders\",ESTIMATE!BF30,ESTIMATE!AX30)","v":0},{"$f":"IF($Q$28=\"Allocate Adders\",ESTIMATE!BI30,ESTIMATE!AY30)","v":0},0,null,0]
[null,null,{"$f":"T(ESTIMATE!B31)","v":"Professional Photography"},null,null,null,null,{"$f":"ESTIMATE!P31","v":0},{"$f":"T(ESTIMATE!S31)","v":"ls"},{"$f":"IF($Q$28=\"Allocate Adders\",ESTIMATE!BC31,ESTIMATE!AW31)","v":0},{"$f":"IF($Q$28=\"Allocate Adders\",ESTIMATE!BF31,ESTIMATE!AX31)","v":0},{"$f":"IF($Q$28=\"Allocate Adders\",ESTIMATE!BI31,ESTIMATE!AY31)","v":0},0,null,0]
[null,null,{"$f":"T(ESTIMATE!B32)","v":"Material Deliveries"},null,null,null,null,{"$f":"ESTIMATE!P32","v":0},{"$f":"T(ESTIMATE!S32)","v":"ea"},{"$f":"IF($Q$28=\"Allocate Adders\",ESTIMATE!BC32,ESTIMATE!AW32)","v":0},{"$f":"IF($Q$28=\"Allocate Adders\",ESTIMATE!BF32,ESTIMATE!AX32)","v":0},{"$f":"IF($Q$28=\"Allocate Adders\",ESTIMATE!BI32,ESTIMATE!AY32)","v":0},0,null,0]
[null,null,{"$f":"T(ESTIMATE!B33)","v":"Final cleaning"},null,null,null,null,{"$f":"ESTIMATE!P33","v":0},{"$f":"T(ESTIMATE!S33)","v":"hrs"},{"$f":"IF($Q$28=\"Allocate Adders\",ESTIMATE!BC33,ESTIMATE!AW33)","v":0},{"$f":"IF($Q$28=\"Allocate Adders\",ESTIMATE!BF33,ESTIMATE!AX33)","v":0},{"$f":"IF($Q$28=\"Allocate Adders\",ESTIMATE!BI33,ESTIMATE!AY33)","v":0},0,null,0]
[null,null,{"$f":"T(ESTIMATE!B34)","v":""},null,null,null,null,{"$f":"ESTIMATE!P34","v":0},{"$f":"T(ESTIMATE!S34)","v":""},{"$f":"IF($Q$28=\"Allocate Adders\",ESTIMATE!BC34,ESTIMATE!AW34)","v":0},{"$f":"IF($Q$28=\"Allocate Adders\",ESTIMATE!BF34,ESTIMATE!AX34)","v":0},{"$f":"IF($Q$28=\"Allocate Adders\",ESTIMATE!BI34,ESTIMATE!AY34)","v":0},0,null,0]
[null,null,{"$f":"T(ESTIMATE!B35)","v":""},null,null,null,null,{"$f":"ESTIMATE!P35","v":0},{"$f":"T(ESTIMATE!S35)","v":""},{"$f":"IF($Q$28=\"Allocate Adders\",ESTIMATE!BC35,ESTIMATE!AW35)","v":0},{"$f":"IF($Q$28=\"Allocate Adders\",ESTIMATE!BF35,ESTIMATE!AX35)","v":0},{"$f":"IF($Q$28=\"Allocate Adders\",ESTIMATE!BI35,ESTIMATE!AY35)","v":0},0,null,0]
[null,null,{"$f":"T(ESTIMATE!B36)","v":""},null,null,null,null,{"$f":"ESTIMATE!P36","v":0},{"$f":"T(ESTIMATE!S36)","v":""},{"$f":"IF($Q$28=\"Allocate Adders\",ESTIMATE!BC36,ESTIMATE!AW36)","v":0},{"$f":"IF($Q$28=\"Allocate Adders\",ESTIMATE!BF36,ESTIMATE!AX36)","v":0},{"$f":"IF($Q$28=\"Allocate Adders\",ESTIMATE!BI36,ESTIMATE!AY36)","v":0},0,null,0]
[null,null,{"$f":"T(ESTIMATE!B37)","v":""},null,null,null,null,{"$f":"ESTIMATE!P37","v":0},{"$f":"T(ESTIMATE!S37)","v":""},{"$f":"IF($Q$28=\"Allocate Adders\",ESTIMATE!BC37,ESTIMATE!AW37)","v":0},{"$f":"IF($Q$28=\"Allocate Adders\",ESTIMATE!BF37,ESTIMATE!AX37)","v":0},{"$f":"IF($Q$28=\"Allocate Adders\",ESTIMATE!BI37,ESTIMATE!AY37)","v":0},0,null,0]
[null,null,{"$f":"T(ESTIMATE!B38)","v":""},null,null,null,null,{"$f":"ESTIMATE!P38","v":0},{"$f":"T(ESTIMATE!S38)","v":""},{"$f":"IF($Q$28=\"Allocate Adders\",ESTIMATE!BC38,ESTIMATE!AW38)","v":0},{"$f":"IF($Q$28=\"Allocate Adders\",ESTIMATE!BF38,ESTIMATE!AX38)","v":0},{"$f":"IF($Q$28=\"Allocate Adders\",ESTIMATE!BI38,ESTIMATE!AY38)","v":0},0,null,0]
[null,null,{"$f":"T(ESTIMATE!B39)","v":""},null,null,null,null,{"$f":"ESTIMATE!P39","v":0},{"$f":"T(ESTIMATE!S39)","v":""},{"$f":"IF($Q$28=\"Allocate Adders\",ESTIMATE!BC39,ESTIMATE!AW39)","v":0},{"$f":"IF($Q$28=\"Allocate Adders\",ESTIMATE!BF39,ESTIMATE!AX39)","v":0},{"$f":"IF($Q$28=\"Allocate Adders\",ESTIMATE!BI39,ESTIMATE!AY39)","v":0},0,null,0]
[null,null,{"$f":"T(ESTIMATE!B40)","v":""},null,null,null,null,{"$f":"ESTIMATE!P40","v":0},{"$f":"T(ESTIMATE!S40)","v":""},{"$f":"IF($Q$28=\"Allocate Adders\",ESTIMATE!BC40,ESTIMATE!AW40)","v":0},{"$f":"IF($Q$28=\"Allocate Adders\",ESTIMATE!BF40,ESTIMATE!AX40)","v":0},{"$f":"IF($Q$28=\"Allocate Adders\",ESTIMATE!BI40,ESTIMATE!AY40)","v":0},0,null,0]
[null,null,{"$f":"T(ESTIMATE!B41)","v":""},null,null,null,null,{"$f":"ESTIMATE!P41","v":0},{"$f":"T(ESTIMATE!S41)","v":""},{"$f":"IF($Q$28=\"Allocate Adders\",ESTIMATE!BC41,ESTIMATE!AW41)","v":0},{"$f":"IF($Q$28=\"Allocate Adders\",ESTIMATE!BF41,ESTIMATE!AX41)","v":0},{"$f":"IF($Q$28=\"Allocate Adders\",ESTIMATE!BI41,ESTIMATE!AY41)","v":0},0,null,0]
[null,null,{"$f":"T(ESTIMATE!B42)","v":""},null,null,null,null,{"$f":"ESTIMATE!P42","v":0},{"$f":"T(ESTIMATE!S42)","v":""},{"$f":"IF($Q$28=\"Allocate Adders\",ESTIMATE!BC42,ESTIMATE!AW42)","v":0},{"$f":"IF($Q$28=\"Allocate Adders\",ESTIMATE!BF42,ESTIMATE!AX42)","v":0},{"$f":"IF($Q$28=\"Allocate Adders\",ESTIMATE!BI42,ESTIMATE!AY42)","v":0},0,null,0]
[null,null,{"$f":"T(ESTIMATE!B43)","v":""},null,null,null,null,{"$f":"ESTIMATE!P43","v":0},{"$f":"T(ESTIMATE!S43)","v":""},{"$f":"IF($Q$28=\"Allocate Adders\",ESTIMATE!BC43,ESTIMATE!AW43)","v":0},{"$f":"IF($Q$28=\"Allocate Adders\",ESTIMATE!BF43,ESTIMATE!AX43)","v":0},{"$f":"IF($Q$28=\"Allocate Adders\",ESTIMATE!BI43,ESTIMATE!AY43)","v":0},0,null,0]
[null,null,{"$f":"T(ESTIMATE!B44)","v":""},null,null,null,null,{"$f":"ESTIMATE!P44","v":0},{"$f":"T(ESTIMATE!S44)","v":""},{"$f":"IF($Q$28=\"Allocate Adders\",ESTIMATE!BC44,ESTIMATE!AW44)","v":0},{"$f":"IF($Q$28=\"Allocate Adders\",ESTIMATE!BF44,ESTIMATE!AX44)","v":0},{"$f":"IF($Q$28=\"Allocate Adders\",ESTIMATE!BI44,ESTIMATE!AY44)","v":0},0,null,0]
[null,null,{"$f":"T(ESTIMATE!B45)","v":""},null,null,null,null,{"$f":"ESTIMATE!P45","v":0},{"$f":"T(ESTIMATE!S45)","v":""},{"$f":"IF($Q$28=\"Allocate Adders\",ESTIMATE!BC45,ESTIMATE!AW45)","v":0},{"$f":"IF($Q$28=\"Allocate Adders\",ESTIMATE!BF45,ESTIMATE!AX45)","v":0},{"$f":"IF($Q$28=\"Allocate Adders\",ESTIMATE!BI45,ESTIMATE!AY45)","v":0},0,null,0]
[null,null,{"$f":"T(ESTIMATE!B46)","v":""},null,null,null,null,{"$f":"ESTIMATE!P46","v":0},{"$f":"T(ESTIMATE!S46)","v":""},{"$f":"IF($Q$28=\"Allocate Adders\",ESTIMATE!BC46,ESTIMATE!AW46)","v":0},{"$f":"IF($Q$28=\"Allocate Adders\",ESTIMATE!BF46,ESTIMATE!AX46)","v":0},{"$f":"IF($Q$28=\"Allocate Adders\",ESTIMATE!BI46,ESTIMATE!AY46)","v":0},0,null,0]
[null,null,{"$f":"T(ESTIMATE!B47)","v":""},null,null,null,null,{"$f":"ESTIMATE!P47","v":0},{"$f":"T(ESTIMATE!S47)","v":""},{"$f":"IF($Q$28=\"Allocate Adders\",ESTIMATE!BC47,ESTIMATE!AW47)","v":0},{"$f":"IF($Q$28=\"Allocate Adders\",ESTIMATE!BF47,ESTIMATE!AX47)","v":0},{"$f":"IF($Q$28=\"Allocate Adders\",ESTIMATE!BI47,ESTIMATE!AY47)","v":0},0,null,0]
[null,null,{"$f":"T(ESTIMATE!B48)","v":""},null,null,null,null,{"$f":"ESTIMATE!P48","v":0},{"$f":"T(ESTIMATE!S48)","v":""},{"$f":"IF($Q$28=\"Allocate Adders\",ESTIMATE!BC48,ESTIMATE!AW48)","v":0},{"$f":"IF($Q$28=\"Allocate Adders\",ESTIMATE!BF48,ESTIMATE!AX48)","v":0},{"$f":"IF($Q$28=\"Allocate Adders\",ESTIMATE!BI48,ESTIMATE!AY48)","v":0},0,null,0]
[null,null,{"$f":"T(ESTIMATE!B49)","v":""},null,null,null,null,{"$f":"ESTIMATE!P49","v":0},{"$f":"T(ESTIMATE!S49)","v":""},{"$f":"IF($Q$28=\"Allocate Adders\",ESTIMATE!BC49,ESTIMATE!AW49)","v":0},{"$f":"IF($Q$28=\"Allocate Adders\",ESTIMATE!BF49,ESTIMATE!AX49)","v":0},{"$f":"IF($Q$28=\"Allocate Adders\",ESTIMATE!BI49,ESTIMATE!AY49)","v":0},0,null,0]
[null,null,{"$f":"T(ESTIMATE!B50)","v":""},null,null,null,null,{"$f":"ESTIMATE!P50","v":0},{"$f":"T(ESTIMATE!S50)","v":""},{"$f":"IF($Q$28=\"Allocate Adders\",ESTIMATE!BC50,ESTIMATE!AW50)","v":0},{"$f":"IF($Q$28=\"Allocate Adders\",ESTIMATE!BF50,ESTIMATE!AX50)","v":0},{"$f":"IF($Q$28=\"Allocate Adders\",ESTIMATE!BI50,ESTIMATE!AY50)","v":0},0,null,0]
[null,null,{"$f":"T(ESTIMATE!B51)","v":""},null,null,null,null,{"$f":"ESTIMATE!P51","v":0},{"$f":"T(ESTIMATE!S51)","v":""},{"$f":"IF($Q$28=\"Allocate Adders\",ESTIMATE!BC51,ESTIMATE!AW51)","v":0},{"$f":"IF($Q$28=\"Allocate Adders\",ESTIMATE!BF51,ESTIMATE!AX51)","v":0},{"$f":"IF($Q$28=\"Allocate Adders\",ESTIMATE!BI51,ESTIMATE!AY51)","v":0},0,null,0]
[null,null,{"$f":"T(ESTIMATE!B52)","v":""},null,null,null,null,{"$f":"ESTIMATE!P52","v":0},{"$f":"T(ESTIMATE!S52)","v":""},{"$f":"IF($Q$28=\"Allocate Adders\",ESTIMATE!BC52,ESTIMATE!AW52)","v":0},{"$f":"IF($Q$28=\"Allocate Adders\",ESTIMATE!BF52,ESTIMATE!AX52)","v":0},{"$f":"IF($Q$28=\"Allocate Adders\",ESTIMATE!BI52,ESTIMATE!AY52)","v":0},0,null,0]
[null,null,{"$f":"T(ESTIMATE!B53)","v":""},null,null,null,null,{"$f":"ESTIMATE!P53","v":0},{"$f":"T(ESTIMATE!S53)","v":""},{"$f":"IF($Q$28=\"Allocate Adders\",ESTIMATE!BC53,ESTIMATE!AW53)","v":0},{"$f":"IF($Q$28=\"Allocate Adders\",ESTIMATE!BF53,ESTIMATE!AX53)","v":0},{"$f":"IF($Q$28=\"Allocate Adders\",ESTIMATE!BI53,ESTIMATE!AY53)","v":0},0,null,0]
[null,null,{"$f":"T(ESTIMATE!B54)","v":""},null,null,null,null,{"$f":"ESTIMATE!P54","v":0},{"$f":"T(ESTIMATE!S54)","v":""},{"$f":"IF($Q$28=\"Allocate Adders\",ESTIMATE!BC54,ESTIMATE!AW54)","v":0},{"$f":"IF($Q$28=\"Allocate Adders\",ESTIMATE!BF54,ESTIMATE!AX54)","v":0},{"$f":"IF($Q$28=\"Allocate Adders\",ESTIMATE!BI54,ESTIMATE!AY54)","v":0},0,null,0]
[null,null,{"$f":"T(ESTIMATE!B55)","v":""},null,null,null,null,{"$f":"ESTIMATE!P55","v":0},{"$f":"T(ESTIMATE!S55)","v":""},{"$f":"IF($Q$28=\"Allocate Adders\",ESTIMATE!BC55,ESTIMATE!AW55)","v":0},{"$f":"IF($Q$28=\"Allocate Adders\",ESTIMATE!BF55,ESTIMATE!AX55)","v":0},{"$f":"IF($Q$28=\"Allocate Adders\",ESTIMATE!BI55,ESTIMATE!AY55)","v":0},0,null,0]
[null,null,{"$f":"T(ESTIMATE!B56)","v":""},null,null,null,null,{"$f":"ESTIMATE!P56","v":0},{"$f":"T(ESTIMATE!S56)","v":""},{"$f":"IF($Q$28=\"Allocate Adders\",ESTIMATE!BC56,ESTIMATE!AW56)","v":0},{"$f":"IF($Q$28=\"Allocate Adders\",ESTIMATE!BF56,ESTIMATE!AX56)","v":0},{"$f":"IF($Q$28=\"Allocate Adders\",ESTIMATE!BI56,ESTIMATE!AY56)","v":0},0,null,0]
[null,null,null,null,null,null,null,null,null,null,null,null,null,null,{"$f":"O88","v":0}]
[null,null,{"$f":"T(ESTIMATE!AC58)","v":"GENERAL REQUIREMENTS TOTAL"},null,null,null,null,null,null,{"$f":"SUM(J47:J87)","v":0},{"$f":"SUM(K47:K87)","v":0},{"$f":"SUM(L47:L87)","v":0},{"$f":"SUM(M47:N87)","v":0},null,{"$f":"SUM(O46:O86)","v":0}]
[null,null,null,null,null,null,null,null,null,null,null,null,null,null,{"$f":"O88","v":0}]
[]
[null,null,{"$f":"T(ESTIMATE!B61)","v":"DEMOLITION"},null,null,null,null,{"$f":"SUM(H92:H131)","v":0},null,null,null,null,null,null,{"$f":"H91","v":0}]
[null,null,{"$f":"T(ESTIMATE!B62)","v":"Demolition"},null,null,null,null,{"$f":"ESTIMATE!P62","v":0},{"$f":"T(ESTIMATE!S62)","v":"ls"},{"$f":"IF($Q$28=\"Allocate Adders\",ESTIMATE!BC62,ESTIMATE!AW62)","v":0},{"$f":"IF($Q$28=\"Allocate Adders\",ESTIMATE!BF62,ESTIMATE!AX62)","v":0},{"$f":"IF($Q$28=\"Allocate Adders\",ESTIMATE!BI62,ESTIMATE!AY62)","v":0},{"$f":"SUM(J92:L92)","v":0},null,0]
[null,null,{"$f":"T(ESTIMATE!B63)","v":"Demo bid/allowance"},null,null,null,null,{"$f":"ESTIMATE!P63","v":0},{"$f":"T(ESTIMATE!S63)","v":"ls"},{"$f":"IF($Q$28=\"Allocate Adders\",ESTIMATE!BC63,ESTIMATE!AW63)","v":0},{"$f":"IF($Q$28=\"Allocate Adders\",ESTIMATE!BF63,ESTIMATE!AX63)","v":0},{"$f":"IF($Q$28=\"Allocate Adders\",ESTIMATE!BI63,ESTIMATE!AY63)","v":0},0,null,0]
[null,null,{"$f":"T(ESTIMATE!B64)","v":"Demolition work per hour"},null,null,null,null,{"$f":"ESTIMATE!P64","v":0},{"$f":"T(ESTIMATE!S64)","v":"hrs"},{"$f":"IF($Q$28=\"Allocate Adders\",ESTIMATE!BC64,ESTIMATE!AW64)","v":0},{"$f":"IF($Q$28=\"Allocate Adders\",ESTIMATE!BF64,ESTIMATE!AX64)","v":0},{"$f":"IF($Q$28=\"Allocate Adders\",ESTIMATE!BI64,ESTIMATE!AY64)","v":0},0,null,0]
[null,null,{"$f":"T(ESTIMATE!B65)","v":"Room demolition, typical room"},null,null,null,null,{"$f":"ESTIMATE!P65","v":0},{"$f":"T(ESTIMATE!S65)","v":"sf"},{"$f":"IF($Q$28=\"Allocate Adders\",ESTIMATE!BC65,ESTIMATE!AW65)","v":0},{"$f":"IF($Q$28=\"Allocate Adders\",ESTIMATE!BF65,ESTIMATE!AX65)","v":0},{"$f":"IF($Q$28=\"Allocate Adders\",ESTIMATE!BI65,ESTIMATE!AY65)","v":0},0,null,0]
[null,null,{"$f":"T(ESTIMATE!B66)","v":"Room demolition, bathroom"},null,null,null,null,{"$f":"ESTIMATE!P66","v":0},{"$f":"T(ESTIMATE!S66)","v":"sf"},{"$f":"IF($Q$28=\"Allocate Adders\",ESTIMATE!BC66,ESTIMATE!AW66)","v":0},{"$f":"IF($Q$28=\"Allocate Adders\",ESTIMATE!BF66,ESTIMATE!AX66)","v":0},{"$f":"IF($Q$28=\"Allocate Adders\",ESTIMATE!BI66,ESTIMATE!AY66)","v":0},0,null,0]
[null,null,{"$f":"T(ESTIMATE!B67)","v":"Room demolition, kitchen"},null,null,null,null,{"$f":"ESTIMATE!P67","v":0},{"$f":"T(ESTIMATE!S67)","v":"sf"},{"$f":"IF($Q$28=\"Allocate Adders\",ESTIMATE!BC67,ESTIMATE!AW67)","v":0},{"$f":"IF($Q$28=\"Allocate Adders\",ESTIMATE!BF67,ESTIMATE!AX67)","v":0},{"$f":"IF($Q$28=\"Allocate Adders\",ESTIMATE!BI67,ESTIMATE!AY67)","v":0},0,null,0]
[null,null,{"$f":"T(ESTIMATE!B68)","v":"Building demolition, 1-story wood-framed"},null,null,null,null,{"$f":"ESTIMATE!P68","v":0},{"$f":"T(ESTIMATE!S68)","v":"sf"},{"$f":"IF($Q$28=\"Allocate Adders\",ESTIMATE!BC68,ESTIMATE!AW68)","v":0},{"$f":"IF($Q$28=\"Allocate Adders\",ESTIMATE!BF68,ESTIMATE!AX68)","v":0},{"$f":"IF($Q$28=\"Allocate Adders\",ESTIMATE!BI68,ESTIMATE!AY68)","v":0},0,null,0]
[null,null,{"$f":"T(ESTIMATE!B69)","v":"Building demolition, 2-story wood framed"},null,null,null,null,{"$f":"ESTIMATE!P69","v":0},{"$f":"T(ESTIMATE!S69)","v":"sf"},{"$f":"IF($Q$28=\"Allocate Adders\",ESTIMATE!BC69,ESTIMATE!AW69)","v":0},{"$f":"IF($Q$28=\"Allocate Adders\",ESTIMATE!BF69,ESTIMATE!AX69)","v":0},{"$f":"IF($Q$28=\"Allocate Adders\",ESTIMATE!BI69,ESTIMATE!AY69)","v":0},0,null,0]
[null,null,{"$f":"T(ESTIMATE!B70)","v":"Building demolition, masonry"},null,null,null,null,{"$f":"ESTIMATE!P70","v":0},{"$f":"T(ESTIMATE!S70)","v":"sf"},{"$f":"IF($Q$28=\"Allocate Adders\",ESTIMATE!BC70,ESTIMATE!AW70)","v":0},{"$f":"IF($Q$28=\"Allocate Adders\",ESTIMATE!BF70,ESTIMATE!AX70)","v":0},{"$f":"IF($Q$28=\"Allocate Adders\",ESTIMATE!BI70,ESTIMATE!AY70)","v":0},0,null,0]
[null,null,{"$f":"T(ESTIMATE!B71)","v":"Building demolition, steel/concrete"},null,null,null,null,{"$f":"ESTIMATE!P71","v":0},{"$f":"T(ESTIMATE!S71)","v":"sf"},{"$f":"IF($Q$28=\"Allocate Adders\",ESTIMATE!BC71,ESTIMATE!AW71)","v":0},{"$f":"IF($Q$28=\"Allocate Adders\",ESTIMATE!BF71,ESTIMATE!AX71)","v":0},{"$f":"IF($Q$28=\"Allocate Adders\",ESTIMATE!BI71,ESTIMATE!AY71)","v":0},0,null,0]
[null,null,{"$f":"T(ESTIMATE!B72)","v":"Concrete slab demolition, 4\"-6\""},null,null,null,null,{"$f":"ESTIMATE!P72","v":0},{"$f":"T(ESTIMATE!S72)","v":""},{"$f":"IF($Q$28=\"Allocate Adders\",ESTIMATE!BC72,ESTIMATE!AW72)","v":0},{"$f":"IF($Q$28=\"Allocate Adders\",ESTIMATE!BF72,ESTIMATE!AX72)","v":0},{"$f":"IF($Q$28=\"Allocate Adders\",ESTIMATE!BI72,ESTIMATE!AY72)","v":0},0,null,0]
[null,null,{"$f":"T(ESTIMATE!B73)","v":""},null,null,null,null,{"$f":"ESTIMATE!P73","v":0},{"$f":"T(ESTIMATE!S73)","v":""},{"$f":"IF($Q$28=\"Allocate Adders\",ESTIMATE!BC73,ESTIMATE!AW73)","v":0},{"$f":"IF($Q$28=\"Allocate Adders\",ESTIMATE!BF73,ESTIMATE!AX73)","v":0},{"$f":"IF($Q$28=\"Allocate Adders\",ESTIMATE!BI73,ESTIMATE!AY73)","v":0},0,null,0]
[null,null,{"$f":"T(ESTIMATE!B74)","v":""},null,null,null,null,{"$f":"ESTIMATE!P74","v":0},{"$f":"T(ESTIMATE!S74)","v":""},{"$f":"IF($Q$28=\"Allocate Adders\",ESTIMATE!BC74,ESTIMATE!AW74)","v":0},{"$f":"IF($Q$28=\"Allocate Adders\",ESTIMATE!BF74,ESTIMATE!AX74)","v":0},{"$f":"IF($Q$28=\"Allocate Adders\",ESTIMATE!BI74,ESTIMATE!AY74)","v":0},0,null,0]
[null,null,{"$f":"T(ESTIMATE!B75)","v":"Abatement"},null,null,null,null,{"$f":"ESTIMATE!P75","v":0},{"$f":"T(ESTIMATE!S75)","v":"ls"},{"$f":"IF($Q$28=\"Allocate Adders\",ESTIMATE!BC75,ESTIMATE!AW75)","v":0},{"$f":"IF($Q$28=\"Allocate Adders\",ESTIMATE!BF75,ESTIMATE!AX75)","v":0},{"$f":"IF($Q$28=\"Allocate Adders\",ESTIMATE!BI75,ESTIMATE!AY75)","v":0},0,null,0]
[null,null,{"$f":"T(ESTIMATE!B76)","v":"Asbestos bid/allowance"},null,null,null,null,{"$f":"ESTIMATE!P76","v":0},{"$f":"T(ESTIMATE!S76)","v":"ls"},{"$f":"IF($Q$28=\"Allocate Adders\",ESTIMATE!BC76,ESTIMATE!AW76)","v":0},{"$f":"IF($Q$28=\"Allocate Adders\",ESTIMATE!BF76,ESTIMATE!AX76)","v":0},{"$f":"IF($Q$28=\"Allocate Adders\",ESTIMATE!BI76,ESTIMATE!AY76)","v":0},0,null,0]
[null,null,{"$f":"T(ESTIMATE!B77)","v":"Asbestos testing"},null,null,null,null,{"$f":"ESTIMATE!P77","v":0},{"$f":"T(ESTIMATE!S77)","v":"ea"},{"$f":"IF($Q$28=\"Allocate Adders\",ESTIMATE!BC77,ESTIMATE!AW77)","v":0},{"$f":"IF($Q$28=\"Allocate Adders\",ESTIMATE!BF77,ESTIMATE!AX77)","v":0},{"$f":"IF($Q$28=\"Allocate Adders\",ESTIMATE!BI77,ESTIMATE!AY77)","v":0},0,null,0]
[null,null,{"$f":"T(ESTIMATE!B78)","v":"Asbestos abatement, minimum charge"},null,null,null,null,{"$f":"ESTIMATE!P78","v":0},{"$f":"T(ESTIMATE!S78)","v":"ea"},{"$f":"IF($Q$28=\"Allocate Adders\",ESTIMATE!BC78,ESTIMATE!AW78)","v":0},{"$f":"IF($Q$28=\"Allocate Adders\",ESTIMATE!BF78,ESTIMATE!AX78)","v":0},{"$f":"IF($Q$28=\"Allocate Adders\",ESTIMATE!BI78,ESTIMATE!AY78)","v":0},0,null,0]
[null,null,{"$f":"T(ESTIMATE!B79)","v":"Mold, minimum charge"},null,null,null,null,{"$f":"ESTIMATE!P79","v":0},{"$f":"T(ESTIMATE!S79)","v":"ea"},{"$f":"IF($Q$28=\"Allocate Adders\",ESTIMATE!BC79,ESTIMATE!AW79)","v":0},{"$f":"IF($Q$28=\"Allocate Adders\",ESTIMATE!BF79,ESTIMATE!AX79)","v":0},{"$f":"IF($Q$28=\"Allocate Adders\",ESTIMATE!BI79,ESTIMATE!AY79)","v":0},0,null,0]
[null,null,{"$f":"T(ESTIMATE!B80)","v":""},null,null,null,null,{"$f":"ESTIMATE!P80","v":0},{"$f":"T(ESTIMATE!S80)","v":""},{"$f":"IF($Q$28=\"Allocate Adders\",ESTIMATE!BC80,ESTIMATE!AW80)","v":0},{"$f":"IF($Q$28=\"Allocate Adders\",ESTIMATE!BF80,ESTIMATE!AX80)","v":0},{"$f":"IF($Q$28=\"Allocate Adders\",ESTIMATE!BI80,ESTIMATE!AY80)","v":0},0,null,0]
[null,null,{"$f":"T(ESTIMATE!B81)","v":""},null,null,null,null,{"$f":"ESTIMATE!P81","v":0},{"$f":"T(ESTIMATE!S81)","v":""},{"$f":"IF($Q$28=\"Allocate Adders\",ESTIMATE!BC81,ESTIMATE!AW81)","v":0},{"$f":"IF($Q$28=\"Allocate Adders\",ESTIMATE!BF81,ESTIMATE!AX81)","v":0},{"$f":"IF($Q$28=\"Allocate Adders\",ESTIMATE!BI81,ESTIMATE!AY81)","v":0},0,null,0]
[null,null,{"$f":"T(ESTIMATE!B82)","v":""},null,null,null,null,{"$f":"ESTIMATE!P82","v":0},{"$f":"T(ESTIMATE!S82)","v":""},{"$f":"IF($Q$28=\"Allocate Adders\",ESTIMATE!BC82,ESTIMATE!AW82)","v":0},{"$f":"IF($Q$28=\"Allocate Adders\",ESTIMATE!BF82,ESTIMATE!AX82)","v":0},{"$f":"IF($Q$28=\"Allocate Adders\",ESTIMATE!BI82,ESTIMATE!AY82)","v":0},0,null,0]
[null,null,{"$f":"T(ESTIMATE!B83)","v":""},null,null,null,null,{"$f":"ESTIMATE!P83","v":0},{"$f":"T(ESTIMATE!S83)","v":""},{"$f":"IF($Q$28=\"Allocate Adders\",ESTIMATE!BC83,ESTIMATE!AW83)","v":0},{"$f":"IF($Q$28=\"Allocate Adders\",ESTIMATE!BF83,ESTIMATE!AX83)","v":0},{"$f":"IF($Q$28=\"Allocate Adders\",ESTIMATE!BI83,ESTIMATE!AY83)","v":0},0,null,0]
[null,null,{"$f":"T(ESTIMATE!B84)","v":""},null,null,null,null,{"$f":"ESTIMATE!P84","v":0},{"$f":"T(ESTIMATE!S84)","v":""},{"$f":"IF($Q$28=\"Allocate Adders\",ESTIMATE!BC84,ESTIMATE!AW84)","v":0},{"$f":"IF($Q$28=\"Allocate Adders\",ESTIMATE!BF84,ESTIMATE!AX84)","v":0},{"$f":"IF($Q$28=\"Allocate Adders\",ESTIMATE!BI84,ESTIMATE!AY84)","v":0},0,null,0]
[null,null,{"$f":"T(ESTIMATE!B85)","v":""},null,null,null,null,{"$f":"ESTIMATE!P85","v":0},{"$f":"T(ESTIMATE!S85)","v":""},{"$f":"IF($Q$28=\"Allocate Adders\",ESTIMATE!BC85,ESTIMATE!AW85)","v":0},{"$f":"IF($Q$28=\"Allocate Adders\",ESTIMATE!BF85,ESTIMATE!AX85)","v":0},{"$f":"IF($Q$28=\"Allocate Adders\",ESTIMATE!BI85,ESTIMATE!AY85)","v":0},0,null,0]
[null,null,{"$f":"T(ESTIMATE!B86)","v":""},null,null,null,null,{"$f":"ESTIMATE!P86","v":0},{"$f":"T(ESTIMATE!S86)","v":""},{"$f":"IF($Q$28=\"Allocate Adders\",ESTIMATE!BC86,ESTIMATE!AW86)","v":0},{"$f":"IF($Q$28=\"Allocate Adders\",ESTIMATE!BF86,ESTIMATE!AX86)","v":0},{"$f":"IF($Q$28=\"Allocate Adders\",ESTIMATE!BI86,ESTIMATE!AY86)","v":0},0,null,0]
[null,null,{"$f":"T(ESTIMATE!B87)","v":""},null,null,null,null,{"$f":"ESTIMATE!P87","v":0},{"$f":"T(ESTIMATE!S87)","v":""},{"$f":"IF($Q$28=\"Allocate Adders\",ESTIMATE!BC87,ESTIMATE!AW87)","v":0},{"$f":"IF($Q$28=\"Allocate Adders\",ESTIMATE!BF87,ESTIMATE!AX87)","v":0},{"$f":"IF($Q$28=\"Allocate Adders\",ESTIMATE!BI87,ESTIMATE!AY87)","v":0},0,null,0]
[null,null,{"$f":"T(ESTIMATE!B88)","v":""},null,null,null,null,{"$f":"ESTIMATE!P88","v":0},{"$f":"T(ESTIMATE!S88)","v":""},{"$f":"IF($Q$28=\"Allocate Adders\",ESTIMATE!BC88,ESTIMATE!AW88)","v":0},{"$f":"IF($Q$28=\"Allocate Adders\",ESTIMATE!BF88,ESTIMATE!AX88)","v":0},{"$f":"IF($Q$28=\"Allocate Adders\",ESTIMATE!BI88,ESTIMATE!AY88)","v":0},0,null,0]
[null,null,{"$f":"T(ESTIMATE!B89)","v":""},null,null,null,null,{"$f":"ESTIMATE!P89","v":0},{"$f":"T(ESTIMATE!S89)","v":""},{"$f":"IF($Q$28=\"Allocate Adders\",ESTIMATE!BC89,ESTIMATE!AW89)","v":0},{"$f":"IF($Q$28=\"Allocate Adders\",ESTIMATE!BF89,ESTIMATE!AX89)","v":0},{"$f":"IF($Q$28=\"Allocate Adders\",ESTIMATE!BI89,ESTIMATE!AY89)","v":0},0,null,0]
[null,null,{"$f":"T(ESTIMATE!B90)","v":""},null,null,null,null,{"$f":"ESTIMATE!P90","v":0},{"$f":"T(ESTIMATE!S90)","v":""},{"$f":"IF($Q$28=\"Allocate Adders\",ESTIMATE!BC90,ESTIMATE!AW90)","v":0},{"$f":"IF($Q$28=\"Allocate Adders\",ESTIMATE!BF90,ESTIMATE!AX90)","v":0},{"$f":"IF($Q$28=\"Allocate Adders\",ESTIMATE!BI90,ESTIMATE!AY90)","v":0},0,null,0]
[null,null,{"$f":"T(ESTIMATE!B91)","v":""},null,null,null,null,{"$f":"ESTIMATE!P91","v":0},{"$f":"T(ESTIMATE!S91)","v":""},{"$f":"IF($Q$28=\"Allocate Adders\",ESTIMATE!BC91,ESTIMATE!AW91)","v":0},{"$f":"IF($Q$28=\"Allocate Adders\",ESTIMATE!BF91,ESTIMATE!AX91)","v":0},{"$f":"IF($Q$28=\"Allocate Adders\",ESTIMATE!BI91,ESTIMATE!AY91)","v":0},0,null,0]
[null,null,{"$f":"T(ESTIMATE!B92)","v":""},null,null,null,null,{"$f":"ESTIMATE!P92","v":0},{"$f":"T(ESTIMATE!S92)","v":""},{"$f":"IF($Q$28=\"Allocate Adders\",ESTIMATE!BC92,ESTIMATE!AW92)","v":0},{"$f":"IF($Q$28=\"Allocate Adders\",ESTIMATE!BF92,ESTIMATE!AX92)","v":0},{"$f":"IF($Q$28=\"Allocate Adders\",ESTIMATE!BI92,ESTIMATE!AY92)","v":0},0,null,0]
[null,null,{"$f":"T(ESTIMATE!B93)","v":""},null,null,null,null,{"$f":"ESTIMATE!P93","v":0},{"$f":"T(ESTIMATE!S93)","v":""},{"$f":"IF($Q$28=\"Allocate Adders\",ESTIMATE!BC93,ESTIMATE!AW93)","v":0},{"$f":"IF($Q$28=\"Allocate Adders\",ESTIMATE!BF93,ESTIMATE!AX93)","v":0},{"$f":"IF($Q$28=\"Allocate Adders\",ESTIMATE!BI93,ESTIMATE!AY93)","v":0},0,null,0]
[null,null,{"$f":"T(ESTIMATE!B94)","v":""},null,null,null,null,{"$f":"ESTIMATE!P94","v":0},{"$f":"T(ESTIMATE!S94)","v":""},{"$f":"IF($Q$28=\"Allocate Adders\",ESTIMATE!BC94,ESTIMATE!AW94)","v":0},{"$f":"IF($Q$28=\"Allocate Adders\",ESTIMATE!BF94,ESTIMATE!AX94)","v":0},{"$f":"IF($Q$28=\"Allocate Adders\",ESTIMATE!BI94,ESTIMATE!AY94)","v":0},0,null,0]
[null,null,{"$f":"T(ESTIMATE!B95)","v":""},null,null,null,null,{"$f":"ESTIMATE!P95","v":0},{"$f":"T(ESTIMATE!S95)","v":""},{"$f":"IF($Q$28=\"Allocate Adders\",ESTIMATE!BC95,ESTIMATE!AW95)","v":0},{"$f":"IF($Q$28=\"Allocate Adders\",ESTIMATE!BF95,ESTIMATE!AX95)","v":0},{"$f":"IF($Q$28=\"Allocate Adders\",ESTIMATE!BI95,ESTIMATE!AY95)","v":0},0,null,0]
[null,null,{"$f":"T(ESTIMATE!B96)","v":""},null,null,null,null,{"$f":"ESTIMATE!P96","v":0},{"$f":"T(ESTIMATE!S96)","v":""},{"$f":"IF($Q$28=\"Allocate Adders\",ESTIMATE!BC96,ESTIMATE!AW96)","v":0},{"$f":"IF($Q$28=\"Allocate Adders\",ESTIMATE!BF96,ESTIMATE!AX96)","v":0},{"$f":"IF($Q$28=\"Allocate Adders\",ESTIMATE!BI96,ESTIMATE!AY96)","v":0},0,null,0]
[null,null,{"$f":"T(ESTIMATE!B97)","v":""},null,null,null,null,{"$f":"ESTIMATE!P97","v":0},{"$f":"T(ESTIMATE!S97)","v":""},{"$f":"IF($Q$28=\"Allocate Adders\",ESTIMATE!BC97,ESTIMATE!AW97)","v":0},{"$f":"IF($Q$28=\"Allocate Adders\",ESTIMATE!BF97,ESTIMATE!AX97)","v":0},{"$f":"IF($Q$28=\"Allocate Adders\",ESTIMATE!BI97,ESTIMATE!AY97)","v":0},0,null,0]
[null,null,{"$f":"T(ESTIMATE!B98)","v":""},null,null,null,null,{"$f":"ESTIMATE!P98","v":0},{"$f":"T(ESTIMATE!S98)","v":""},{"$f":"IF($Q$28=\"Allocate Adders\",ESTIMATE!BC98,ESTIMATE!AW98)","v":0},{"$f":"IF($Q$28=\"Allocate Adders\",ESTIMATE!BF98,ESTIMATE!AX98)","v":0},{"$f":"IF($Q$28=\"Allocate Adders\",ESTIMATE!BI98,ESTIMATE!AY98)","v":0},0,null,0]
[null,null,{"$f":"T(ESTIMATE!B99)","v":""},null,null,null,null,{"$f":"ESTIMATE!P99","v":0},{"$f":"T(ESTIMATE!S99)","v":""},{"$f":"IF($Q$28=\"Allocate Adders\",ESTIMATE!BC99,ESTIMATE!AW99)","v":0},{"$f":"IF($Q$28=\"Allocate Adders\",ESTIMATE!BF99,ESTIMATE!AX99)","v":0},{"$f":"IF($Q$28=\"Allocate Adders\",ESTIMATE!BI99,ESTIMATE!AY99)","v":0},0,null,0]
[null,null,{"$f":"T(ESTIMATE!B100)","v":""},null,null,null,null,{"$f":"ESTIMATE!P100","v":0},{"$f":"T(ESTIMATE!S100)","v":""},{"$f":"IF($Q$28=\"Allocate Adders\",ESTIMATE!BC100,ESTIMATE!AW100)","v":0},{"$f":"IF($Q$28=\"Allocate Adders\",ESTIMATE!BF100,ESTIMATE!AX100)","v":0},{"$f":"IF($Q$28=\"Allocate Adders\",ESTIMATE!BI100,ESTIMATE!AY100)","v":0},0,null,0]
[null,null,{"$f":"T(ESTIMATE!B101)","v":""},null,null,null,null,{"$f":"ESTIMATE!P101","v":0},{"$f":"T(ESTIMATE!S101)","v":""},{"$f":"IF($Q$28=\"Allocate Adders\",ESTIMATE!BC101,ESTIMATE!AW101)","v":0},{"$f":"IF($Q$28=\"Allocate Adders\",ESTIMATE!BF101,ESTIMATE!AX101)","v":0},{"$f":"IF($Q$28=\"Allocate Adders\",ESTIMATE!BI101,ESTIMATE!AY101)","v":0},0,null,0]
[null,null,null,null,null,null,null,null,null,null,null,null,null,null,{"$f":"O133","v":0}]
[null,null,{"$f":"T(ESTIMATE!AC103)","v":"DEMOLITION TOTAL"},null,null,null,null,null,null,{"$f":"SUM(J92:J132)","v":0},{"$f":"SUM(K92:K132)","v":0},{"$f":"SUM(L92:L132)","v":0},{"$f":"SUM(M92:N132)","v":0},null,{"$f":"SUM(O91:O131)","v":0}]
[null,null,null,null,null,null,null,null,null,null,null,null,null,null,{"$f":"O133","v":0}]
[]
[null,null,{"$f":"T(ESTIMATE!B106)","v":"CONCRETE & FLATWORK"},null,null,null,null,{"$f":"SUM(H137:H176)","v":0},null,null,null,null,null,null,{"$f":"H136","v":0}]
[null,null,{"$f":"T(ESTIMATE!B107)","v":"Excavation"},null,null,null,null,{"$f":"ESTIMATE!P107","v":0},{"$f":"T(ESTIMATE!S107)","v":""},{"$f":"IF($Q$28=\"Allocate Adders\",ESTIMATE!BC107,ESTIMATE!AW107)","v":0},{"$f":"IF($Q$28=\"Allocate Adders\",ESTIMATE!BF107,ESTIMATE!AX107)","v":0},{"$f":"IF($Q$28=\"Allocate Adders\",ESTIMATE!BI107,ESTIMATE!AY107)","v":0},{"$f":"SUM(J137:L137)","v":0},null,0]
[null,null,{"$f":"T(ESTIMATE!B108)","v":"Excavation bid/allowance"},null,null,null,null,{"$f":"ESTIMATE!P108","v":0},{"$f":"T(ESTIMATE!S108)","v":"ls"},{"$f":"IF($Q$28=\"Allocate Adders\",ESTIMATE!BC108,ESTIMATE!AW108)","v":0},{"$f":"IF($Q$28=\"Allocate Adders\",ESTIMATE!BF108,ESTIMATE!AX108)","v":0},{"$f":"IF($Q$28=\"Allocate Adders\",ESTIMATE!BI108,ESTIMATE!AY108)","v":0},0,null,0]
[null,null,{"$f":"T(ESTIMATE!B109)","v":"Footing trenching"},null,null,null,null,{"$f":"ESTIMATE!P109","v":0},{"$f":"T(ESTIMATE!S109)","v":"cy"},{"$f":"IF($Q$28=\"Allocate Adders\",ESTIMATE!BC109,ESTIMATE!AW109)","v":0},{"$f":"IF($Q$28=\"Allocate Adders\",ESTIMATE!BF109,ESTIMATE!AX109)","v":0},{"$f":"IF($Q$28=\"Allocate Adders\",ESTIMATE!BI109,ESTIMATE!AY109)","v":0},0,null,0]
[null,null,{"$f":"T(ESTIMATE!B110)","v":"Backfill of trenches "},null,null,null,null,{"$f":"ESTIMATE!P110","v":0},{"$f":"T(ESTIMATE!S110)","v":"cy"},{"$f":"IF($Q$28=\"Allocate Adders\",ESTIMATE!BC110,ESTIMATE!AW110)","v":0},{"$f":"IF($Q$28=\"Allocate Adders\",ESTIMATE!BF110,ESTIMATE!AX110)","v":0},{"$f":"IF($Q$28=\"Allocate Adders\",ESTIMATE!BI110,ESTIMATE!AY110)","v":0},0,null,0]
[null,null,{"$f":"T(ESTIMATE!B111)","v":""},null,null,null,null,{"$f":"ESTIMATE!P111","v":0},{"$f":"T(ESTIMATE!S111)","v":""},{"$f":"IF($Q$28=\"Allocate Adders\",ESTIMATE!BC111,ESTIMATE!AW111)","v":0},{"$f":"IF($Q$28=\"Allocate Adders\",ESTIMATE!BF111,ESTIMATE!AX111)","v":0},{"$f":"IF($Q$28=\"Allocate Adders\",ESTIMATE!BI111,ESTIMATE!AY111)","v":0},0,null,0]
[null,null,{"$f":"T(ESTIMATE!B112)","v":""},null,null,null,null,{"$f":"ESTIMATE!P112","v":0},{"$f":"T(ESTIMATE!S112)","v":""},{"$f":"IF($Q$28=\"Allocate Adders\",ESTIMATE!BC112,ESTIMATE!AW112)","v":0},{"$f":"IF($Q$28=\"Allocate Adders\",ESTIMATE!BF112,ESTIMATE!AX112)","v":0},{"$f":"IF($Q$28=\"Allocate Adders\",ESTIMATE!BI112,ESTIMATE!AY112)","v":0},0,null,0]
[null,null,{"$f":"T(ESTIMATE!B113)","v":"Foundation"},null,null,null,null,{"$f":"ESTIMATE!P113","v":0},{"$f":"T(ESTIMATE!S113)","v":""},{"$f":"IF($Q$28=\"Allocate Adders\",ESTIMATE!BC113,ESTIMATE!AW113)","v":0},{"$f":"IF($Q$28=\"Allocate Adders\",ESTIMATE!BF113,ESTIMATE!AX113)","v":0},{"$f":"IF($Q$28=\"Allocate Adders\",ESTIMATE!BI113,ESTIMATE!AY113)","v":0},0,null,0]
[null,null,{"$f":"T(ESTIMATE!B114)","v":"Foundation bid/allowance"},null,null,null,null,{"$f":"ESTIMATE!P114","v":0},{"$f":"T(ESTIMATE!S114)","v":"ls"},{"$f":"IF($Q$28=\"Allocate Adders\",ESTIMATE!BC114,ESTIMATE!AW114)","v":0},{"$f":"IF($Q$28=\"Allocate Adders\",ESTIMATE!BF114,ESTIMATE!AX114)","v":0},{"$f":"IF($Q$28=\"Allocate Adders\",ESTIMATE!BI114,ESTIMATE!AY114)","v":0},0,null,0]
[null,null,{"$f":"T(ESTIMATE!B115)","v":"Concrete slab on grade, 4\" thick"},null,null,null,null,{"$f":"ESTIMATE!P115","v":0},{"$f":"T(ESTIMATE!S115)","v":"sf"},{"$f":"IF($Q$28=\"Allocate Adders\",ESTIMATE!BC115,ESTIMATE!AW115)","v":0},{"$f":"IF($Q$28=\"Allocate Adders\",ESTIMATE!BF115,ESTIMATE!AX115)","v":0},{"$f":"IF($Q$28=\"Allocate Adders\",ESTIMATE!BI115,ESTIMATE!AY115)","v":0},0,null,0]
[null,null,{"$f":"T(ESTIMATE!B116)","v":"Concrete footing, 12\" wide "},null,null,null,null,{"$f":"ESTIMATE!P116","v":0},{"$f":"T(ESTIMATE!S116)","v":"lf"},{"$f":"IF($Q$28=\"Allocate Adders\",ESTIMATE!BC116,ESTIMATE!AW116)","v":0},{"$f":"IF($Q$28=\"Allocate Adders\",ESTIMATE!BF116,ESTIMATE!AX116)","v":0},{"$f":"IF($Q$28=\"Allocate Adders\",ESTIMATE!BI116,ESTIMATE!AY116)","v":0},0,null,0]
[null,null,{"$f":"T(ESTIMATE!B117)","v":"Stem wall, single story"},null,null,null,null,{"$f":"ESTIMATE!P117","v":0},{"$f":"T(ESTIMATE!S117)","v":"lf"},{"$f":"IF($Q$28=\"Allocate Adders\",ESTIMATE!BC117,ESTIMATE!AW117)","v":0},{"$f":"IF($Q$28=\"Allocate Adders\",ESTIMATE!BF117,ESTIMATE!AX117)","v":0},{"$f":"IF($Q$28=\"Allocate Adders\",ESTIMATE!BI117,ESTIMATE!AY117)","v":0},0,null,0]
[null,null,{"$f":"T(ESTIMATE!B118)","v":""},null,null,null,null,{"$f":"ESTIMATE!P118","v":0},{"$f":"T(ESTIMATE!S118)","v":""},{"$f":"IF($Q$28=\"Allocate Adders\",ESTIMATE!BC118,ESTIMATE!AW118)","v":0},{"$f":"IF($Q$28=\"Allocate Adders\",ESTIMATE!BF118,ESTIMATE!AX118)","v":0},{"$f":"IF($Q$28=\"Allocate Adders\",ESTIMATE!BI118,ESTIMATE!AY118)","v":0},0,null,0]
[null,null,{"$f":"T(ESTIMATE!B119)","v":""},null,null,null,null,{"$f":"ESTIMATE!P119","v":0},{"$f":"T(ESTIMATE!S119)","v":""},{"$f":"IF($Q$28=\"Allocate Adders\",ESTIMATE!BC119,ESTIMATE!AW119)","v":0},{"$f":"IF($Q$28=\"Allocate Adders\",ESTIMATE!BF119,ESTIMATE!AX119)","v":0},{"$f":"IF($Q$28=\"Allocate Adders\",ESTIMATE!BI119,ESTIMATE!AY119)","v":0},0,null,0]
[null,null,{"$f":"T(ESTIMATE!B120)","v":"Structural Repairs"},null,null,null,null,{"$f":"ESTIMATE!P120","v":0},{"$f":"T(ESTIMATE!S120)","v":""},{"$f":"IF($Q$28=\"Allocate Adders\",ESTIMATE!BC120,ESTIMATE!AW120)","v":0},{"$f":"IF($Q$28=\"Allocate Adders\",ESTIMATE!BF120,ESTIMATE!AX120)","v":0},{"$f":"IF($Q$28=\"Allocate Adders\",ESTIMATE!BI120,ESTIMATE!AY120)","v":0},0,null,0]
[null,null,{"$f":"T(ESTIMATE!B121)","v":"Bowing foundation walls, vertical I-Beams"},null,null,null,null,{"$f":"ESTIMATE!P121","v":0},{"$f":"T(ESTIMATE!S121)","v":"ea"},{"$f":"IF($Q$28=\"Allocate Adders\",ESTIMATE!BC121,ESTIMATE!AW121)","v":0},{"$f":"IF($Q$28=\"Allocate Adders\",ESTIMATE!BF121,ESTIMATE!AX121)","v":0},{"$f":"IF($Q$28=\"Allocate Adders\",ESTIMATE!BI121,ESTIMATE!AY121)","v":0},0,null,0]
[null,null,{"$f":"T(ESTIMATE!B122)","v":"Settled foundation walls, concrete piers/underpinning"},null,null,null,null,{"$f":"ESTIMATE!P122","v":0},{"$f":"T(ESTIMATE!S122)","v":"ea"},{"$f":"IF($Q$28=\"Allocate Adders\",ESTIMATE!BC122,ESTIMATE!AW122)","v":0},{"$f":"IF($Q$28=\"Allocate Adders\",ESTIMATE!BF122,ESTIMATE!AX122)","v":0},{"$f":"IF($Q$28=\"Allocate Adders\",ESTIMATE!BI122,ESTIMATE!AY122)","v":0},0,null,0]
[null,null,{"$f":"T(ESTIMATE!B123)","v":"Foundation waterproofing & drain tile, single story"},null,null,null,null,{"$f":"ESTIMATE!P123","v":0},{"$f":"T(ESTIMATE!S123)","v":"lf"},{"$f":"IF($Q$28=\"Allocate Adders\",ESTIMATE!BC123,ESTIMATE!AW123)","v":0},{"$f":"IF($Q$28=\"Allocate Adders\",ESTIMATE!BF123,ESTIMATE!AX123)","v":0},{"$f":"IF($Q$28=\"Allocate Adders\",ESTIMATE!BI123,ESTIMATE!AY123)","v":0},0,null,0]
[null,null,{"$f":"T(ESTIMATE!B124)","v":"Epoxy crack injection"},null,null,null,null,{"$f":"ESTIMATE!P124","v":0},{"$f":"T(ESTIMATE!S124)","v":"lf"},{"$f":"IF($Q$28=\"Allocate Adders\",ESTIMATE!BC124,ESTIMATE!AW124)","v":0},{"$f":"IF($Q$28=\"Allocate Adders\",ESTIMATE!BF124,ESTIMATE!AX124)","v":0},{"$f":"IF($Q$28=\"Allocate Adders\",ESTIMATE!BI124,ESTIMATE!AY124)","v":0},0,null,0]
[null,null,{"$f":"T(ESTIMATE!B125)","v":""},null,null,null,null,{"$f":"ESTIMATE!P125","v":0},{"$f":"T(ESTIMATE!S125)","v":""},{"$f":"IF($Q$28=\"Allocate Adders\",ESTIMATE!BC125,ESTIMATE!AW125)","v":0},{"$f":"IF($Q$28=\"Allocate Adders\",ESTIMATE!BF125,ESTIMATE!AX125)","v":0},{"$f":"IF($Q$28=\"Allocate Adders\",ESTIMATE!BI125,ESTIMATE!AY125)","v":0},0,null,0]
[null,null,{"$f":"T(ESTIMATE!B126)","v":""},null,null,null,null,{"$f":"ESTIMATE!P126","v":0},{"$f":"T(ESTIMATE!S126)","v":""},{"$f":"IF($Q$28=\"Allocate Adders\",ESTIMATE!BC126,ESTIMATE!AW126)","v":0},{"$f":"IF($Q$28=\"Allocate Adders\",ESTIMATE!BF126,ESTIMATE!AX126)","v":0},{"$f":"IF($Q$28=\"Allocate Adders\",ESTIMATE!BI126,ESTIMATE!AY126)","v":0},0,null,0]
[null,null,{"$f":"T(ESTIMATE!B127)","v":"Concrete Flatwork"},null,null,null,null,{"$f":"ESTIMATE!P127","v":0},{"$f":"T(ESTIMATE!S127)","v":""},{"$f":"IF($Q$28=\"Allocate Adders\",ESTIMATE!BC127,ESTIMATE!AW127)","v":0},{"$f":"IF($Q$28=\"Allocate Adders\",ESTIMATE!BF127,ESTIMATE!AX127)","v":0},{"$f":"IF($Q$28=\"Allocate Adders\",ESTIMATE!BI127,ESTIMATE!AY127)","v":0},0,null,0]
[null,null,{"$f":"T(ESTIMATE!B128)","v":"Concrete bid/allowance"},null,null,null,null,{"$f":"ESTIMATE!P128","v":0},{"$f":"T(ESTIMATE!S128)","v":"ls"},{"$f":"IF($Q$28=\"Allocate Adders\",ESTIMATE!BC128,ESTIMATE!AW128)","v":0},{"$f":"IF($Q$28=\"Allocate Adders\",ESTIMATE!BF128,ESTIMATE!AX128)","v":0},{"$f":"IF($Q$28=\"Allocate Adders\",ESTIMATE!BI128,ESTIMATE!AY128)","v":0},0,null,0]
[null,null,{"$f":"T(ESTIMATE!B129)","v":"Concrete flatwork demo"},null,null,null,null,{"$f":"ESTIMATE!P129","v":0},{"$f":"T(ESTIMATE!S129)","v":"sf"},{"$f":"IF($Q$28=\"Allocate Adders\",ESTIMATE!BC129,ESTIMATE!AW129)","v":0},{"$f":"IF($Q$28=\"Allocate Adders\",ESTIMATE!BF129,ESTIMATE!AX129)","v":0},{"$f":"IF($Q$28=\"Allocate Adders\",ESTIMATE!BI129,ESTIMATE!AY129)","v":0},0,null,0]
[null,null,{"$f":"T(ESTIMATE!B130)","v":"Concrete driveway/patio, 6\" thick"},null,null,null,null,{"$f":"ESTIMATE!P130","v":0},{"$f":"T(ESTIMATE!S130)","v":"sf"},{"$f":"IF($Q$28=\"Allocate Adders\",ESTIMATE!BC130,ESTIMATE!AW130)","v":0},{"$f":"IF($Q$28=\"Allocate Adders\",ESTIMATE!BF130,ESTIMATE!AX130)","v":0},{"$f":"IF($Q$28=\"Allocate Adders\",ESTIMATE!BI130,ESTIMATE!AY130)","v":0},0,null,0]
[null,null,{"$f":"T(ESTIMATE!B131)","v":"Concrete sidewalk, 4\" thick"},null,null,null,null,{"$f":"ESTIMATE!P131","v":0},{"$f":"T(ESTIMATE!S131)","v":"sf"},{"$f":"IF($Q$28=\"Allocate Adders\",ESTIMATE!BC131,ESTIMATE!AW131)","v":0},{"$f":"IF($Q$28=\"Allocate Adders\",ESTIMATE!BF131,ESTIMATE!AX131)","v":0},{"$f":"IF($Q$28=\"Allocate Adders\",ESTIMATE!BI131,ESTIMATE!AY131)","v":0},0,null,0]
[null,null,{"$f":"T(ESTIMATE!B132)","v":""},null,null,null,null,{"$f":"ESTIMATE!P132","v":0},{"$f":"T(ESTIMATE!S132)","v":""},{"$f":"IF($Q$28=\"Allocate Adders\",ESTIMATE!BC132,ESTIMATE!AW132)","v":0},{"$f":"IF($Q$28=\"Allocate Adders\",ESTIMATE!BF132,ESTIMATE!AX132)","v":0},{"$f":"IF($Q$28=\"Allocate Adders\",ESTIMATE!BI132,ESTIMATE!AY132)","v":0},0,null,0]
[null,null,{"$f":"T(ESTIMATE!B133)","v":""},null,null,null,null,{"$f":"ESTIMATE!P133","v":0},{"$f":"T(ESTIMATE!S133)","v":""},{"$f":"IF($Q$28=\"Allocate Adders\",ESTIMATE!BC133,ESTIMATE!AW133)","v":0},{"$f":"IF($Q$28=\"Allocate Adders\",ESTIMATE!BF133,ESTIMATE!AX133)","v":0},{"$f":"IF($Q$28=\"Allocate Adders\",ESTIMATE!BI133,ESTIMATE!AY133)","v":0},0,null,0]
[null,null,{"$f":"T(ESTIMATE!B134)","v":"Asphalt"},null,null,null,null,{"$f":"ESTIMATE!P134","v":0},{"$f":"T(ESTIMATE!S134)","v":""},{"$f":"IF($Q$28=\"Allocate Adders\",ESTIMATE!BC134,ESTIMATE!AW134)","v":0},{"$f":"IF($Q$28=\"Allocate Adders\",ESTIMATE!BF134,ESTIMATE!AX134)","v":0},{"$f":"IF($Q$28=\"Allocate Adders\",ESTIMATE!BI134,ESTIMATE!AY134)","v":0},0,null,0]
[null,null,{"$f":"T(ESTIMATE!B135)","v":"Asphalt bid/allowance"},null,null,null,null,{"$f":"ESTIMATE!P135","v":0},{"$f":"T(ESTIMATE!S135)","v":"ls"},{"$f":"IF($Q$28=\"Allocate Adders\",ESTIMATE!BC135,ESTIMATE!AW135)","v":0},{"$f":"IF($Q$28=\"Allocate Adders\",ESTIMATE!BF135,ESTIMATE!AX135)","v":0},{"$f":"IF($Q$28=\"Allocate Adders\",ESTIMATE!BI135,ESTIMATE!AY135)","v":0},0,null,0]
[null,null,{"$f":"T(ESTIMATE!B136)","v":"Asphalt pavement, 5\" thick"},null,null,null,null,{"$f":"ESTIMATE!P136","v":0},{"$f":"T(ESTIMATE!S136)","v":"sy"},{"$f":"IF($Q$28=\"Allocate Adders\",ESTIMATE!BC136,ESTIMATE!AW136)","v":0},{"$f":"IF($Q$28=\"Allocate Adders\",ESTIMATE!BF136,ESTIMATE!AX136)","v":0},{"$f":"IF($Q$28=\"Allocate Adders\",ESTIMATE!BI136,ESTIMATE!AY136)","v":0},0,null,0]
[null,null,{"$f":"T(ESTIMATE!B137)","v":"Asphalt pavement, 7\" thick"},null,null,null,null,{"$f":"ESTIMATE!P137","v":0},{"$f":"T(ESTIMATE!S137)","v":"sy"},{"$f":"IF($Q$28=\"Allocate Adders\",ESTIMATE!BC137,ESTIMATE!AW137)","v":0},{"$f":"IF($Q$28=\"Allocate Adders\",ESTIMATE!BF137,ESTIMATE!AX137)","v":0},{"$f":"IF($Q$28=\"Allocate Adders\",ESTIMATE!BI137,ESTIMATE!AY137)","v":0},0,null,0]
[null,null,{"$f":"T(ESTIMATE!B138)","v":"Asphalt pavement, wearing course, 1\" thick only"},null,null,null,null,{"$f":"ESTIMATE!P138","v":0},{"$f":"T(ESTIMATE!S138)","v":"sy"},{"$f":"IF($Q$28=\"Allocate Adders\",ESTIMATE!BC138,ESTIMATE!AW138)","v":0},{"$f":"IF($Q$28=\"Allocate Adders\",ESTIMATE!BF138,ESTIMATE!AX138)","v":0},{"$f":"IF($Q$28=\"Allocate Adders\",ESTIMATE!BI138,ESTIMATE!AY138)","v":0},0,null,0]
[null,null,{"$f":"T(ESTIMATE!B139)","v":"Asphalt seal coat"},null,null,null,null,{"$f":"ESTIMATE!P139","v":0},{"$f":"T(ESTIMATE!S139)","v":"sy"},{"$f":"IF($Q$28=\"Allocate Adders\",ESTIMATE!BC139,ESTIMATE!AW139)","v":0},{"$f":"IF($Q$28=\"Allocate Adders\",ESTIMATE!BF139,ESTIMATE!AX139)","v":0},{"$f":"IF($Q$28=\"Allocate Adders\",ESTIMATE!BI139,ESTIMATE!AY139)","v":0},0,null,0]
[null,null,{"$f":"T(ESTIMATE!B140)","v":""},null,null,null,null,{"$f":"ESTIMATE!P140","v":0},{"$f":"T(ESTIMATE!S140)","v":""},{"$f":"IF($Q$28=\"Allocate Adders\",ESTIMATE!BC140,ESTIMATE!AW140)","v":0},{"$f":"IF($Q$28=\"Allocate Adders\",ESTIMATE!BF140,ESTIMATE!AX140)","v":0},{"$f":"IF($Q$28=\"Allocate Adders\",ESTIMATE!BI140,ESTIMATE!AY140)","v":0},0,null,0]
[null,null,{"$f":"T(ESTIMATE!B141)","v":""},null,null,null,null,{"$f":"ESTIMATE!P141","v":0},{"$f":"T(ESTIMATE!S141)","v":""},{"$f":"IF($Q$28=\"Allocate Adders\",ESTIMATE!BC141,ESTIMATE!AW141)","v":0},{"$f":"IF($Q$28=\"Allocate Adders\",ESTIMATE!BF141,ESTIMATE!AX141)","v":0},{"$f":"IF($Q$28=\"Allocate Adders\",ESTIMATE!BI141,ESTIMATE!AY141)","v":0},0,null,0]
[null,null,{"$f":"T(ESTIMATE!B142)","v":"Pavers"},null,null,null,null,{"$f":"ESTIMATE!P142","v":0},{"$f":"T(ESTIMATE!S142)","v":""},{"$f":"IF($Q$28=\"Allocate Adders\",ESTIMATE!BC142,ESTIMATE!AW142)","v":0},{"$f":"IF($Q$28=\"Allocate Adders\",ESTIMATE!BF142,ESTIMATE!AX142)","v":0},{"$f":"IF($Q$28=\"Allocate Adders\",ESTIMATE!BI142,ESTIMATE!AY142)","v":0},0,null,0]
[null,null,{"$f":"T(ESTIMATE!B143)","v":"Pavers bid/allowance"},null,null,null,null,{"$f":"ESTIMATE!P143","v":0},{"$f":"T(ESTIMATE!S143)","v":"ls"},{"$f":"IF($Q$28=\"Allocate Adders\",ESTIMATE!BC143,ESTIMATE!AW143)","v":0},{"$f":"IF($Q$28=\"Allocate Adders\",ESTIMATE!BF143,ESTIMATE!AX143)","v":0},{"$f":"IF($Q$28=\"Allocate Adders\",ESTIMATE!BI143,ESTIMATE!AY143)","v":0},0,null,0]
[null,null,{"$f":"T(ESTIMATE!B144)","v":"Brick pavers, sand base"},null,null,null,null,{"$f":"ESTIMATE!P144","v":0},{"$f":"T(ESTIMATE!S144)","v":"sf"},{"$f":"IF($Q$28=\"Allocate Adders\",ESTIMATE!BC144,ESTIMATE!AW144)","v":0},{"$f":"IF($Q$28=\"Allocate Adders\",ESTIMATE!BF144,ESTIMATE!AX144)","v":0},{"$f":"IF($Q$28=\"Allocate Adders\",ESTIMATE!BI144,ESTIMATE!AY144)","v":0},0,null,0]
[null,null,{"$f":"T(ESTIMATE!B145)","v":"Brick pavers, mortar base"},null,null,null,null,{"$f":"ESTIMATE!P145","v":0},{"$f":"T(ESTIMATE!S145)","v":"sf"},{"$f":"IF($Q$28=\"Allocate Adders\",ESTIMATE!BC145,ESTIMATE!AW145)","v":0},{"$f":"IF($Q$28=\"Allocate Adders\",ESTIMATE!BF145,ESTIMATE!AX145)","v":0},{"$f":"IF($Q$28=\"Allocate Adders\",ESTIMATE!BI145,ESTIMATE!AY145)","v":0},0,null,0]
[null,null,{"$f":"T(ESTIMATE!B146)","v":""},null,null,null,null,{"$f":"ESTIMATE!P146","v":0},{"$f":"T(ESTIMATE!S146)","v":""},{"$f":"IF($Q$28=\"Allocate Adders\",ESTIMATE!BC146,ESTIMATE!AW146)","v":0},{"$f":"IF($Q$28=\"Allocate Adders\",ESTIMATE!BF146,ESTIMATE!AX146)","v":0},{"$f":"IF($Q$28=\"Allocate Adders\",ESTIMATE!BI146,ESTIMATE!AY146)","v":0},0,null,0]
[null,null,null,null,null,null,null,null,null,null,null,null,null,null,{"$f":"O178","v":0}]
[null,null,{"$f":"T(ESTIMATE!AC148)","v":"CONCRETE & FLATWORK TOTAL"},null,null,null,null,null,null,{"$f":"SUM(J137:J177)","v":0},{"$f":"SUM(K137:K177)","v":0},{"$f":"SUM(L137:L177)","v":0},{"$f":"SUM(M137:N177)","v":0},null,{"$f":"SUM(O136:O176)","v":0}]
[null,null,null,null,null,null,null,null,null,null,null,null,null,null,{"$f":"O178","v":0}]
[]
[null,null,{"$f":"T(ESTIMATE!B151)","v":"SIDING"},null,null,null,null,{"$f":"SUM(H182:H221)","v":0},null,null,null,null,null,null,{"$f":"H181","v":0}]
[null,null,{"$f":"T(ESTIMATE!B152)","v":"Siding"},null,null,null,null,{"$f":"ESTIMATE!P152","v":0},{"$f":"T(ESTIMATE!S152)","v":""},{"$f":"IF($Q$28=\"Allocate Adders\",ESTIMATE!BC152,ESTIMATE!AW152)","v":0},{"$f":"IF($Q$28=\"Allocate Adders\",ESTIMATE!BF152,ESTIMATE!AX152)","v":0},{"$f":"IF($Q$28=\"Allocate Adders\",ESTIMATE!BI152,ESTIMATE!AY152)","v":0},{"$f":"SUM(J182:L182)","v":0},null,0]
[null,null,{"$f":"T(ESTIMATE!B153)","v":"Siding bid/allowance"},null,null,null,null,{"$f":"ESTIMATE!P153","v":0},{"$f":"T(ESTIMATE!S153)","v":"ls"},{"$f":"IF($Q$28=\"Allocate Adders\",ESTIMATE!BC153,ESTIMATE!AW153)","v":0},{"$f":"IF($Q$28=\"Allocate Adders\",ESTIMATE!BF153,ESTIMATE!AX153)","v":0},{"$f":"IF($Q$28=\"Allocate Adders\",ESTIMATE!BI153,ESTIMATE!AY153)","v":0},0,null,0]
[null,null,{"$f":"T(ESTIMATE!B154)","v":"Demo existing siding"},null,null,null,null,{"$f":"ESTIMATE!P154","v":0},{"$f":"T(ESTIMATE!S154)","v":"sf"},{"$f":"IF($Q$28=\"Allocate Adders\",ESTIMATE!BC154,ESTIMATE!AW154)","v":0},{"$f":"IF($Q$28=\"Allocate Adders\",ESTIMATE!BF154,ESTIMATE!AX154)","v":0},{"$f":"IF($Q$28=\"Allocate Adders\",ESTIMATE!BI154,ESTIMATE!AY154)","v":0},0,null,0]
[null,null,{"$f":"T(ESTIMATE!B155)","v":"Plywood panel, douglas fir"},null,null,null,null,{"$f":"ESTIMATE!P155","v":0},{"$f":"T(ESTIMATE!S155)","v":"sf"},{"$f":"IF($Q$28=\"Allocate Adders\",ESTIMATE!BC155,ESTIMATE!AW155)","v":0},{"$f":"IF($Q$28=\"Allocate Adders\",ESTIMATE!BF155,ESTIMATE!AX155)","v":0},{"$f":"IF($Q$28=\"Allocate Adders\",ESTIMATE!BI155,ESTIMATE!AY155)","v":0},0,null,0]
[null,null,{"$f":"T(ESTIMATE!B156)","v":"Plywood panel, cedar"},null,null,null,null,{"$f":"ESTIMATE!P156","v":0},{"$f":"T(ESTIMATE!S156)","v":"sf"},{"$f":"IF($Q$28=\"Allocate Adders\",ESTIMATE!BC156,ESTIMATE!AW156)","v":0},{"$f":"IF($Q$28=\"Allocate Adders\",ESTIMATE!BF156,ESTIMATE!AX156)","v":0},{"$f":"IF($Q$28=\"Allocate Adders\",ESTIMATE!BI156,ESTIMATE!AY156)","v":0},0,null,0]
[null,null,{"$f":"T(ESTIMATE!B157)","v":"Tongue and groove, douglas fir"},null,null,null,null,{"$f":"ESTIMATE!P157","v":0},{"$f":"T(ESTIMATE!S157)","v":"sf"},{"$f":"IF($Q$28=\"Allocate Adders\",ESTIMATE!BC157,ESTIMATE!AW157)","v":0},{"$f":"IF($Q$28=\"Allocate Adders\",ESTIMATE!BF157,ESTIMATE!AX157)","v":0},{"$f":"IF($Q$28=\"Allocate Adders\",ESTIMATE!BI157,ESTIMATE!AY157)","v":0},0,null,0]
[null,null,{"$f":"T(ESTIMATE!B158)","v":"Tongue and groove, cedar"},null,null,null,null,{"$f":"ESTIMATE!P158","v":0},{"$f":"T(ESTIMATE!S158)","v":"sf"},{"$f":"IF($Q$28=\"Allocate Adders\",ESTIMATE!BC158,ESTIMATE!AW158)","v":0},{"$f":"IF($Q$28=\"Allocate Adders\",ESTIMATE!BF158,ESTIMATE!AX158)","v":0},{"$f":"IF($Q$28=\"Allocate Adders\",ESTIMATE!BI158,ESTIMATE!AY158)","v":0},0,null,0]
[null,null,{"$f":"T(ESTIMATE!B159)","v":"Board and batten, douglas fir"},null,null,null,null,{"$f":"ESTIMATE!P159","v":0},{"$f":"T(ESTIMATE!S159)","v":"sf"},{"$f":"IF($Q$28=\"Allocate Adders\",ESTIMATE!BC159,ESTIMATE!AW159)","v":0},{"$f":"IF($Q$28=\"Allocate Adders\",ESTIMATE!BF159,ESTIMATE!AX159)","v":0},{"$f":"IF($Q$28=\"Allocate Adders\",ESTIMATE!BI159,ESTIMATE!AY159)","v":0},0,null,0]
[null,null,{"$f":"T(ESTIMATE!B160)","v":"Board and batten, cedar"},null,null,null,null,{"$f":"ESTIMATE!P160","v":0},{"$f":"T(ESTIMATE!S160)","v":"sf"},{"$f":"IF($Q$28=\"Allocate Adders\",ESTIMATE!BC160,ESTIMATE!AW160)","v":0},{"$f":"IF($Q$28=\"Allocate Adders\",ESTIMATE!BF160,ESTIMATE!AX160)","v":0},{"$f":"IF($Q$28=\"Allocate Adders\",ESTIMATE!BI160,ESTIMATE!AY160)","v":0},0,null,0]
[null,null,{"$f":"T(ESTIMATE!B161)","v":"Wood shingle/shake"},null,null,null,null,{"$f":"ESTIMATE!P161","v":0},{"$f":"T(ESTIMATE!S161)","v":"sf"},{"$f":"IF($Q$28=\"Allocate Adders\",ESTIMATE!BC161,ESTIMATE!AW161)","v":0},{"$f":"IF($Q$28=\"Allocate Adders\",ESTIMATE!BF161,ESTIMATE!AX161)","v":0},{"$f":"IF($Q$28=\"Allocate Adders\",ESTIMATE!BI161,ESTIMATE!AY161)","v":0},0,null,0]
[null,null,{"$f":"T(ESTIMATE!B162)","v":"Fiber cement siding, 4x8 panels"},null,null,null,null,{"$f":"ESTIMATE!P162","v":0},{"$f":"T(ESTIMATE!S162)","v":"sf"},{"$f":"IF($Q$28=\"Allocate Adders\",ESTIMATE!BC162,ESTIMATE!AW162)","v":0},{"$f":"IF($Q$28=\"Allocate Adders\",ESTIMATE!BF162,ESTIMATE!AX162)","v":0},{"$f":"IF($Q$28=\"Allocate Adders\",ESTIMATE!BI162,ESTIMATE!AY162)","v":0},0,null,0]
[null,null,{"$f":"T(ESTIMATE!B163)","v":"Fiber cement siding, lap"},null,null,null,null,{"$f":"ESTIMATE!P163","v":0},{"$f":"T(ESTIMATE!S163)","v":"sf"},{"$f":"IF($Q$28=\"Allocate Adders\",ESTIMATE!BC163,ESTIMATE!AW163)","v":0},{"$f":"IF($Q$28=\"Allocate Adders\",ESTIMATE!BF163,ESTIMATE!AX163)","v":0},{"$f":"IF($Q$28=\"Allocate Adders\",ESTIMATE!BI163,ESTIMATE!AY163)","v":0},0,null,0]
[null,null,{"$f":"T(ESTIMATE!B164)","v":"Vinyl siding, non-insulated"},null,null,null,null,{"$f":"ESTIMATE!P164","v":0},{"$f":"T(ESTIMATE!S164)","v":"sf"},{"$f":"IF($Q$28=\"Allocate Adders\",ESTIMATE!BC164,ESTIMATE!AW164)","v":0},{"$f":"IF($Q$28=\"Allocate Adders\",ESTIMATE!BF164,ESTIMATE!AX164)","v":0},{"$f":"IF($Q$28=\"Allocate Adders\",ESTIMATE!BI164,ESTIMATE!AY164)","v":0},0,null,0]
[null,null,{"$f":"T(ESTIMATE!B165)","v":"Vinyl siding, insulated"},null,null,null,null,{"$f":"ESTIMATE!P165","v":0},{"$f":"T(ESTIMATE!S165)","v":"sf"},{"$f":"IF($Q$28=\"Allocate Adders\",ESTIMATE!BC165,ESTIMATE!AW165)","v":0},{"$f":"IF($Q$28=\"Allocate Adders\",ESTIMATE!BF165,ESTIMATE!AX165)","v":0},{"$f":"IF($Q$28=\"Allocate Adders\",ESTIMATE!BI165,ESTIMATE!AY165)","v":0},0,null,0]
[null,null,{"$f":"T(ESTIMATE!B166)","v":"Trim, 1\"x3\", pine"},null,null,null,null,{"$f":"ESTIMATE!P166","v":0},{"$f":"T(ESTIMATE!S166)","v":"lf"},{"$f":"IF($Q$28=\"Allocate Adders\",ESTIMATE!BC166,ESTIMATE!AW166)","v":0},{"$f":"IF($Q$28=\"Allocate Adders\",ESTIMATE!BF166,ESTIMATE!AX166)","v":0},{"$f":"IF($Q$28=\"Allocate Adders\",ESTIMATE!BI166,ESTIMATE!AY166)","v":0},0,null,0]
[null,null,{"$f":"T(ESTIMATE!B167)","v":"Trim, 1\"x4\", pine"},null,null,null,null,{"$f":"ESTIMATE!P167","v":0},{"$f":"T(ESTIMATE!S167)","v":"lf"},{"$f":"IF($Q$28=\"Allocate Adders\",ESTIMATE!BC167,ESTIMATE!AW167)","v":0},{"$f":"IF($Q$28=\"Allocate Adders\",ESTIMATE!BF167,ESTIMATE!AX167)","v":0},{"$f":"IF($Q$28=\"Allocate Adders\",ESTIMATE!BI167,ESTIMATE!AY167)","v":0},0,null,0]
[null,null,{"$f":"T(ESTIMATE!B168)","v":"Trim, 1\"x6\", pine"},null,null,null,null,{"$f":"ESTIMATE!P168","v":0},{"$f":"T(ESTIMATE!S168)","v":"lf"},{"$f":"IF($Q$28=\"Allocate Adders\",ESTIMATE!BC168,ESTIMATE!AW168)","v":0},{"$f":"IF($Q$28=\"Allocate Adders\",ESTIMATE!BF168,ESTIMATE!AX168)","v":0},{"$f":"IF($Q$28=\"Allocate Adders\",ESTIMATE!BI168,ESTIMATE!AY168)","v":0},0,null,0]
[null,null,{"$f":"T(ESTIMATE!B169)","v":"Siding patch, window/door, siding, insulation"},null,null,null,null,{"$f":"ESTIMATE!P169","v":0},{"$f":"T(ESTIMATE!S169)","v":"ea"},{"$f":"IF($Q$28=\"Allocate Adders\",ESTIMATE!BC169,ESTIMATE!AW169)","v":0},{"$f":"IF($Q$28=\"Allocate Adders\",ESTIMATE!BF169,ESTIMATE!AX169)","v":0},{"$f":"IF($Q$28=\"Allocate Adders\",ESTIMATE!BI169,ESTIMATE!AY169)","v":0},0,null,0]
[null,null,{"$f":"T(ESTIMATE!B170)","v":"Stucco"},null,null,null,null,{"$f":"ESTIMATE!P170","v":0},{"$f":"T(ESTIMATE!S170)","v":"sf"},{"$f":"IF($Q$28=\"Allocate Adders\",ESTIMATE!BC170,ESTIMATE!AW170)","v":0},{"$f":"IF($Q$28=\"Allocate Adders\",ESTIMATE!BF170,ESTIMATE!AX170)","v":0},{"$f":"IF($Q$28=\"Allocate Adders\",ESTIMATE!BI170,ESTIMATE!AY170)","v":0},0,null,0]
[null,null,{"$f":"T(ESTIMATE!B171)","v":""},null,null,null,null,{"$f":"ESTIMATE!P171","v":0},{"$f":"T(ESTIMATE!S171)","v":""},{"$f":"IF($Q$28=\"Allocate Adders\",ESTIMATE!BC171,ESTIMATE!AW171)","v":0},{"$f":"IF($Q$28=\"Allocate Adders\",ESTIMATE!BF171,ESTIMATE!AX171)","v":0},{"$f":"IF($Q$28=\"Allocate Adders\",ESTIMATE!BI171,ESTIMATE!AY171)","v":0},0,null,0]
[null,null,{"$f":"T(ESTIMATE!B172)","v":""},null,null,null,null,{"$f":"ESTIMATE!P172","v":0},{"$f":"T(ESTIMATE!S172)","v":""},{"$f":"IF($Q$28=\"Allocate Adders\",ESTIMATE!BC172,ESTIMATE!AW172)","v":0},{"$f":"IF($Q$28=\"Allocate Adders\",ESTIMATE!BF172,ESTIMATE!AX172)","v":0},{"$f":"IF($Q$28=\"Allocate Adders\",ESTIMATE!BI172,ESTIMATE!AY172)","v":0},0,null,0]
[null,null,{"$f":"T(ESTIMATE!B173)","v":"Masonry"},null,null,null,null,{"$f":"ESTIMATE!P173","v":0},{"$f":"T(ESTIMATE!S173)","v":""},{"$f":"IF($Q$28=\"Allocate Adders\",ESTIMATE!BC173,ESTIMATE!AW173)","v":0},{"$f":"IF($Q$28=\"Allocate Adders\",ESTIMATE!BF173,ESTIMATE!AX173)","v":0},{"$f":"IF($Q$28=\"Allocate Adders\",ESTIMATE!BI173,ESTIMATE!AY173)","v":0},0,null,0]
[null,null,{"$f":"T(ESTIMATE!B174)","v":"Masonry bid/allowance"},null,null,null,null,{"$f":"ESTIMATE!P174","v":0},{"$f":"T(ESTIMATE!S174)","v":"ls"},{"$f":"IF($Q$28=\"Allocate Adders\",ESTIMATE!BC174,ESTIMATE!AW174)","v":0},{"$f":"IF($Q$28=\"Allocate Adders\",ESTIMATE!BF174,ESTIMATE!AX174)","v":0},{"$f":"IF($Q$28=\"Allocate Adders\",ESTIMATE!BI174,ESTIMATE!AY174)","v":0},0,null,0]
[null,null,{"$f":"T(ESTIMATE!B175)","v":"CMU, 4x8"},null,null,null,null,{"$f":"ESTIMATE!P175","v":0},{"$f":"T(ESTIMATE!S175)","v":"sf"},{"$f":"IF($Q$28=\"Allocate Adders\",ESTIMATE!BC175,ESTIMATE!AW175)","v":0},{"$f":"IF($Q$28=\"Allocate Adders\",ESTIMATE!BF175,ESTIMATE!AX175)","v":0},{"$f":"IF($Q$28=\"Allocate Adders\",ESTIMATE!BI175,ESTIMATE!AY175)","v":0},0,null,0]
[null,null,{"$f":"T(ESTIMATE!B176)","v":"CMU, 8x8"},null,null,null,null,{"$f":"ESTIMATE!P176","v":0},{"$f":"T(ESTIMATE!S176)","v":"sf"},{"$f":"IF($Q$28=\"Allocate Adders\",ESTIMATE!BC176,ESTIMATE!AW176)","v":0},{"$f":"IF($Q$28=\"Allocate Adders\",ESTIMATE!BF176,ESTIMATE!AX176)","v":0},{"$f":"IF($Q$28=\"Allocate Adders\",ESTIMATE!BI176,ESTIMATE!AY176)","v":0},0,null,0]
[null,null,{"$f":"T(ESTIMATE!B177)","v":"Brick veneer"},null,null,null,null,{"$f":"ESTIMATE!P177","v":0},{"$f":"T(ESTIMATE!S177)","v":"sf"},{"$f":"IF($Q$28=\"Allocate Adders\",ESTIMATE!BC177,ESTIMATE!AW177)","v":0},{"$f":"IF($Q$28=\"Allocate Adders\",ESTIMATE!BF177,ESTIMATE!AX177)","v":0},{"$f":"IF($Q$28=\"Allocate Adders\",ESTIMATE!BI177,ESTIMATE!AY177)","v":0},0,null,0]
[null,null,{"$f":"T(ESTIMATE!B178)","v":"Natural stone"},null,null,null,null,{"$f":"ESTIMATE!P178","v":0},{"$f":"T(ESTIMATE!S178)","v":"sf"},{"$f":"IF($Q$28=\"Allocate Adders\",ESTIMATE!BC178,ESTIMATE!AW178)","v":0},{"$f":"IF($Q$28=\"Allocate Adders\",ESTIMATE!BF178,ESTIMATE!AX178)","v":0},{"$f":"IF($Q$28=\"Allocate Adders\",ESTIMATE!BI178,ESTIMATE!AY178)","v":0},0,null,0]
[null,null,{"$f":"T(ESTIMATE!B179)","v":"Masonry waterproofing"},null,null,null,null,{"$f":"ESTIMATE!P179","v":0},{"$f":"T(ESTIMATE!S179)","v":"sf"},{"$f":"IF($Q$28=\"Allocate Adders\",ESTIMATE!BC179,ESTIMATE!AW179)","v":0},{"$f":"IF($Q$28=\"Allocate Adders\",ESTIMATE!BF179,ESTIMATE!AX179)","v":0},{"$f":"IF($Q$28=\"Allocate Adders\",ESTIMATE!BI179,ESTIMATE!AY179)","v":0},0,null,0]
[null,null,{"$f":"T(ESTIMATE!B180)","v":"Tuck-point masonry"},null,null,null,null,{"$f":"ESTIMATE!P180","v":0},{"$f":"T(ESTIMATE!S180)","v":"sf"},{"$f":"IF($Q$28=\"Allocate Adders\",ESTIMATE!BC180,ESTIMATE!AW180)","v":0},{"$f":"IF($Q$28=\"Allocate Adders\",ESTIMATE!BF180,ESTIMATE!AX180)","v":0},{"$f":"IF($Q$28=\"Allocate Adders\",ESTIMATE!BI180,ESTIMATE!AY180)","v":0},0,null,0]
[null,null,{"$f":"T(ESTIMATE!B181)","v":"Power wash masonry"},null,null,null,null,{"$f":"ESTIMATE!P181","v":0},{"$f":"T(ESTIMATE!S181)","v":"sf"},{"$f":"IF($Q$28=\"Allocate Adders\",ESTIMATE!BC181,ESTIMATE!AW181)","v":0},{"$f":"IF($Q$28=\"Allocate Adders\",ESTIMATE!BF181,ESTIMATE!AX181)","v":0},{"$f":"IF($Q$28=\"Allocate Adders\",ESTIMATE!BI181,ESTIMATE!AY181)","v":0},0,null,0]
[null,null,{"$f":"T(ESTIMATE!B182)","v":"Chimney, brick "},null,null,null,null,{"$f":"ESTIMATE!P182","v":0},{"$f":"T(ESTIMATE!S182)","v":"vlf"},{"$f":"IF($Q$28=\"Allocate Adders\",ESTIMATE!BC182,ESTIMATE!AW182)","v":0},{"$f":"IF($Q$28=\"Allocate Adders\",ESTIMATE!BF182,ESTIMATE!AX182)","v":0},{"$f":"IF($Q$28=\"Allocate Adders\",ESTIMATE!BI182,ESTIMATE!AY182)","v":0},0,null,0]
[null,null,{"$f":"T(ESTIMATE!B183)","v":"Chimney, stone"},null,null,null,null,{"$f":"ESTIMATE!P183","v":0},{"$f":"T(ESTIMATE!S183)","v":"vlf"},{"$f":"IF($Q$28=\"Allocate Adders\",ESTIMATE!BC183,ESTIMATE!AW183)","v":0},{"$f":"IF($Q$28=\"Allocate Adders\",ESTIMATE!BF183,ESTIMATE!AX183)","v":0},{"$f":"IF($Q$28=\"Allocate Adders\",ESTIMATE!BI183,ESTIMATE!AY183)","v":0},0,null,0]
[null,null,{"$f":"T(ESTIMATE!B184)","v":"Add to above for chimney cap"},null,null,null,null,{"$f":"ESTIMATE!P184","v":0},{"$f":"T(ESTIMATE!S184)","v":"ea"},{"$f":"IF($Q$28=\"Allocate Adders\",ESTIMATE!BC184,ESTIMATE!AW184)","v":0},{"$f":"IF($Q$28=\"Allocate Adders\",ESTIMATE!BF184,ESTIMATE!AX184)","v":0},{"$f":"IF($Q$28=\"Allocate Adders\",ESTIMATE!BI184,ESTIMATE!AY184)","v":0},0,null,0]
[null,null,{"$f":"T(ESTIMATE!B185)","v":"Fireplace complete, brick, 3ft-4ft wide w/ chimney"},null,null,null,null,{"$f":"ESTIMATE!P185","v":0},{"$f":"T(ESTIMATE!S185)","v":"ea"},{"$f":"IF($Q$28=\"Allocate Adders\",ESTIMATE!BC185,ESTIMATE!AW185)","v":0},{"$f":"IF($Q$28=\"Allocate Adders\",ESTIMATE!BF185,ESTIMATE!AX185)","v":0},{"$f":"IF($Q$28=\"Allocate Adders\",ESTIMATE!BI185,ESTIMATE!AY185)","v":0},0,null,0]
[null,null,{"$f":"T(ESTIMATE!B186)","v":""},null,null,null,null,{"$f":"ESTIMATE!P186","v":0},{"$f":"T(ESTIMATE!S186)","v":""},{"$f":"IF($Q$28=\"Allocate Adders\",ESTIMATE!BC186,ESTIMATE!AW186)","v":0},{"$f":"IF($Q$28=\"Allocate Adders\",ESTIMATE!BF186,ESTIMATE!AX186)","v":0},{"$f":"IF($Q$28=\"Allocate Adders\",ESTIMATE!BI186,ESTIMATE!AY186)","v":0},0,null,0]
[null,null,{"$f":"T(ESTIMATE!B187)","v":""},null,null,null,null,{"$f":"ESTIMATE!P187","v":0},{"$f":"T(ESTIMATE!S187)","v":""},{"$f":"IF($Q$28=\"Allocate Adders\",ESTIMATE!BC187,ESTIMATE!AW187)","v":0},{"$f":"IF($Q$28=\"Allocate Adders\",ESTIMATE!BF187,ESTIMATE!AX187)","v":0},{"$f":"IF($Q$28=\"Allocate Adders\",ESTIMATE!BI187,ESTIMATE!AY187)","v":0},0,null,0]
[null,null,{"$f":"T(ESTIMATE!B188)","v":""},null,null,null,null,{"$f":"ESTIMATE!P188","v":0},{"$f":"T(ESTIMATE!S188)","v":""},{"$f":"IF($Q$28=\"Allocate Adders\",ESTIMATE!BC188,ESTIMATE!AW188)","v":0},{"$f":"IF($Q$28=\"Allocate Adders\",ESTIMATE!BF188,ESTIMATE!AX188)","v":0},{"$f":"IF($Q$28=\"Allocate Adders\",ESTIMATE!BI188,ESTIMATE!AY188)","v":0},0,null,0]
[null,null,{"$f":"T(ESTIMATE!B189)","v":""},null,null,null,null,{"$f":"ESTIMATE!P189","v":0},{"$f":"T(ESTIMATE!S189)","v":""},{"$f":"IF($Q$28=\"Allocate Adders\",ESTIMATE!BC189,ESTIMATE!AW189)","v":0},{"$f":"IF($Q$28=\"Allocate Adders\",ESTIMATE!BF189,ESTIMATE!AX189)","v":0},{"$f":"IF($Q$28=\"Allocate Adders\",ESTIMATE!BI189,ESTIMATE!AY189)","v":0},0,null,0]
[null,null,{"$f":"T(ESTIMATE!B190)","v":""},null,null,null,null,{"$f":"ESTIMATE!P190","v":0},{"$f":"T(ESTIMATE!S190)","v":""},{"$f":"IF($Q$28=\"Allocate Adders\",ESTIMATE!BC190,ESTIMATE!AW190)","v":0},{"$f":"IF($Q$28=\"Allocate Adders\",ESTIMATE!BF190,ESTIMATE!AX190)","v":0},{"$f":"IF($Q$28=\"Allocate Adders\",ESTIMATE!BI190,ESTIMATE!AY190)","v":0},0,null,0]
[null,null,{"$f":"T(ESTIMATE!B191)","v":""},null,null,null,null,{"$f":"ESTIMATE!P191","v":0},{"$f":"T(ESTIMATE!S191)","v":""},{"$f":"IF($Q$28=\"Allocate Adders\",ESTIMATE!BC191,ESTIMATE!AW191)","v":0},{"$f":"IF($Q$28=\"Allocate Adders\",ESTIMATE!BF191,ESTIMATE!AX191)","v":0},{"$f":"IF($Q$28=\"Allocate Adders\",ESTIMATE!BI191,ESTIMATE!AY191)","v":0},0,null,0]
[null,null,null,null,null,null,null,null,null,null,null,null,null,null,{"$f":"O223","v":0}]
[null,null,{"$f":"T(ESTIMATE!AC193)","v":"SIDING TOTAL"},null,null,null,null,null,null,{"$f":"SUM(J182:J222)","v":0},{"$f":"SUM(K182:K222)","v":0},{"$f":"SUM(L182:L222)","v":0},{"$f":"SUM(M182:N222)","v":0},null,{"$f":"SUM(O181:O221)","v":0}]
[null,null,null,null,null,null,null,null,null,null,null,null,null,null,{"$f":"O223","v":0}]
[]
[null,null,{"$f":"T(ESTIMATE!B196)","v":"ROOFING"},null,null,null,null,{"$f":"SUM(H227:H266)","v":0},null,null,null,null,null,null,{"$f":"H226","v":0}]
[null,null,{"$f":"T(ESTIMATE!B197)","v":"Roofing bid/allowance"},null,null,null,null,{"$f":"ESTIMATE!P197","v":0},{"$f":"T(ESTIMATE!S197)","v":"ls"},{"$f":"IF($Q$28=\"Allocate Adders\",ESTIMATE!BC197,ESTIMATE!AW197)","v":0},{"$f":"IF($Q$28=\"Allocate Adders\",ESTIMATE!BF197,ESTIMATE!AX197)","v":0},{"$f":"IF($Q$28=\"Allocate Adders\",ESTIMATE!BI197,ESTIMATE!AY197)","v":0},{"$f":"SUM(J227:L227)","v":0},null,0]
[null,null,{"$f":"T(ESTIMATE!B198)","v":"Asphalt shingle roof"},null,null,null,null,{"$f":"ESTIMATE!P198","v":0},{"$f":"T(ESTIMATE!S198)","v":""},{"$f":"IF($Q$28=\"Allocate Adders\",ESTIMATE!BC198,ESTIMATE!AW198)","v":0},{"$f":"IF($Q$28=\"Allocate Adders\",ESTIMATE!BF198,ESTIMATE!AX198)","v":0},{"$f":"IF($Q$28=\"Allocate Adders\",ESTIMATE!BI198,ESTIMATE!AY198)","v":0},0,null,0]
[null,null,{"$f":"T(ESTIMATE!B199)","v":"Roof repair/patch, asphalt"},null,null,null,null,{"$f":"ESTIMATE!P199","v":0},{"$f":"T(ESTIMATE!S199)","v":"ea"},{"$f":"IF($Q$28=\"Allocate Adders\",ESTIMATE!BC199,ESTIMATE!AW199)","v":0},{"$f":"IF($Q$28=\"Allocate Adders\",ESTIMATE!BF199,ESTIMATE!AX199)","v":0},{"$f":"IF($Q$28=\"Allocate Adders\",ESTIMATE!BI199,ESTIMATE!AY199)","v":0},0,null,0]
[null,null,{"$f":"T(ESTIMATE!B200)","v":"Roof replacement-demo & replace, 3-tab"},null,null,null,null,{"$f":"ESTIMATE!P200","v":0},{"$f":"T(ESTIMATE!S200)","v":"sq"},{"$f":"IF($Q$28=\"Allocate Adders\",ESTIMATE!BC200,ESTIMATE!AW200)","v":0},{"$f":"IF($Q$28=\"Allocate Adders\",ESTIMATE!BF200,ESTIMATE!AX200)","v":0},{"$f":"IF($Q$28=\"Allocate Adders\",ESTIMATE!BI200,ESTIMATE!AY200)","v":0},0,null,0]
[null,null,{"$f":"T(ESTIMATE!B201)","v":"Roof replacement-demo & replace, architectural"},null,null,null,null,{"$f":"ESTIMATE!P201","v":0},{"$f":"T(ESTIMATE!S201)","v":"sq"},{"$f":"IF($Q$28=\"Allocate Adders\",ESTIMATE!BC201,ESTIMATE!AW201)","v":0},{"$f":"IF($Q$28=\"Allocate Adders\",ESTIMATE!BF201,ESTIMATE!AX201)","v":0},{"$f":"IF($Q$28=\"Allocate Adders\",ESTIMATE!BI201,ESTIMATE!AY201)","v":0},0,null,0]
[null,null,{"$f":"T(ESTIMATE!B202)","v":"Premium for 3 layer tear off"},null,null,null,null,{"$f":"ESTIMATE!P202","v":0},{"$f":"T(ESTIMATE!S202)","v":"sq"},{"$f":"IF($Q$28=\"Allocate Adders\",ESTIMATE!BC202,ESTIMATE!AW202)","v":0},{"$f":"IF($Q$28=\"Allocate Adders\",ESTIMATE!BF202,ESTIMATE!AX202)","v":0},{"$f":"IF($Q$28=\"Allocate Adders\",ESTIMATE!BI202,ESTIMATE!AY202)","v":0},0,null,0]
[null,null,{"$f":"T(ESTIMATE!B203)","v":"Premium for steep pitch roof"},null,null,null,null,{"$f":"ESTIMATE!P203","v":0},{"$f":"T(ESTIMATE!S203)","v":"sq"},{"$f":"IF($Q$28=\"Allocate Adders\",ESTIMATE!BC203,ESTIMATE!AW203)","v":0},{"$f":"IF($Q$28=\"Allocate Adders\",ESTIMATE!BF203,ESTIMATE!AX203)","v":0},{"$f":"IF($Q$28=\"Allocate Adders\",ESTIMATE!BI203,ESTIMATE!AY203)","v":0},0,null,0]
[null,null,{"$f":"T(ESTIMATE!B204)","v":""},null,null,null,null,{"$f":"ESTIMATE!P204","v":0},{"$f":"T(ESTIMATE!S204)","v":""},{"$f":"IF($Q$28=\"Allocate Adders\",ESTIMATE!BC204,ESTIMATE!AW204)","v":0},{"$f":"IF($Q$28=\"Allocate Adders\",ESTIMATE!BF204,ESTIMATE!AX204)","v":0},{"$f":"IF($Q$28=\"Allocate Adders\",ESTIMATE!BI204,ESTIMATE!AY204)","v":0},0,null,0]
[null,null,{"$f":"T(ESTIMATE!B205)","v":"Wood Shingle Roof"},null,null,null,null,{"$f":"ESTIMATE!P205","v":0},{"$f":"T(ESTIMATE!S205)","v":""},{"$f":"IF($Q$28=\"Allocate Adders\",ESTIMATE!BC205,ESTIMATE!AW205)","v":0},{"$f":"IF($Q$28=\"Allocate Adders\",ESTIMATE!BF205,ESTIMATE!AX205)","v":0},{"$f":"IF($Q$28=\"Allocate Adders\",ESTIMATE!BI205,ESTIMATE!AY205)","v":0},0,null,0]
[null,null,{"$f":"T(ESTIMATE!B206)","v":"Roof repair/patch, wood"},null,null,null,null,{"$f":"ESTIMATE!P206","v":0},{"$f":"T(ESTIMATE!S206)","v":"ea"},{"$f":"IF($Q$28=\"Allocate Adders\",ESTIMATE!BC206,ESTIMATE!AW206)","v":0},{"$f":"IF($Q$28=\"Allocate Adders\",ESTIMATE!BF206,ESTIMATE!AX206)","v":0},{"$f":"IF($Q$28=\"Allocate Adders\",ESTIMATE!BI206,ESTIMATE!AY206)","v":0},0,null,0]
[null,null,{"$f":"T(ESTIMATE!B207)","v":"Roof replacement-demo & replace, 3-tab"},null,null,null,null,{"$f":"ESTIMATE!P207","v":0},{"$f":"T(ESTIMATE!S207)","v":"sq"},{"$f":"IF($Q$28=\"Allocate Adders\",ESTIMATE!BC207,ESTIMATE!AW207)","v":0},{"$f":"IF($Q$28=\"Allocate Adders\",ESTIMATE!BF207,ESTIMATE!AX207)","v":0},{"$f":"IF($Q$28=\"Allocate Adders\",ESTIMATE!BI207,ESTIMATE!AY207)","v":0},0,null,0]
[null,null,{"$f":"T(ESTIMATE!B208)","v":"Wood shingle, low end"},null,null,null,null,{"$f":"ESTIMATE!P208","v":0},{"$f":"T(ESTIMATE!S208)","v":"sq"},{"$f":"IF($Q$28=\"Allocate Adders\",ESTIMATE!BC208,ESTIMATE!AW208)","v":0},{"$f":"IF($Q$28=\"Allocate Adders\",ESTIMATE!BF208,ESTIMATE!AX208)","v":0},{"$f":"IF($Q$28=\"Allocate Adders\",ESTIMATE!BI208,ESTIMATE!AY208)","v":0},0,null,0]
[null,null,{"$f":"T(ESTIMATE!B209)","v":"Wood shingle, high end"},null,null,null,null,{"$f":"ESTIMATE!P209","v":0},{"$f":"T(ESTIMATE!S209)","v":"sq"},{"$f":"IF($Q$28=\"Allocate Adders\",ESTIMATE!BC209,ESTIMATE!AW209)","v":0},{"$f":"IF($Q$28=\"Allocate Adders\",ESTIMATE!BF209,ESTIMATE!AX209)","v":0},{"$f":"IF($Q$28=\"Allocate Adders\",ESTIMATE!BI209,ESTIMATE!AY209)","v":0},0,null,0]
[null,null,{"$f":"T(ESTIMATE!B210)","v":"Roof sheathing, plywood 1/2\", remove & install"},null,null,null,null,{"$f":"ESTIMATE!P210","v":0},{"$f":"T(ESTIMATE!S210)","v":"sheet"},{"$f":"IF($Q$28=\"Allocate Adders\",ESTIMATE!BC210,ESTIMATE!AW210)","v":0},{"$f":"IF($Q$28=\"Allocate Adders\",ESTIMATE!BF210,ESTIMATE!AX210)","v":0},{"$f":"IF($Q$28=\"Allocate Adders\",ESTIMATE!BI210,ESTIMATE!AY210)","v":0},0,null,0]
[null,null,{"$f":"T(ESTIMATE!B211)","v":""},null,null,null,null,{"$f":"ESTIMATE!P211","v":0},{"$f":"T(ESTIMATE!S211)","v":""},{"$f":"IF($Q$28=\"Allocate Adders\",ESTIMATE!BC211,ESTIMATE!AW211)","v":0},{"$f":"IF($Q$28=\"Allocate Adders\",ESTIMATE!BF211,ESTIMATE!AX211)","v":0},{"$f":"IF($Q$28=\"Allocate Adders\",ESTIMATE!BI211,ESTIMATE!AY211)","v":0},0,null,0]
[null,null,{"$f":"T(ESTIMATE!B212)","v":"Slate/Clay Tile"},null,null,null,null,{"$f":"ESTIMATE!P212","v":0},{"$f":"T(ESTIMATE!S212)","v":""},{"$f":"IF($Q$28=\"Allocate Adders\",ESTIMATE!BC212,ESTIMATE!AW212)","v":0},{"$f":"IF($Q$28=\"Allocate Adders\",ESTIMATE!BF212,ESTIMATE!AX212)","v":0},{"$f":"IF($Q$28=\"Allocate Adders\",ESTIMATE!BI212,ESTIMATE!AY212)","v":0},0,null,0]
[null,null,{"$f":"T(ESTIMATE!B213)","v":"Roof replacement-demo & replace, slate"},null,null,null,null,{"$f":"ESTIMATE!P213","v":0},{"$f":"T(ESTIMATE!S213)","v":"sq"},{"$f":"IF($Q$28=\"Allocate Adders\",ESTIMATE!BC213,ESTIMATE!AW213)","v":0},{"$f":"IF($Q$28=\"Allocate Adders\",ESTIMATE!BF213,ESTIMATE!AX213)","v":0},{"$f":"IF($Q$28=\"Allocate Adders\",ESTIMATE!BI213,ESTIMATE!AY213)","v":0},0,null,0]
[null,null,{"$f":"T(ESTIMATE!B214)","v":""},null,null,null,null,{"$f":"ESTIMATE!P214","v":0},{"$f":"T(ESTIMATE!S214)","v":""},{"$f":"IF($Q$28=\"Allocate Adders\",ESTIMATE!BC214,ESTIMATE!AW214)","v":0},{"$f":"IF($Q$28=\"Allocate Adders\",ESTIMATE!BF214,ESTIMATE!AX214)","v":0},{"$f":"IF($Q$28=\"Allocate Adders\",ESTIMATE!BI214,ESTIMATE!AY214)","v":0},0,null,0]
[null,null,{"$f":"T(ESTIMATE!B215)","v":"Gutters & downspouts, aluminum"},null,null,null,null,{"$f":"ESTIMATE!P215","v":0},{"$f":"T(ESTIMATE!S215)","v":"lf"},{"$f":"IF($Q$28=\"Allocate Adders\",ESTIMATE!BC215,ESTIMATE!AW215)","v":0},{"$f":"IF($Q$28=\"Allocate Adders\",ESTIMATE!BF215,ESTIMATE!AX215)","v":0},{"$f":"IF($Q$28=\"Allocate Adders\",ESTIMATE!BI215,ESTIMATE!AY215)","v":0},0,null,0]
[null,null,{"$f":"T(ESTIMATE!B216)","v":"Clean gutters & downspouts"},null,null,null,null,{"$f":"ESTIMATE!P216","v":0},{"$f":"T(ESTIMATE!S216)","v":""},{"$f":"IF($Q$28=\"Allocate Adders\",ESTIMATE!BC216,ESTIMATE!AW216)","v":0},{"$f":"IF($Q$28=\"Allocate Adders\",ESTIMATE!BF216,ESTIMATE!AX216)","v":0},{"$f":"IF($Q$28=\"Allocate Adders\",ESTIMATE!BI216,ESTIMATE!AY216)","v":0},0,null,0]
[null,null,{"$f":"T(ESTIMATE!B217)","v":""},null,null,null,null,{"$f":"ESTIMATE!P217","v":0},{"$f":"T(ESTIMATE!S217)","v":""},{"$f":"IF($Q$28=\"Allocate Adders\",ESTIMATE!BC217,ESTIMATE!AW217)","v":0},{"$f":"IF($Q$28=\"Allocate Adders\",ESTIMATE!BF217,ESTIMATE!AX217)","v":0},{"$f":"IF($Q$28=\"Allocate Adders\",ESTIMATE!BI217,ESTIMATE!AY217)","v":0},0,null,0]
[null,null,{"$f":"T(ESTIMATE!B218)","v":""},null,null,null,null,{"$f":"ESTIMATE!P218","v":0},{"$f":"T(ESTIMATE!S218)","v":""},{"$f":"IF($Q$28=\"Allocate Adders\",ESTIMATE!BC218,ESTIMATE!AW218)","v":0},{"$f":"IF($Q$28=\"Allocate Adders\",ESTIMATE!BF218,ESTIMATE!AX218)","v":0},{"$f":"IF($Q$28=\"Allocate Adders\",ESTIMATE!BI218,ESTIMATE!AY218)","v":0},0,null,0]
[null,null,{"$f":"T(ESTIMATE!B219)","v":""},null,null,null,null,{"$f":"ESTIMATE!P219","v":0},{"$f":"T(ESTIMATE!S219)","v":""},{"$f":"IF($Q$28=\"Allocate Adders\",ESTIMATE!BC219,ESTIMATE!AW219)","v":0},{"$f":"IF($Q$28=\"Allocate Adders\",ESTIMATE!BF219,ESTIMATE!AX219)","v":0},{"$f":"IF($Q$28=\"Allocate Adders\",ESTIMATE!BI219,ESTIMATE!AY219)","v":0},0,null,0]
[null,null,{"$f":"T(ESTIMATE!B220)","v":""},null,null,null,null,{"$f":"ESTIMATE!P220","v":0},{"$f":"T(ESTIMATE!S220)","v":""},{"$f":"IF($Q$28=\"Allocate Adders\",ESTIMATE!BC220,ESTIMATE!AW220)","v":0},{"$f":"IF($Q$28=\"Allocate Adders\",ESTIMATE!BF220,ESTIMATE!AX220)","v":0},{"$f":"IF($Q$28=\"Allocate Adders\",ESTIMATE!BI220,ESTIMATE!AY220)","v":0},0,null,0]
[null,null,{"$f":"T(ESTIMATE!B221)","v":""},null,null,null,null,{"$f":"ESTIMATE!P221","v":0},{"$f":"T(ESTIMATE!S221)","v":""},{"$f":"IF($Q$28=\"Allocate Adders\",ESTIMATE!BC221,ESTIMATE!AW221)","v":0},{"$f":"IF($Q$28=\"Allocate Adders\",ESTIMATE!BF221,ESTIMATE!AX221)","v":0},{"$f":"IF($Q$28=\"Allocate Adders\",ESTIMATE!BI221,ESTIMATE!AY221)","v":0},0,null,0]
[null,null,{"$f":"T(ESTIMATE!B222)","v":""},null,null,null,null,{"$f":"ESTIMATE!P222","v":0},{"$f":"T(ESTIMATE!S222)","v":""},{"$f":"IF($Q$28=\"Allocate Adders\",ESTIMATE!BC222,ESTIMATE!AW222)","v":0},{"$f":"IF($Q$28=\"Allocate Adders\",ESTIMATE!BF222,ESTIMATE!AX222)","v":0},{"$f":"IF($Q$28=\"Allocate Adders\",ESTIMATE!BI222,ESTIMATE!AY222)","v":0},0,null,0]
[null,null,{"$f":"T(ESTIMATE!B223)","v":""},null,null,null,null,{"$f":"ESTIMATE!P223","v":0},{"$f":"T(ESTIMATE!S223)","v":""},{"$f":"IF($Q$28=\"Allocate Adders\",ESTIMATE!BC223,ESTIMATE!AW223)","v":0},{"$f":"IF($Q$28=\"Allocate Adders\",ESTIMATE!BF223,ESTIMATE!AX223)","v":0},{"$f":"IF($Q$28=\"Allocate Adders\",ESTIMATE!BI223,ESTIMATE!AY223)","v":0},0,null,0]
[null,null,{"$f":"T(ESTIMATE!B224)","v":""},null,null,null,null,{"$f":"ESTIMATE!P224","v":0},{"$f":"T(ESTIMATE!S224)","v":""},{"$f":"IF($Q$28=\"Allocate Adders\",ESTIMATE!BC224,ESTIMATE!AW224)","v":0},{"$f":"IF($Q$28=\"Allocate Adders\",ESTIMATE!BF224,ESTIMATE!AX224)","v":0},{"$f":"IF($Q$28=\"Allocate Adders\",ESTIMATE!BI224,ESTIMATE!AY224)","v":0},0,null,0]
[null,null,{"$f":"T(ESTIMATE!B225)","v":""},null,null,null,null,{"$f":"ESTIMATE!P225","v":0},{"$f":"T(ESTIMATE!S225)","v":""},{"$f":"IF($Q$28=\"Allocate Adders\",ESTIMATE!BC225,ESTIMATE!AW225)","v":0},{"$f":"IF($Q$28=\"Allocate Adders\",ESTIMATE!BF225,ESTIMATE!AX225)","v":0},{"$f":"IF($Q$28=\"Allocate Adders\",ESTIMATE!BI225,ESTIMATE!AY225)","v":0},0,null,0]
[null,null,{"$f":"T(ESTIMATE!B226)","v":""},null,null,null,null,{"$f":"ESTIMATE!P226","v":0},{"$f":"T(ESTIMATE!S226)","v":""},{"$f":"IF($Q$28=\"Allocate Adders\",ESTIMATE!BC226,ESTIMATE!AW226)","v":0},{"$f":"IF($Q$28=\"Allocate Adders\",ESTIMATE!BF226,ESTIMATE!AX226)","v":0},{"$f":"IF($Q$28=\"Allocate Adders\",ESTIMATE!BI226,ESTIMATE!AY226)","v":0},0,null,0]
[null,null,{"$f":"T(ESTIMATE!B227)","v":""},null,null,null,null,{"$f":"ESTIMATE!P227","v":0},{"$f":"T(ESTIMATE!S227)","v":""},{"$f":"IF($Q$28=\"Allocate Adders\",ESTIMATE!BC227,ESTIMATE!AW227)","v":0},{"$f":"IF($Q$28=\"Allocate Adders\",ESTIMATE!BF227,ESTIMATE!AX227)","v":0},{"$f":"IF($Q$28=\"Allocate Adders\",ESTIMATE!BI227,ESTIMATE!AY227)","v":0},0,null,0]
[null,null,{"$f":"T(ESTIMATE!B228)","v":""},null,null,null,null,{"$f":"ESTIMATE!P228","v":0},{"$f":"T(ESTIMATE!S228)","v":""},{"$f":"IF($Q$28=\"Allocate Adders\",ESTIMATE!BC228,ESTIMATE!AW228)","v":0},{"$f":"IF($Q$28=\"Allocate Adders\",ESTIMATE!BF228,ESTIMATE!AX228)","v":0},{"$f":"IF($Q$28=\"Allocate Adders\",ESTIMATE!BI228,ESTIMATE!AY228)","v":0},0,null,0]
[null,null,{"$f":"T(ESTIMATE!B229)","v":""},null,null,null,null,{"$f":"ESTIMATE!P229","v":0},{"$f":"T(ESTIMATE!S229)","v":""},{"$f":"IF($Q$28=\"Allocate Adders\",ESTIMATE!BC229,ESTIMATE!AW229)","v":0},{"$f":"IF($Q$28=\"Allocate Adders\",ESTIMATE!BF229,ESTIMATE!AX229)","v":0},{"$f":"IF($Q$28=\"Allocate Adders\",ESTIMATE!BI229,ESTIMATE!AY229)","v":0},0,null,0]
[null,null,{"$f":"T(ESTIMATE!B230)","v":""},null,null,null,null,{"$f":"ESTIMATE!P230","v":0},{"$f":"T(ESTIMATE!S230)","v":""},{"$f":"IF($Q$28=\"Allocate Adders\",ESTIMATE!BC230,ESTIMATE!AW230)","v":0},{"$f":"IF($Q$28=\"Allocate Adders\",ESTIMATE!BF230,ESTIMATE!AX230)","v":0},{"$f":"IF($Q$28=\"Allocate Adders\",ESTIMATE!BI230,ESTIMATE!AY230)","v":0},0,null,0]
[null,null,{"$f":"T(ESTIMATE!B231)","v":""},null,null,null,null,{"$f":"ESTIMATE!P231","v":0},{"$f":"T(ESTIMATE!S231)","v":""},{"$f":"IF($Q$28=\"Allocate Adders\",ESTIMATE!BC231,ESTIMATE!AW231)","v":0},{"$f":"IF($Q$28=\"Allocate Adders\",ESTIMATE!BF231,ESTIMATE!AX231)","v":0},{"$f":"IF($Q$28=\"Allocate Adders\",ESTIMATE!BI231,ESTIMATE!AY231)","v":0},0,null,0]
[null,null,{"$f":"T(ESTIMATE!B232)","v":""},null,null,null,null,{"$f":"ESTIMATE!P232","v":0},{"$f":"T(ESTIMATE!S232)","v":""},{"$f":"IF($Q$28=\"Allocate Adders\",ESTIMATE!BC232,ESTIMATE!AW232)","v":0},{"$f":"IF($Q$28=\"Allocate Adders\",ESTIMATE!BF232,ESTIMATE!AX232)","v":0},{"$f":"IF($Q$28=\"Allocate Adders\",ESTIMATE!BI232,ESTIMATE!AY232)","v":0},0,null,0]
[null,null,{"$f":"T(ESTIMATE!B233)","v":""},null,null,null,null,{"$f":"ESTIMATE!P233","v":0},{"$f":"T(ESTIMATE!S233)","v":""},{"$f":"IF($Q$28=\"Allocate Adders\",ESTIMATE!BC233,ESTIMATE!AW233)","v":0},{"$f":"IF($Q$28=\"Allocate Adders\",ESTIMATE!BF233,ESTIMATE!AX233)","v":0},{"$f":"IF($Q$28=\"Allocate Adders\",ESTIMATE!BI233,ESTIMATE!AY233)","v":0},0,null,0]
[null,null,{"$f":"T(ESTIMATE!B234)","v":""},null,null,null,null,{"$f":"ESTIMATE!P234","v":0},{"$f":"T(ESTIMATE!S234)","v":""},{"$f":"IF($Q$28=\"Allocate Adders\",ESTIMATE!BC234,ESTIMATE!AW234)","v":0},{"$f":"IF($Q$28=\"Allocate Adders\",ESTIMATE!BF234,ESTIMATE!AX234)","v":0},{"$f":"IF($Q$28=\"Allocate Adders\",ESTIMATE!BI234,ESTIMATE!AY234)","v":0},0,null,0]
[null,null,{"$f":"T(ESTIMATE!B235)","v":""},null,null,null,null,{"$f":"ESTIMATE!P235","v":0},{"$f":"T(ESTIMATE!S235)","v":""},{"$f":"IF($Q$28=\"Allocate Adders\",ESTIMATE!BC235,ESTIMATE!AW235)","v":0},{"$f":"IF($Q$28=\"Allocate Adders\",ESTIMATE!BF235,ESTIMATE!AX235)","v":0},{"$f":"IF($Q$28=\"Allocate Adders\",ESTIMATE!BI235,ESTIMATE!AY235)","v":0},0,null,0]
[null,null,{"$f":"T(ESTIMATE!B236)","v":""},null,null,null,null,{"$f":"ESTIMATE!P236","v":0},{"$f":"T(ESTIMATE!S236)","v":""},{"$f":"IF($Q$28=\"Allocate Adders\",ESTIMATE!BC236,ESTIMATE!AW236)","v":0},{"$f":"IF($Q$28=\"Allocate Adders\",ESTIMATE!BF236,ESTIMATE!AX236)","v":0},{"$f":"IF($Q$28=\"Allocate Adders\",ESTIMATE!BI236,ESTIMATE!AY236)","v":0},0,null,0]
[null,null,null,null,null,null,null,null,null,null,null,null,null,null,{"$f":"O268","v":0}]
[null,null,{"$f":"T(ESTIMATE!AC238)","v":"ROOFING TOTAL"},null,null,null,null,null,null,{"$f":"SUM(J227:J267)","v":0},{"$f":"SUM(K227:K267)","v":0},{"$f":"SUM(L227:L267)","v":0},{"$f":"SUM(M227:N267)","v":0},null,{"$f":"SUM(O226:O266)","v":0}]
[null,null,null,null,null,null,null,null,null,null,null,null,null,null,{"$f":"O268","v":0}]
[]
[null,null,{"$f":"T(ESTIMATE!B241)","v":"EXT. DOORS & WINDOWS"},null,null,null,null,{"$f":"SUM(H272:H311)","v":0},null,null,null,null,null,null,{"$f":"H271","v":0}]
[null,null,{"$f":"T(ESTIMATE!B242)","v":"Exterior Doors"},null,null,null,null,{"$f":"ESTIMATE!P242","v":0},{"$f":"T(ESTIMATE!S242)","v":""},{"$f":"IF($Q$28=\"Allocate Adders\",ESTIMATE!BC242,ESTIMATE!AW242)","v":0},{"$f":"IF($Q$28=\"Allocate Adders\",ESTIMATE!BF242,ESTIMATE!AX242)","v":0},{"$f":"IF($Q$28=\"Allocate Adders\",ESTIMATE!BI242,ESTIMATE!AY242)","v":0},{"$f":"SUM(J272:L272)","v":0},null,0]
[null,null,{"$f":"T(ESTIMATE!B243)","v":"Exterior doors bid/allowance"},null,null,null,null,{"$f":"ESTIMATE!P243","v":0},{"$f":"T(ESTIMATE!S243)","v":"ls"},{"$f":"IF($Q$28=\"Allocate Adders\",ESTIMATE!BC243,ESTIMATE!AW243)","v":0},{"$f":"IF($Q$28=\"Allocate Adders\",ESTIMATE!BF243,ESTIMATE!AX243)","v":0},{"$f":"IF($Q$28=\"Allocate Adders\",ESTIMATE!BI243,ESTIMATE!AY243)","v":0},0,null,0]
[null,null,{"$f":"T(ESTIMATE!B244)","v":"Steel entry door,  single"},null,null,null,null,{"$f":"ESTIMATE!P244","v":0},{"$f":"T(ESTIMATE!S244)","v":"ea"},{"$f":"IF($Q$28=\"Allocate Adders\",ESTIMATE!BC244,ESTIMATE!AW244)","v":0},{"$f":"IF($Q$28=\"Allocate Adders\",ESTIMATE!BF244,ESTIMATE!AX244)","v":0},{"$f":"IF($Q$28=\"Allocate Adders\",ESTIMATE!BI244,ESTIMATE!AY244)","v":0},0,null,0]
[null,null,{"$f":"T(ESTIMATE!B245)","v":"French patio door, pair"},null,null,null,null,{"$f":"ESTIMATE!P245","v":0},{"$f":"T(ESTIMATE!S245)","v":"ea"},{"$f":"IF($Q$28=\"Allocate Adders\",ESTIMATE!BC245,ESTIMATE!AW245)","v":0},{"$f":"IF($Q$28=\"Allocate Adders\",ESTIMATE!BF245,ESTIMATE!AX245)","v":0},{"$f":"IF($Q$28=\"Allocate Adders\",ESTIMATE!BI245,ESTIMATE!AY245)","v":0},0,null,0]
[null,null,{"$f":"T(ESTIMATE!B246)","v":"Exterior door hardware w/ dead bolt "},null,null,null,null,{"$f":"ESTIMATE!P246","v":0},{"$f":"T(ESTIMATE!S246)","v":"ea"},{"$f":"IF($Q$28=\"Allocate Adders\",ESTIMATE!BC246,ESTIMATE!AW246)","v":0},{"$f":"IF($Q$28=\"Allocate Adders\",ESTIMATE!BF246,ESTIMATE!AX246)","v":0},{"$f":"IF($Q$28=\"Allocate Adders\",ESTIMATE!BI246,ESTIMATE!AY246)","v":0},0,null,0]
[null,null,{"$f":"T(ESTIMATE!B247)","v":"Glass storm door, single"},null,null,null,null,{"$f":"ESTIMATE!P247","v":0},{"$f":"T(ESTIMATE!S247)","v":"ea"},{"$f":"IF($Q$28=\"Allocate Adders\",ESTIMATE!BC247,ESTIMATE!AW247)","v":0},{"$f":"IF($Q$28=\"Allocate Adders\",ESTIMATE!BF247,ESTIMATE!AX247)","v":0},{"$f":"IF($Q$28=\"Allocate Adders\",ESTIMATE!BI247,ESTIMATE!AY247)","v":0},0,null,0]
[null,null,{"$f":"T(ESTIMATE!B248)","v":"Sliding glass door, vinyl, double"},null,null,null,null,{"$f":"ESTIMATE!P248","v":0},{"$f":"T(ESTIMATE!S248)","v":"ea"},{"$f":"IF($Q$28=\"Allocate Adders\",ESTIMATE!BC248,ESTIMATE!AW248)","v":0},{"$f":"IF($Q$28=\"Allocate Adders\",ESTIMATE!BF248,ESTIMATE!AX248)","v":0},{"$f":"IF($Q$28=\"Allocate Adders\",ESTIMATE!BI248,ESTIMATE!AY248)","v":0},0,null,0]
[null,null,{"$f":"T(ESTIMATE!B249)","v":""},null,null,null,null,{"$f":"ESTIMATE!P249","v":0},{"$f":"T(ESTIMATE!S249)","v":""},{"$f":"IF($Q$28=\"Allocate Adders\",ESTIMATE!BC249,ESTIMATE!AW249)","v":0},{"$f":"IF($Q$28=\"Allocate Adders\",ESTIMATE!BF249,ESTIMATE!AX249)","v":0},{"$f":"IF($Q$28=\"Allocate Adders\",ESTIMATE!BI249,ESTIMATE!AY249)","v":0},0,null,0]
[null,null,{"$f":"T(ESTIMATE!B250)","v":""},null,null,null,null,{"$f":"ESTIMATE!P250","v":0},{"$f":"T(ESTIMATE!S250)","v":""},{"$f":"IF($Q$28=\"Allocate Adders\",ESTIMATE!BC250,ESTIMATE!AW250)","v":0},{"$f":"IF($Q$28=\"Allocate Adders\",ESTIMATE!BF250,ESTIMATE!AX250)","v":0},{"$f":"IF($Q$28=\"Allocate Adders\",ESTIMATE!BI250,ESTIMATE!AY250)","v":0},0,null,0]
[null,null,{"$f":"T(ESTIMATE!B251)","v":"Windows"},null,null,null,null,{"$f":"ESTIMATE!P251","v":0},{"$f":"T(ESTIMATE!S251)","v":""},{"$f":"IF($Q$28=\"Allocate Adders\",ESTIMATE!BC251,ESTIMATE!AW251)","v":0},{"$f":"IF($Q$28=\"Allocate Adders\",ESTIMATE!BF251,ESTIMATE!AX251)","v":0},{"$f":"IF($Q$28=\"Allocate Adders\",ESTIMATE!BI251,ESTIMATE!AY251)","v":0},0,null,0]
[null,null,{"$f":"T(ESTIMATE!B252)","v":"New windows, vinyl, average size"},null,null,null,null,{"$f":"ESTIMATE!P252","v":0},{"$f":"T(ESTIMATE!S252)","v":"ea"},{"$f":"IF($Q$28=\"Allocate Adders\",ESTIMATE!BC252,ESTIMATE!AW252)","v":0},{"$f":"IF($Q$28=\"Allocate Adders\",ESTIMATE!BF252,ESTIMATE!AX252)","v":0},{"$f":"IF($Q$28=\"Allocate Adders\",ESTIMATE!BI252,ESTIMATE!AY252)","v":0},0,null,0]
[null,null,{"$f":"T(ESTIMATE!B253)","v":"Replacement windows, vinyl, average size"},null,null,null,null,{"$f":"ESTIMATE!P253","v":0},{"$f":"T(ESTIMATE!S253)","v":"ea"},{"$f":"IF($Q$28=\"Allocate Adders\",ESTIMATE!BC253,ESTIMATE!AW253)","v":0},{"$f":"IF($Q$28=\"Allocate Adders\",ESTIMATE!BF253,ESTIMATE!AX253)","v":0},{"$f":"IF($Q$28=\"Allocate Adders\",ESTIMATE!BI253,ESTIMATE!AY253)","v":0},0,null,0]
[null,null,{"$f":"T(ESTIMATE!B254)","v":"Wood windows, average size"},null,null,null,null,{"$f":"ESTIMATE!P254","v":0},{"$f":"T(ESTIMATE!S254)","v":"ea"},{"$f":"IF($Q$28=\"Allocate Adders\",ESTIMATE!BC254,ESTIMATE!AW254)","v":0},{"$f":"IF($Q$28=\"Allocate Adders\",ESTIMATE!BF254,ESTIMATE!AX254)","v":0},{"$f":"IF($Q$28=\"Allocate Adders\",ESTIMATE!BI254,ESTIMATE!AY254)","v":0},0,null,0]
[null,null,{"$f":"T(ESTIMATE!B255)","v":"Replace broken window pane"},null,null,null,null,{"$f":"ESTIMATE!P255","v":0},{"$f":"T(ESTIMATE!S255)","v":"ea"},{"$f":"IF($Q$28=\"Allocate Adders\",ESTIMATE!BC255,ESTIMATE!AW255)","v":0},{"$f":"IF($Q$28=\"Allocate Adders\",ESTIMATE!BF255,ESTIMATE!AX255)","v":0},{"$f":"IF($Q$28=\"Allocate Adders\",ESTIMATE!BI255,ESTIMATE!AY255)","v":0},0,null,0]
[null,null,{"$f":"T(ESTIMATE!B256)","v":"Replace broken screens"},null,null,null,null,{"$f":"ESTIMATE!P256","v":0},{"$f":"T(ESTIMATE!S256)","v":"ea"},{"$f":"IF($Q$28=\"Allocate Adders\",ESTIMATE!BC256,ESTIMATE!AW256)","v":0},{"$f":"IF($Q$28=\"Allocate Adders\",ESTIMATE!BF256,ESTIMATE!AX256)","v":0},{"$f":"IF($Q$28=\"Allocate Adders\",ESTIMATE!BI256,ESTIMATE!AY256)","v":0},0,null,0]
[null,null,{"$f":"T(ESTIMATE!B257)","v":"Repair broken screens"},null,null,null,null,{"$f":"ESTIMATE!P257","v":0},{"$f":"T(ESTIMATE!S257)","v":"ea"},{"$f":"IF($Q$28=\"Allocate Adders\",ESTIMATE!BC257,ESTIMATE!AW257)","v":0},{"$f":"IF($Q$28=\"Allocate Adders\",ESTIMATE!BF257,ESTIMATE!AX257)","v":0},{"$f":"IF($Q$28=\"Allocate Adders\",ESTIMATE!BI257,ESTIMATE!AY257)","v":0},0,null,0]
[null,null,{"$f":"T(ESTIMATE!B258)","v":"Skylight, 3x3, fixed"},null,null,null,null,{"$f":"ESTIMATE!P258","v":0},{"$f":"T(ESTIMATE!S258)","v":"ea"},{"$f":"IF($Q$28=\"Allocate Adders\",ESTIMATE!BC258,ESTIMATE!AW258)","v":0},{"$f":"IF($Q$28=\"Allocate Adders\",ESTIMATE!BF258,ESTIMATE!AX258)","v":0},{"$f":"IF($Q$28=\"Allocate Adders\",ESTIMATE!BI258,ESTIMATE!AY258)","v":0},0,null,0]
[null,null,{"$f":"T(ESTIMATE!B259)","v":"Skylight, operable"},null,null,null,null,{"$f":"ESTIMATE!P259","v":0},{"$f":"T(ESTIMATE!S259)","v":"ea"},{"$f":"IF($Q$28=\"Allocate Adders\",ESTIMATE!BC259,ESTIMATE!AW259)","v":0},{"$f":"IF($Q$28=\"Allocate Adders\",ESTIMATE!BF259,ESTIMATE!AX259)","v":0},{"$f":"IF($Q$28=\"Allocate Adders\",ESTIMATE!BI259,ESTIMATE!AY259)","v":0},0,null,0]
[null,null,{"$f":"T(ESTIMATE!B260)","v":""},null,null,null,null,{"$f":"ESTIMATE!P260","v":0},{"$f":"T(ESTIMATE!S260)","v":""},{"$f":"IF($Q$28=\"Allocate Adders\",ESTIMATE!BC260,ESTIMATE!AW260)","v":0},{"$f":"IF($Q$28=\"Allocate Adders\",ESTIMATE!BF260,ESTIMATE!AX260)","v":0},{"$f":"IF($Q$28=\"Allocate Adders\",ESTIMATE!BI260,ESTIMATE!AY260)","v":0},0,null,0]
[null,null,{"$f":"T(ESTIMATE!B261)","v":""},null,null,null,null,{"$f":"ESTIMATE!P261","v":0},{"$f":"T(ESTIMATE!S261)","v":""},{"$f":"IF($Q$28=\"Allocate Adders\",ESTIMATE!BC261,ESTIMATE!AW261)","v":0},{"$f":"IF($Q$28=\"Allocate Adders\",ESTIMATE!BF261,ESTIMATE!AX261)","v":0},{"$f":"IF($Q$28=\"Allocate Adders\",ESTIMATE!BI261,ESTIMATE!AY261)","v":0},0,null,0]
[null,null,{"$f":"T(ESTIMATE!B262)","v":"Garage Doors"},null,null,null,null,{"$f":"ESTIMATE!P262","v":0},{"$f":"T(ESTIMATE!S262)","v":""},{"$f":"IF($Q$28=\"Allocate Adders\",ESTIMATE!BC262,ESTIMATE!AW262)","v":0},{"$f":"IF($Q$28=\"Allocate Adders\",ESTIMATE!BF262,ESTIMATE!AX262)","v":0},{"$f":"IF($Q$28=\"Allocate Adders\",ESTIMATE!BI262,ESTIMATE!AY262)","v":0},0,null,0]
[null,null,{"$f":"T(ESTIMATE!B263)","v":"Garage Doors Bid/Allowance"},null,null,null,null,{"$f":"ESTIMATE!P263","v":0},{"$f":"T(ESTIMATE!S263)","v":"ls"},{"$f":"IF($Q$28=\"Allocate Adders\",ESTIMATE!BC263,ESTIMATE!AW263)","v":0},{"$f":"IF($Q$28=\"Allocate Adders\",ESTIMATE!BF263,ESTIMATE!AX263)","v":0},{"$f":"IF($Q$28=\"Allocate Adders\",ESTIMATE!BI263,ESTIMATE!AY263)","v":0},0,null,0]
[null,null,{"$f":"T(ESTIMATE!B264)","v":"Garage Doors Only- 9'x7'  door, manual"},null,null,null,null,{"$f":"ESTIMATE!P264","v":0},{"$f":"T(ESTIMATE!S264)","v":"ea"},{"$f":"IF($Q$28=\"Allocate Adders\",ESTIMATE!BC264,ESTIMATE!AW264)","v":0},{"$f":"IF($Q$28=\"Allocate Adders\",ESTIMATE!BF264,ESTIMATE!AX264)","v":0},{"$f":"IF($Q$28=\"Allocate Adders\",ESTIMATE!BI264,ESTIMATE!AY264)","v":0},0,null,0]
[null,null,{"$f":"T(ESTIMATE!B265)","v":"Garage Doors Only- 16' door, manual"},null,null,null,null,{"$f":"ESTIMATE!P265","v":0},{"$f":"T(ESTIMATE!S265)","v":"ea"},{"$f":"IF($Q$28=\"Allocate Adders\",ESTIMATE!BC265,ESTIMATE!AW265)","v":0},{"$f":"IF($Q$28=\"Allocate Adders\",ESTIMATE!BF265,ESTIMATE!AX265)","v":0},{"$f":"IF($Q$28=\"Allocate Adders\",ESTIMATE!BI265,ESTIMATE!AY265)","v":0},0,null,0]
[null,null,{"$f":"T(ESTIMATE!B266)","v":"Garage Door Operator only"},null,null,null,null,{"$f":"ESTIMATE!P266","v":0},{"$f":"T(ESTIMATE!S266)","v":"ea"},{"$f":"IF($Q$28=\"Allocate Adders\",ESTIMATE!BC266,ESTIMATE!AW266)","v":0},{"$f":"IF($Q$28=\"Allocate Adders\",ESTIMATE!BF266,ESTIMATE!AX266)","v":0},{"$f":"IF($Q$28=\"Allocate Adders\",ESTIMATE!BI266,ESTIMATE!AY266)","v":0},0,null,0]
[null,null,{"$f":"T(ESTIMATE!B267)","v":"Replace springs for garage door"},null,null,null,null,{"$f":"ESTIMATE!P267","v":0},{"$f":"T(ESTIMATE!S267)","v":"ea"},{"$f":"IF($Q$28=\"Allocate Adders\",ESTIMATE!BC267,ESTIMATE!AW267)","v":0},{"$f":"IF($Q$28=\"Allocate Adders\",ESTIMATE!BF267,ESTIMATE!AX267)","v":0},{"$f":"IF($Q$28=\"Allocate Adders\",ESTIMATE!BI267,ESTIMATE!AY267)","v":0},0,null,0]
[null,null,{"$f":"T(ESTIMATE!B268)","v":""},null,null,null,null,{"$f":"ESTIMATE!P268","v":0},{"$f":"T(ESTIMATE!S268)","v":""},{"$f":"IF($Q$28=\"Allocate Adders\",ESTIMATE!BC268,ESTIMATE!AW268)","v":0},{"$f":"IF($Q$28=\"Allocate Adders\",ESTIMATE!BF268,ESTIMATE!AX268)","v":0},{"$f":"IF($Q$28=\"Allocate Adders\",ESTIMATE!BI268,ESTIMATE!AY268)","v":0},0,null,0]
[null,null,{"$f":"T(ESTIMATE!B269)","v":""},null,null,null,null,{"$f":"ESTIMATE!P269","v":0},{"$f":"T(ESTIMATE!S269)","v":""},{"$f":"IF($Q$28=\"Allocate Adders\",ESTIMATE!BC269,ESTIMATE!AW269)","v":0},{"$f":"IF($Q$28=\"Allocate Adders\",ESTIMATE!BF269,ESTIMATE!AX269)","v":0},{"$f":"IF($Q$28=\"Allocate Adders\",ESTIMATE!BI269,ESTIMATE!AY269)","v":0},0,null,0]
[null,null,{"$f":"T(ESTIMATE!B270)","v":""},null,null,null,null,{"$f":"ESTIMATE!P270","v":0},{"$f":"T(ESTIMATE!S270)","v":""},{"$f":"IF($Q$28=\"Allocate Adders\",ESTIMATE!BC270,ESTIMATE!AW270)","v":0},{"$f":"IF($Q$28=\"Allocate Adders\",ESTIMATE!BF270,ESTIMATE!AX270)","v":0},{"$f":"IF($Q$28=\"Allocate Adders\",ESTIMATE!BI270,ESTIMATE!AY270)","v":0},0,null,0]
[null,null,{"$f":"T(ESTIMATE!B271)","v":""},null,null,null,null,{"$f":"ESTIMATE!P271","v":0},{"$f":"T(ESTIMATE!S271)","v":""},{"$f":"IF($Q$28=\"Allocate Adders\",ESTIMATE!BC271,ESTIMATE!AW271)","v":0},{"$f":"IF($Q$28=\"Allocate Adders\",ESTIMATE!BF271,ESTIMATE!AX271)","v":0},{"$f":"IF($Q$28=\"Allocate Adders\",ESTIMATE!BI271,ESTIMATE!AY271)","v":0},0,null,0]
[null,null,{"$f":"T(ESTIMATE!B272)","v":""},null,null,null,null,{"$f":"ESTIMATE!P272","v":0},{"$f":"T(ESTIMATE!S272)","v":""},{"$f":"IF($Q$28=\"Allocate Adders\",ESTIMATE!BC272,ESTIMATE!AW272)","v":0},{"$f":"IF($Q$28=\"Allocate Adders\",ESTIMATE!BF272,ESTIMATE!AX272)","v":0},{"$f":"IF($Q$28=\"Allocate Adders\",ESTIMATE!BI272,ESTIMATE!AY272)","v":0},0,null,0]
[null,null,{"$f":"T(ESTIMATE!B273)","v":""},null,null,null,null,{"$f":"ESTIMATE!P273","v":0},{"$f":"T(ESTIMATE!S273)","v":""},{"$f":"IF($Q$28=\"Allocate Adders\",ESTIMATE!BC273,ESTIMATE!AW273)","v":0},{"$f":"IF($Q$28=\"Allocate Adders\",ESTIMATE!BF273,ESTIMATE!AX273)","v":0},{"$f":"IF($Q$28=\"Allocate Adders\",ESTIMATE!BI273,ESTIMATE!AY273)","v":0},0,null,0]
[null,null,{"$f":"T(ESTIMATE!B274)","v":""},null,null,null,null,{"$f":"ESTIMATE!P274","v":0},{"$f":"T(ESTIMATE!S274)","v":""},{"$f":"IF($Q$28=\"Allocate Adders\",ESTIMATE!BC274,ESTIMATE!AW274)","v":0},{"$f":"IF($Q$28=\"Allocate Adders\",ESTIMATE!BF274,ESTIMATE!AX274)","v":0},{"$f":"IF($Q$28=\"Allocate Adders\",ESTIMATE!BI274,ESTIMATE!AY274)","v":0},0,null,0]
[null,null,{"$f":"T(ESTIMATE!B275)","v":""},null,null,null,null,{"$f":"ESTIMATE!P275","v":0},{"$f":"T(ESTIMATE!S275)","v":""},{"$f":"IF($Q$28=\"Allocate Adders\",ESTIMATE!BC275,ESTIMATE!AW275)","v":0},{"$f":"IF($Q$28=\"Allocate Adders\",ESTIMATE!BF275,ESTIMATE!AX275)","v":0},{"$f":"IF($Q$28=\"Allocate Adders\",ESTIMATE!BI275,ESTIMATE!AY275)","v":0},0,null,0]
[null,null,{"$f":"T(ESTIMATE!B276)","v":""},null,null,null,null,{"$f":"ESTIMATE!P276","v":0},{"$f":"T(ESTIMATE!S276)","v":""},{"$f":"IF($Q$28=\"Allocate Adders\",ESTIMATE!BC276,ESTIMATE!AW276)","v":0},{"$f":"IF($Q$28=\"Allocate Adders\",ESTIMATE!BF276,ESTIMATE!AX276)","v":0},{"$f":"IF($Q$28=\"Allocate Adders\",ESTIMATE!BI276,ESTIMATE!AY276)","v":0},0,null,0]
[null,null,{"$f":"T(ESTIMATE!B277)","v":""},null,null,null,null,{"$f":"ESTIMATE!P277","v":0},{"$f":"T(ESTIMATE!S277)","v":""},{"$f":"IF($Q$28=\"Allocate Adders\",ESTIMATE!BC277,ESTIMATE!AW277)","v":0},{"$f":"IF($Q$28=\"Allocate Adders\",ESTIMATE!BF277,ESTIMATE!AX277)","v":0},{"$f":"IF($Q$28=\"Allocate Adders\",ESTIMATE!BI277,ESTIMATE!AY277)","v":0},0,null,0]
[null,null,{"$f":"T(ESTIMATE!B278)","v":""},null,null,null,null,{"$f":"ESTIMATE!P278","v":0},{"$f":"T(ESTIMATE!S278)","v":""},{"$f":"IF($Q$28=\"Allocate Adders\",ESTIMATE!BC278,ESTIMATE!AW278)","v":0},{"$f":"IF($Q$28=\"Allocate Adders\",ESTIMATE!BF278,ESTIMATE!AX278)","v":0},{"$f":"IF($Q$28=\"Allocate Adders\",ESTIMATE!BI278,ESTIMATE!AY278)","v":0},0,null,0]
[null,null,{"$f":"T(ESTIMATE!B279)","v":""},null,null,null,null,{"$f":"ESTIMATE!P279","v":0},{"$f":"T(ESTIMATE!S279)","v":""},{"$f":"IF($Q$28=\"Allocate Adders\",ESTIMATE!BC279,ESTIMATE!AW279)","v":0},{"$f":"IF($Q$28=\"Allocate Adders\",ESTIMATE!BF279,ESTIMATE!AX279)","v":0},{"$f":"IF($Q$28=\"Allocate Adders\",ESTIMATE!BI279,ESTIMATE!AY279)","v":0},0,null,0]
[null,null,{"$f":"T(ESTIMATE!B280)","v":""},null,null,null,null,{"$f":"ESTIMATE!P280","v":0},{"$f":"T(ESTIMATE!S280)","v":""},{"$f":"IF($Q$28=\"Allocate Adders\",ESTIMATE!BC280,ESTIMATE!AW280)","v":0},{"$f":"IF($Q$28=\"Allocate Adders\",ESTIMATE!BF280,ESTIMATE!AX280)","v":0},{"$f":"IF($Q$28=\"Allocate Adders\",ESTIMATE!BI280,ESTIMATE!AY280)","v":0},0,null,0]
[null,null,{"$f":"T(ESTIMATE!B281)","v":""},null,null,null,null,{"$f":"ESTIMATE!P281","v":0},{"$f":"T(ESTIMATE!S281)","v":""},{"$f":"IF($Q$28=\"Allocate Adders\",ESTIMATE!BC281,ESTIMATE!AW281)","v":0},{"$f":"IF($Q$28=\"Allocate Adders\",ESTIMATE!BF281,ESTIMATE!AX281)","v":0},{"$f":"IF($Q$28=\"Allocate Adders\",ESTIMATE!BI281,ESTIMATE!AY281)","v":0},0,null,0]
[null,null,null,null,null,null,null,null,null,null,null,null,null,null,{"$f":"O313","v":0}]
[null,null,{"$f":"T(ESTIMATE!AC283)","v":"EXT. DOORS & WINDOWS TOTAL"},null,null,null,null,null,null,{"$f":"SUM(J272:J312)","v":0},{"$f":"SUM(K272:K312)","v":0},{"$f":"SUM(L272:L312)","v":0},{"$f":"SUM(M272:N312)","v":0},null,{"$f":"SUM(O271:O311)","v":0}]
[null,null,null,null,null,null,null,null,null,null,null,null,null,null,{"$f":"O313","v":0}]
[]
[null,null,{"$f":"T(ESTIMATE!B286)","v":"MISC. EXT. IMPROVEMENTS"},null,null,null,null,{"$f":"SUM(H317:H356)","v":0},null,null,null,null,null,null,{"$f":"H316","v":0}]
[null,null,{"$f":"T(ESTIMATE!B287)","v":"Decking"},null,null,null,null,{"$f":"ESTIMATE!P287","v":0},{"$f":"T(ESTIMATE!S287)","v":""},{"$f":"IF($Q$28=\"Allocate Adders\",ESTIMATE!BC287,ESTIMATE!AW287)","v":0},{"$f":"IF($Q$28=\"Allocate Adders\",ESTIMATE!BF287,ESTIMATE!AX287)","v":0},{"$f":"IF($Q$28=\"Allocate Adders\",ESTIMATE!BI287,ESTIMATE!AY287)","v":0},{"$f":"SUM(J317:L317)","v":0},null,0]
[null,null,{"$f":"T(ESTIMATE!B288)","v":"Deck bid/allowance"},null,null,null,null,{"$f":"ESTIMATE!P288","v":0},{"$f":"T(ESTIMATE!S288)","v":"ls"},{"$f":"IF($Q$28=\"Allocate Adders\",ESTIMATE!BC288,ESTIMATE!AW288)","v":0},{"$f":"IF($Q$28=\"Allocate Adders\",ESTIMATE!BF288,ESTIMATE!AX288)","v":0},{"$f":"IF($Q$28=\"Allocate Adders\",ESTIMATE!BI288,ESTIMATE!AY288)","v":0},0,null,0]
[null,null,{"$f":"T(ESTIMATE!B289)","v":"New deck, columns, joists, railing-treated lumber"},null,null,null,null,{"$f":"ESTIMATE!P289","v":0},{"$f":"T(ESTIMATE!S289)","v":"sf"},{"$f":"IF($Q$28=\"Allocate Adders\",ESTIMATE!BC289,ESTIMATE!AW289)","v":0},{"$f":"IF($Q$28=\"Allocate Adders\",ESTIMATE!BF289,ESTIMATE!AX289)","v":0},{"$f":"IF($Q$28=\"Allocate Adders\",ESTIMATE!BI289,ESTIMATE!AY289)","v":0},0,null,0]
[null,null,{"$f":"T(ESTIMATE!B290)","v":"New deck, columns, joists, railing-cedar"},null,null,null,null,{"$f":"ESTIMATE!P290","v":0},{"$f":"T(ESTIMATE!S290)","v":"sf"},{"$f":"IF($Q$28=\"Allocate Adders\",ESTIMATE!BC290,ESTIMATE!AW290)","v":0},{"$f":"IF($Q$28=\"Allocate Adders\",ESTIMATE!BF290,ESTIMATE!AX290)","v":0},{"$f":"IF($Q$28=\"Allocate Adders\",ESTIMATE!BI290,ESTIMATE!AY290)","v":0},0,null,0]
[null,null,{"$f":"T(ESTIMATE!B291)","v":"Existing deck, replace decking"},null,null,null,null,{"$f":"ESTIMATE!P291","v":0},{"$f":"T(ESTIMATE!S291)","v":"sf"},{"$f":"IF($Q$28=\"Allocate Adders\",ESTIMATE!BC291,ESTIMATE!AW291)","v":0},{"$f":"IF($Q$28=\"Allocate Adders\",ESTIMATE!BF291,ESTIMATE!AX291)","v":0},{"$f":"IF($Q$28=\"Allocate Adders\",ESTIMATE!BI291,ESTIMATE!AY291)","v":0},0,null,0]
[null,null,{"$f":"T(ESTIMATE!B292)","v":"Install railing w/ wood balusters only"},null,null,null,null,{"$f":"ESTIMATE!P292","v":0},{"$f":"T(ESTIMATE!S292)","v":"lf"},{"$f":"IF($Q$28=\"Allocate Adders\",ESTIMATE!BC292,ESTIMATE!AW292)","v":0},{"$f":"IF($Q$28=\"Allocate Adders\",ESTIMATE!BF292,ESTIMATE!AX292)","v":0},{"$f":"IF($Q$28=\"Allocate Adders\",ESTIMATE!BI292,ESTIMATE!AY292)","v":0},0,null,0]
[null,null,{"$f":"T(ESTIMATE!B293)","v":"Install railing w/ metal balusters only"},null,null,null,null,{"$f":"ESTIMATE!P293","v":0},{"$f":"T(ESTIMATE!S293)","v":"lf"},{"$f":"IF($Q$28=\"Allocate Adders\",ESTIMATE!BC293,ESTIMATE!AW293)","v":0},{"$f":"IF($Q$28=\"Allocate Adders\",ESTIMATE!BF293,ESTIMATE!AX293)","v":0},{"$f":"IF($Q$28=\"Allocate Adders\",ESTIMATE!BI293,ESTIMATE!AY293)","v":0},0,null,0]
[null,null,{"$f":"T(ESTIMATE!B294)","v":"Stairs, 5 to 7 risers"},null,null,null,null,{"$f":"ESTIMATE!P294","v":0},{"$f":"T(ESTIMATE!S294)","v":"ea"},{"$f":"IF($Q$28=\"Allocate Adders\",ESTIMATE!BC294,ESTIMATE!AW294)","v":0},{"$f":"IF($Q$28=\"Allocate Adders\",ESTIMATE!BF294,ESTIMATE!AX294)","v":0},{"$f":"IF($Q$28=\"Allocate Adders\",ESTIMATE!BI294,ESTIMATE!AY294)","v":0},0,null,0]
[null,null,{"$f":"T(ESTIMATE!B295)","v":""},null,null,null,null,{"$f":"ESTIMATE!P295","v":0},{"$f":"T(ESTIMATE!S295)","v":""},{"$f":"IF($Q$28=\"Allocate Adders\",ESTIMATE!BC295,ESTIMATE!AW295)","v":0},{"$f":"IF($Q$28=\"Allocate Adders\",ESTIMATE!BF295,ESTIMATE!AX295)","v":0},{"$f":"IF($Q$28=\"Allocate Adders\",ESTIMATE!BI295,ESTIMATE!AY295)","v":0},0,null,0]
[null,null,{"$f":"T(ESTIMATE!B296)","v":""},null,null,null,null,{"$f":"ESTIMATE!P296","v":0},{"$f":"T(ESTIMATE!S296)","v":""},{"$f":"IF($Q$28=\"Allocate Adders\",ESTIMATE!BC296,ESTIMATE!AW296)","v":0},{"$f":"IF($Q$28=\"Allocate Adders\",ESTIMATE!BF296,ESTIMATE!AX296)","v":0},{"$f":"IF($Q$28=\"Allocate Adders\",ESTIMATE!BI296,ESTIMATE!AY296)","v":0},0,null,0]
[null,null,{"$f":"T(ESTIMATE!B297)","v":"Fencing"},null,null,null,null,{"$f":"ESTIMATE!P297","v":0},{"$f":"T(ESTIMATE!S297)","v":""},{"$f":"IF($Q$28=\"Allocate Adders\",ESTIMATE!BC297,ESTIMATE!AW297)","v":0},{"$f":"IF($Q$28=\"Allocate Adders\",ESTIMATE!BF297,ESTIMATE!AX297)","v":0},{"$f":"IF($Q$28=\"Allocate Adders\",ESTIMATE!BI297,ESTIMATE!AY297)","v":0},0,null,0]
[null,null,{"$f":"T(ESTIMATE!B298)","v":"Chain link fencing"},null,null,null,null,{"$f":"ESTIMATE!P298","v":0},{"$f":"T(ESTIMATE!S298)","v":"lf"},{"$f":"IF($Q$28=\"Allocate Adders\",ESTIMATE!BC298,ESTIMATE!AW298)","v":0},{"$f":"IF($Q$28=\"Allocate Adders\",ESTIMATE!BF298,ESTIMATE!AX298)","v":0},{"$f":"IF($Q$28=\"Allocate Adders\",ESTIMATE!BI298,ESTIMATE!AY298)","v":0},0,null,0]
[null,null,{"$f":"T(ESTIMATE!B299)","v":"Wood fencing"},null,null,null,null,{"$f":"ESTIMATE!P299","v":0},{"$f":"T(ESTIMATE!S299)","v":"lf"},{"$f":"IF($Q$28=\"Allocate Adders\",ESTIMATE!BC299,ESTIMATE!AW299)","v":0},{"$f":"IF($Q$28=\"Allocate Adders\",ESTIMATE!BF299,ESTIMATE!AX299)","v":0},{"$f":"IF($Q$28=\"Allocate Adders\",ESTIMATE!BI299,ESTIMATE!AY299)","v":0},0,null,0]
[null,null,{"$f":"T(ESTIMATE!B300)","v":""},null,null,null,null,{"$f":"ESTIMATE!P300","v":0},{"$f":"T(ESTIMATE!S300)","v":""},{"$f":"IF($Q$28=\"Allocate Adders\",ESTIMATE!BC300,ESTIMATE!AW300)","v":0},{"$f":"IF($Q$28=\"Allocate Adders\",ESTIMATE!BF300,ESTIMATE!AX300)","v":0},{"$f":"IF($Q$28=\"Allocate Adders\",ESTIMATE!BI300,ESTIMATE!AY300)","v":0},0,null,0]
[null,null,{"$f":"T(ESTIMATE!B301)","v":""},null,null,null,null,{"$f":"ESTIMATE!P301","v":0},{"$f":"T(ESTIMATE!S301)","v":""},{"$f":"IF($Q$28=\"Allocate Adders\",ESTIMATE!BC301,ESTIMATE!AW301)","v":0},{"$f":"IF($Q$28=\"Allocate Adders\",ESTIMATE!BF301,ESTIMATE!AX301)","v":0},{"$f":"IF($Q$28=\"Allocate Adders\",ESTIMATE!BI301,ESTIMATE!AY301)","v":0},0,null,0]
[null,null,{"$f":"T(ESTIMATE!B302)","v":"Miscellaneous Specialties"},null,null,null,null,{"$f":"ESTIMATE!P302","v":0},{"$f":"T(ESTIMATE!S302)","v":""},{"$f":"IF($Q$28=\"Allocate Adders\",ESTIMATE!BC302,ESTIMATE!AW302)","v":0},{"$f":"IF($Q$28=\"Allocate Adders\",ESTIMATE!BF302,ESTIMATE!AX302)","v":0},{"$f":"IF($Q$28=\"Allocate Adders\",ESTIMATE!BI302,ESTIMATE!AY302)","v":0},0,null,0]
[null,null,{"$f":"T(ESTIMATE!B303)","v":"New mailbox"},null,null,null,null,{"$f":"ESTIMATE!P303","v":0},{"$f":"T(ESTIMATE!S303)","v":"ea"},{"$f":"IF($Q$28=\"Allocate Adders\",ESTIMATE!BC303,ESTIMATE!AW303)","v":0},{"$f":"IF($Q$28=\"Allocate Adders\",ESTIMATE!BF303,ESTIMATE!AX303)","v":0},{"$f":"IF($Q$28=\"Allocate Adders\",ESTIMATE!BI303,ESTIMATE!AY303)","v":0},0,null,0]
[null,null,{"$f":"T(ESTIMATE!B304)","v":"New address #"},null,null,null,null,{"$f":"ESTIMATE!P304","v":0},{"$f":"T(ESTIMATE!S304)","v":"ea"},{"$f":"IF($Q$28=\"Allocate Adders\",ESTIMATE!BC304,ESTIMATE!AW304)","v":0},{"$f":"IF($Q$28=\"Allocate Adders\",ESTIMATE!BF304,ESTIMATE!AX304)","v":0},{"$f":"IF($Q$28=\"Allocate Adders\",ESTIMATE!BI304,ESTIMATE!AY304)","v":0},0,null,0]
[null,null,{"$f":"T(ESTIMATE!B305)","v":"Shutters"},null,null,null,null,{"$f":"ESTIMATE!P305","v":0},{"$f":"T(ESTIMATE!S305)","v":"ea"},{"$f":"IF($Q$28=\"Allocate Adders\",ESTIMATE!BC305,ESTIMATE!AW305)","v":0},{"$f":"IF($Q$28=\"Allocate Adders\",ESTIMATE!BF305,ESTIMATE!AX305)","v":0},{"$f":"IF($Q$28=\"Allocate Adders\",ESTIMATE!BI305,ESTIMATE!AY305)","v":0},0,null,0]
[null,null,{"$f":"T(ESTIMATE!B306)","v":""},null,null,null,null,{"$f":"ESTIMATE!P306","v":0},{"$f":"T(ESTIMATE!S306)","v":""},{"$f":"IF($Q$28=\"Allocate Adders\",ESTIMATE!BC306,ESTIMATE!AW306)","v":0},{"$f":"IF($Q$28=\"Allocate Adders\",ESTIMATE!BF306,ESTIMATE!AX306)","v":0},{"$f":"IF($Q$28=\"Allocate Adders\",ESTIMATE!BI306,ESTIMATE!AY306)","v":0},0,null,0]
[null,null,{"$f":"T(ESTIMATE!B307)","v":""},null,null,null,null,{"$f":"ESTIMATE!P307","v":0},{"$f":"T(ESTIMATE!S307)","v":""},{"$f":"IF($Q$28=\"Allocate Adders\",ESTIMATE!BC307,ESTIMATE!AW307)","v":0},{"$f":"IF($Q$28=\"Allocate Adders\",ESTIMATE!BF307,ESTIMATE!AX307)","v":0},{"$f":"IF($Q$28=\"Allocate Adders\",ESTIMATE!BI307,ESTIMATE!AY307)","v":0},0,null,0]
[null,null,{"$f":"T(ESTIMATE!B308)","v":"Misc. Exterior Structures"},null,null,null,null,{"$f":"ESTIMATE!P308","v":0},{"$f":"T(ESTIMATE!S308)","v":""},{"$f":"IF($Q$28=\"Allocate Adders\",ESTIMATE!BC308,ESTIMATE!AW308)","v":0},{"$f":"IF($Q$28=\"Allocate Adders\",ESTIMATE!BF308,ESTIMATE!AX308)","v":0},{"$f":"IF($Q$28=\"Allocate Adders\",ESTIMATE!BI308,ESTIMATE!AY308)","v":0},0,null,0]
[null,null,{"$f":"T(ESTIMATE!B309)","v":"Premanufactured carport"},null,null,null,null,{"$f":"ESTIMATE!P309","v":0},{"$f":"T(ESTIMATE!S309)","v":"ea"},{"$f":"IF($Q$28=\"Allocate Adders\",ESTIMATE!BC309,ESTIMATE!AW309)","v":0},{"$f":"IF($Q$28=\"Allocate Adders\",ESTIMATE!BF309,ESTIMATE!AX309)","v":0},{"$f":"IF($Q$28=\"Allocate Adders\",ESTIMATE!BI309,ESTIMATE!AY309)","v":0},0,null,0]
[null,null,{"$f":"T(ESTIMATE!B310)","v":"Storage shed, wood"},null,null,null,null,{"$f":"ESTIMATE!P310","v":0},{"$f":"T(ESTIMATE!S310)","v":"ea"},{"$f":"IF($Q$28=\"Allocate Adders\",ESTIMATE!BC310,ESTIMATE!AW310)","v":0},{"$f":"IF($Q$28=\"Allocate Adders\",ESTIMATE!BF310,ESTIMATE!AX310)","v":0},{"$f":"IF($Q$28=\"Allocate Adders\",ESTIMATE!BI310,ESTIMATE!AY310)","v":0},0,null,0]
[null,null,{"$f":"T(ESTIMATE!B311)","v":"Gazebo"},null,null,null,null,{"$f":"ESTIMATE!P311","v":0},{"$f":"T(ESTIMATE!S311)","v":"sf"},{"$f":"IF($Q$28=\"Allocate Adders\",ESTIMATE!BC311,ESTIMATE!AW311)","v":0},{"$f":"IF($Q$28=\"Allocate Adders\",ESTIMATE!BF311,ESTIMATE!AX311)","v":0},{"$f":"IF($Q$28=\"Allocate Adders\",ESTIMATE!BI311,ESTIMATE!AY311)","v":0},0,null,0]
[null,null,{"$f":"T(ESTIMATE!B312)","v":"Covered patio, floor, roof frame, decking, treated"},null,null,null,null,{"$f":"ESTIMATE!P312","v":0},{"$f":"T(ESTIMATE!S312)","v":"sf"},{"$f":"IF($Q$28=\"Allocate Adders\",ESTIMATE!BC312,ESTIMATE!AW312)","v":0},{"$f":"IF($Q$28=\"Allocate Adders\",ESTIMATE!BF312,ESTIMATE!AX312)","v":0},{"$f":"IF($Q$28=\"Allocate Adders\",ESTIMATE!BI312,ESTIMATE!AY312)","v":0},0,null,0]
[null,null,{"$f":"T(ESTIMATE!B313)","v":""},null,null,null,null,{"$f":"ESTIMATE!P313","v":0},{"$f":"T(ESTIMATE!S313)","v":""},{"$f":"IF($Q$28=\"Allocate Adders\",ESTIMATE!BC313,ESTIMATE!AW313)","v":0},{"$f":"IF($Q$28=\"Allocate Adders\",ESTIMATE!BF313,ESTIMATE!AX313)","v":0},{"$f":"IF($Q$28=\"Allocate Adders\",ESTIMATE!BI313,ESTIMATE!AY313)","v":0},0,null,0]
[null,null,{"$f":"T(ESTIMATE!B314)","v":""},null,null,null,null,{"$f":"ESTIMATE!P314","v":0},{"$f":"T(ESTIMATE!S314)","v":""},{"$f":"IF($Q$28=\"Allocate Adders\",ESTIMATE!BC314,ESTIMATE!AW314)","v":0},{"$f":"IF($Q$28=\"Allocate Adders\",ESTIMATE!BF314,ESTIMATE!AX314)","v":0},{"$f":"IF($Q$28=\"Allocate Adders\",ESTIMATE!BI314,ESTIMATE!AY314)","v":0},0,null,0]
[null,null,{"$f":"T(ESTIMATE!B315)","v":"Pools"},null,null,null,null,{"$f":"ESTIMATE!P315","v":0},{"$f":"T(ESTIMATE!S315)","v":""},{"$f":"IF($Q$28=\"Allocate Adders\",ESTIMATE!BC315,ESTIMATE!AW315)","v":0},{"$f":"IF($Q$28=\"Allocate Adders\",ESTIMATE!BF315,ESTIMATE!AX315)","v":0},{"$f":"IF($Q$28=\"Allocate Adders\",ESTIMATE!BI315,ESTIMATE!AY315)","v":0},0,null,0]
[null,null,{"$f":"T(ESTIMATE!B316)","v":"New Pool structure"},null,null,null,null,{"$f":"ESTIMATE!P316","v":0},{"$f":"T(ESTIMATE!S316)","v":"sf"},{"$f":"IF($Q$28=\"Allocate Adders\",ESTIMATE!BC316,ESTIMATE!AW316)","v":0},{"$f":"IF($Q$28=\"Allocate Adders\",ESTIMATE!BF316,ESTIMATE!AX316)","v":0},{"$f":"IF($Q$28=\"Allocate Adders\",ESTIMATE!BI316,ESTIMATE!AY316)","v":0},0,null,0]
[null,null,{"$f":"T(ESTIMATE!B317)","v":"Pool heater/motor"},null,null,null,null,{"$f":"ESTIMATE!P317","v":0},{"$f":"T(ESTIMATE!S317)","v":"ea"},{"$f":"IF($Q$28=\"Allocate Adders\",ESTIMATE!BC317,ESTIMATE!AW317)","v":0},{"$f":"IF($Q$28=\"Allocate Adders\",ESTIMATE!BF317,ESTIMATE!AX317)","v":0},{"$f":"IF($Q$28=\"Allocate Adders\",ESTIMATE!BI317,ESTIMATE!AY317)","v":0},0,null,0]
[null,null,{"$f":"T(ESTIMATE!B318)","v":"Pool filter system"},null,null,null,null,{"$f":"ESTIMATE!P318","v":0},{"$f":"T(ESTIMATE!S318)","v":"ea"},{"$f":"IF($Q$28=\"Allocate Adders\",ESTIMATE!BC318,ESTIMATE!AW318)","v":0},{"$f":"IF($Q$28=\"Allocate Adders\",ESTIMATE!BF318,ESTIMATE!AX318)","v":0},{"$f":"IF($Q$28=\"Allocate Adders\",ESTIMATE!BI318,ESTIMATE!AY318)","v":0},0,null,0]
[null,null,{"$f":"T(ESTIMATE!B319)","v":"Replaster existing pool wall"},null,null,null,null,{"$f":"ESTIMATE!P319","v":0},{"$f":"T(ESTIMATE!S319)","v":"sf"},{"$f":"IF($Q$28=\"Allocate Adders\",ESTIMATE!BC319,ESTIMATE!AW319)","v":0},{"$f":"IF($Q$28=\"Allocate Adders\",ESTIMATE!BF319,ESTIMATE!AX319)","v":0},{"$f":"IF($Q$28=\"Allocate Adders\",ESTIMATE!BI319,ESTIMATE!AY319)","v":0},0,null,0]
[null,null,{"$f":"T(ESTIMATE!B320)","v":""},null,null,null,null,{"$f":"ESTIMATE!P320","v":0},{"$f":"T(ESTIMATE!S320)","v":""},{"$f":"IF($Q$28=\"Allocate Adders\",ESTIMATE!BC320,ESTIMATE!AW320)","v":0},{"$f":"IF($Q$28=\"Allocate Adders\",ESTIMATE!BF320,ESTIMATE!AX320)","v":0},{"$f":"IF($Q$28=\"Allocate Adders\",ESTIMATE!BI320,ESTIMATE!AY320)","v":0},0,null,0]
[null,null,{"$f":"T(ESTIMATE!B321)","v":""},null,null,null,null,{"$f":"ESTIMATE!P321","v":0},{"$f":"T(ESTIMATE!S321)","v":""},{"$f":"IF($Q$28=\"Allocate Adders\",ESTIMATE!BC321,ESTIMATE!AW321)","v":0},{"$f":"IF($Q$28=\"Allocate Adders\",ESTIMATE!BF321,ESTIMATE!AX321)","v":0},{"$f":"IF($Q$28=\"Allocate Adders\",ESTIMATE!BI321,ESTIMATE!AY321)","v":0},0,null,0]
[null,null,{"$f":"T(ESTIMATE!B322)","v":""},null,null,null,null,{"$f":"ESTIMATE!P322","v":0},{"$f":"T(ESTIMATE!S322)","v":""},{"$f":"IF($Q$28=\"Allocate Adders\",ESTIMATE!BC322,ESTIMATE!AW322)","v":0},{"$f":"IF($Q$28=\"Allocate Adders\",ESTIMATE!BF322,ESTIMATE!AX322)","v":0},{"$f":"IF($Q$28=\"Allocate Adders\",ESTIMATE!BI322,ESTIMATE!AY322)","v":0},0,null,0]
[null,null,{"$f":"T(ESTIMATE!B323)","v":""},null,null,null,null,{"$f":"ESTIMATE!P323","v":0},{"$f":"T(ESTIMATE!S323)","v":""},{"$f":"IF($Q$28=\"Allocate Adders\",ESTIMATE!BC323,ESTIMATE!AW323)","v":0},{"$f":"IF($Q$28=\"Allocate Adders\",ESTIMATE!BF323,ESTIMATE!AX323)","v":0},{"$f":"IF($Q$28=\"Allocate Adders\",ESTIMATE!BI323,ESTIMATE!AY323)","v":0},0,null,0]
[null,null,{"$f":"T(ESTIMATE!B324)","v":""},null,null,null,null,{"$f":"ESTIMATE!P324","v":0},{"$f":"T(ESTIMATE!S324)","v":""},{"$f":"IF($Q$28=\"Allocate Adders\",ESTIMATE!BC324,ESTIMATE!AW324)","v":0},{"$f":"IF($Q$28=\"Allocate Adders\",ESTIMATE!BF324,ESTIMATE!AX324)","v":0},{"$f":"IF($Q$28=\"Allocate Adders\",ESTIMATE!BI324,ESTIMATE!AY324)","v":0},0,null,0]
[null,null,{"$f":"T(ESTIMATE!B325)","v":""},null,null,null,null,{"$f":"ESTIMATE!P325","v":0},{"$f":"T(ESTIMATE!S325)","v":""},{"$f":"IF($Q$28=\"Allocate Adders\",ESTIMATE!BC325,ESTIMATE!AW325)","v":0},{"$f":"IF($Q$28=\"Allocate Adders\",ESTIMATE!BF325,ESTIMATE!AX325)","v":0},{"$f":"IF($Q$28=\"Allocate Adders\",ESTIMATE!BI325,ESTIMATE!AY325)","v":0},0,null,0]
[null,null,{"$f":"T(ESTIMATE!B326)","v":""},null,null,null,null,{"$f":"ESTIMATE!P326","v":0},{"$f":"T(ESTIMATE!S326)","v":""},{"$f":"IF($Q$28=\"Allocate Adders\",ESTIMATE!BC326,ESTIMATE!AW326)","v":0},{"$f":"IF($Q$28=\"Allocate Adders\",ESTIMATE!BF326,ESTIMATE!AX326)","v":0},{"$f":"IF($Q$28=\"Allocate Adders\",ESTIMATE!BI326,ESTIMATE!AY326)","v":0},0,null,0]
[null,null,null,null,null,null,null,null,null,null,null,null,null,null,{"$f":"O358","v":0}]
[null,null,{"$f":"T(ESTIMATE!AC328)","v":"MISC. EXT. IMPROVEMENTS TOTAL"},null,null,null,null,null,null,{"$f":"SUM(J317:J357)","v":0},{"$f":"SUM(K317:K357)","v":0},{"$f":"SUM(L317:L357)","v":0},{"$f":"SUM(M317:N357)","v":0},null,{"$f":"SUM(O316:O356)","v":0}]
[null,null,null,null,null,null,null,null,null,null,null,null,null,null,{"$f":"O358","v":0}]
[]
[null,null,{"$f":"T(ESTIMATE!B331)","v":"LANDSCAPING"},null,null,null,null,{"$f":"SUM(H362:H401)","v":0},null,null,null,null,null,null,{"$f":"H361","v":0}]
[null,null,{"$f":"T(ESTIMATE!B332)","v":"Landscaping bid/allowance, trees, bushes, flowers"},null,null,null,null,{"$f":"ESTIMATE!P332","v":0},{"$f":"T(ESTIMATE!S332)","v":"ls"},{"$f":"IF($Q$28=\"Allocate Adders\",ESTIMATE!BC332,ESTIMATE!AW332)","v":0},{"$f":"IF($Q$28=\"Allocate Adders\",ESTIMATE!BF332,ESTIMATE!AX332)","v":0},{"$f":"IF($Q$28=\"Allocate Adders\",ESTIMATE!BI332,ESTIMATE!AY332)","v":0},{"$f":"SUM(J362:L362)","v":0},null,0]
[null,null,{"$f":"T(ESTIMATE!B333)","v":"Sod"},null,null,null,null,{"$f":"ESTIMATE!P333","v":0},{"$f":"T(ESTIMATE!S333)","v":"sf"},{"$f":"IF($Q$28=\"Allocate Adders\",ESTIMATE!BC333,ESTIMATE!AW333)","v":0},{"$f":"IF($Q$28=\"Allocate Adders\",ESTIMATE!BF333,ESTIMATE!AX333)","v":0},{"$f":"IF($Q$28=\"Allocate Adders\",ESTIMATE!BI333,ESTIMATE!AY333)","v":0},0,null,0]
[null,null,{"$f":"T(ESTIMATE!B334)","v":"Seeding"},null,null,null,null,{"$f":"ESTIMATE!P334","v":0},{"$f":"T(ESTIMATE!S334)","v":"sf"},{"$f":"IF($Q$28=\"Allocate Adders\",ESTIMATE!BC334,ESTIMATE!AW334)","v":0},{"$f":"IF($Q$28=\"Allocate Adders\",ESTIMATE!BF334,ESTIMATE!AX334)","v":0},{"$f":"IF($Q$28=\"Allocate Adders\",ESTIMATE!BI334,ESTIMATE!AY334)","v":0},0,null,0]
[null,null,{"$f":"T(ESTIMATE!B335)","v":"Shrubs/plantings, 1 gallon"},null,null,null,null,{"$f":"ESTIMATE!P335","v":0},{"$f":"T(ESTIMATE!S335)","v":"ea"},{"$f":"IF($Q$28=\"Allocate Adders\",ESTIMATE!BC335,ESTIMATE!AW335)","v":0},{"$f":"IF($Q$28=\"Allocate Adders\",ESTIMATE!BF335,ESTIMATE!AX335)","v":0},{"$f":"IF($Q$28=\"Allocate Adders\",ESTIMATE!BI335,ESTIMATE!AY335)","v":0},0,null,0]
[null,null,{"$f":"T(ESTIMATE!B336)","v":"Shrubs/plantings, 2 gallon"},null,null,null,null,{"$f":"ESTIMATE!P336","v":0},{"$f":"T(ESTIMATE!S336)","v":"ea"},{"$f":"IF($Q$28=\"Allocate Adders\",ESTIMATE!BC336,ESTIMATE!AW336)","v":0},{"$f":"IF($Q$28=\"Allocate Adders\",ESTIMATE!BF336,ESTIMATE!AX336)","v":0},{"$f":"IF($Q$28=\"Allocate Adders\",ESTIMATE!BI336,ESTIMATE!AY336)","v":0},0,null,0]
[null,null,{"$f":"T(ESTIMATE!B337)","v":"Shrubs/plantings, 5 gallon"},null,null,null,null,{"$f":"ESTIMATE!P337","v":0},{"$f":"T(ESTIMATE!S337)","v":"ea"},{"$f":"IF($Q$28=\"Allocate Adders\",ESTIMATE!BC337,ESTIMATE!AW337)","v":0},{"$f":"IF($Q$28=\"Allocate Adders\",ESTIMATE!BF337,ESTIMATE!AX337)","v":0},{"$f":"IF($Q$28=\"Allocate Adders\",ESTIMATE!BI337,ESTIMATE!AY337)","v":0},0,null,0]
[null,null,{"$f":"T(ESTIMATE!B338)","v":"Small trees, 1-2\" caliper, 10 gallon"},null,null,null,null,{"$f":"ESTIMATE!P338","v":0},{"$f":"T(ESTIMATE!S338)","v":"ea"},{"$f":"IF($Q$28=\"Allocate Adders\",ESTIMATE!BC338,ESTIMATE!AW338)","v":0},{"$f":"IF($Q$28=\"Allocate Adders\",ESTIMATE!BF338,ESTIMATE!AX338)","v":0},{"$f":"IF($Q$28=\"Allocate Adders\",ESTIMATE!BI338,ESTIMATE!AY338)","v":0},0,null,0]
[null,null,{"$f":"T(ESTIMATE!B339)","v":"Small trees, 1-2\" 15 gallon"},null,null,null,null,{"$f":"ESTIMATE!P339","v":0},{"$f":"T(ESTIMATE!S339)","v":"ea"},{"$f":"IF($Q$28=\"Allocate Adders\",ESTIMATE!BC339,ESTIMATE!AW339)","v":0},{"$f":"IF($Q$28=\"Allocate Adders\",ESTIMATE!BF339,ESTIMATE!AX339)","v":0},{"$f":"IF($Q$28=\"Allocate Adders\",ESTIMATE!BI339,ESTIMATE!AY339)","v":0},0,null,0]
[null,null,{"$f":"T(ESTIMATE!B340)","v":"36\" box tree"},null,null,null,null,{"$f":"ESTIMATE!P340","v":0},{"$f":"T(ESTIMATE!S340)","v":"ea"},{"$f":"IF($Q$28=\"Allocate Adders\",ESTIMATE!BC340,ESTIMATE!AW340)","v":0},{"$f":"IF($Q$28=\"Allocate Adders\",ESTIMATE!BF340,ESTIMATE!AX340)","v":0},{"$f":"IF($Q$28=\"Allocate Adders\",ESTIMATE!BI340,ESTIMATE!AY340)","v":0},0,null,0]
[null,null,{"$f":"T(ESTIMATE!B341)","v":"Mulch, standard 3\" thick"},null,null,null,null,{"$f":"ESTIMATE!P341","v":0},{"$f":"T(ESTIMATE!S341)","v":"sf"},{"$f":"IF($Q$28=\"Allocate Adders\",ESTIMATE!BC341,ESTIMATE!AW341)","v":0},{"$f":"IF($Q$28=\"Allocate Adders\",ESTIMATE!BF341,ESTIMATE!AX341)","v":0},{"$f":"IF($Q$28=\"Allocate Adders\",ESTIMATE!BI341,ESTIMATE!AY341)","v":0},0,null,0]
[null,null,{"$f":"T(ESTIMATE!B342)","v":"Landscape rock, 3/4\""},null,null,null,null,{"$f":"ESTIMATE!P342","v":0},{"$f":"T(ESTIMATE!S342)","v":"sf"},{"$f":"IF($Q$28=\"Allocate Adders\",ESTIMATE!BC342,ESTIMATE!AW342)","v":0},{"$f":"IF($Q$28=\"Allocate Adders\",ESTIMATE!BF342,ESTIMATE!AX342)","v":0},{"$f":"IF($Q$28=\"Allocate Adders\",ESTIMATE!BI342,ESTIMATE!AY342)","v":0},0,null,0]
[null,null,{"$f":"T(ESTIMATE!B343)","v":"Cobble stone rock"},null,null,null,null,{"$f":"ESTIMATE!P343","v":0},{"$f":"T(ESTIMATE!S343)","v":"sf"},{"$f":"IF($Q$28=\"Allocate Adders\",ESTIMATE!BC343,ESTIMATE!AW343)","v":0},{"$f":"IF($Q$28=\"Allocate Adders\",ESTIMATE!BF343,ESTIMATE!AX343)","v":0},{"$f":"IF($Q$28=\"Allocate Adders\",ESTIMATE!BI343,ESTIMATE!AY343)","v":0},0,null,0]
[null,null,{"$f":"T(ESTIMATE!B344)","v":"Tree removal, per tree"},null,null,null,null,{"$f":"ESTIMATE!P344","v":0},{"$f":"T(ESTIMATE!S344)","v":"ea"},{"$f":"IF($Q$28=\"Allocate Adders\",ESTIMATE!BC344,ESTIMATE!AW344)","v":0},{"$f":"IF($Q$28=\"Allocate Adders\",ESTIMATE!BF344,ESTIMATE!AX344)","v":0},{"$f":"IF($Q$28=\"Allocate Adders\",ESTIMATE!BI344,ESTIMATE!AY344)","v":0},0,null,0]
[null,null,{"$f":"T(ESTIMATE!B345)","v":"Stacked, retaining wall"},null,null,null,null,{"$f":"ESTIMATE!P345","v":0},{"$f":"T(ESTIMATE!S345)","v":"sf"},{"$f":"IF($Q$28=\"Allocate Adders\",ESTIMATE!BC345,ESTIMATE!AW345)","v":0},{"$f":"IF($Q$28=\"Allocate Adders\",ESTIMATE!BF345,ESTIMATE!AX345)","v":0},{"$f":"IF($Q$28=\"Allocate Adders\",ESTIMATE!BI345,ESTIMATE!AY345)","v":0},0,null,0]
[null,null,{"$f":"T(ESTIMATE!B346)","v":""},null,null,null,null,{"$f":"ESTIMATE!P346","v":0},{"$f":"T(ESTIMATE!S346)","v":""},{"$f":"IF($Q$28=\"Allocate Adders\",ESTIMATE!BC346,ESTIMATE!AW346)","v":0},{"$f":"IF($Q$28=\"Allocate Adders\",ESTIMATE!BF346,ESTIMATE!AX346)","v":0},{"$f":"IF($Q$28=\"Allocate Adders\",ESTIMATE!BI346,ESTIMATE!AY346)","v":0},0,null,0]
[null,null,{"$f":"T(ESTIMATE!B347)","v":""},null,null,null,null,{"$f":"ESTIMATE!P347","v":0},{"$f":"T(ESTIMATE!S347)","v":""},{"$f":"IF($Q$28=\"Allocate Adders\",ESTIMATE!BC347,ESTIMATE!AW347)","v":0},{"$f":"IF($Q$28=\"Allocate Adders\",ESTIMATE!BF347,ESTIMATE!AX347)","v":0},{"$f":"IF($Q$28=\"Allocate Adders\",ESTIMATE!BI347,ESTIMATE!AY347)","v":0},0,null,0]
[null,null,{"$f":"T(ESTIMATE!B348)","v":""},null,null,null,null,{"$f":"ESTIMATE!P348","v":0},{"$f":"T(ESTIMATE!S348)","v":""},{"$f":"IF($Q$28=\"Allocate Adders\",ESTIMATE!BC348,ESTIMATE!AW348)","v":0},{"$f":"IF($Q$28=\"Allocate Adders\",ESTIMATE!BF348,ESTIMATE!AX348)","v":0},{"$f":"IF($Q$28=\"Allocate Adders\",ESTIMATE!BI348,ESTIMATE!AY348)","v":0},0,null,0]
[null,null,{"$f":"T(ESTIMATE!B349)","v":""},null,null,null,null,{"$f":"ESTIMATE!P349","v":0},{"$f":"T(ESTIMATE!S349)","v":""},{"$f":"IF($Q$28=\"Allocate Adders\",ESTIMATE!BC349,ESTIMATE!AW349)","v":0},{"$f":"IF($Q$28=\"Allocate Adders\",ESTIMATE!BF349,ESTIMATE!AX349)","v":0},{"$f":"IF($Q$28=\"Allocate Adders\",ESTIMATE!BI349,ESTIMATE!AY349)","v":0},0,null,0]
[null,null,{"$f":"T(ESTIMATE!B350)","v":""},null,null,null,null,{"$f":"ESTIMATE!P350","v":0},{"$f":"T(ESTIMATE!S350)","v":""},{"$f":"IF($Q$28=\"Allocate Adders\",ESTIMATE!BC350,ESTIMATE!AW350)","v":0},{"$f":"IF($Q$28=\"Allocate Adders\",ESTIMATE!BF350,ESTIMATE!AX350)","v":0},{"$f":"IF($Q$28=\"Allocate Adders\",ESTIMATE!BI350,ESTIMATE!AY350)","v":0},0,null,0]
[null,null,{"$f":"T(ESTIMATE!B351)","v":""},null,null,null,null,{"$f":"ESTIMATE!P351","v":0},{"$f":"T(ESTIMATE!S351)","v":""},{"$f":"IF($Q$28=\"Allocate Adders\",ESTIMATE!BC351,ESTIMATE!AW351)","v":0},{"$f":"IF($Q$28=\"Allocate Adders\",ESTIMATE!BF351,ESTIMATE!AX351)","v":0},{"$f":"IF($Q$28=\"Allocate Adders\",ESTIMATE!BI351,ESTIMATE!AY351)","v":0},0,null,0]
[null,null,{"$f":"T(ESTIMATE!B352)","v":""},null,null,null,null,{"$f":"ESTIMATE!P352","v":0},{"$f":"T(ESTIMATE!S352)","v":""},{"$f":"IF($Q$28=\"Allocate Adders\",ESTIMATE!BC352,ESTIMATE!AW352)","v":0},{"$f":"IF($Q$28=\"Allocate Adders\",ESTIMATE!BF352,ESTIMATE!AX352)","v":0},{"$f":"IF($Q$28=\"Allocate Adders\",ESTIMATE!BI352,ESTIMATE!AY352)","v":0},0,null,0]
[null,null,{"$f":"T(ESTIMATE!B353)","v":""},null,null,null,null,{"$f":"ESTIMATE!P353","v":0},{"$f":"T(ESTIMATE!S353)","v":""},{"$f":"IF($Q$28=\"Allocate Adders\",ESTIMATE!BC353,ESTIMATE!AW353)","v":0},{"$f":"IF($Q$28=\"Allocate Adders\",ESTIMATE!BF353,ESTIMATE!AX353)","v":0},{"$f":"IF($Q$28=\"Allocate Adders\",ESTIMATE!BI353,ESTIMATE!AY353)","v":0},0,null,0]
[null,null,{"$f":"T(ESTIMATE!B354)","v":""},null,null,null,null,{"$f":"ESTIMATE!P354","v":0},{"$f":"T(ESTIMATE!S354)","v":""},{"$f":"IF($Q$28=\"Allocate Adders\",ESTIMATE!BC354,ESTIMATE!AW354)","v":0},{"$f":"IF($Q$28=\"Allocate Adders\",ESTIMATE!BF354,ESTIMATE!AX354)","v":0},{"$f":"IF($Q$28=\"Allocate Adders\",ESTIMATE!BI354,ESTIMATE!AY354)","v":0},0,null,0]
[null,null,{"$f":"T(ESTIMATE!B355)","v":""},null,null,null,null,{"$f":"ESTIMATE!P355","v":0},{"$f":"T(ESTIMATE!S355)","v":""},{"$f":"IF($Q$28=\"Allocate Adders\",ESTIMATE!BC355,ESTIMATE!AW355)","v":0},{"$f":"IF($Q$28=\"Allocate Adders\",ESTIMATE!BF355,ESTIMATE!AX355)","v":0},{"$f":"IF($Q$28=\"Allocate Adders\",ESTIMATE!BI355,ESTIMATE!AY355)","v":0},0,null,0]
[null,null,{"$f":"T(ESTIMATE!B356)","v":""},null,null,null,null,{"$f":"ESTIMATE!P356","v":0},{"$f":"T(ESTIMATE!S356)","v":""},{"$f":"IF($Q$28=\"Allocate Adders\",ESTIMATE!BC356,ESTIMATE!AW356)","v":0},{"$f":"IF($Q$28=\"Allocate Adders\",ESTIMATE!BF356,ESTIMATE!AX356)","v":0},{"$f":"IF($Q$28=\"Allocate Adders\",ESTIMATE!BI356,ESTIMATE!AY356)","v":0},0,null,0]
[null,null,{"$f":"T(ESTIMATE!B357)","v":""},null,null,null,null,{"$f":"ESTIMATE!P357","v":0},{"$f":"T(ESTIMATE!S357)","v":""},{"$f":"IF($Q$28=\"Allocate Adders\",ESTIMATE!BC357,ESTIMATE!AW357)","v":0},{"$f":"IF($Q$28=\"Allocate Adders\",ESTIMATE!BF357,ESTIMATE!AX357)","v":0},{"$f":"IF($Q$28=\"Allocate Adders\",ESTIMATE!BI357,ESTIMATE!AY357)","v":0},0,null,0]
[null,null,{"$f":"T(ESTIMATE!B358)","v":""},null,null,null,null,{"$f":"ESTIMATE!P358","v":0},{"$f":"T(ESTIMATE!S358)","v":""},{"$f":"IF($Q$28=\"Allocate Adders\",ESTIMATE!BC358,ESTIMATE!AW358)","v":0},{"$f":"IF($Q$28=\"Allocate Adders\",ESTIMATE!BF358,ESTIMATE!AX358)","v":0},{"$f":"IF($Q$28=\"Allocate Adders\",ESTIMATE!BI358,ESTIMATE!AY358)","v":0},0,null,0]
[null,null,{"$f":"T(ESTIMATE!B359)","v":""},null,null,null,null,{"$f":"ESTIMATE!P359","v":0},{"$f":"T(ESTIMATE!S359)","v":""},{"$f":"IF($Q$28=\"Allocate Adders\",ESTIMATE!BC359,ESTIMATE!AW359)","v":0},{"$f":"IF($Q$28=\"Allocate Adders\",ESTIMATE!BF359,ESTIMATE!AX359)","v":0},{"$f":"IF($Q$28=\"Allocate Adders\",ESTIMATE!BI359,ESTIMATE!AY359)","v":0},0,null,0]
[null,null,{"$f":"T(ESTIMATE!B360)","v":""},null,null,null,null,{"$f":"ESTIMATE!P360","v":0},{"$f":"T(ESTIMATE!S360)","v":""},{"$f":"IF($Q$28=\"Allocate Adders\",ESTIMATE!BC360,ESTIMATE!AW360)","v":0},{"$f":"IF($Q$28=\"Allocate Adders\",ESTIMATE!BF360,ESTIMATE!AX360)","v":0},{"$f":"IF($Q$28=\"Allocate Adders\",ESTIMATE!BI360,ESTIMATE!AY360)","v":0},0,null,0]
[null,null,{"$f":"T(ESTIMATE!B361)","v":""},null,null,null,null,{"$f":"ESTIMATE!P361","v":0},{"$f":"T(ESTIMATE!S361)","v":""},{"$f":"IF($Q$28=\"Allocate Adders\",ESTIMATE!BC361,ESTIMATE!AW361)","v":0},{"$f":"IF($Q$28=\"Allocate Adders\",ESTIMATE!BF361,ESTIMATE!AX361)","v":0},{"$f":"IF($Q$28=\"Allocate Adders\",ESTIMATE!BI361,ESTIMATE!AY361)","v":0},0,null,0]
[null,null,{"$f":"T(ESTIMATE!B362)","v":""},null,null,null,null,{"$f":"ESTIMATE!P362","v":0},{"$f":"T(ESTIMATE!S362)","v":""},{"$f":"IF($Q$28=\"Allocate Adders\",ESTIMATE!BC362,ESTIMATE!AW362)","v":0},{"$f":"IF($Q$28=\"Allocate Adders\",ESTIMATE!BF362,ESTIMATE!AX362)","v":0},{"$f":"IF($Q$28=\"Allocate Adders\",ESTIMATE!BI362,ESTIMATE!AY362)","v":0},0,null,0]
[null,null,{"$f":"T(ESTIMATE!B363)","v":""},null,null,null,null,{"$f":"ESTIMATE!P363","v":0},{"$f":"T(ESTIMATE!S363)","v":""},{"$f":"IF($Q$28=\"Allocate Adders\",ESTIMATE!BC363,ESTIMATE!AW363)","v":0},{"$f":"IF($Q$28=\"Allocate Adders\",ESTIMATE!BF363,ESTIMATE!AX363)","v":0},{"$f":"IF($Q$28=\"Allocate Adders\",ESTIMATE!BI363,ESTIMATE!AY363)","v":0},0,null,0]
[null,null,{"$f":"T(ESTIMATE!B364)","v":""},null,null,null,null,{"$f":"ESTIMATE!P364","v":0},{"$f":"T(ESTIMATE!S364)","v":""},{"$f":"IF($Q$28=\"Allocate Adders\",ESTIMATE!BC364,ESTIMATE!AW364)","v":0},{"$f":"IF($Q$28=\"Allocate Adders\",ESTIMATE!BF364,ESTIMATE!AX364)","v":0},{"$f":"IF($Q$28=\"Allocate Adders\",ESTIMATE!BI364,ESTIMATE!AY364)","v":0},0,null,0]
[null,null,{"$f":"T(ESTIMATE!B365)","v":""},null,null,null,null,{"$f":"ESTIMATE!P365","v":0},{"$f":"T(ESTIMATE!S365)","v":""},{"$f":"IF($Q$28=\"Allocate Adders\",ESTIMATE!BC365,ESTIMATE!AW365)","v":0},{"$f":"IF($Q$28=\"Allocate Adders\",ESTIMATE!BF365,ESTIMATE!AX365)","v":0},{"$f":"IF($Q$28=\"Allocate Adders\",ESTIMATE!BI365,ESTIMATE!AY365)","v":0},0,null,0]
[null,null,{"$f":"T(ESTIMATE!B366)","v":""},null,null,null,null,{"$f":"ESTIMATE!P366","v":0},{"$f":"T(ESTIMATE!S366)","v":""},{"$f":"IF($Q$28=\"Allocate Adders\",ESTIMATE!BC366,ESTIMATE!AW366)","v":0},{"$f":"IF($Q$28=\"Allocate Adders\",ESTIMATE!BF366,ESTIMATE!AX366)","v":0},{"$f":"IF($Q$28=\"Allocate Adders\",ESTIMATE!BI366,ESTIMATE!AY366)","v":0},0,null,0]
[null,null,{"$f":"T(ESTIMATE!B367)","v":""},null,null,null,null,{"$f":"ESTIMATE!P367","v":0},{"$f":"T(ESTIMATE!S367)","v":""},{"$f":"IF($Q$28=\"Allocate Adders\",ESTIMATE!BC367,ESTIMATE!AW367)","v":0},{"$f":"IF($Q$28=\"Allocate Adders\",ESTIMATE!BF367,ESTIMATE!AX367)","v":0},{"$f":"IF($Q$28=\"Allocate Adders\",ESTIMATE!BI367,ESTIMATE!AY367)","v":0},0,null,0]
[null,null,{"$f":"T(ESTIMATE!B368)","v":""},null,null,null,null,{"$f":"ESTIMATE!P368","v":0},{"$f":"T(ESTIMATE!S368)","v":""},{"$f":"IF($Q$28=\"Allocate Adders\",ESTIMATE!BC368,ESTIMATE!AW368)","v":0},{"$f":"IF($Q$28=\"Allocate Adders\",ESTIMATE!BF368,ESTIMATE!AX368)","v":0},{"$f":"IF($Q$28=\"Allocate Adders\",ESTIMATE!BI368,ESTIMATE!AY368)","v":0},0,null,0]
[null,null,{"$f":"T(ESTIMATE!B369)","v":""},null,null,null,null,{"$f":"ESTIMATE!P369","v":0},{"$f":"T(ESTIMATE!S369)","v":""},{"$f":"IF($Q$28=\"Allocate Adders\",ESTIMATE!BC369,ESTIMATE!AW369)","v":0},{"$f":"IF($Q$28=\"Allocate Adders\",ESTIMATE!BF369,ESTIMATE!AX369)","v":0},{"$f":"IF($Q$28=\"Allocate Adders\",ESTIMATE!BI369,ESTIMATE!AY369)","v":0},0,null,0]
[null,null,{"$f":"T(ESTIMATE!B370)","v":""},null,null,null,null,{"$f":"ESTIMATE!P370","v":0},{"$f":"T(ESTIMATE!S370)","v":""},{"$f":"IF($Q$28=\"Allocate Adders\",ESTIMATE!BC370,ESTIMATE!AW370)","v":0},{"$f":"IF($Q$28=\"Allocate Adders\",ESTIMATE!BF370,ESTIMATE!AX370)","v":0},{"$f":"IF($Q$28=\"Allocate Adders\",ESTIMATE!BI370,ESTIMATE!AY370)","v":0},0,null,0]
[null,null,{"$f":"T(ESTIMATE!B371)","v":""},null,null,null,null,{"$f":"ESTIMATE!P371","v":0},{"$f":"T(ESTIMATE!S371)","v":""},{"$f":"IF($Q$28=\"Allocate Adders\",ESTIMATE!BC371,ESTIMATE!AW371)","v":0},{"$f":"IF($Q$28=\"Allocate Adders\",ESTIMATE!BF371,ESTIMATE!AX371)","v":0},{"$f":"IF($Q$28=\"Allocate Adders\",ESTIMATE!BI371,ESTIMATE!AY371)","v":0},0,null,0]
[null,null,null,null,null,null,null,null,null,null,null,null,null,null,{"$f":"O403","v":0}]
[null,null,{"$f":"T(ESTIMATE!AC373)","v":"LANDSCAPING TOTAL"},null,null,null,null,null,null,{"$f":"SUM(J362:J402)","v":0},{"$f":"SUM(K362:K402)","v":0},{"$f":"SUM(L362:L402)","v":0},{"$f":"SUM(M362:N402)","v":0},null,{"$f":"SUM(O361:O401)","v":0}]
[null,null,null,null,null,null,null,null,null,null,null,null,null,null,{"$f":"O403","v":0}]
[]
[null,null,{"$f":"T(ESTIMATE!B376)","v":"KITCHENS"},null,null,null,null,{"$f":"SUM(H407:H446)","v":0},null,null,null,null,null,null,{"$f":"H406","v":0}]
[null,null,{"$f":"T(ESTIMATE!B377)","v":"Kitchen Installation bid/allowance"},null,null,null,null,{"$f":"ESTIMATE!P377","v":0},{"$f":"T(ESTIMATE!S377)","v":"ls"},{"$f":"IF($Q$28=\"Allocate Adders\",ESTIMATE!BC377,ESTIMATE!AW377)","v":0},{"$f":"IF($Q$28=\"Allocate Adders\",ESTIMATE!BF377,ESTIMATE!AX377)","v":0},{"$f":"IF($Q$28=\"Allocate Adders\",ESTIMATE!BI377,ESTIMATE!AY377)","v":0},{"$f":"SUM(J407:L407)","v":0},null,0]
[null,null,{"$f":"T(ESTIMATE!B378)","v":"Kitchen Material bid/allowance"},null,null,null,null,{"$f":"ESTIMATE!P378","v":0},{"$f":"T(ESTIMATE!S378)","v":"ls"},{"$f":"IF($Q$28=\"Allocate Adders\",ESTIMATE!BC378,ESTIMATE!AW378)","v":0},{"$f":"IF($Q$28=\"Allocate Adders\",ESTIMATE!BF378,ESTIMATE!AX378)","v":0},{"$f":"IF($Q$28=\"Allocate Adders\",ESTIMATE!BI378,ESTIMATE!AY378)","v":0},0,null,0]
[null,null,{"$f":"T(ESTIMATE!B379)","v":""},null,null,null,null,{"$f":"ESTIMATE!P379","v":0},{"$f":"T(ESTIMATE!S379)","v":""},{"$f":"IF($Q$28=\"Allocate Adders\",ESTIMATE!BC379,ESTIMATE!AW379)","v":0},{"$f":"IF($Q$28=\"Allocate Adders\",ESTIMATE!BF379,ESTIMATE!AX379)","v":0},{"$f":"IF($Q$28=\"Allocate Adders\",ESTIMATE!BI379,ESTIMATE!AY379)","v":0},0,null,0]
[null,null,{"$f":"T(ESTIMATE!B380)","v":"Kitchens, Lump Sum"},null,null,null,null,{"$f":"ESTIMATE!P380","v":0},{"$f":"T(ESTIMATE!S380)","v":""},{"$f":"IF($Q$28=\"Allocate Adders\",ESTIMATE!BC380,ESTIMATE!AW380)","v":0},{"$f":"IF($Q$28=\"Allocate Adders\",ESTIMATE!BF380,ESTIMATE!AX380)","v":0},{"$f":"IF($Q$28=\"Allocate Adders\",ESTIMATE!BI380,ESTIMATE!AY380)","v":0},0,null,0]
[null,null,{"$f":"T(ESTIMATE!B381)","v":"High end, (cabinets, countertops, MEP rough-in)"},null,null,null,null,{"$f":"ESTIMATE!P381","v":0},{"$f":"T(ESTIMATE!S381)","v":"ls"},{"$f":"IF($Q$28=\"Allocate Adders\",ESTIMATE!BC381,ESTIMATE!AW381)","v":0},{"$f":"IF($Q$28=\"Allocate Adders\",ESTIMATE!BF381,ESTIMATE!AX381)","v":0},{"$f":"IF($Q$28=\"Allocate Adders\",ESTIMATE!BI381,ESTIMATE!AY381)","v":0},0,null,0]
[null,null,{"$f":"T(ESTIMATE!B382)","v":"Average, (cabinets, countertops, MEP rough-in)"},null,null,null,null,{"$f":"ESTIMATE!P382","v":0},{"$f":"T(ESTIMATE!S382)","v":"ls"},{"$f":"IF($Q$28=\"Allocate Adders\",ESTIMATE!BC382,ESTIMATE!AW382)","v":0},{"$f":"IF($Q$28=\"Allocate Adders\",ESTIMATE!BF382,ESTIMATE!AX382)","v":0},{"$f":"IF($Q$28=\"Allocate Adders\",ESTIMATE!BI382,ESTIMATE!AY382)","v":0},0,null,0]
[null,null,{"$f":"T(ESTIMATE!B383)","v":"Economy, (cabinets, countertops, MEP rough-in)"},null,null,null,null,{"$f":"ESTIMATE!P383","v":0},{"$f":"T(ESTIMATE!S383)","v":"ls"},{"$f":"IF($Q$28=\"Allocate Adders\",ESTIMATE!BC383,ESTIMATE!AW383)","v":0},{"$f":"IF($Q$28=\"Allocate Adders\",ESTIMATE!BF383,ESTIMATE!AX383)","v":0},{"$f":"IF($Q$28=\"Allocate Adders\",ESTIMATE!BI383,ESTIMATE!AY383)","v":0},0,null,0]
[null,null,{"$f":"T(ESTIMATE!B384)","v":""},null,null,null,null,{"$f":"ESTIMATE!P384","v":0},{"$f":"T(ESTIMATE!S384)","v":""},{"$f":"IF($Q$28=\"Allocate Adders\",ESTIMATE!BC384,ESTIMATE!AW384)","v":0},{"$f":"IF($Q$28=\"Allocate Adders\",ESTIMATE!BF384,ESTIMATE!AX384)","v":0},{"$f":"IF($Q$28=\"Allocate Adders\",ESTIMATE!BI384,ESTIMATE!AY384)","v":0},0,null,0]
[null,null,{"$f":"T(ESTIMATE!B385)","v":"Kitchens, Detailed, Average"},null,null,null,null,{"$f":"ESTIMATE!P385","v":0},{"$f":"T(ESTIMATE!S385)","v":""},{"$f":"IF($Q$28=\"Allocate Adders\",ESTIMATE!BC385,ESTIMATE!AW385)","v":0},{"$f":"IF($Q$28=\"Allocate Adders\",ESTIMATE!BF385,ESTIMATE!AX385)","v":0},{"$f":"IF($Q$28=\"Allocate Adders\",ESTIMATE!BI385,ESTIMATE!AY385)","v":0},0,null,0]
[null,null,{"$f":"T(ESTIMATE!B386)","v":"Cabinetry/Countertops"},null,null,null,null,{"$f":"ESTIMATE!P386","v":0},{"$f":"T(ESTIMATE!S386)","v":""},{"$f":"IF($Q$28=\"Allocate Adders\",ESTIMATE!BC386,ESTIMATE!AW386)","v":0},{"$f":"IF($Q$28=\"Allocate Adders\",ESTIMATE!BF386,ESTIMATE!AX386)","v":0},{"$f":"IF($Q$28=\"Allocate Adders\",ESTIMATE!BI386,ESTIMATE!AY386)","v":0},0,null,0]
[null,null,{"$f":"T(ESTIMATE!B387)","v":"Kitchen Base Cabinetry"},null,null,null,null,{"$f":"ESTIMATE!P387","v":0},{"$f":"T(ESTIMATE!S387)","v":"lf"},{"$f":"IF($Q$28=\"Allocate Adders\",ESTIMATE!BC387,ESTIMATE!AW387)","v":0},{"$f":"IF($Q$28=\"Allocate Adders\",ESTIMATE!BF387,ESTIMATE!AX387)","v":0},{"$f":"IF($Q$28=\"Allocate Adders\",ESTIMATE!BI387,ESTIMATE!AY387)","v":0},0,null,0]
[null,null,{"$f":"T(ESTIMATE!B388)","v":"Kitchen Upper Cabinetry"},null,null,null,null,{"$f":"ESTIMATE!P388","v":0},{"$f":"T(ESTIMATE!S388)","v":"lf"},{"$f":"IF($Q$28=\"Allocate Adders\",ESTIMATE!BC388,ESTIMATE!AW388)","v":0},{"$f":"IF($Q$28=\"Allocate Adders\",ESTIMATE!BF388,ESTIMATE!AX388)","v":0},{"$f":"IF($Q$28=\"Allocate Adders\",ESTIMATE!BI388,ESTIMATE!AY388)","v":0},0,null,0]
[null,null,{"$f":"T(ESTIMATE!B389)","v":"Kitchen Pantry Cabinet"},null,null,null,null,{"$f":"ESTIMATE!P389","v":0},{"$f":"T(ESTIMATE!S389)","v":"ea"},{"$f":"IF($Q$28=\"Allocate Adders\",ESTIMATE!BC389,ESTIMATE!AW389)","v":0},{"$f":"IF($Q$28=\"Allocate Adders\",ESTIMATE!BF389,ESTIMATE!AX389)","v":0},{"$f":"IF($Q$28=\"Allocate Adders\",ESTIMATE!BI389,ESTIMATE!AY389)","v":0},0,null,0]
[null,null,{"$f":"T(ESTIMATE!B390)","v":"Plastic laminate countertop"},null,null,null,null,{"$f":"ESTIMATE!P390","v":0},{"$f":"T(ESTIMATE!S390)","v":"sf"},{"$f":"IF($Q$28=\"Allocate Adders\",ESTIMATE!BC390,ESTIMATE!AW390)","v":0},{"$f":"IF($Q$28=\"Allocate Adders\",ESTIMATE!BF390,ESTIMATE!AX390)","v":0},{"$f":"IF($Q$28=\"Allocate Adders\",ESTIMATE!BI390,ESTIMATE!AY390)","v":0},0,null,0]
[null,null,{"$f":"T(ESTIMATE!B391)","v":"Replace cabinet doors, only"},null,null,null,null,{"$f":"ESTIMATE!P391","v":0},{"$f":"T(ESTIMATE!S391)","v":"ea"},{"$f":"IF($Q$28=\"Allocate Adders\",ESTIMATE!BC391,ESTIMATE!AW391)","v":0},{"$f":"IF($Q$28=\"Allocate Adders\",ESTIMATE!BF391,ESTIMATE!AX391)","v":0},{"$f":"IF($Q$28=\"Allocate Adders\",ESTIMATE!BI391,ESTIMATE!AY391)","v":0},0,null,0]
[null,null,{"$f":"T(ESTIMATE!B392)","v":"New cabinet door pulls"},null,null,null,null,{"$f":"ESTIMATE!P392","v":0},{"$f":"T(ESTIMATE!S392)","v":"ea"},{"$f":"IF($Q$28=\"Allocate Adders\",ESTIMATE!BC392,ESTIMATE!AW392)","v":0},{"$f":"IF($Q$28=\"Allocate Adders\",ESTIMATE!BF392,ESTIMATE!AX392)","v":0},{"$f":"IF($Q$28=\"Allocate Adders\",ESTIMATE!BI392,ESTIMATE!AY392)","v":0},0,null,0]
[null,null,{"$f":"T(ESTIMATE!B393)","v":"Stone/solid surface countertop, kitchen"},null,null,null,null,{"$f":"ESTIMATE!P393","v":0},{"$f":"T(ESTIMATE!S393)","v":"sf"},{"$f":"IF($Q$28=\"Allocate Adders\",ESTIMATE!BC393,ESTIMATE!AW393)","v":0},{"$f":"IF($Q$28=\"Allocate Adders\",ESTIMATE!BF393,ESTIMATE!AX393)","v":0},{"$f":"IF($Q$28=\"Allocate Adders\",ESTIMATE!BI393,ESTIMATE!AY393)","v":0},0,null,0]
[null,null,{"$f":"T(ESTIMATE!B394)","v":"Plumbing"},null,null,null,null,{"$f":"ESTIMATE!P394","v":0},{"$f":"T(ESTIMATE!S394)","v":""},{"$f":"IF($Q$28=\"Allocate Adders\",ESTIMATE!BC394,ESTIMATE!AW394)","v":0},{"$f":"IF($Q$28=\"Allocate Adders\",ESTIMATE!BF394,ESTIMATE!AX394)","v":0},{"$f":"IF($Q$28=\"Allocate Adders\",ESTIMATE!BI394,ESTIMATE!AY394)","v":0},0,null,0]
[null,null,{"$f":"T(ESTIMATE!B395)","v":"Kitchen sink bowl, stainless steel, undermount"},null,null,null,null,{"$f":"ESTIMATE!P395","v":0},{"$f":"T(ESTIMATE!S395)","v":"ea"},{"$f":"IF($Q$28=\"Allocate Adders\",ESTIMATE!BC395,ESTIMATE!AW395)","v":0},{"$f":"IF($Q$28=\"Allocate Adders\",ESTIMATE!BF395,ESTIMATE!AX395)","v":0},{"$f":"IF($Q$28=\"Allocate Adders\",ESTIMATE!BI395,ESTIMATE!AY395)","v":0},0,null,0]
[null,null,{"$f":"T(ESTIMATE!B396)","v":"Kitchen faucet fixture"},null,null,null,null,{"$f":"ESTIMATE!P396","v":0},{"$f":"T(ESTIMATE!S396)","v":"ea"},{"$f":"IF($Q$28=\"Allocate Adders\",ESTIMATE!BC396,ESTIMATE!AW396)","v":0},{"$f":"IF($Q$28=\"Allocate Adders\",ESTIMATE!BF396,ESTIMATE!AX396)","v":0},{"$f":"IF($Q$28=\"Allocate Adders\",ESTIMATE!BI396,ESTIMATE!AY396)","v":0},0,null,0]
[null,null,{"$f":"T(ESTIMATE!B397)","v":"Garbage disposal"},null,null,null,null,{"$f":"ESTIMATE!P397","v":0},{"$f":"T(ESTIMATE!S397)","v":"ea"},{"$f":"IF($Q$28=\"Allocate Adders\",ESTIMATE!BC397,ESTIMATE!AW397)","v":0},{"$f":"IF($Q$28=\"Allocate Adders\",ESTIMATE!BF397,ESTIMATE!AX397)","v":0},{"$f":"IF($Q$28=\"Allocate Adders\",ESTIMATE!BI397,ESTIMATE!AY397)","v":0},0,null,0]
[null,null,{"$f":"T(ESTIMATE!B398)","v":"Hookup dishwasher"},null,null,null,null,{"$f":"ESTIMATE!P398","v":0},{"$f":"T(ESTIMATE!S398)","v":"ea"},{"$f":"IF($Q$28=\"Allocate Adders\",ESTIMATE!BC398,ESTIMATE!AW398)","v":0},{"$f":"IF($Q$28=\"Allocate Adders\",ESTIMATE!BF398,ESTIMATE!AX398)","v":0},{"$f":"IF($Q$28=\"Allocate Adders\",ESTIMATE!BI398,ESTIMATE!AY398)","v":0},0,null,0]
[null,null,{"$f":"T(ESTIMATE!B399)","v":"Water supply line for refrigerator"},null,null,null,null,{"$f":"ESTIMATE!P399","v":0},{"$f":"T(ESTIMATE!S399)","v":"ea"},{"$f":"IF($Q$28=\"Allocate Adders\",ESTIMATE!BC399,ESTIMATE!AW399)","v":0},{"$f":"IF($Q$28=\"Allocate Adders\",ESTIMATE!BF399,ESTIMATE!AX399)","v":0},{"$f":"IF($Q$28=\"Allocate Adders\",ESTIMATE!BI399,ESTIMATE!AY399)","v":0},0,null,0]
[null,null,{"$f":"T(ESTIMATE!B400)","v":""},null,null,null,null,{"$f":"ESTIMATE!P400","v":0},{"$f":"T(ESTIMATE!S400)","v":""},{"$f":"IF($Q$28=\"Allocate Adders\",ESTIMATE!BC400,ESTIMATE!AW400)","v":0},{"$f":"IF($Q$28=\"Allocate Adders\",ESTIMATE!BF400,ESTIMATE!AX400)","v":0},{"$f":"IF($Q$28=\"Allocate Adders\",ESTIMATE!BI400,ESTIMATE!AY400)","v":0},0,null,0]
[null,null,{"$f":"T(ESTIMATE!B401)","v":"Appliance Package"},null,null,null,null,{"$f":"ESTIMATE!P401","v":0},{"$f":"T(ESTIMATE!S401)","v":""},{"$f":"IF($Q$28=\"Allocate Adders\",ESTIMATE!BC401,ESTIMATE!AW401)","v":0},{"$f":"IF($Q$28=\"Allocate Adders\",ESTIMATE!BF401,ESTIMATE!AX401)","v":0},{"$f":"IF($Q$28=\"Allocate Adders\",ESTIMATE!BI401,ESTIMATE!AY401)","v":0},0,null,0]
[null,null,{"$f":"T(ESTIMATE!B402)","v":"High end, (fridge, range, hood, dw, microwave)"},null,null,null,null,{"$f":"ESTIMATE!P402","v":0},{"$f":"T(ESTIMATE!S402)","v":"ls"},{"$f":"IF($Q$28=\"Allocate Adders\",ESTIMATE!BC402,ESTIMATE!AW402)","v":0},{"$f":"IF($Q$28=\"Allocate Adders\",ESTIMATE!BF402,ESTIMATE!AX402)","v":0},{"$f":"IF($Q$28=\"Allocate Adders\",ESTIMATE!BI402,ESTIMATE!AY402)","v":0},0,null,0]
[null,null,{"$f":"T(ESTIMATE!B403)","v":"Average, (fridge, range, hood, dw, microwave)"},null,null,null,null,{"$f":"ESTIMATE!P403","v":0},{"$f":"T(ESTIMATE!S403)","v":"ls"},{"$f":"IF($Q$28=\"Allocate Adders\",ESTIMATE!BC403,ESTIMATE!AW403)","v":0},{"$f":"IF($Q$28=\"Allocate Adders\",ESTIMATE!BF403,ESTIMATE!AX403)","v":0},{"$f":"IF($Q$28=\"Allocate Adders\",ESTIMATE!BI403,ESTIMATE!AY403)","v":0},0,null,0]
[null,null,{"$f":"T(ESTIMATE!B404)","v":"Economy, (fridge, range, hood, dw, microwave)"},null,null,null,null,{"$f":"ESTIMATE!P404","v":0},{"$f":"T(ESTIMATE!S404)","v":"ls"},{"$f":"IF($Q$28=\"Allocate Adders\",ESTIMATE!BC404,ESTIMATE!AW404)","v":0},{"$f":"IF($Q$28=\"Allocate Adders\",ESTIMATE!BF404,ESTIMATE!AX404)","v":0},{"$f":"IF($Q$28=\"Allocate Adders\",ESTIMATE!BI404,ESTIMATE!AY404)","v":0},0,null,0]
[null,null,{"$f":"T(ESTIMATE!B405)","v":""},null,null,null,null,{"$f":"ESTIMATE!P405","v":0},{"$f":"T(ESTIMATE!S405)","v":""},{"$f":"IF($Q$28=\"Allocate Adders\",ESTIMATE!BC405,ESTIMATE!AW405)","v":0},{"$f":"IF($Q$28=\"Allocate Adders\",ESTIMATE!BF405,ESTIMATE!AX405)","v":0},{"$f":"IF($Q$28=\"Allocate Adders\",ESTIMATE!BI405,ESTIMATE!AY405)","v":0},0,null,0]
[null,null,{"$f":"T(ESTIMATE!B406)","v":"Appliances, Detailed, Average"},null,null,null,null,{"$f":"ESTIMATE!P406","v":0},{"$f":"T(ESTIMATE!S406)","v":""},{"$f":"IF($Q$28=\"Allocate Adders\",ESTIMATE!BC406,ESTIMATE!AW406)","v":0},{"$f":"IF($Q$28=\"Allocate Adders\",ESTIMATE!BF406,ESTIMATE!AX406)","v":0},{"$f":"IF($Q$28=\"Allocate Adders\",ESTIMATE!BI406,ESTIMATE!AY406)","v":0},0,null,0]
[null,null,{"$f":"T(ESTIMATE!B407)","v":"Refrigerator, average"},null,null,null,null,{"$f":"ESTIMATE!P407","v":0},{"$f":"T(ESTIMATE!S407)","v":"ea"},{"$f":"IF($Q$28=\"Allocate Adders\",ESTIMATE!BC407,ESTIMATE!AW407)","v":0},{"$f":"IF($Q$28=\"Allocate Adders\",ESTIMATE!BF407,ESTIMATE!AX407)","v":0},{"$f":"IF($Q$28=\"Allocate Adders\",ESTIMATE!BI407,ESTIMATE!AY407)","v":0},0,null,0]
[null,null,{"$f":"T(ESTIMATE!B408)","v":"Range, average"},null,null,null,null,{"$f":"ESTIMATE!P408","v":0},{"$f":"T(ESTIMATE!S408)","v":"ea"},{"$f":"IF($Q$28=\"Allocate Adders\",ESTIMATE!BC408,ESTIMATE!AW408)","v":0},{"$f":"IF($Q$28=\"Allocate Adders\",ESTIMATE!BF408,ESTIMATE!AX408)","v":0},{"$f":"IF($Q$28=\"Allocate Adders\",ESTIMATE!BI408,ESTIMATE!AY408)","v":0},0,null,0]
[null,null,{"$f":"T(ESTIMATE!B409)","v":"Range Hood, average"},null,null,null,null,{"$f":"ESTIMATE!P409","v":0},{"$f":"T(ESTIMATE!S409)","v":"ea"},{"$f":"IF($Q$28=\"Allocate Adders\",ESTIMATE!BC409,ESTIMATE!AW409)","v":0},{"$f":"IF($Q$28=\"Allocate Adders\",ESTIMATE!BF409,ESTIMATE!AX409)","v":0},{"$f":"IF($Q$28=\"Allocate Adders\",ESTIMATE!BI409,ESTIMATE!AY409)","v":0},0,null,0]
[null,null,{"$f":"T(ESTIMATE!B410)","v":"Dishwasher, average"},null,null,null,null,{"$f":"ESTIMATE!P410","v":0},{"$f":"T(ESTIMATE!S410)","v":"ea"},{"$f":"IF($Q$28=\"Allocate Adders\",ESTIMATE!BC410,ESTIMATE!AW410)","v":0},{"$f":"IF($Q$28=\"Allocate Adders\",ESTIMATE!BF410,ESTIMATE!AX410)","v":0},{"$f":"IF($Q$28=\"Allocate Adders\",ESTIMATE!BI410,ESTIMATE!AY410)","v":0},0,null,0]
[null,null,{"$f":"T(ESTIMATE!B411)","v":"Microwave, average"},null,null,null,null,{"$f":"ESTIMATE!P411","v":0},{"$f":"T(ESTIMATE!S411)","v":"ea"},{"$f":"IF($Q$28=\"Allocate Adders\",ESTIMATE!BC411,ESTIMATE!AW411)","v":0},{"$f":"IF($Q$28=\"Allocate Adders\",ESTIMATE!BF411,ESTIMATE!AX411)","v":0},{"$f":"IF($Q$28=\"Allocate Adders\",ESTIMATE!BI411,ESTIMATE!AY411)","v":0},0,null,0]
[null,null,{"$f":"T(ESTIMATE!B412)","v":"Appliance delivery"},null,null,null,null,{"$f":"ESTIMATE!P412","v":0},{"$f":"T(ESTIMATE!S412)","v":"ea"},{"$f":"IF($Q$28=\"Allocate Adders\",ESTIMATE!BC412,ESTIMATE!AW412)","v":0},{"$f":"IF($Q$28=\"Allocate Adders\",ESTIMATE!BF412,ESTIMATE!AX412)","v":0},{"$f":"IF($Q$28=\"Allocate Adders\",ESTIMATE!BI412,ESTIMATE!AY412)","v":0},0,null,0]
[null,null,{"$f":"T(ESTIMATE!B413)","v":""},null,null,null,null,{"$f":"ESTIMATE!P413","v":0},{"$f":"T(ESTIMATE!S413)","v":""},{"$f":"IF($Q$28=\"Allocate Adders\",ESTIMATE!BC413,ESTIMATE!AW413)","v":0},{"$f":"IF($Q$28=\"Allocate Adders\",ESTIMATE!BF413,ESTIMATE!AX413)","v":0},{"$f":"IF($Q$28=\"Allocate Adders\",ESTIMATE!BI413,ESTIMATE!AY413)","v":0},0,null,0]
[null,null,{"$f":"T(ESTIMATE!B414)","v":""},null,null,null,null,{"$f":"ESTIMATE!P414","v":0},{"$f":"T(ESTIMATE!S414)","v":""},{"$f":"IF($Q$28=\"Allocate Adders\",ESTIMATE!BC414,ESTIMATE!AW414)","v":0},{"$f":"IF($Q$28=\"Allocate Adders\",ESTIMATE!BF414,ESTIMATE!AX414)","v":0},{"$f":"IF($Q$28=\"Allocate Adders\",ESTIMATE!BI414,ESTIMATE!AY414)","v":0},0,null,0]
[null,null,{"$f":"T(ESTIMATE!B415)","v":""},null,null,null,null,{"$f":"ESTIMATE!P415","v":0},{"$f":"T(ESTIMATE!S415)","v":""},{"$f":"IF($Q$28=\"Allocate Adders\",ESTIMATE!BC415,ESTIMATE!AW415)","v":0},{"$f":"IF($Q$28=\"Allocate Adders\",ESTIMATE!BF415,ESTIMATE!AX415)","v":0},{"$f":"IF($Q$28=\"Allocate Adders\",ESTIMATE!BI415,ESTIMATE!AY415)","v":0},0,null,0]
[null,null,{"$f":"T(ESTIMATE!B416)","v":""},null,null,null,null,{"$f":"ESTIMATE!P416","v":0},{"$f":"T(ESTIMATE!S416)","v":""},{"$f":"IF($Q$28=\"Allocate Adders\",ESTIMATE!BC416,ESTIMATE!AW416)","v":0},{"$f":"IF($Q$28=\"Allocate Adders\",ESTIMATE!BF416,ESTIMATE!AX416)","v":0},{"$f":"IF($Q$28=\"Allocate Adders\",ESTIMATE!BI416,ESTIMATE!AY416)","v":0},0,null,0]
[null,null,null,null,null,null,null,null,null,null,null,null,null,null,{"$f":"O448","v":0}]
[null,null,{"$f":"T(ESTIMATE!AC418)","v":"KITCHENS TOTAL"},null,null,null,null,null,null,{"$f":"SUM(J407:J447)","v":0},{"$f":"SUM(K407:K447)","v":0},{"$f":"SUM(L407:L447)","v":0},{"$f":"SUM(M407:N447)","v":0},null,{"$f":"SUM(O406:O446)","v":0}]
[null,null,null,null,null,null,null,null,null,null,null,null,null,null,{"$f":"O448","v":0}]
[]
[null,null,{"$f":"T(ESTIMATE!B421)","v":"BATHROOMS"},null,null,null,null,{"$f":"SUM(H452:H491)","v":0},null,null,null,null,null,null,{"$f":"H451","v":0}]
[null,null,{"$f":"T(ESTIMATE!B422)","v":"Bathroom Installation bid/allowance"},null,null,null,null,{"$f":"ESTIMATE!P422","v":0},{"$f":"T(ESTIMATE!S422)","v":"ls"},{"$f":"IF($Q$28=\"Allocate Adders\",ESTIMATE!BC422,ESTIMATE!AW422)","v":0},{"$f":"IF($Q$28=\"Allocate Adders\",ESTIMATE!BF422,ESTIMATE!AX422)","v":0},{"$f":"IF($Q$28=\"Allocate Adders\",ESTIMATE!BI422,ESTIMATE!AY422)","v":0},{"$f":"SUM(J452:L452)","v":0},null,0]
[null,null,{"$f":"T(ESTIMATE!B423)","v":"Bathroom Material bid/allowance"},null,null,null,null,{"$f":"ESTIMATE!P423","v":0},{"$f":"T(ESTIMATE!S423)","v":"ls"},{"$f":"IF($Q$28=\"Allocate Adders\",ESTIMATE!BC423,ESTIMATE!AW423)","v":0},{"$f":"IF($Q$28=\"Allocate Adders\",ESTIMATE!BF423,ESTIMATE!AX423)","v":0},{"$f":"IF($Q$28=\"Allocate Adders\",ESTIMATE!BI423,ESTIMATE!AY423)","v":0},0,null,0]
[null,null,{"$f":"T(ESTIMATE!B424)","v":""},null,null,null,null,{"$f":"ESTIMATE!P424","v":0},{"$f":"T(ESTIMATE!S424)","v":""},{"$f":"IF($Q$28=\"Allocate Adders\",ESTIMATE!BC424,ESTIMATE!AW424)","v":0},{"$f":"IF($Q$28=\"Allocate Adders\",ESTIMATE!BF424,ESTIMATE!AX424)","v":0},{"$f":"IF($Q$28=\"Allocate Adders\",ESTIMATE!BI424,ESTIMATE!AY424)","v":0},0,null,0]
[null,null,{"$f":"T(ESTIMATE!B425)","v":"Bathroom, Lump Sum, Replace Existing"},null,null,null,null,{"$f":"ESTIMATE!P425","v":0},{"$f":"T(ESTIMATE!S425)","v":""},{"$f":"IF($Q$28=\"Allocate Adders\",ESTIMATE!BC425,ESTIMATE!AW425)","v":0},{"$f":"IF($Q$28=\"Allocate Adders\",ESTIMATE!BF425,ESTIMATE!AX425)","v":0},{"$f":"IF($Q$28=\"Allocate Adders\",ESTIMATE!BI425,ESTIMATE!AY425)","v":0},0,null,0]
[null,null,{"$f":"T(ESTIMATE!B426)","v":"Full bathrooms"},null,null,null,null,{"$f":"ESTIMATE!P426","v":0},{"$f":"T(ESTIMATE!S426)","v":""},{"$f":"IF($Q$28=\"Allocate Adders\",ESTIMATE!BC426,ESTIMATE!AW426)","v":0},{"$f":"IF($Q$28=\"Allocate Adders\",ESTIMATE!BF426,ESTIMATE!AX426)","v":0},{"$f":"IF($Q$28=\"Allocate Adders\",ESTIMATE!BI426,ESTIMATE!AY426)","v":0},0,null,0]
[null,null,{"$f":"T(ESTIMATE!B427)","v":"High end, (new finishes, fixtures, MEP finish work)"},null,null,null,null,{"$f":"ESTIMATE!P427","v":0},{"$f":"T(ESTIMATE!S427)","v":"ea"},{"$f":"IF($Q$28=\"Allocate Adders\",ESTIMATE!BC427,ESTIMATE!AW427)","v":0},{"$f":"IF($Q$28=\"Allocate Adders\",ESTIMATE!BF427,ESTIMATE!AX427)","v":0},{"$f":"IF($Q$28=\"Allocate Adders\",ESTIMATE!BI427,ESTIMATE!AY427)","v":0},0,null,0]
[null,null,{"$f":"T(ESTIMATE!B428)","v":"Average, (new finishes, fixtures, MEP finish work)"},null,null,null,null,{"$f":"ESTIMATE!P428","v":0},{"$f":"T(ESTIMATE!S428)","v":"ea"},{"$f":"IF($Q$28=\"Allocate Adders\",ESTIMATE!BC428,ESTIMATE!AW428)","v":0},{"$f":"IF($Q$28=\"Allocate Adders\",ESTIMATE!BF428,ESTIMATE!AX428)","v":0},{"$f":"IF($Q$28=\"Allocate Adders\",ESTIMATE!BI428,ESTIMATE!AY428)","v":0},0,null,0]
[null,null,{"$f":"T(ESTIMATE!B429)","v":"Economy, (new finishes, fixtures, MEP finish work)"},null,null,null,null,{"$f":"ESTIMATE!P429","v":0},{"$f":"T(ESTIMATE!S429)","v":"ea"},{"$f":"IF($Q$28=\"Allocate Adders\",ESTIMATE!BC429,ESTIMATE!AW429)","v":0},{"$f":"IF($Q$28=\"Allocate Adders\",ESTIMATE!BF429,ESTIMATE!AX429)","v":0},{"$f":"IF($Q$28=\"Allocate Adders\",ESTIMATE!BI429,ESTIMATE!AY429)","v":0},0,null,0]
[null,null,{"$f":"T(ESTIMATE!B430)","v":"Half bathrooms"},null,null,null,null,{"$f":"ESTIMATE!P430","v":0},{"$f":"T(ESTIMATE!S430)","v":""},{"$f":"IF($Q$28=\"Allocate Adders\",ESTIMATE!BC430,ESTIMATE!AW430)","v":0},{"$f":"IF($Q$28=\"Allocate Adders\",ESTIMATE!BF430,ESTIMATE!AX430)","v":0},{"$f":"IF($Q$28=\"Allocate Adders\",ESTIMATE!BI430,ESTIMATE!AY430)","v":0},0,null,0]
[null,null,{"$f":"T(ESTIMATE!B431)","v":"High end, (new finishes, fixtures, MEP finish work)"},null,null,null,null,{"$f":"ESTIMATE!P431","v":0},{"$f":"T(ESTIMATE!S431)","v":"ea"},{"$f":"IF($Q$28=\"Allocate Adders\",ESTIMATE!BC431,ESTIMATE!AW431)","v":0},{"$f":"IF($Q$28=\"Allocate Adders\",ESTIMATE!BF431,ESTIMATE!AX431)","v":0},{"$f":"IF($Q$28=\"Allocate Adders\",ESTIMATE!BI431,ESTIMATE!AY431)","v":0},0,null,0]
[null,null,{"$f":"T(ESTIMATE!B432)","v":"Average, (new finishes, fixtures, MEP finish work)"},null,null,null,null,{"$f":"ESTIMATE!P432","v":0},{"$f":"T(ESTIMATE!S432)","v":"ea"},{"$f":"IF($Q$28=\"Allocate Adders\",ESTIMATE!BC432,ESTIMATE!AW432)","v":0},{"$f":"IF($Q$28=\"Allocate Adders\",ESTIMATE!BF432,ESTIMATE!AX432)","v":0},{"$f":"IF($Q$28=\"Allocate Adders\",ESTIMATE!BI432,ESTIMATE!AY432)","v":0},0,null,0]
[null,null,{"$f":"T(ESTIMATE!B433)","v":"Economy, (new finishes, fixtures, MEP finish work)"},null,null,null,null,{"$f":"ESTIMATE!P433","v":0},{"$f":"T(ESTIMATE!S433)","v":"ea"},{"$f":"IF($Q$28=\"Allocate Adders\",ESTIMATE!BC433,ESTIMATE!AW433)","v":0},{"$f":"IF($Q$28=\"Allocate Adders\",ESTIMATE!BF433,ESTIMATE!AX433)","v":0},{"$f":"IF($Q$28=\"Allocate Adders\",ESTIMATE!BI433,ESTIMATE!AY433)","v":0},0,null,0]
[null,null,{"$f":"T(ESTIMATE!B434)","v":"+Add for MEP rough-in or relocation work"},null,null,null,null,{"$f":"ESTIMATE!P434","v":0},{"$f":"T(ESTIMATE!S434)","v":"ea"},{"$f":"IF($Q$28=\"Allocate Adders\",ESTIMATE!BC434,ESTIMATE!AW434)","v":0},{"$f":"IF($Q$28=\"Allocate Adders\",ESTIMATE!BF434,ESTIMATE!AX434)","v":0},{"$f":"IF($Q$28=\"Allocate Adders\",ESTIMATE!BI434,ESTIMATE!AY434)","v":0},0,null,0]
[null,null,{"$f":"T(ESTIMATE!B435)","v":""},null,null,null,null,{"$f":"ESTIMATE!P435","v":0},{"$f":"T(ESTIMATE!S435)","v":""},{"$f":"IF($Q$28=\"Allocate Adders\",ESTIMATE!BC435,ESTIMATE!AW435)","v":0},{"$f":"IF($Q$28=\"Allocate Adders\",ESTIMATE!BF435,ESTIMATE!AX435)","v":0},{"$f":"IF($Q$28=\"Allocate Adders\",ESTIMATE!BI435,ESTIMATE!AY435)","v":0},0,null,0]
[null,null,{"$f":"T(ESTIMATE!B436)","v":"Bathrooms, Detailed, Average"},null,null,null,null,{"$f":"ESTIMATE!P436","v":0},{"$f":"T(ESTIMATE!S436)","v":""},{"$f":"IF($Q$28=\"Allocate Adders\",ESTIMATE!BC436,ESTIMATE!AW436)","v":0},{"$f":"IF($Q$28=\"Allocate Adders\",ESTIMATE!BF436,ESTIMATE!AX436)","v":0},{"$f":"IF($Q$28=\"Allocate Adders\",ESTIMATE!BI436,ESTIMATE!AY436)","v":0},0,null,0]
[null,null,{"$f":"T(ESTIMATE!B437)","v":"Vanities/Countertop"},null,null,null,null,{"$f":"ESTIMATE!P437","v":0},{"$f":"T(ESTIMATE!S437)","v":""},{"$f":"IF($Q$28=\"Allocate Adders\",ESTIMATE!BC437,ESTIMATE!AW437)","v":0},{"$f":"IF($Q$28=\"Allocate Adders\",ESTIMATE!BF437,ESTIMATE!AX437)","v":0},{"$f":"IF($Q$28=\"Allocate Adders\",ESTIMATE!BI437,ESTIMATE!AY437)","v":0},0,null,0]
[null,null,{"$f":"T(ESTIMATE!B438)","v":"Vanity cabinet"},null,null,null,null,{"$f":"ESTIMATE!P438","v":0},{"$f":"T(ESTIMATE!S438)","v":"ea"},{"$f":"IF($Q$28=\"Allocate Adders\",ESTIMATE!BC438,ESTIMATE!AW438)","v":0},{"$f":"IF($Q$28=\"Allocate Adders\",ESTIMATE!BF438,ESTIMATE!AX438)","v":0},{"$f":"IF($Q$28=\"Allocate Adders\",ESTIMATE!BI438,ESTIMATE!AY438)","v":0},0,null,0]
[null,null,{"$f":"T(ESTIMATE!B439)","v":"New cabinet door pulls"},null,null,null,null,{"$f":"ESTIMATE!P439","v":0},{"$f":"T(ESTIMATE!S439)","v":"ea"},{"$f":"IF($Q$28=\"Allocate Adders\",ESTIMATE!BC439,ESTIMATE!AW439)","v":0},{"$f":"IF($Q$28=\"Allocate Adders\",ESTIMATE!BF439,ESTIMATE!AX439)","v":0},{"$f":"IF($Q$28=\"Allocate Adders\",ESTIMATE!BI439,ESTIMATE!AY439)","v":0},0,null,0]
[null,null,{"$f":"T(ESTIMATE!B440)","v":"Vanity countertop, stone/solid surface"},null,null,null,null,{"$f":"ESTIMATE!P440","v":0},{"$f":"T(ESTIMATE!S440)","v":"sf"},{"$f":"IF($Q$28=\"Allocate Adders\",ESTIMATE!BC440,ESTIMATE!AW440)","v":0},{"$f":"IF($Q$28=\"Allocate Adders\",ESTIMATE!BF440,ESTIMATE!AX440)","v":0},{"$f":"IF($Q$28=\"Allocate Adders\",ESTIMATE!BI440,ESTIMATE!AY440)","v":0},0,null,0]
[null,null,{"$f":"T(ESTIMATE!B441)","v":"Finishes"},null,null,null,null,{"$f":"ESTIMATE!P441","v":0},{"$f":"T(ESTIMATE!S441)","v":""},{"$f":"IF($Q$28=\"Allocate Adders\",ESTIMATE!BC441,ESTIMATE!AW441)","v":0},{"$f":"IF($Q$28=\"Allocate Adders\",ESTIMATE!BF441,ESTIMATE!AX441)","v":0},{"$f":"IF($Q$28=\"Allocate Adders\",ESTIMATE!BI441,ESTIMATE!AY441)","v":0},0,null,0]
[null,null,{"$f":"T(ESTIMATE!B442)","v":"Shower tile, standard"},null,null,null,null,{"$f":"ESTIMATE!P442","v":0},{"$f":"T(ESTIMATE!S442)","v":"sf"},{"$f":"IF($Q$28=\"Allocate Adders\",ESTIMATE!BC442,ESTIMATE!AW442)","v":0},{"$f":"IF($Q$28=\"Allocate Adders\",ESTIMATE!BF442,ESTIMATE!AX442)","v":0},{"$f":"IF($Q$28=\"Allocate Adders\",ESTIMATE!BI442,ESTIMATE!AY442)","v":0},0,null,0]
[null,null,{"$f":"T(ESTIMATE!B443)","v":"Shower tile, accent mosaic tile"},null,null,null,null,{"$f":"ESTIMATE!P443","v":0},{"$f":"T(ESTIMATE!S443)","v":"sf"},{"$f":"IF($Q$28=\"Allocate Adders\",ESTIMATE!BC443,ESTIMATE!AW443)","v":0},{"$f":"IF($Q$28=\"Allocate Adders\",ESTIMATE!BF443,ESTIMATE!AX443)","v":0},{"$f":"IF($Q$28=\"Allocate Adders\",ESTIMATE!BI443,ESTIMATE!AY443)","v":0},0,null,0]
[null,null,{"$f":"T(ESTIMATE!B444)","v":"Floor tile, bathrooms"},null,null,null,null,{"$f":"ESTIMATE!P444","v":0},{"$f":"T(ESTIMATE!S444)","v":"sf"},{"$f":"IF($Q$28=\"Allocate Adders\",ESTIMATE!BC444,ESTIMATE!AW444)","v":0},{"$f":"IF($Q$28=\"Allocate Adders\",ESTIMATE!BF444,ESTIMATE!AX444)","v":0},{"$f":"IF($Q$28=\"Allocate Adders\",ESTIMATE!BI444,ESTIMATE!AY444)","v":0},0,null,0]
[null,null,{"$f":"T(ESTIMATE!B445)","v":"Plumbing"},null,null,null,null,{"$f":"ESTIMATE!P445","v":0},{"$f":"T(ESTIMATE!S445)","v":""},{"$f":"IF($Q$28=\"Allocate Adders\",ESTIMATE!BC445,ESTIMATE!AW445)","v":0},{"$f":"IF($Q$28=\"Allocate Adders\",ESTIMATE!BF445,ESTIMATE!AX445)","v":0},{"$f":"IF($Q$28=\"Allocate Adders\",ESTIMATE!BI445,ESTIMATE!AY445)","v":0},0,null,0]
[null,null,{"$f":"T(ESTIMATE!B446)","v":"Bathroom faucet fixture"},null,null,null,null,{"$f":"ESTIMATE!P446","v":0},{"$f":"T(ESTIMATE!S446)","v":"ea"},{"$f":"IF($Q$28=\"Allocate Adders\",ESTIMATE!BC446,ESTIMATE!AW446)","v":0},{"$f":"IF($Q$28=\"Allocate Adders\",ESTIMATE!BF446,ESTIMATE!AX446)","v":0},{"$f":"IF($Q$28=\"Allocate Adders\",ESTIMATE!BI446,ESTIMATE!AY446)","v":0},0,null,0]
[null,null,{"$f":"T(ESTIMATE!B447)","v":"Fiberglass shower stall"},null,null,null,null,{"$f":"ESTIMATE!P447","v":0},{"$f":"T(ESTIMATE!S447)","v":"ea"},{"$f":"IF($Q$28=\"Allocate Adders\",ESTIMATE!BC447,ESTIMATE!AW447)","v":0},{"$f":"IF($Q$28=\"Allocate Adders\",ESTIMATE!BF447,ESTIMATE!AX447)","v":0},{"$f":"IF($Q$28=\"Allocate Adders\",ESTIMATE!BI447,ESTIMATE!AY447)","v":0},0,null,0]
[null,null,{"$f":"T(ESTIMATE!B448)","v":"Fiberglass tub"},null,null,null,null,{"$f":"ESTIMATE!P448","v":0},{"$f":"T(ESTIMATE!S448)","v":"ea"},{"$f":"IF($Q$28=\"Allocate Adders\",ESTIMATE!BC448,ESTIMATE!AW448)","v":0},{"$f":"IF($Q$28=\"Allocate Adders\",ESTIMATE!BF448,ESTIMATE!AX448)","v":0},{"$f":"IF($Q$28=\"Allocate Adders\",ESTIMATE!BI448,ESTIMATE!AY448)","v":0},0,null,0]
[null,null,{"$f":"T(ESTIMATE!B449)","v":"Fiberglass tub/shower surround"},null,null,null,null,{"$f":"ESTIMATE!P449","v":0},{"$f":"T(ESTIMATE!S449)","v":"ea"},{"$f":"IF($Q$28=\"Allocate Adders\",ESTIMATE!BC449,ESTIMATE!AW449)","v":0},{"$f":"IF($Q$28=\"Allocate Adders\",ESTIMATE!BF449,ESTIMATE!AX449)","v":0},{"$f":"IF($Q$28=\"Allocate Adders\",ESTIMATE!BI449,ESTIMATE!AY449)","v":0},0,null,0]
[null,null,{"$f":"T(ESTIMATE!B450)","v":"Showerhead/tub kit"},null,null,null,null,{"$f":"ESTIMATE!P450","v":0},{"$f":"T(ESTIMATE!S450)","v":"ea"},{"$f":"IF($Q$28=\"Allocate Adders\",ESTIMATE!BC450,ESTIMATE!AW450)","v":0},{"$f":"IF($Q$28=\"Allocate Adders\",ESTIMATE!BF450,ESTIMATE!AX450)","v":0},{"$f":"IF($Q$28=\"Allocate Adders\",ESTIMATE!BI450,ESTIMATE!AY450)","v":0},0,null,0]
[null,null,{"$f":"T(ESTIMATE!B451)","v":"Toilets"},null,null,null,null,{"$f":"ESTIMATE!P451","v":0},{"$f":"T(ESTIMATE!S451)","v":"ea"},{"$f":"IF($Q$28=\"Allocate Adders\",ESTIMATE!BC451,ESTIMATE!AW451)","v":0},{"$f":"IF($Q$28=\"Allocate Adders\",ESTIMATE!BF451,ESTIMATE!AX451)","v":0},{"$f":"IF($Q$28=\"Allocate Adders\",ESTIMATE!BI451,ESTIMATE!AY451)","v":0},0,null,0]
[null,null,{"$f":"T(ESTIMATE!B452)","v":"Toilet seats"},null,null,null,null,{"$f":"ESTIMATE!P452","v":0},{"$f":"T(ESTIMATE!S452)","v":"ea"},{"$f":"IF($Q$28=\"Allocate Adders\",ESTIMATE!BC452,ESTIMATE!AW452)","v":0},{"$f":"IF($Q$28=\"Allocate Adders\",ESTIMATE!BF452,ESTIMATE!AX452)","v":0},{"$f":"IF($Q$28=\"Allocate Adders\",ESTIMATE!BI452,ESTIMATE!AY452)","v":0},0,null,0]
[null,null,{"$f":"T(ESTIMATE!B453)","v":"Pedestal sink"},null,null,null,null,{"$f":"ESTIMATE!P453","v":0},{"$f":"T(ESTIMATE!S453)","v":"ea"},{"$f":"IF($Q$28=\"Allocate Adders\",ESTIMATE!BC453,ESTIMATE!AW453)","v":0},{"$f":"IF($Q$28=\"Allocate Adders\",ESTIMATE!BF453,ESTIMATE!AX453)","v":0},{"$f":"IF($Q$28=\"Allocate Adders\",ESTIMATE!BI453,ESTIMATE!AY453)","v":0},0,null,0]
[null,null,{"$f":"T(ESTIMATE!B454)","v":"Electrical"},null,null,null,null,{"$f":"ESTIMATE!P454","v":0},{"$f":"T(ESTIMATE!S454)","v":""},{"$f":"IF($Q$28=\"Allocate Adders\",ESTIMATE!BC454,ESTIMATE!AW454)","v":0},{"$f":"IF($Q$28=\"Allocate Adders\",ESTIMATE!BF454,ESTIMATE!AX454)","v":0},{"$f":"IF($Q$28=\"Allocate Adders\",ESTIMATE!BI454,ESTIMATE!AY454)","v":0},0,null,0]
[null,null,{"$f":"T(ESTIMATE!B455)","v":"Exhaust Fan"},null,null,null,null,{"$f":"ESTIMATE!P455","v":0},{"$f":"T(ESTIMATE!S455)","v":"ea"},{"$f":"IF($Q$28=\"Allocate Adders\",ESTIMATE!BC455,ESTIMATE!AW455)","v":0},{"$f":"IF($Q$28=\"Allocate Adders\",ESTIMATE!BF455,ESTIMATE!AX455)","v":0},{"$f":"IF($Q$28=\"Allocate Adders\",ESTIMATE!BI455,ESTIMATE!AY455)","v":0},0,null,0]
[null,null,{"$f":"T(ESTIMATE!B456)","v":"Bathroom vanity light"},null,null,null,null,{"$f":"ESTIMATE!P456","v":0},{"$f":"T(ESTIMATE!S456)","v":"ea"},{"$f":"IF($Q$28=\"Allocate Adders\",ESTIMATE!BC456,ESTIMATE!AW456)","v":0},{"$f":"IF($Q$28=\"Allocate Adders\",ESTIMATE!BF456,ESTIMATE!AX456)","v":0},{"$f":"IF($Q$28=\"Allocate Adders\",ESTIMATE!BI456,ESTIMATE!AY456)","v":0},0,null,0]
[null,null,{"$f":"T(ESTIMATE!B457)","v":"Accessories"},null,null,null,null,{"$f":"ESTIMATE!P457","v":0},{"$f":"T(ESTIMATE!S457)","v":""},{"$f":"IF($Q$28=\"Allocate Adders\",ESTIMATE!BC457,ESTIMATE!AW457)","v":0},{"$f":"IF($Q$28=\"Allocate Adders\",ESTIMATE!BF457,ESTIMATE!AX457)","v":0},{"$f":"IF($Q$28=\"Allocate Adders\",ESTIMATE!BI457,ESTIMATE!AY457)","v":0},0,null,0]
[null,null,{"$f":"T(ESTIMATE!B458)","v":"Bath accessories, towel bar, toilet disp, ea bathroom"},null,null,null,null,{"$f":"ESTIMATE!P458","v":0},{"$f":"T(ESTIMATE!S458)","v":"ea"},{"$f":"IF($Q$28=\"Allocate Adders\",ESTIMATE!BC458,ESTIMATE!AW458)","v":0},{"$f":"IF($Q$28=\"Allocate Adders\",ESTIMATE!BF458,ESTIMATE!AX458)","v":0},{"$f":"IF($Q$28=\"Allocate Adders\",ESTIMATE!BI458,ESTIMATE!AY458)","v":0},0,null,0]
[null,null,{"$f":"T(ESTIMATE!B459)","v":"Bathroom mirrors"},null,null,null,null,{"$f":"ESTIMATE!P459","v":0},{"$f":"T(ESTIMATE!S459)","v":"ea"},{"$f":"IF($Q$28=\"Allocate Adders\",ESTIMATE!BC459,ESTIMATE!AW459)","v":0},{"$f":"IF($Q$28=\"Allocate Adders\",ESTIMATE!BF459,ESTIMATE!AX459)","v":0},{"$f":"IF($Q$28=\"Allocate Adders\",ESTIMATE!BI459,ESTIMATE!AY459)","v":0},0,null,0]
[null,null,{"$f":"T(ESTIMATE!B460)","v":""},null,null,null,null,{"$f":"ESTIMATE!P460","v":0},{"$f":"T(ESTIMATE!S460)","v":""},{"$f":"IF($Q$28=\"Allocate Adders\",ESTIMATE!BC460,ESTIMATE!AW460)","v":0},{"$f":"IF($Q$28=\"Allocate Adders\",ESTIMATE!BF460,ESTIMATE!AX460)","v":0},{"$f":"IF($Q$28=\"Allocate Adders\",ESTIMATE!BI460,ESTIMATE!AY460)","v":0},0,null,0]
[null,null,{"$f":"T(ESTIMATE!B461)","v":""},null,null,null,null,{"$f":"ESTIMATE!P461","v":0},{"$f":"T(ESTIMATE!S461)","v":""},{"$f":"IF($Q$28=\"Allocate Adders\",ESTIMATE!BC461,ESTIMATE!AW461)","v":0},{"$f":"IF($Q$28=\"Allocate Adders\",ESTIMATE!BF461,ESTIMATE!AX461)","v":0},{"$f":"IF($Q$28=\"Allocate Adders\",ESTIMATE!BI461,ESTIMATE!AY461)","v":0},0,null,0]
[null,null,null,null,null,null,null,null,null,null,null,null,null,null,{"$f":"O493","v":0}]
[null,null,{"$f":"T(ESTIMATE!AC463)","v":"BATHROOMS TOTAL"},null,null,null,null,null,null,{"$f":"SUM(J452:J492)","v":0},{"$f":"SUM(K452:K492)","v":0},{"$f":"SUM(L452:L492)","v":0},{"$f":"SUM(M452:N492)","v":0},null,{"$f":"SUM(O451:O491)","v":0}]
[null,null,null,null,null,null,null,null,null,null,null,null,null,null,{"$f":"O493","v":0}]
[]
[null,null,{"$f":"T(ESTIMATE!B466)","v":"DOORS & TRIM"},null,null,null,null,{"$f":"SUM(H497:H536)","v":0},null,null,null,null,null,null,{"$f":"H496","v":0}]
[null,null,{"$f":"T(ESTIMATE!B467)","v":"Finish carpentry bid/allowance"},null,null,null,null,{"$f":"ESTIMATE!P467","v":0},{"$f":"T(ESTIMATE!S467)","v":"ls"},{"$f":"IF($Q$28=\"Allocate Adders\",ESTIMATE!BC467,ESTIMATE!AW467)","v":0},{"$f":"IF($Q$28=\"Allocate Adders\",ESTIMATE!BF467,ESTIMATE!AX467)","v":0},{"$f":"IF($Q$28=\"Allocate Adders\",ESTIMATE!BI467,ESTIMATE!AY467)","v":0},{"$f":"SUM(J497:L497)","v":0},null,0]
[null,null,{"$f":"T(ESTIMATE!B468)","v":"Interior door, prehung, hollow-core door"},null,null,null,null,{"$f":"ESTIMATE!P468","v":0},{"$f":"T(ESTIMATE!S468)","v":"ea"},{"$f":"IF($Q$28=\"Allocate Adders\",ESTIMATE!BC468,ESTIMATE!AW468)","v":0},{"$f":"IF($Q$28=\"Allocate Adders\",ESTIMATE!BF468,ESTIMATE!AX468)","v":0},{"$f":"IF($Q$28=\"Allocate Adders\",ESTIMATE!BI468,ESTIMATE!AY468)","v":0},0,null,0]
[null,null,{"$f":"T(ESTIMATE!B469)","v":"Interior mirrored, sliding, closet doors"},null,null,null,null,{"$f":"ESTIMATE!P469","v":0},{"$f":"T(ESTIMATE!S469)","v":"ea"},{"$f":"IF($Q$28=\"Allocate Adders\",ESTIMATE!BC469,ESTIMATE!AW469)","v":0},{"$f":"IF($Q$28=\"Allocate Adders\",ESTIMATE!BF469,ESTIMATE!AX469)","v":0},{"$f":"IF($Q$28=\"Allocate Adders\",ESTIMATE!BI469,ESTIMATE!AY469)","v":0},0,null,0]
[null,null,{"$f":"T(ESTIMATE!B470)","v":"Interior bi-fold, closet doors"},null,null,null,null,{"$f":"ESTIMATE!P470","v":0},{"$f":"T(ESTIMATE!S470)","v":"ea"},{"$f":"IF($Q$28=\"Allocate Adders\",ESTIMATE!BC470,ESTIMATE!AW470)","v":0},{"$f":"IF($Q$28=\"Allocate Adders\",ESTIMATE!BF470,ESTIMATE!AX470)","v":0},{"$f":"IF($Q$28=\"Allocate Adders\",ESTIMATE!BI470,ESTIMATE!AY470)","v":0},0,null,0]
[null,null,{"$f":"T(ESTIMATE!B471)","v":"Door hardware, knobs only"},null,null,null,null,{"$f":"ESTIMATE!P471","v":0},{"$f":"T(ESTIMATE!S471)","v":"ea"},{"$f":"IF($Q$28=\"Allocate Adders\",ESTIMATE!BC471,ESTIMATE!AW471)","v":0},{"$f":"IF($Q$28=\"Allocate Adders\",ESTIMATE!BF471,ESTIMATE!AX471)","v":0},{"$f":"IF($Q$28=\"Allocate Adders\",ESTIMATE!BI471,ESTIMATE!AY471)","v":0},0,null,0]
[null,null,{"$f":"T(ESTIMATE!B472)","v":"Door casings"},null,null,null,null,{"$f":"ESTIMATE!P472","v":0},{"$f":"T(ESTIMATE!S472)","v":"ea"},{"$f":"IF($Q$28=\"Allocate Adders\",ESTIMATE!BC472,ESTIMATE!AW472)","v":0},{"$f":"IF($Q$28=\"Allocate Adders\",ESTIMATE!BF472,ESTIMATE!AX472)","v":0},{"$f":"IF($Q$28=\"Allocate Adders\",ESTIMATE!BI472,ESTIMATE!AY472)","v":0},0,null,0]
[null,null,{"$f":"T(ESTIMATE!B473)","v":"Window casings"},null,null,null,null,{"$f":"ESTIMATE!P473","v":0},{"$f":"T(ESTIMATE!S473)","v":"ea"},{"$f":"IF($Q$28=\"Allocate Adders\",ESTIMATE!BC473,ESTIMATE!AW473)","v":0},{"$f":"IF($Q$28=\"Allocate Adders\",ESTIMATE!BF473,ESTIMATE!AX473)","v":0},{"$f":"IF($Q$28=\"Allocate Adders\",ESTIMATE!BI473,ESTIMATE!AY473)","v":0},0,null,0]
[null,null,{"$f":"T(ESTIMATE!B474)","v":"Window sills"},null,null,null,null,{"$f":"ESTIMATE!P474","v":0},{"$f":"T(ESTIMATE!S474)","v":"lf"},{"$f":"IF($Q$28=\"Allocate Adders\",ESTIMATE!BC474,ESTIMATE!AW474)","v":0},{"$f":"IF($Q$28=\"Allocate Adders\",ESTIMATE!BF474,ESTIMATE!AX474)","v":0},{"$f":"IF($Q$28=\"Allocate Adders\",ESTIMATE!BI474,ESTIMATE!AY474)","v":0},0,null,0]
[null,null,{"$f":"T(ESTIMATE!B475)","v":"Wood  base"},null,null,null,null,{"$f":"ESTIMATE!P475","v":0},{"$f":"T(ESTIMATE!S475)","v":"lf"},{"$f":"IF($Q$28=\"Allocate Adders\",ESTIMATE!BC475,ESTIMATE!AW475)","v":0},{"$f":"IF($Q$28=\"Allocate Adders\",ESTIMATE!BF475,ESTIMATE!AX475)","v":0},{"$f":"IF($Q$28=\"Allocate Adders\",ESTIMATE!BI475,ESTIMATE!AY475)","v":0},0,null,0]
[null,null,{"$f":"T(ESTIMATE!B476)","v":"Crown molding"},null,null,null,null,{"$f":"ESTIMATE!P476","v":0},{"$f":"T(ESTIMATE!S476)","v":"lf"},{"$f":"IF($Q$28=\"Allocate Adders\",ESTIMATE!BC476,ESTIMATE!AW476)","v":0},{"$f":"IF($Q$28=\"Allocate Adders\",ESTIMATE!BF476,ESTIMATE!AX476)","v":0},{"$f":"IF($Q$28=\"Allocate Adders\",ESTIMATE!BI476,ESTIMATE!AY476)","v":0},0,null,0]
[null,null,{"$f":"T(ESTIMATE!B477)","v":"Raised panel wood wainscoting"},null,null,null,null,{"$f":"ESTIMATE!P477","v":0},{"$f":"T(ESTIMATE!S477)","v":"lf"},{"$f":"IF($Q$28=\"Allocate Adders\",ESTIMATE!BC477,ESTIMATE!AW477)","v":0},{"$f":"IF($Q$28=\"Allocate Adders\",ESTIMATE!BF477,ESTIMATE!AX477)","v":0},{"$f":"IF($Q$28=\"Allocate Adders\",ESTIMATE!BI477,ESTIMATE!AY477)","v":0},0,null,0]
[null,null,{"$f":"T(ESTIMATE!B478)","v":"Bead board wainscoting"},null,null,null,null,{"$f":"ESTIMATE!P478","v":0},{"$f":"T(ESTIMATE!S478)","v":"lf"},{"$f":"IF($Q$28=\"Allocate Adders\",ESTIMATE!BC478,ESTIMATE!AW478)","v":0},{"$f":"IF($Q$28=\"Allocate Adders\",ESTIMATE!BF478,ESTIMATE!AX478)","v":0},{"$f":"IF($Q$28=\"Allocate Adders\",ESTIMATE!BI478,ESTIMATE!AY478)","v":0},0,null,0]
[null,null,{"$f":"T(ESTIMATE!B479)","v":"Fireplace mantel"},null,null,null,null,{"$f":"ESTIMATE!P479","v":0},{"$f":"T(ESTIMATE!S479)","v":"ea"},{"$f":"IF($Q$28=\"Allocate Adders\",ESTIMATE!BC479,ESTIMATE!AW479)","v":0},{"$f":"IF($Q$28=\"Allocate Adders\",ESTIMATE!BF479,ESTIMATE!AX479)","v":0},{"$f":"IF($Q$28=\"Allocate Adders\",ESTIMATE!BI479,ESTIMATE!AY479)","v":0},0,null,0]
[null,null,{"$f":"T(ESTIMATE!B480)","v":"Wood columns"},null,null,null,null,{"$f":"ESTIMATE!P480","v":0},{"$f":"T(ESTIMATE!S480)","v":"ea"},{"$f":"IF($Q$28=\"Allocate Adders\",ESTIMATE!BC480,ESTIMATE!AW480)","v":0},{"$f":"IF($Q$28=\"Allocate Adders\",ESTIMATE!BF480,ESTIMATE!AX480)","v":0},{"$f":"IF($Q$28=\"Allocate Adders\",ESTIMATE!BI480,ESTIMATE!AY480)","v":0},0,null,0]
[null,null,{"$f":"T(ESTIMATE!B481)","v":"Closet shelf and rod"},null,null,null,null,{"$f":"ESTIMATE!P481","v":0},{"$f":"T(ESTIMATE!S481)","v":"lf"},{"$f":"IF($Q$28=\"Allocate Adders\",ESTIMATE!BC481,ESTIMATE!AW481)","v":0},{"$f":"IF($Q$28=\"Allocate Adders\",ESTIMATE!BF481,ESTIMATE!AX481)","v":0},{"$f":"IF($Q$28=\"Allocate Adders\",ESTIMATE!BI481,ESTIMATE!AY481)","v":0},0,null,0]
[null,null,{"$f":"T(ESTIMATE!B482)","v":"Closet kit, 8ft long"},null,null,null,null,{"$f":"ESTIMATE!P482","v":0},{"$f":"T(ESTIMATE!S482)","v":"lf"},{"$f":"IF($Q$28=\"Allocate Adders\",ESTIMATE!BC482,ESTIMATE!AW482)","v":0},{"$f":"IF($Q$28=\"Allocate Adders\",ESTIMATE!BF482,ESTIMATE!AX482)","v":0},{"$f":"IF($Q$28=\"Allocate Adders\",ESTIMATE!BI482,ESTIMATE!AY482)","v":0},0,null,0]
[null,null,{"$f":"T(ESTIMATE!B483)","v":"Wood handrail - rail only"},null,null,null,null,{"$f":"ESTIMATE!P483","v":0},{"$f":"T(ESTIMATE!S483)","v":"lf"},{"$f":"IF($Q$28=\"Allocate Adders\",ESTIMATE!BC483,ESTIMATE!AW483)","v":0},{"$f":"IF($Q$28=\"Allocate Adders\",ESTIMATE!BF483,ESTIMATE!AX483)","v":0},{"$f":"IF($Q$28=\"Allocate Adders\",ESTIMATE!BI483,ESTIMATE!AY483)","v":0},0,null,0]
[null,null,{"$f":"T(ESTIMATE!B484)","v":"Wood balusters"},null,null,null,null,{"$f":"ESTIMATE!P484","v":0},{"$f":"T(ESTIMATE!S484)","v":"lf"},{"$f":"IF($Q$28=\"Allocate Adders\",ESTIMATE!BC484,ESTIMATE!AW484)","v":0},{"$f":"IF($Q$28=\"Allocate Adders\",ESTIMATE!BF484,ESTIMATE!AX484)","v":0},{"$f":"IF($Q$28=\"Allocate Adders\",ESTIMATE!BI484,ESTIMATE!AY484)","v":0},0,null,0]
[null,null,{"$f":"T(ESTIMATE!B485)","v":"Iron balusters"},null,null,null,null,{"$f":"ESTIMATE!P485","v":0},{"$f":"T(ESTIMATE!S485)","v":"lf"},{"$f":"IF($Q$28=\"Allocate Adders\",ESTIMATE!BC485,ESTIMATE!AW485)","v":0},{"$f":"IF($Q$28=\"Allocate Adders\",ESTIMATE!BF485,ESTIMATE!AX485)","v":0},{"$f":"IF($Q$28=\"Allocate Adders\",ESTIMATE!BI485,ESTIMATE!AY485)","v":0},0,null,0]
[null,null,{"$f":"T(ESTIMATE!B486)","v":""},null,null,null,null,{"$f":"ESTIMATE!P486","v":0},{"$f":"T(ESTIMATE!S486)","v":""},{"$f":"IF($Q$28=\"Allocate Adders\",ESTIMATE!BC486,ESTIMATE!AW486)","v":0},{"$f":"IF($Q$28=\"Allocate Adders\",ESTIMATE!BF486,ESTIMATE!AX486)","v":0},{"$f":"IF($Q$28=\"Allocate Adders\",ESTIMATE!BI486,ESTIMATE!AY486)","v":0},0,null,0]
[null,null,{"$f":"T(ESTIMATE!B487)","v":""},null,null,null,null,{"$f":"ESTIMATE!P487","v":0},{"$f":"T(ESTIMATE!S487)","v":""},{"$f":"IF($Q$28=\"Allocate Adders\",ESTIMATE!BC487,ESTIMATE!AW487)","v":0},{"$f":"IF($Q$28=\"Allocate Adders\",ESTIMATE!BF487,ESTIMATE!AX487)","v":0},{"$f":"IF($Q$28=\"Allocate Adders\",ESTIMATE!BI487,ESTIMATE!AY487)","v":0},0,null,0]
[null,null,{"$f":"T(ESTIMATE!B488)","v":""},null,null,null,null,{"$f":"ESTIMATE!P488","v":0},{"$f":"T(ESTIMATE!S488)","v":""},{"$f":"IF($Q$28=\"Allocate Adders\",ESTIMATE!BC488,ESTIMATE!AW488)","v":0},{"$f":"IF($Q$28=\"Allocate Adders\",ESTIMATE!BF488,ESTIMATE!AX488)","v":0},{"$f":"IF($Q$28=\"Allocate Adders\",ESTIMATE!BI488,ESTIMATE!AY488)","v":0},0,null,0]
[null,null,{"$f":"T(ESTIMATE!B489)","v":""},null,null,null,null,{"$f":"ESTIMATE!P489","v":0},{"$f":"T(ESTIMATE!S489)","v":""},{"$f":"IF($Q$28=\"Allocate Adders\",ESTIMATE!BC489,ESTIMATE!AW489)","v":0},{"$f":"IF($Q$28=\"Allocate Adders\",ESTIMATE!BF489,ESTIMATE!AX489)","v":0},{"$f":"IF($Q$28=\"Allocate Adders\",ESTIMATE!BI489,ESTIMATE!AY489)","v":0},0,null,0]
[null,null,{"$f":"T(ESTIMATE!B490)","v":""},null,null,null,null,{"$f":"ESTIMATE!P490","v":0},{"$f":"T(ESTIMATE!S490)","v":""},{"$f":"IF($Q$28=\"Allocate Adders\",ESTIMATE!BC490,ESTIMATE!AW490)","v":0},{"$f":"IF($Q$28=\"Allocate Adders\",ESTIMATE!BF490,ESTIMATE!AX490)","v":0},{"$f":"IF($Q$28=\"Allocate Adders\",ESTIMATE!BI490,ESTIMATE!AY490)","v":0},0,null,0]
[null,null,{"$f":"T(ESTIMATE!B491)","v":""},null,null,null,null,{"$f":"ESTIMATE!P491","v":0},{"$f":"T(ESTIMATE!S491)","v":""},{"$f":"IF($Q$28=\"Allocate Adders\",ESTIMATE!BC491,ESTIMATE!AW491)","v":0},{"$f":"IF($Q$28=\"Allocate Adders\",ESTIMATE!BF491,ESTIMATE!AX491)","v":0},{"$f":"IF($Q$28=\"Allocate Adders\",ESTIMATE!BI491,ESTIMATE!AY491)","v":0},0,null,0]
[null,null,{"$f":"T(ESTIMATE!B492)","v":""},null,null,null,null,{"$f":"ESTIMATE!P492","v":0},{"$f":"T(ESTIMATE!S492)","v":""},{"$f":"IF($Q$28=\"Allocate Adders\",ESTIMATE!BC492,ESTIMATE!AW492)","v":0},{"$f":"IF($Q$28=\"Allocate Adders\",ESTIMATE!BF492,ESTIMATE!AX492)","v":0},{"$f":"IF($Q$28=\"Allocate Adders\",ESTIMATE!BI492,ESTIMATE!AY492)","v":0},0,null,0]
[null,null,{"$f":"T(ESTIMATE!B493)","v":""},null,null,null,null,{"$f":"ESTIMATE!P493","v":0},{"$f":"T(ESTIMATE!S493)","v":""},{"$f":"IF($Q$28=\"Allocate Adders\",ESTIMATE!BC493,ESTIMATE!AW493)","v":0},{"$f":"IF($Q$28=\"Allocate Adders\",ESTIMATE!BF493,ESTIMATE!AX493)","v":0},{"$f":"IF($Q$28=\"Allocate Adders\",ESTIMATE!BI493,ESTIMATE!AY493)","v":0},0,null,0]
[null,null,{"$f":"T(ESTIMATE!B494)","v":""},null,null,null,null,{"$f":"ESTIMATE!P494","v":0},{"$f":"T(ESTIMATE!S494)","v":""},{"$f":"IF($Q$28=\"Allocate Adders\",ESTIMATE!BC494,ESTIMATE!AW494)","v":0},{"$f":"IF($Q$28=\"Allocate Adders\",ESTIMATE!BF494,ESTIMATE!AX494)","v":0},{"$f":"IF($Q$28=\"Allocate Adders\",ESTIMATE!BI494,ESTIMATE!AY494)","v":0},0,null,0]
[null,null,{"$f":"T(ESTIMATE!B495)","v":""},null,null,null,null,{"$f":"ESTIMATE!P495","v":0},{"$f":"T(ESTIMATE!S495)","v":""},{"$f":"IF($Q$28=\"Allocate Adders\",ESTIMATE!BC495,ESTIMATE!AW495)","v":0},{"$f":"IF($Q$28=\"Allocate Adders\",ESTIMATE!BF495,ESTIMATE!AX495)","v":0},{"$f":"IF($Q$28=\"Allocate Adders\",ESTIMATE!BI495,ESTIMATE!AY495)","v":0},0,null,0]
[null,null,{"$f":"T(ESTIMATE!B496)","v":""},null,null,null,null,{"$f":"ESTIMATE!P496","v":0},{"$f":"T(ESTIMATE!S496)","v":""},{"$f":"IF($Q$28=\"Allocate Adders\",ESTIMATE!BC496,ESTIMATE!AW496)","v":0},{"$f":"IF($Q$28=\"Allocate Adders\",ESTIMATE!BF496,ESTIMATE!AX496)","v":0},{"$f":"IF($Q$28=\"Allocate Adders\",ESTIMATE!BI496,ESTIMATE!AY496)","v":0},0,null,0]
[null,null,{"$f":"T(ESTIMATE!B497)","v":""},null,null,null,null,{"$f":"ESTIMATE!P497","v":0},{"$f":"T(ESTIMATE!S497)","v":""},{"$f":"IF($Q$28=\"Allocate Adders\",ESTIMATE!BC497,ESTIMATE!AW497)","v":0},{"$f":"IF($Q$28=\"Allocate Adders\",ESTIMATE!BF497,ESTIMATE!AX497)","v":0},{"$f":"IF($Q$28=\"Allocate Adders\",ESTIMATE!BI497,ESTIMATE!AY497)","v":0},0,null,0]
[null,null,{"$f":"T(ESTIMATE!B498)","v":""},null,null,null,null,{"$f":"ESTIMATE!P498","v":0},{"$f":"T(ESTIMATE!S498)","v":""},{"$f":"IF($Q$28=\"Allocate Adders\",ESTIMATE!BC498,ESTIMATE!AW498)","v":0},{"$f":"IF($Q$28=\"Allocate Adders\",ESTIMATE!BF498,ESTIMATE!AX498)","v":0},{"$f":"IF($Q$28=\"Allocate Adders\",ESTIMATE!BI498,ESTIMATE!AY498)","v":0},0,null,0]
[null,null,{"$f":"T(ESTIMATE!B499)","v":""},null,null,null,null,{"$f":"ESTIMATE!P499","v":0},{"$f":"T(ESTIMATE!S499)","v":""},{"$f":"IF($Q$28=\"Allocate Adders\",ESTIMATE!BC499,ESTIMATE!AW499)","v":0},{"$f":"IF($Q$28=\"Allocate Adders\",ESTIMATE!BF499,ESTIMATE!AX499)","v":0},{"$f":"IF($Q$28=\"Allocate Adders\",ESTIMATE!BI499,ESTIMATE!AY499)","v":0},0,null,0]
[null,null,{"$f":"T(ESTIMATE!B500)","v":""},null,null,null,null,{"$f":"ESTIMATE!P500","v":0},{"$f":"T(ESTIMATE!S500)","v":""},{"$f":"IF($Q$28=\"Allocate Adders\",ESTIMATE!BC500,ESTIMATE!AW500)","v":0},{"$f":"IF($Q$28=\"Allocate Adders\",ESTIMATE!BF500,ESTIMATE!AX500)","v":0},{"$f":"IF($Q$28=\"Allocate Adders\",ESTIMATE!BI500,ESTIMATE!AY500)","v":0},0,null,0]
[null,null,{"$f":"T(ESTIMATE!B501)","v":""},null,null,null,null,{"$f":"ESTIMATE!P501","v":0},{"$f":"T(ESTIMATE!S501)","v":""},{"$f":"IF($Q$28=\"Allocate Adders\",ESTIMATE!BC501,ESTIMATE!AW501)","v":0},{"$f":"IF($Q$28=\"Allocate Adders\",ESTIMATE!BF501,ESTIMATE!AX501)","v":0},{"$f":"IF($Q$28=\"Allocate Adders\",ESTIMATE!BI501,ESTIMATE!AY501)","v":0},0,null,0]
[null,null,{"$f":"T(ESTIMATE!B502)","v":""},null,null,null,null,{"$f":"ESTIMATE!P502","v":0},{"$f":"T(ESTIMATE!S502)","v":""},{"$f":"IF($Q$28=\"Allocate Adders\",ESTIMATE!BC502,ESTIMATE!AW502)","v":0},{"$f":"IF($Q$28=\"Allocate Adders\",ESTIMATE!BF502,ESTIMATE!AX502)","v":0},{"$f":"IF($Q$28=\"Allocate Adders\",ESTIMATE!BI502,ESTIMATE!AY502)","v":0},0,null,0]
[null,null,{"$f":"T(ESTIMATE!B503)","v":""},null,null,null,null,{"$f":"ESTIMATE!P503","v":0},{"$f":"T(ESTIMATE!S503)","v":""},{"$f":"IF($Q$28=\"Allocate Adders\",ESTIMATE!BC503,ESTIMATE!AW503)","v":0},{"$f":"IF($Q$28=\"Allocate Adders\",ESTIMATE!BF503,ESTIMATE!AX503)","v":0},{"$f":"IF($Q$28=\"Allocate Adders\",ESTIMATE!BI503,ESTIMATE!AY503)","v":0},0,null,0]
[null,null,{"$f":"T(ESTIMATE!B504)","v":""},null,null,null,null,{"$f":"ESTIMATE!P504","v":0},{"$f":"T(ESTIMATE!S504)","v":""},{"$f":"IF($Q$28=\"Allocate Adders\",ESTIMATE!BC504,ESTIMATE!AW504)","v":0},{"$f":"IF($Q$28=\"Allocate Adders\",ESTIMATE!BF504,ESTIMATE!AX504)","v":0},{"$f":"IF($Q$28=\"Allocate Adders\",ESTIMATE!BI504,ESTIMATE!AY504)","v":0},0,null,0]
[null,null,{"$f":"T(ESTIMATE!B505)","v":""},null,null,null,null,{"$f":"ESTIMATE!P505","v":0},{"$f":"T(ESTIMATE!S505)","v":""},{"$f":"IF($Q$28=\"Allocate Adders\",ESTIMATE!BC505,ESTIMATE!AW505)","v":0},{"$f":"IF($Q$28=\"Allocate Adders\",ESTIMATE!BF505,ESTIMATE!AX505)","v":0},{"$f":"IF($Q$28=\"Allocate Adders\",ESTIMATE!BI505,ESTIMATE!AY505)","v":0},0,null,0]
[null,null,{"$f":"T(ESTIMATE!B506)","v":""},null,null,null,null,{"$f":"ESTIMATE!P506","v":0},{"$f":"T(ESTIMATE!S506)","v":""},{"$f":"IF($Q$28=\"Allocate Adders\",ESTIMATE!BC506,ESTIMATE!AW506)","v":0},{"$f":"IF($Q$28=\"Allocate Adders\",ESTIMATE!BF506,ESTIMATE!AX506)","v":0},{"$f":"IF($Q$28=\"Allocate Adders\",ESTIMATE!BI506,ESTIMATE!AY506)","v":0},0,null,0]
[null,null,null,null,null,null,null,null,null,null,null,null,null,null,{"$f":"O538","v":0}]
[null,null,{"$f":"T(ESTIMATE!AC508)","v":"DOORS & TRIM TOTAL"},null,null,null,null,null,null,{"$f":"SUM(J497:J537)","v":0},{"$f":"SUM(K497:K537)","v":0},{"$f":"SUM(L497:L537)","v":0},{"$f":"SUM(M497:N537)","v":0},null,{"$f":"SUM(O496:O536)","v":0}]
[null,null,null,null,null,null,null,null,null,null,null,null,null,null,{"$f":"O538","v":0}]
[]
[null,null,{"$f":"T(ESTIMATE!B511)","v":"FRAMING & DRYWALL"},null,null,null,null,{"$f":"SUM(H542:H581)","v":0},null,null,null,null,null,null,{"$f":"H541","v":0}]
[null,null,{"$f":"T(ESTIMATE!B512)","v":"Framing"},null,null,null,null,{"$f":"ESTIMATE!P512","v":0},{"$f":"T(ESTIMATE!S512)","v":""},{"$f":"IF($Q$28=\"Allocate Adders\",ESTIMATE!BC512,ESTIMATE!AW512)","v":0},{"$f":"IF($Q$28=\"Allocate Adders\",ESTIMATE!BF512,ESTIMATE!AX512)","v":0},{"$f":"IF($Q$28=\"Allocate Adders\",ESTIMATE!BI512,ESTIMATE!AY512)","v":0},{"$f":"SUM(J542:L542)","v":0},null,0]
[null,null,{"$f":"T(ESTIMATE!B513)","v":"Structural framing bid/allowance, case by case"},null,null,null,null,{"$f":"ESTIMATE!P513","v":0},{"$f":"T(ESTIMATE!S513)","v":"ls"},{"$f":"IF($Q$28=\"Allocate Adders\",ESTIMATE!BC513,ESTIMATE!AW513)","v":0},{"$f":"IF($Q$28=\"Allocate Adders\",ESTIMATE!BF513,ESTIMATE!AX513)","v":0},{"$f":"IF($Q$28=\"Allocate Adders\",ESTIMATE!BI513,ESTIMATE!AY513)","v":0},0,null,0]
[null,null,{"$f":"T(ESTIMATE!B514)","v":"Subflooring, 3/4\" plywood"},null,null,null,null,{"$f":"ESTIMATE!P514","v":0},{"$f":"T(ESTIMATE!S514)","v":"sf"},{"$f":"IF($Q$28=\"Allocate Adders\",ESTIMATE!BC514,ESTIMATE!AW514)","v":0},{"$f":"IF($Q$28=\"Allocate Adders\",ESTIMATE!BF514,ESTIMATE!AX514)","v":0},{"$f":"IF($Q$28=\"Allocate Adders\",ESTIMATE!BI514,ESTIMATE!AY514)","v":0},0,null,0]
[null,null,{"$f":"T(ESTIMATE!B515)","v":"Interior wall framing"},null,null,null,null,{"$f":"ESTIMATE!P515","v":0},{"$f":"T(ESTIMATE!S515)","v":"sf"},{"$f":"IF($Q$28=\"Allocate Adders\",ESTIMATE!BC515,ESTIMATE!AW515)","v":0},{"$f":"IF($Q$28=\"Allocate Adders\",ESTIMATE!BF515,ESTIMATE!AX515)","v":0},{"$f":"IF($Q$28=\"Allocate Adders\",ESTIMATE!BI515,ESTIMATE!AY515)","v":0},0,null,0]
[null,null,{"$f":"T(ESTIMATE!B516)","v":"Structural/Exterior wall framing"},null,null,null,null,{"$f":"ESTIMATE!P516","v":0},{"$f":"T(ESTIMATE!S516)","v":"sf"},{"$f":"IF($Q$28=\"Allocate Adders\",ESTIMATE!BC516,ESTIMATE!AW516)","v":0},{"$f":"IF($Q$28=\"Allocate Adders\",ESTIMATE!BF516,ESTIMATE!AX516)","v":0},{"$f":"IF($Q$28=\"Allocate Adders\",ESTIMATE!BI516,ESTIMATE!AY516)","v":0},0,null,0]
[null,null,{"$f":"T(ESTIMATE!B517)","v":"Rough-in openings"},null,null,null,null,{"$f":"ESTIMATE!P517","v":0},{"$f":"T(ESTIMATE!S517)","v":"ea"},{"$f":"IF($Q$28=\"Allocate Adders\",ESTIMATE!BC517,ESTIMATE!AW517)","v":0},{"$f":"IF($Q$28=\"Allocate Adders\",ESTIMATE!BF517,ESTIMATE!AX517)","v":0},{"$f":"IF($Q$28=\"Allocate Adders\",ESTIMATE!BI517,ESTIMATE!AY517)","v":0},0,null,0]
[null,null,{"$f":"T(ESTIMATE!B518)","v":"Floor joists/ceiling joists"},null,null,null,null,{"$f":"ESTIMATE!P518","v":0},{"$f":"T(ESTIMATE!S518)","v":"sf"},{"$f":"IF($Q$28=\"Allocate Adders\",ESTIMATE!BC518,ESTIMATE!AW518)","v":0},{"$f":"IF($Q$28=\"Allocate Adders\",ESTIMATE!BF518,ESTIMATE!AX518)","v":0},{"$f":"IF($Q$28=\"Allocate Adders\",ESTIMATE!BI518,ESTIMATE!AY518)","v":0},0,null,0]
[null,null,{"$f":"T(ESTIMATE!B519)","v":"Roof framing/rafters"},null,null,null,null,{"$f":"ESTIMATE!P519","v":0},{"$f":"T(ESTIMATE!S519)","v":"sf"},{"$f":"IF($Q$28=\"Allocate Adders\",ESTIMATE!BC519,ESTIMATE!AW519)","v":0},{"$f":"IF($Q$28=\"Allocate Adders\",ESTIMATE!BF519,ESTIMATE!AX519)","v":0},{"$f":"IF($Q$28=\"Allocate Adders\",ESTIMATE!BI519,ESTIMATE!AY519)","v":0},0,null,0]
[null,null,{"$f":"T(ESTIMATE!B520)","v":"Open load bearing/structural wall"},null,null,null,null,{"$f":"ESTIMATE!P520","v":0},{"$f":"T(ESTIMATE!S520)","v":"ea"},{"$f":"IF($Q$28=\"Allocate Adders\",ESTIMATE!BC520,ESTIMATE!AW520)","v":0},{"$f":"IF($Q$28=\"Allocate Adders\",ESTIMATE!BF520,ESTIMATE!AX520)","v":0},{"$f":"IF($Q$28=\"Allocate Adders\",ESTIMATE!BI520,ESTIMATE!AY520)","v":0},0,null,0]
[null,null,{"$f":"T(ESTIMATE!B521)","v":""},null,null,null,null,{"$f":"ESTIMATE!P521","v":0},{"$f":"T(ESTIMATE!S521)","v":""},{"$f":"IF($Q$28=\"Allocate Adders\",ESTIMATE!BC521,ESTIMATE!AW521)","v":0},{"$f":"IF($Q$28=\"Allocate Adders\",ESTIMATE!BF521,ESTIMATE!AX521)","v":0},{"$f":"IF($Q$28=\"Allocate Adders\",ESTIMATE!BI521,ESTIMATE!AY521)","v":0},0,null,0]
[null,null,{"$f":"T(ESTIMATE!B522)","v":""},null,null,null,null,{"$f":"ESTIMATE!P522","v":0},{"$f":"T(ESTIMATE!S522)","v":""},{"$f":"IF($Q$28=\"Allocate Adders\",ESTIMATE!BC522,ESTIMATE!AW522)","v":0},{"$f":"IF($Q$28=\"Allocate Adders\",ESTIMATE!BF522,ESTIMATE!AX522)","v":0},{"$f":"IF($Q$28=\"Allocate Adders\",ESTIMATE!BI522,ESTIMATE!AY522)","v":0},0,null,0]
[null,null,{"$f":"T(ESTIMATE!B523)","v":"Insulation"},null,null,null,null,{"$f":"ESTIMATE!P523","v":0},{"$f":"T(ESTIMATE!S523)","v":""},{"$f":"IF($Q$28=\"Allocate Adders\",ESTIMATE!BC523,ESTIMATE!AW523)","v":0},{"$f":"IF($Q$28=\"Allocate Adders\",ESTIMATE!BF523,ESTIMATE!AX523)","v":0},{"$f":"IF($Q$28=\"Allocate Adders\",ESTIMATE!BI523,ESTIMATE!AY523)","v":0},0,null,0]
[null,null,{"$f":"T(ESTIMATE!B524)","v":"Insulation bid/allowance"},null,null,null,null,{"$f":"ESTIMATE!P524","v":0},{"$f":"T(ESTIMATE!S524)","v":"ls"},{"$f":"IF($Q$28=\"Allocate Adders\",ESTIMATE!BC524,ESTIMATE!AW524)","v":0},{"$f":"IF($Q$28=\"Allocate Adders\",ESTIMATE!BF524,ESTIMATE!AX524)","v":0},{"$f":"IF($Q$28=\"Allocate Adders\",ESTIMATE!BI524,ESTIMATE!AY524)","v":0},0,null,0]
[null,null,{"$f":"T(ESTIMATE!B525)","v":"Wall insulation"},null,null,null,null,{"$f":"ESTIMATE!P525","v":0},{"$f":"T(ESTIMATE!S525)","v":"sf"},{"$f":"IF($Q$28=\"Allocate Adders\",ESTIMATE!BC525,ESTIMATE!AW525)","v":0},{"$f":"IF($Q$28=\"Allocate Adders\",ESTIMATE!BF525,ESTIMATE!AX525)","v":0},{"$f":"IF($Q$28=\"Allocate Adders\",ESTIMATE!BI525,ESTIMATE!AY525)","v":0},0,null,0]
[null,null,{"$f":"T(ESTIMATE!B526)","v":"Floor insulation"},null,null,null,null,{"$f":"ESTIMATE!P526","v":0},{"$f":"T(ESTIMATE!S526)","v":"sf"},{"$f":"IF($Q$28=\"Allocate Adders\",ESTIMATE!BC526,ESTIMATE!AW526)","v":0},{"$f":"IF($Q$28=\"Allocate Adders\",ESTIMATE!BF526,ESTIMATE!AX526)","v":0},{"$f":"IF($Q$28=\"Allocate Adders\",ESTIMATE!BI526,ESTIMATE!AY526)","v":0},0,null,0]
[null,null,{"$f":"T(ESTIMATE!B527)","v":"Attic insulation, blown-in"},null,null,null,null,{"$f":"ESTIMATE!P527","v":0},{"$f":"T(ESTIMATE!S527)","v":"sf"},{"$f":"IF($Q$28=\"Allocate Adders\",ESTIMATE!BC527,ESTIMATE!AW527)","v":0},{"$f":"IF($Q$28=\"Allocate Adders\",ESTIMATE!BF527,ESTIMATE!AX527)","v":0},{"$f":"IF($Q$28=\"Allocate Adders\",ESTIMATE!BI527,ESTIMATE!AY527)","v":0},0,null,0]
[null,null,{"$f":"T(ESTIMATE!B528)","v":""},null,null,null,null,{"$f":"ESTIMATE!P528","v":0},{"$f":"T(ESTIMATE!S528)","v":""},{"$f":"IF($Q$28=\"Allocate Adders\",ESTIMATE!BC528,ESTIMATE!AW528)","v":0},{"$f":"IF($Q$28=\"Allocate Adders\",ESTIMATE!BF528,ESTIMATE!AX528)","v":0},{"$f":"IF($Q$28=\"Allocate Adders\",ESTIMATE!BI528,ESTIMATE!AY528)","v":0},0,null,0]
[null,null,{"$f":"T(ESTIMATE!B529)","v":""},null,null,null,null,{"$f":"ESTIMATE!P529","v":0},{"$f":"T(ESTIMATE!S529)","v":""},{"$f":"IF($Q$28=\"Allocate Adders\",ESTIMATE!BC529,ESTIMATE!AW529)","v":0},{"$f":"IF($Q$28=\"Allocate Adders\",ESTIMATE!BF529,ESTIMATE!AX529)","v":0},{"$f":"IF($Q$28=\"Allocate Adders\",ESTIMATE!BI529,ESTIMATE!AY529)","v":0},0,null,0]
[null,null,{"$f":"T(ESTIMATE!B530)","v":"Walls/Ceilings"},null,null,null,null,{"$f":"ESTIMATE!P530","v":0},{"$f":"T(ESTIMATE!S530)","v":""},{"$f":"IF($Q$28=\"Allocate Adders\",ESTIMATE!BC530,ESTIMATE!AW530)","v":0},{"$f":"IF($Q$28=\"Allocate Adders\",ESTIMATE!BF530,ESTIMATE!AX530)","v":0},{"$f":"IF($Q$28=\"Allocate Adders\",ESTIMATE!BI530,ESTIMATE!AY530)","v":0},0,null,0]
[null,null,{"$f":"T(ESTIMATE!B531)","v":"Drywall bid/allowance, case by case"},null,null,null,null,{"$f":"ESTIMATE!P531","v":0},{"$f":"T(ESTIMATE!S531)","v":"ls"},{"$f":"IF($Q$28=\"Allocate Adders\",ESTIMATE!BC531,ESTIMATE!AW531)","v":0},{"$f":"IF($Q$28=\"Allocate Adders\",ESTIMATE!BF531,ESTIMATE!AX531)","v":0},{"$f":"IF($Q$28=\"Allocate Adders\",ESTIMATE!BI531,ESTIMATE!AY531)","v":0},0,null,0]
[null,null,{"$f":"T(ESTIMATE!B532)","v":"Drywall wallboard, 1/2\" thick, finish one side"},null,null,null,null,{"$f":"ESTIMATE!P532","v":0},{"$f":"T(ESTIMATE!S532)","v":"sf"},{"$f":"IF($Q$28=\"Allocate Adders\",ESTIMATE!BC532,ESTIMATE!AW532)","v":0},{"$f":"IF($Q$28=\"Allocate Adders\",ESTIMATE!BF532,ESTIMATE!AX532)","v":0},{"$f":"IF($Q$28=\"Allocate Adders\",ESTIMATE!BI532,ESTIMATE!AY532)","v":0},0,null,0]
[null,null,{"$f":"T(ESTIMATE!B533)","v":"Drywall ceilings, 1/2\" thick"},null,null,null,null,{"$f":"ESTIMATE!P533","v":0},{"$f":"T(ESTIMATE!S533)","v":"sf"},{"$f":"IF($Q$28=\"Allocate Adders\",ESTIMATE!BC533,ESTIMATE!AW533)","v":0},{"$f":"IF($Q$28=\"Allocate Adders\",ESTIMATE!BF533,ESTIMATE!AX533)","v":0},{"$f":"IF($Q$28=\"Allocate Adders\",ESTIMATE!BI533,ESTIMATE!AY533)","v":0},0,null,0]
[null,null,{"$f":"T(ESTIMATE!B534)","v":"Skim coating/texturing walls"},null,null,null,null,{"$f":"ESTIMATE!P534","v":0},{"$f":"T(ESTIMATE!S534)","v":"sf"},{"$f":"IF($Q$28=\"Allocate Adders\",ESTIMATE!BC534,ESTIMATE!AW534)","v":0},{"$f":"IF($Q$28=\"Allocate Adders\",ESTIMATE!BF534,ESTIMATE!AX534)","v":0},{"$f":"IF($Q$28=\"Allocate Adders\",ESTIMATE!BI534,ESTIMATE!AY534)","v":0},0,null,0]
[null,null,{"$f":"T(ESTIMATE!B535)","v":"Skim coating/texturing ceilings"},null,null,null,null,{"$f":"ESTIMATE!P535","v":0},{"$f":"T(ESTIMATE!S535)","v":"sf"},{"$f":"IF($Q$28=\"Allocate Adders\",ESTIMATE!BC535,ESTIMATE!AW535)","v":0},{"$f":"IF($Q$28=\"Allocate Adders\",ESTIMATE!BF535,ESTIMATE!AX535)","v":0},{"$f":"IF($Q$28=\"Allocate Adders\",ESTIMATE!BI535,ESTIMATE!AY535)","v":0},0,null,0]
[null,null,{"$f":"T(ESTIMATE!B536)","v":""},null,null,null,null,{"$f":"ESTIMATE!P536","v":0},{"$f":"T(ESTIMATE!S536)","v":""},{"$f":"IF($Q$28=\"Allocate Adders\",ESTIMATE!BC536,ESTIMATE!AW536)","v":0},{"$f":"IF($Q$28=\"Allocate Adders\",ESTIMATE!BF536,ESTIMATE!AX536)","v":0},{"$f":"IF($Q$28=\"Allocate Adders\",ESTIMATE!BI536,ESTIMATE!AY536)","v":0},0,null,0]
[null,null,{"$f":"T(ESTIMATE!B537)","v":""},null,null,null,null,{"$f":"ESTIMATE!P537","v":0},{"$f":"T(ESTIMATE!S537)","v":""},{"$f":"IF($Q$28=\"Allocate Adders\",ESTIMATE!BC537,ESTIMATE!AW537)","v":0},{"$f":"IF($Q$28=\"Allocate Adders\",ESTIMATE!BF537,ESTIMATE!AX537)","v":0},{"$f":"IF($Q$28=\"Allocate Adders\",ESTIMATE!BI537,ESTIMATE!AY537)","v":0},0,null,0]
[null,null,{"$f":"T(ESTIMATE!B538)","v":""},null,null,null,null,{"$f":"ESTIMATE!P538","v":0},{"$f":"T(ESTIMATE!S538)","v":""},{"$f":"IF($Q$28=\"Allocate Adders\",ESTIMATE!BC538,ESTIMATE!AW538)","v":0},{"$f":"IF($Q$28=\"Allocate Adders\",ESTIMATE!BF538,ESTIMATE!AX538)","v":0},{"$f":"IF($Q$28=\"Allocate Adders\",ESTIMATE!BI538,ESTIMATE!AY538)","v":0},0,null,0]
[null,null,{"$f":"T(ESTIMATE!B539)","v":""},null,null,null,null,{"$f":"ESTIMATE!P539","v":0},{"$f":"T(ESTIMATE!S539)","v":""},{"$f":"IF($Q$28=\"Allocate Adders\",ESTIMATE!BC539,ESTIMATE!AW539)","v":0},{"$f":"IF($Q$28=\"Allocate Adders\",ESTIMATE!BF539,ESTIMATE!AX539)","v":0},{"$f":"IF($Q$28=\"Allocate Adders\",ESTIMATE!BI539,ESTIMATE!AY539)","v":0},0,null,0]
[null,null,{"$f":"T(ESTIMATE!B540)","v":""},null,null,null,null,{"$f":"ESTIMATE!P540","v":0},{"$f":"T(ESTIMATE!S540)","v":""},{"$f":"IF($Q$28=\"Allocate Adders\",ESTIMATE!BC540,ESTIMATE!AW540)","v":0},{"$f":"IF($Q$28=\"Allocate Adders\",ESTIMATE!BF540,ESTIMATE!AX540)","v":0},{"$f":"IF($Q$28=\"Allocate Adders\",ESTIMATE!BI540,ESTIMATE!AY540)","v":0},0,null,0]
[null,null,{"$f":"T(ESTIMATE!B541)","v":""},null,null,null,null,{"$f":"ESTIMATE!P541","v":0},{"$f":"T(ESTIMATE!S541)","v":""},{"$f":"IF($Q$28=\"Allocate Adders\",ESTIMATE!BC541,ESTIMATE!AW541)","v":0},{"$f":"IF($Q$28=\"Allocate Adders\",ESTIMATE!BF541,ESTIMATE!AX541)","v":0},{"$f":"IF($Q$28=\"Allocate Adders\",ESTIMATE!BI541,ESTIMATE!AY541)","v":0},0,null,0]
[null,null,{"$f":"T(ESTIMATE!B542)","v":""},null,null,null,null,{"$f":"ESTIMATE!P542","v":0},{"$f":"T(ESTIMATE!S542)","v":""},{"$f":"IF($Q$28=\"Allocate Adders\",ESTIMATE!BC542,ESTIMATE!AW542)","v":0},{"$f":"IF($Q$28=\"Allocate Adders\",ESTIMATE!BF542,ESTIMATE!AX542)","v":0},{"$f":"IF($Q$28=\"Allocate Adders\",ESTIMATE!BI542,ESTIMATE!AY542)","v":0},0,null,0]
[null,null,{"$f":"T(ESTIMATE!B543)","v":""},null,null,null,null,{"$f":"ESTIMATE!P543","v":0},{"$f":"T(ESTIMATE!S543)","v":""},{"$f":"IF($Q$28=\"Allocate Adders\",ESTIMATE!BC543,ESTIMATE!AW543)","v":0},{"$f":"IF($Q$28=\"Allocate Adders\",ESTIMATE!BF543,ESTIMATE!AX543)","v":0},{"$f":"IF($Q$28=\"Allocate Adders\",ESTIMATE!BI543,ESTIMATE!AY543)","v":0},0,null,0]
[null,null,{"$f":"T(ESTIMATE!B544)","v":""},null,null,null,null,{"$f":"ESTIMATE!P544","v":0},{"$f":"T(ESTIMATE!S544)","v":""},{"$f":"IF($Q$28=\"Allocate Adders\",ESTIMATE!BC544,ESTIMATE!AW544)","v":0},{"$f":"IF($Q$28=\"Allocate Adders\",ESTIMATE!BF544,ESTIMATE!AX544)","v":0},{"$f":"IF($Q$28=\"Allocate Adders\",ESTIMATE!BI544,ESTIMATE!AY544)","v":0},0,null,0]
[null,null,{"$f":"T(ESTIMATE!B545)","v":""},null,null,null,null,{"$f":"ESTIMATE!P545","v":0},{"$f":"T(ESTIMATE!S545)","v":""},{"$f":"IF($Q$28=\"Allocate Adders\",ESTIMATE!BC545,ESTIMATE!AW545)","v":0},{"$f":"IF($Q$28=\"Allocate Adders\",ESTIMATE!BF545,ESTIMATE!AX545)","v":0},{"$f":"IF($Q$28=\"Allocate Adders\",ESTIMATE!BI545,ESTIMATE!AY545)","v":0},0,null,0]
[null,null,{"$f":"T(ESTIMATE!B546)","v":""},null,null,null,null,{"$f":"ESTIMATE!P546","v":0},{"$f":"T(ESTIMATE!S546)","v":""},{"$f":"IF($Q$28=\"Allocate Adders\",ESTIMATE!BC546,ESTIMATE!AW546)","v":0},{"$f":"IF($Q$28=\"Allocate Adders\",ESTIMATE!BF546,ESTIMATE!AX546)","v":0},{"$f":"IF($Q$28=\"Allocate Adders\",ESTIMATE!BI546,ESTIMATE!AY546)","v":0},0,null,0]
[null,null,{"$f":"T(ESTIMATE!B547)","v":""},null,null,null,null,{"$f":"ESTIMATE!P547","v":0},{"$f":"T(ESTIMATE!S547)","v":""},{"$f":"IF($Q$28=\"Allocate Adders\",ESTIMATE!BC547,ESTIMATE!AW547)","v":0},{"$f":"IF($Q$28=\"Allocate Adders\",ESTIMATE!BF547,ESTIMATE!AX547)","v":0},{"$f":"IF($Q$28=\"Allocate Adders\",ESTIMATE!BI547,ESTIMATE!AY547)","v":0},0,null,0]
[null,null,{"$f":"T(ESTIMATE!B548)","v":""},null,null,null,null,{"$f":"ESTIMATE!P548","v":0},{"$f":"T(ESTIMATE!S548)","v":""},{"$f":"IF($Q$28=\"Allocate Adders\",ESTIMATE!BC548,ESTIMATE!AW548)","v":0},{"$f":"IF($Q$28=\"Allocate Adders\",ESTIMATE!BF548,ESTIMATE!AX548)","v":0},{"$f":"IF($Q$28=\"Allocate Adders\",ESTIMATE!BI548,ESTIMATE!AY548)","v":0},0,null,0]
[null,null,{"$f":"T(ESTIMATE!B549)","v":""},null,null,null,null,{"$f":"ESTIMATE!P549","v":0},{"$f":"T(ESTIMATE!S549)","v":""},{"$f":"IF($Q$28=\"Allocate Adders\",ESTIMATE!BC549,ESTIMATE!AW549)","v":0},{"$f":"IF($Q$28=\"Allocate Adders\",ESTIMATE!BF549,ESTIMATE!AX549)","v":0},{"$f":"IF($Q$28=\"Allocate Adders\",ESTIMATE!BI549,ESTIMATE!AY549)","v":0},0,null,0]
[null,null,{"$f":"T(ESTIMATE!B550)","v":""},null,null,null,null,{"$f":"ESTIMATE!P550","v":0},{"$f":"T(ESTIMATE!S550)","v":""},{"$f":"IF($Q$28=\"Allocate Adders\",ESTIMATE!BC550,ESTIMATE!AW550)","v":0},{"$f":"IF($Q$28=\"Allocate Adders\",ESTIMATE!BF550,ESTIMATE!AX550)","v":0},{"$f":"IF($Q$28=\"Allocate Adders\",ESTIMATE!BI550,ESTIMATE!AY550)","v":0},0,null,0]
[null,null,{"$f":"T(ESTIMATE!B551)","v":""},null,null,null,null,{"$f":"ESTIMATE!P551","v":0},{"$f":"T(ESTIMATE!S551)","v":""},{"$f":"IF($Q$28=\"Allocate Adders\",ESTIMATE!BC551,ESTIMATE!AW551)","v":0},{"$f":"IF($Q$28=\"Allocate Adders\",ESTIMATE!BF551,ESTIMATE!AX551)","v":0},{"$f":"IF($Q$28=\"Allocate Adders\",ESTIMATE!BI551,ESTIMATE!AY551)","v":0},0,null,0]
[null,null,null,null,null,null,null,null,null,null,null,null,null,null,{"$f":"O583","v":0}]
[null,null,{"$f":"T(ESTIMATE!AC553)","v":"FRAMING & DRYWALL TOTAL"},null,null,null,null,null,null,{"$f":"SUM(J542:J582)","v":0},{"$f":"SUM(K542:K582)","v":0},{"$f":"SUM(L542:L582)","v":0},{"$f":"SUM(M542:N582)","v":0},null,{"$f":"SUM(O541:O581)","v":0}]
[null,null,null,null,null,null,null,null,null,null,null,null,null,null,{"$f":"O583","v":0}]
[]
[null,null,{"$f":"T(ESTIMATE!B556)","v":"FLOORING"},null,null,null,null,{"$f":"SUM(H587:H626)","v":0},null,null,null,null,null,null,{"$f":"H586","v":0}]
[null,null,{"$f":"T(ESTIMATE!B557)","v":"Flooring bid/allowance"},null,null,null,null,{"$f":"ESTIMATE!P557","v":0},{"$f":"T(ESTIMATE!S557)","v":"ls"},{"$f":"IF($Q$28=\"Allocate Adders\",ESTIMATE!BC557,ESTIMATE!AW557)","v":0},{"$f":"IF($Q$28=\"Allocate Adders\",ESTIMATE!BF557,ESTIMATE!AX557)","v":0},{"$f":"IF($Q$28=\"Allocate Adders\",ESTIMATE!BI557,ESTIMATE!AY557)","v":0},{"$f":"SUM(J587:L587)","v":0},null,0]
[null,null,{"$f":"T(ESTIMATE!B558)","v":"Carpeting"},null,null,null,null,{"$f":"ESTIMATE!P558","v":0},{"$f":"T(ESTIMATE!S558)","v":""},{"$f":"IF($Q$28=\"Allocate Adders\",ESTIMATE!BC558,ESTIMATE!AW558)","v":0},{"$f":"IF($Q$28=\"Allocate Adders\",ESTIMATE!BF558,ESTIMATE!AX558)","v":0},{"$f":"IF($Q$28=\"Allocate Adders\",ESTIMATE!BI558,ESTIMATE!AY558)","v":0},0,null,0]
[null,null,{"$f":"T(ESTIMATE!B559)","v":"Carpet, economy grade"},null,null,null,null,{"$f":"ESTIMATE!P559","v":0},{"$f":"T(ESTIMATE!S559)","v":"sf"},{"$f":"IF($Q$28=\"Allocate Adders\",ESTIMATE!BC559,ESTIMATE!AW559)","v":0},{"$f":"IF($Q$28=\"Allocate Adders\",ESTIMATE!BF559,ESTIMATE!AX559)","v":0},{"$f":"IF($Q$28=\"Allocate Adders\",ESTIMATE!BI559,ESTIMATE!AY559)","v":0},0,null,0]
[null,null,{"$f":"T(ESTIMATE!B560)","v":"Carpet average grade"},null,null,null,null,{"$f":"ESTIMATE!P560","v":0},{"$f":"T(ESTIMATE!S560)","v":"sf"},{"$f":"IF($Q$28=\"Allocate Adders\",ESTIMATE!BC560,ESTIMATE!AW560)","v":0},{"$f":"IF($Q$28=\"Allocate Adders\",ESTIMATE!BF560,ESTIMATE!AX560)","v":0},{"$f":"IF($Q$28=\"Allocate Adders\",ESTIMATE!BI560,ESTIMATE!AY560)","v":0},0,null,0]
[null,null,{"$f":"T(ESTIMATE!B561)","v":"Carpet, premium grade"},null,null,null,null,{"$f":"ESTIMATE!P561","v":0},{"$f":"T(ESTIMATE!S561)","v":"sf"},{"$f":"IF($Q$28=\"Allocate Adders\",ESTIMATE!BC561,ESTIMATE!AW561)","v":0},{"$f":"IF($Q$28=\"Allocate Adders\",ESTIMATE!BF561,ESTIMATE!AX561)","v":0},{"$f":"IF($Q$28=\"Allocate Adders\",ESTIMATE!BI561,ESTIMATE!AY561)","v":0},0,null,0]
[null,null,{"$f":"T(ESTIMATE!B562)","v":""},null,null,null,null,{"$f":"ESTIMATE!P562","v":0},{"$f":"T(ESTIMATE!S562)","v":""},{"$f":"IF($Q$28=\"Allocate Adders\",ESTIMATE!BC562,ESTIMATE!AW562)","v":0},{"$f":"IF($Q$28=\"Allocate Adders\",ESTIMATE!BF562,ESTIMATE!AX562)","v":0},{"$f":"IF($Q$28=\"Allocate Adders\",ESTIMATE!BI562,ESTIMATE!AY562)","v":0},0,null,0]
[null,null,{"$f":"T(ESTIMATE!B563)","v":""},null,null,null,null,{"$f":"ESTIMATE!P563","v":0},{"$f":"T(ESTIMATE!S563)","v":""},{"$f":"IF($Q$28=\"Allocate Adders\",ESTIMATE!BC563,ESTIMATE!AW563)","v":0},{"$f":"IF($Q$28=\"Allocate Adders\",ESTIMATE!BF563,ESTIMATE!AX563)","v":0},{"$f":"IF($Q$28=\"Allocate Adders\",ESTIMATE!BI563,ESTIMATE!AY563)","v":0},0,null,0]
[null,null,{"$f":"T(ESTIMATE!B564)","v":"Sheet Vinyl"},null,null,null,null,{"$f":"ESTIMATE!P564","v":0},{"$f":"T(ESTIMATE!S564)","v":""},{"$f":"IF($Q$28=\"Allocate Adders\",ESTIMATE!BC564,ESTIMATE!AW564)","v":0},{"$f":"IF($Q$28=\"Allocate Adders\",ESTIMATE!BF564,ESTIMATE!AX564)","v":0},{"$f":"IF($Q$28=\"Allocate Adders\",ESTIMATE!BI564,ESTIMATE!AY564)","v":0},0,null,0]
[null,null,{"$f":"T(ESTIMATE!B565)","v":"Sheet vinyl, economy grade"},null,null,null,null,{"$f":"ESTIMATE!P565","v":0},{"$f":"T(ESTIMATE!S565)","v":"sf"},{"$f":"IF($Q$28=\"Allocate Adders\",ESTIMATE!BC565,ESTIMATE!AW565)","v":0},{"$f":"IF($Q$28=\"Allocate Adders\",ESTIMATE!BF565,ESTIMATE!AX565)","v":0},{"$f":"IF($Q$28=\"Allocate Adders\",ESTIMATE!BI565,ESTIMATE!AY565)","v":0},0,null,0]
[null,null,{"$f":"T(ESTIMATE!B566)","v":"Sheet vinyl, average grade"},null,null,null,null,{"$f":"ESTIMATE!P566","v":0},{"$f":"T(ESTIMATE!S566)","v":"sf"},{"$f":"IF($Q$28=\"Allocate Adders\",ESTIMATE!BC566,ESTIMATE!AW566)","v":0},{"$f":"IF($Q$28=\"Allocate Adders\",ESTIMATE!BF566,ESTIMATE!AX566)","v":0},{"$f":"IF($Q$28=\"Allocate Adders\",ESTIMATE!BI566,ESTIMATE!AY566)","v":0},0,null,0]
[null,null,{"$f":"T(ESTIMATE!B567)","v":"Sheet vinyl, premium grade"},null,null,null,null,{"$f":"ESTIMATE!P567","v":0},{"$f":"T(ESTIMATE!S567)","v":"sf"},{"$f":"IF($Q$28=\"Allocate Adders\",ESTIMATE!BC567,ESTIMATE!AW567)","v":0},{"$f":"IF($Q$28=\"Allocate Adders\",ESTIMATE!BF567,ESTIMATE!AX567)","v":0},{"$f":"IF($Q$28=\"Allocate Adders\",ESTIMATE!BI567,ESTIMATE!AY567)","v":0},0,null,0]
[null,null,{"$f":"T(ESTIMATE!B568)","v":""},null,null,null,null,{"$f":"ESTIMATE!P568","v":0},{"$f":"T(ESTIMATE!S568)","v":""},{"$f":"IF($Q$28=\"Allocate Adders\",ESTIMATE!BC568,ESTIMATE!AW568)","v":0},{"$f":"IF($Q$28=\"Allocate Adders\",ESTIMATE!BF568,ESTIMATE!AX568)","v":0},{"$f":"IF($Q$28=\"Allocate Adders\",ESTIMATE!BI568,ESTIMATE!AY568)","v":0},0,null,0]
[null,null,{"$f":"T(ESTIMATE!B569)","v":""},null,null,null,null,{"$f":"ESTIMATE!P569","v":0},{"$f":"T(ESTIMATE!S569)","v":""},{"$f":"IF($Q$28=\"Allocate Adders\",ESTIMATE!BC569,ESTIMATE!AW569)","v":0},{"$f":"IF($Q$28=\"Allocate Adders\",ESTIMATE!BF569,ESTIMATE!AX569)","v":0},{"$f":"IF($Q$28=\"Allocate Adders\",ESTIMATE!BI569,ESTIMATE!AY569)","v":0},0,null,0]
[null,null,{"$f":"T(ESTIMATE!B570)","v":"Vinyl Tile"},null,null,null,null,{"$f":"ESTIMATE!P570","v":0},{"$f":"T(ESTIMATE!S570)","v":""},{"$f":"IF($Q$28=\"Allocate Adders\",ESTIMATE!BC570,ESTIMATE!AW570)","v":0},{"$f":"IF($Q$28=\"Allocate Adders\",ESTIMATE!BF570,ESTIMATE!AX570)","v":0},{"$f":"IF($Q$28=\"Allocate Adders\",ESTIMATE!BI570,ESTIMATE!AY570)","v":0},0,null,0]
[null,null,{"$f":"T(ESTIMATE!B571)","v":"Vinyl tile, economy grade"},null,null,null,null,{"$f":"ESTIMATE!P571","v":0},{"$f":"T(ESTIMATE!S571)","v":"sf"},{"$f":"IF($Q$28=\"Allocate Adders\",ESTIMATE!BC571,ESTIMATE!AW571)","v":0},{"$f":"IF($Q$28=\"Allocate Adders\",ESTIMATE!BF571,ESTIMATE!AX571)","v":0},{"$f":"IF($Q$28=\"Allocate Adders\",ESTIMATE!BI571,ESTIMATE!AY571)","v":0},0,null,0]
[null,null,{"$f":"T(ESTIMATE!B572)","v":"Vinyl tile, average grade"},null,null,null,null,{"$f":"ESTIMATE!P572","v":0},{"$f":"T(ESTIMATE!S572)","v":"sf"},{"$f":"IF($Q$28=\"Allocate Adders\",ESTIMATE!BC572,ESTIMATE!AW572)","v":0},{"$f":"IF($Q$28=\"Allocate Adders\",ESTIMATE!BF572,ESTIMATE!AX572)","v":0},{"$f":"IF($Q$28=\"Allocate Adders\",ESTIMATE!BI572,ESTIMATE!AY572)","v":0},0,null,0]
[null,null,{"$f":"T(ESTIMATE!B573)","v":"Vinyl tile, premium grade"},null,null,null,null,{"$f":"ESTIMATE!P573","v":0},{"$f":"T(ESTIMATE!S573)","v":"sf"},{"$f":"IF($Q$28=\"Allocate Adders\",ESTIMATE!BC573,ESTIMATE!AW573)","v":0},{"$f":"IF($Q$28=\"Allocate Adders\",ESTIMATE!BF573,ESTIMATE!AX573)","v":0},{"$f":"IF($Q$28=\"Allocate Adders\",ESTIMATE!BI573,ESTIMATE!AY573)","v":0},0,null,0]
[null,null,{"$f":"T(ESTIMATE!B574)","v":"Clean and wax vinyl"},null,null,null,null,{"$f":"ESTIMATE!P574","v":0},{"$f":"T(ESTIMATE!S574)","v":"sf"},{"$f":"IF($Q$28=\"Allocate Adders\",ESTIMATE!BC574,ESTIMATE!AW574)","v":0},{"$f":"IF($Q$28=\"Allocate Adders\",ESTIMATE!BF574,ESTIMATE!AX574)","v":0},{"$f":"IF($Q$28=\"Allocate Adders\",ESTIMATE!BI574,ESTIMATE!AY574)","v":0},0,null,0]
[null,null,{"$f":"T(ESTIMATE!B575)","v":""},null,null,null,null,{"$f":"ESTIMATE!P575","v":0},{"$f":"T(ESTIMATE!S575)","v":""},{"$f":"IF($Q$28=\"Allocate Adders\",ESTIMATE!BC575,ESTIMATE!AW575)","v":0},{"$f":"IF($Q$28=\"Allocate Adders\",ESTIMATE!BF575,ESTIMATE!AX575)","v":0},{"$f":"IF($Q$28=\"Allocate Adders\",ESTIMATE!BI575,ESTIMATE!AY575)","v":0},0,null,0]
[null,null,{"$f":"T(ESTIMATE!B576)","v":""},null,null,null,null,{"$f":"ESTIMATE!P576","v":0},{"$f":"T(ESTIMATE!S576)","v":""},{"$f":"IF($Q$28=\"Allocate Adders\",ESTIMATE!BC576,ESTIMATE!AW576)","v":0},{"$f":"IF($Q$28=\"Allocate Adders\",ESTIMATE!BF576,ESTIMATE!AX576)","v":0},{"$f":"IF($Q$28=\"Allocate Adders\",ESTIMATE!BI576,ESTIMATE!AY576)","v":0},0,null,0]
[null,null,{"$f":"T(ESTIMATE!B577)","v":"Laminate Flooring"},null,null,null,null,{"$f":"ESTIMATE!P577","v":0},{"$f":"T(ESTIMATE!S577)","v":""},{"$f":"IF($Q$28=\"Allocate Adders\",ESTIMATE!BC577,ESTIMATE!AW577)","v":0},{"$f":"IF($Q$28=\"Allocate Adders\",ESTIMATE!BF577,ESTIMATE!AX577)","v":0},{"$f":"IF($Q$28=\"Allocate Adders\",ESTIMATE!BI577,ESTIMATE!AY577)","v":0},0,null,0]
[null,null,{"$f":"T(ESTIMATE!B578)","v":"Laminate wood flooring, economy grade"},null,null,null,null,{"$f":"ESTIMATE!P578","v":0},{"$f":"T(ESTIMATE!S578)","v":"sf"},{"$f":"IF($Q$28=\"Allocate Adders\",ESTIMATE!BC578,ESTIMATE!AW578)","v":0},{"$f":"IF($Q$28=\"Allocate Adders\",ESTIMATE!BF578,ESTIMATE!AX578)","v":0},{"$f":"IF($Q$28=\"Allocate Adders\",ESTIMATE!BI578,ESTIMATE!AY578)","v":0},0,null,0]
[null,null,{"$f":"T(ESTIMATE!B579)","v":"Laminate wood flooring, average grade"},null,null,null,null,{"$f":"ESTIMATE!P579","v":0},{"$f":"T(ESTIMATE!S579)","v":"sf"},{"$f":"IF($Q$28=\"Allocate Adders\",ESTIMATE!BC579,ESTIMATE!AW579)","v":0},{"$f":"IF($Q$28=\"Allocate Adders\",ESTIMATE!BF579,ESTIMATE!AX579)","v":0},{"$f":"IF($Q$28=\"Allocate Adders\",ESTIMATE!BI579,ESTIMATE!AY579)","v":0},0,null,0]
[null,null,{"$f":"T(ESTIMATE!B580)","v":"Laminate wood flooring, premium grade"},null,null,null,null,{"$f":"ESTIMATE!P580","v":0},{"$f":"T(ESTIMATE!S580)","v":"sf"},{"$f":"IF($Q$28=\"Allocate Adders\",ESTIMATE!BC580,ESTIMATE!AW580)","v":0},{"$f":"IF($Q$28=\"Allocate Adders\",ESTIMATE!BF580,ESTIMATE!AX580)","v":0},{"$f":"IF($Q$28=\"Allocate Adders\",ESTIMATE!BI580,ESTIMATE!AY580)","v":0},0,null,0]
[null,null,{"$f":"T(ESTIMATE!B581)","v":""},null,null,null,null,{"$f":"ESTIMATE!P581","v":0},{"$f":"T(ESTIMATE!S581)","v":""},{"$f":"IF($Q$28=\"Allocate Adders\",ESTIMATE!BC581,ESTIMATE!AW581)","v":0},{"$f":"IF($Q$28=\"Allocate Adders\",ESTIMATE!BF581,ESTIMATE!AX581)","v":0},{"$f":"IF($Q$28=\"Allocate Adders\",ESTIMATE!BI581,ESTIMATE!AY581)","v":0},0,null,0]
[null,null,{"$f":"T(ESTIMATE!B582)","v":""},null,null,null,null,{"$f":"ESTIMATE!P582","v":0},{"$f":"T(ESTIMATE!S582)","v":""},{"$f":"IF($Q$28=\"Allocate Adders\",ESTIMATE!BC582,ESTIMATE!AW582)","v":0},{"$f":"IF($Q$28=\"Allocate Adders\",ESTIMATE!BF582,ESTIMATE!AX582)","v":0},{"$f":"IF($Q$28=\"Allocate Adders\",ESTIMATE!BI582,ESTIMATE!AY582)","v":0},0,null,0]
[null,null,{"$f":"T(ESTIMATE!B583)","v":"Hardwood Flooring"},null,null,null,null,{"$f":"ESTIMATE!P583","v":0},{"$f":"T(ESTIMATE!S583)","v":""},{"$f":"IF($Q$28=\"Allocate Adders\",ESTIMATE!BC583,ESTIMATE!AW583)","v":0},{"$f":"IF($Q$28=\"Allocate Adders\",ESTIMATE!BF583,ESTIMATE!AX583)","v":0},{"$f":"IF($Q$28=\"Allocate Adders\",ESTIMATE!BI583,ESTIMATE!AY583)","v":0},0,null,0]
[null,null,{"$f":"T(ESTIMATE!B584)","v":"Hardwood flooring, economy grade"},null,null,null,null,{"$f":"ESTIMATE!P584","v":0},{"$f":"T(ESTIMATE!S584)","v":"sf"},{"$f":"IF($Q$28=\"Allocate Adders\",ESTIMATE!BC584,ESTIMATE!AW584)","v":0},{"$f":"IF($Q$28=\"Allocate Adders\",ESTIMATE!BF584,ESTIMATE!AX584)","v":0},{"$f":"IF($Q$28=\"Allocate Adders\",ESTIMATE!BI584,ESTIMATE!AY584)","v":0},0,null,0]
[null,null,{"$f":"T(ESTIMATE!B585)","v":"Hardwood flooring, average grade"},null,null,null,null,{"$f":"ESTIMATE!P585","v":0},{"$f":"T(ESTIMATE!S585)","v":"sf"},{"$f":"IF($Q$28=\"Allocate Adders\",ESTIMATE!BC585,ESTIMATE!AW585)","v":0},{"$f":"IF($Q$28=\"Allocate Adders\",ESTIMATE!BF585,ESTIMATE!AX585)","v":0},{"$f":"IF($Q$28=\"Allocate Adders\",ESTIMATE!BI585,ESTIMATE!AY585)","v":0},0,null,0]
[null,null,{"$f":"T(ESTIMATE!B586)","v":"Hardwood flooring, premium grade"},null,null,null,null,{"$f":"ESTIMATE!P586","v":0},{"$f":"T(ESTIMATE!S586)","v":"sf"},{"$f":"IF($Q$28=\"Allocate Adders\",ESTIMATE!BC586,ESTIMATE!AW586)","v":0},{"$f":"IF($Q$28=\"Allocate Adders\",ESTIMATE!BF586,ESTIMATE!AX586)","v":0},{"$f":"IF($Q$28=\"Allocate Adders\",ESTIMATE!BI586,ESTIMATE!AY586)","v":0},0,null,0]
[null,null,{"$f":"T(ESTIMATE!B587)","v":"Floor refinishing"},null,null,null,null,{"$f":"ESTIMATE!P587","v":0},{"$f":"T(ESTIMATE!S587)","v":"sf"},{"$f":"IF($Q$28=\"Allocate Adders\",ESTIMATE!BC587,ESTIMATE!AW587)","v":0},{"$f":"IF($Q$28=\"Allocate Adders\",ESTIMATE!BF587,ESTIMATE!AX587)","v":0},{"$f":"IF($Q$28=\"Allocate Adders\",ESTIMATE!BI587,ESTIMATE!AY587)","v":0},0,null,0]
[null,null,{"$f":"T(ESTIMATE!B588)","v":""},null,null,null,null,{"$f":"ESTIMATE!P588","v":0},{"$f":"T(ESTIMATE!S588)","v":""},{"$f":"IF($Q$28=\"Allocate Adders\",ESTIMATE!BC588,ESTIMATE!AW588)","v":0},{"$f":"IF($Q$28=\"Allocate Adders\",ESTIMATE!BF588,ESTIMATE!AX588)","v":0},{"$f":"IF($Q$28=\"Allocate Adders\",ESTIMATE!BI588,ESTIMATE!AY588)","v":0},0,null,0]
[null,null,{"$f":"T(ESTIMATE!B589)","v":""},null,null,null,null,{"$f":"ESTIMATE!P589","v":0},{"$f":"T(ESTIMATE!S589)","v":""},{"$f":"IF($Q$28=\"Allocate Adders\",ESTIMATE!BC589,ESTIMATE!AW589)","v":0},{"$f":"IF($Q$28=\"Allocate Adders\",ESTIMATE!BF589,ESTIMATE!AX589)","v":0},{"$f":"IF($Q$28=\"Allocate Adders\",ESTIMATE!BI589,ESTIMATE!AY589)","v":0},0,null,0]
[null,null,{"$f":"T(ESTIMATE!B590)","v":"Tiling"},null,null,null,null,{"$f":"ESTIMATE!P590","v":0},{"$f":"T(ESTIMATE!S590)","v":""},{"$f":"IF($Q$28=\"Allocate Adders\",ESTIMATE!BC590,ESTIMATE!AW590)","v":0},{"$f":"IF($Q$28=\"Allocate Adders\",ESTIMATE!BF590,ESTIMATE!AX590)","v":0},{"$f":"IF($Q$28=\"Allocate Adders\",ESTIMATE!BI590,ESTIMATE!AY590)","v":0},0,null,0]
[null,null,{"$f":"T(ESTIMATE!B591)","v":"Tile flooring, economy grade (tile, backer, grout, accs)"},null,null,null,null,{"$f":"ESTIMATE!P591","v":0},{"$f":"T(ESTIMATE!S591)","v":"sf"},{"$f":"IF($Q$28=\"Allocate Adders\",ESTIMATE!BC591,ESTIMATE!AW591)","v":0},{"$f":"IF($Q$28=\"Allocate Adders\",ESTIMATE!BF591,ESTIMATE!AX591)","v":0},{"$f":"IF($Q$28=\"Allocate Adders\",ESTIMATE!BI591,ESTIMATE!AY591)","v":0},0,null,0]
[null,null,{"$f":"T(ESTIMATE!B592)","v":"Tile flooring, average grade (tile, backer, grout, accs)"},null,null,null,null,{"$f":"ESTIMATE!P592","v":0},{"$f":"T(ESTIMATE!S592)","v":"sf"},{"$f":"IF($Q$28=\"Allocate Adders\",ESTIMATE!BC592,ESTIMATE!AW592)","v":0},{"$f":"IF($Q$28=\"Allocate Adders\",ESTIMATE!BF592,ESTIMATE!AX592)","v":0},{"$f":"IF($Q$28=\"Allocate Adders\",ESTIMATE!BI592,ESTIMATE!AY592)","v":0},0,null,0]
[null,null,{"$f":"T(ESTIMATE!B593)","v":"Tile flooring, premium grade (tile, backer, grout, accs)"},null,null,null,null,{"$f":"ESTIMATE!P593","v":0},{"$f":"T(ESTIMATE!S593)","v":"sf"},{"$f":"IF($Q$28=\"Allocate Adders\",ESTIMATE!BC593,ESTIMATE!AW593)","v":0},{"$f":"IF($Q$28=\"Allocate Adders\",ESTIMATE!BF593,ESTIMATE!AX593)","v":0},{"$f":"IF($Q$28=\"Allocate Adders\",ESTIMATE!BI593,ESTIMATE!AY593)","v":0},0,null,0]
[null,null,{"$f":"T(ESTIMATE!B594)","v":""},null,null,null,null,{"$f":"ESTIMATE!P594","v":0},{"$f":"T(ESTIMATE!S594)","v":""},{"$f":"IF($Q$28=\"Allocate Adders\",ESTIMATE!BC594,ESTIMATE!AW594)","v":0},{"$f":"IF($Q$28=\"Allocate Adders\",ESTIMATE!BF594,ESTIMATE!AX594)","v":0},{"$f":"IF($Q$28=\"Allocate Adders\",ESTIMATE!BI594,ESTIMATE!AY594)","v":0},0,null,0]
[null,null,{"$f":"T(ESTIMATE!B595)","v":""},null,null,null,null,{"$f":"ESTIMATE!P595","v":0},{"$f":"T(ESTIMATE!S595)","v":""},{"$f":"IF($Q$28=\"Allocate Adders\",ESTIMATE!BC595,ESTIMATE!AW595)","v":0},{"$f":"IF($Q$28=\"Allocate Adders\",ESTIMATE!BF595,ESTIMATE!AX595)","v":0},{"$f":"IF($Q$28=\"Allocate Adders\",ESTIMATE!BI595,ESTIMATE!AY595)","v":0},0,null,0]
[null,null,{"$f":"T(ESTIMATE!B596)","v":""},null,null,null,null,{"$f":"ESTIMATE!P596","v":0},{"$f":"T(ESTIMATE!S596)","v":""},{"$f":"IF($Q$28=\"Allocate Adders\",ESTIMATE!BC596,ESTIMATE!AW596)","v":0},{"$f":"IF($Q$28=\"Allocate Adders\",ESTIMATE!BF596,ESTIMATE!AX596)","v":0},{"$f":"IF($Q$28=\"Allocate Adders\",ESTIMATE!BI596,ESTIMATE!AY596)","v":0},0,null,0]
[null,null,null,null,null,null,null,null,null,null,null,null,null,null,{"$f":"O628","v":0}]
[null,null,{"$f":"T(ESTIMATE!AC598)","v":"FLOORING TOTAL"},null,null,null,null,null,null,{"$f":"SUM(J587:J627)","v":0},{"$f":"SUM(K587:K627)","v":0},{"$f":"SUM(L587:L627)","v":0},{"$f":"SUM(M587:N627)","v":0},null,{"$f":"SUM(O586:O626)","v":0}]
[null,null,null,null,null,null,null,null,null,null,null,null,null,null,{"$f":"O628","v":0}]
[]
[null,null,{"$f":"T(ESTIMATE!B601)","v":"PAINTING"},null,null,null,null,{"$f":"SUM(H632:H671)","v":0},null,null,null,null,null,null,{"$f":"H631","v":0}]
[null,null,{"$f":"T(ESTIMATE!B602)","v":"Painting Installation bid/allowance"},null,null,null,null,{"$f":"ESTIMATE!P602","v":0},{"$f":"T(ESTIMATE!S602)","v":""},{"$f":"IF($Q$28=\"Allocate Adders\",ESTIMATE!BC602,ESTIMATE!AW602)","v":0},{"$f":"IF($Q$28=\"Allocate Adders\",ESTIMATE!BF602,ESTIMATE!AX602)","v":0},{"$f":"IF($Q$28=\"Allocate Adders\",ESTIMATE!BI602,ESTIMATE!AY602)","v":0},{"$f":"SUM(J632:L632)","v":0},null,0]
[null,null,{"$f":"T(ESTIMATE!B603)","v":"Painting Material bid/allowance"},null,null,null,null,{"$f":"ESTIMATE!P603","v":0},{"$f":"T(ESTIMATE!S603)","v":""},{"$f":"IF($Q$28=\"Allocate Adders\",ESTIMATE!BC603,ESTIMATE!AW603)","v":0},{"$f":"IF($Q$28=\"Allocate Adders\",ESTIMATE!BF603,ESTIMATE!AX603)","v":0},{"$f":"IF($Q$28=\"Allocate Adders\",ESTIMATE!BI603,ESTIMATE!AY603)","v":0},0,null,0]
[null,null,{"$f":"T(ESTIMATE!B604)","v":""},null,null,null,null,{"$f":"ESTIMATE!P604","v":0},{"$f":"T(ESTIMATE!S604)","v":""},{"$f":"IF($Q$28=\"Allocate Adders\",ESTIMATE!BC604,ESTIMATE!AW604)","v":0},{"$f":"IF($Q$28=\"Allocate Adders\",ESTIMATE!BF604,ESTIMATE!AX604)","v":0},{"$f":"IF($Q$28=\"Allocate Adders\",ESTIMATE!BI604,ESTIMATE!AY604)","v":0},0,null,0]
[null,null,{"$f":"T(ESTIMATE!B605)","v":"Painting, Lump Sum"},null,null,null,null,{"$f":"ESTIMATE!P605","v":0},{"$f":"T(ESTIMATE!S605)","v":""},{"$f":"IF($Q$28=\"Allocate Adders\",ESTIMATE!BC605,ESTIMATE!AW605)","v":0},{"$f":"IF($Q$28=\"Allocate Adders\",ESTIMATE!BF605,ESTIMATE!AX605)","v":0},{"$f":"IF($Q$28=\"Allocate Adders\",ESTIMATE!BI605,ESTIMATE!AY605)","v":0},0,null,0]
[null,null,{"$f":"T(ESTIMATE!B606)","v":"Painting, both exterior & interior (property sf)"},null,null,null,null,{"$f":"ESTIMATE!P606","v":0},{"$f":"T(ESTIMATE!S606)","v":"sf"},{"$f":"IF($Q$28=\"Allocate Adders\",ESTIMATE!BC606,ESTIMATE!AW606)","v":0},{"$f":"IF($Q$28=\"Allocate Adders\",ESTIMATE!BF606,ESTIMATE!AX606)","v":0},{"$f":"IF($Q$28=\"Allocate Adders\",ESTIMATE!BI606,ESTIMATE!AY606)","v":0},0,null,0]
[null,null,{"$f":"T(ESTIMATE!B607)","v":""},null,null,null,null,{"$f":"ESTIMATE!P607","v":0},{"$f":"T(ESTIMATE!S607)","v":""},{"$f":"IF($Q$28=\"Allocate Adders\",ESTIMATE!BC607,ESTIMATE!AW607)","v":0},{"$f":"IF($Q$28=\"Allocate Adders\",ESTIMATE!BF607,ESTIMATE!AX607)","v":0},{"$f":"IF($Q$28=\"Allocate Adders\",ESTIMATE!BI607,ESTIMATE!AY607)","v":0},0,null,0]
[null,null,{"$f":"T(ESTIMATE!B608)","v":""},null,null,null,null,{"$f":"ESTIMATE!P608","v":0},{"$f":"T(ESTIMATE!S608)","v":""},{"$f":"IF($Q$28=\"Allocate Adders\",ESTIMATE!BC608,ESTIMATE!AW608)","v":0},{"$f":"IF($Q$28=\"Allocate Adders\",ESTIMATE!BF608,ESTIMATE!AX608)","v":0},{"$f":"IF($Q$28=\"Allocate Adders\",ESTIMATE!BI608,ESTIMATE!AY608)","v":0},0,null,0]
[null,null,{"$f":"T(ESTIMATE!B609)","v":"Exterior Painting"},null,null,null,null,{"$f":"ESTIMATE!P609","v":0},{"$f":"T(ESTIMATE!S609)","v":""},{"$f":"IF($Q$28=\"Allocate Adders\",ESTIMATE!BC609,ESTIMATE!AW609)","v":0},{"$f":"IF($Q$28=\"Allocate Adders\",ESTIMATE!BF609,ESTIMATE!AX609)","v":0},{"$f":"IF($Q$28=\"Allocate Adders\",ESTIMATE!BI609,ESTIMATE!AY609)","v":0},0,null,0]
[null,null,{"$f":"T(ESTIMATE!B610)","v":"Exterior painting, bid/allowance"},null,null,null,null,{"$f":"ESTIMATE!P610","v":0},{"$f":"T(ESTIMATE!S610)","v":"ls"},{"$f":"IF($Q$28=\"Allocate Adders\",ESTIMATE!BC610,ESTIMATE!AW610)","v":0},{"$f":"IF($Q$28=\"Allocate Adders\",ESTIMATE!BF610,ESTIMATE!AX610)","v":0},{"$f":"IF($Q$28=\"Allocate Adders\",ESTIMATE!BI610,ESTIMATE!AY610)","v":0},0,null,0]
[null,null,{"$f":"T(ESTIMATE!B611)","v":"Exterior painting materials allowance"},null,null,null,null,{"$f":"ESTIMATE!P611","v":0},{"$f":"T(ESTIMATE!S611)","v":"gal"},{"$f":"IF($Q$28=\"Allocate Adders\",ESTIMATE!BC611,ESTIMATE!AW611)","v":0},{"$f":"IF($Q$28=\"Allocate Adders\",ESTIMATE!BF611,ESTIMATE!AX611)","v":0},{"$f":"IF($Q$28=\"Allocate Adders\",ESTIMATE!BI611,ESTIMATE!AY611)","v":0},0,null,0]
[null,null,{"$f":"T(ESTIMATE!B612)","v":"Prep/clean siding"},null,null,null,null,{"$f":"ESTIMATE!P612","v":0},{"$f":"T(ESTIMATE!S612)","v":"sf"},{"$f":"IF($Q$28=\"Allocate Adders\",ESTIMATE!BC612,ESTIMATE!AW612)","v":0},{"$f":"IF($Q$28=\"Allocate Adders\",ESTIMATE!BF612,ESTIMATE!AX612)","v":0},{"$f":"IF($Q$28=\"Allocate Adders\",ESTIMATE!BI612,ESTIMATE!AY612)","v":0},0,null,0]
[null,null,{"$f":"T(ESTIMATE!B613)","v":"Paint siding"},null,null,null,null,{"$f":"ESTIMATE!P613","v":0},{"$f":"T(ESTIMATE!S613)","v":"sf"},{"$f":"IF($Q$28=\"Allocate Adders\",ESTIMATE!BC613,ESTIMATE!AW613)","v":0},{"$f":"IF($Q$28=\"Allocate Adders\",ESTIMATE!BF613,ESTIMATE!AX613)","v":0},{"$f":"IF($Q$28=\"Allocate Adders\",ESTIMATE!BI613,ESTIMATE!AY613)","v":0},0,null,0]
[null,null,{"$f":"T(ESTIMATE!B614)","v":"Paint exterior door"},null,null,null,null,{"$f":"ESTIMATE!P614","v":0},{"$f":"T(ESTIMATE!S614)","v":"ea"},{"$f":"IF($Q$28=\"Allocate Adders\",ESTIMATE!BC614,ESTIMATE!AW614)","v":0},{"$f":"IF($Q$28=\"Allocate Adders\",ESTIMATE!BF614,ESTIMATE!AX614)","v":0},{"$f":"IF($Q$28=\"Allocate Adders\",ESTIMATE!BI614,ESTIMATE!AY614)","v":0},0,null,0]
[null,null,{"$f":"T(ESTIMATE!B615)","v":"Paint trim only"},null,null,null,null,{"$f":"ESTIMATE!P615","v":0},{"$f":"T(ESTIMATE!S615)","v":"lf"},{"$f":"IF($Q$28=\"Allocate Adders\",ESTIMATE!BC615,ESTIMATE!AW615)","v":0},{"$f":"IF($Q$28=\"Allocate Adders\",ESTIMATE!BF615,ESTIMATE!AX615)","v":0},{"$f":"IF($Q$28=\"Allocate Adders\",ESTIMATE!BI615,ESTIMATE!AY615)","v":0},0,null,0]
[null,null,{"$f":"T(ESTIMATE!B616)","v":"Sand & refinish decking"},null,null,null,null,{"$f":"ESTIMATE!P616","v":0},{"$f":"T(ESTIMATE!S616)","v":"sf"},{"$f":"IF($Q$28=\"Allocate Adders\",ESTIMATE!BC616,ESTIMATE!AW616)","v":0},{"$f":"IF($Q$28=\"Allocate Adders\",ESTIMATE!BF616,ESTIMATE!AX616)","v":0},{"$f":"IF($Q$28=\"Allocate Adders\",ESTIMATE!BI616,ESTIMATE!AY616)","v":0},0,null,0]
[null,null,{"$f":"T(ESTIMATE!B617)","v":""},null,null,null,null,{"$f":"ESTIMATE!P617","v":0},{"$f":"T(ESTIMATE!S617)","v":""},{"$f":"IF($Q$28=\"Allocate Adders\",ESTIMATE!BC617,ESTIMATE!AW617)","v":0},{"$f":"IF($Q$28=\"Allocate Adders\",ESTIMATE!BF617,ESTIMATE!AX617)","v":0},{"$f":"IF($Q$28=\"Allocate Adders\",ESTIMATE!BI617,ESTIMATE!AY617)","v":0},0,null,0]
[null,null,{"$f":"T(ESTIMATE!B618)","v":""},null,null,null,null,{"$f":"ESTIMATE!P618","v":0},{"$f":"T(ESTIMATE!S618)","v":""},{"$f":"IF($Q$28=\"Allocate Adders\",ESTIMATE!BC618,ESTIMATE!AW618)","v":0},{"$f":"IF($Q$28=\"Allocate Adders\",ESTIMATE!BF618,ESTIMATE!AX618)","v":0},{"$f":"IF($Q$28=\"Allocate Adders\",ESTIMATE!BI618,ESTIMATE!AY618)","v":0},0,null,0]
[null,null,{"$f":"T(ESTIMATE!B619)","v":"Interior Painting"},null,null,null,null,{"$f":"ESTIMATE!P619","v":0},{"$f":"T(ESTIMATE!S619)","v":""},{"$f":"IF($Q$28=\"Allocate Adders\",ESTIMATE!BC619,ESTIMATE!AW619)","v":0},{"$f":"IF($Q$28=\"Allocate Adders\",ESTIMATE!BF619,ESTIMATE!AX619)","v":0},{"$f":"IF($Q$28=\"Allocate Adders\",ESTIMATE!BI619,ESTIMATE!AY619)","v":0},0,null,0]
[null,null,{"$f":"T(ESTIMATE!B620)","v":"Interior painting, bid/allowance"},null,null,null,null,{"$f":"ESTIMATE!P620","v":0},{"$f":"T(ESTIMATE!S620)","v":"ls"},{"$f":"IF($Q$28=\"Allocate Adders\",ESTIMATE!BC620,ESTIMATE!AW620)","v":0},{"$f":"IF($Q$28=\"Allocate Adders\",ESTIMATE!BF620,ESTIMATE!AX620)","v":0},{"$f":"IF($Q$28=\"Allocate Adders\",ESTIMATE!BI620,ESTIMATE!AY620)","v":0},0,null,0]
[null,null,{"$f":"T(ESTIMATE!B621)","v":"Interior painting materials allowance"},null,null,null,null,{"$f":"ESTIMATE!P621","v":0},{"$f":"T(ESTIMATE!S621)","v":"gal"},{"$f":"IF($Q$28=\"Allocate Adders\",ESTIMATE!BC621,ESTIMATE!AW621)","v":0},{"$f":"IF($Q$28=\"Allocate Adders\",ESTIMATE!BF621,ESTIMATE!AX621)","v":0},{"$f":"IF($Q$28=\"Allocate Adders\",ESTIMATE!BI621,ESTIMATE!AY621)","v":0},0,null,0]
[null,null,{"$f":"T(ESTIMATE!B622)","v":"Paint doors & frames"},null,null,null,null,{"$f":"ESTIMATE!P622","v":0},{"$f":"T(ESTIMATE!S622)","v":"ea"},{"$f":"IF($Q$28=\"Allocate Adders\",ESTIMATE!BC622,ESTIMATE!AW622)","v":0},{"$f":"IF($Q$28=\"Allocate Adders\",ESTIMATE!BF622,ESTIMATE!AX622)","v":0},{"$f":"IF($Q$28=\"Allocate Adders\",ESTIMATE!BI622,ESTIMATE!AY622)","v":0},0,null,0]
[null,null,{"$f":"T(ESTIMATE!B623)","v":"Paint walls"},null,null,null,null,{"$f":"ESTIMATE!P623","v":0},{"$f":"T(ESTIMATE!S623)","v":"sf"},{"$f":"IF($Q$28=\"Allocate Adders\",ESTIMATE!BC623,ESTIMATE!AW623)","v":0},{"$f":"IF($Q$28=\"Allocate Adders\",ESTIMATE!BF623,ESTIMATE!AX623)","v":0},{"$f":"IF($Q$28=\"Allocate Adders\",ESTIMATE!BI623,ESTIMATE!AY623)","v":0},0,null,0]
[null,null,{"$f":"T(ESTIMATE!B624)","v":"Paint ceilings"},null,null,null,null,{"$f":"ESTIMATE!P624","v":0},{"$f":"T(ESTIMATE!S624)","v":"sf"},{"$f":"IF($Q$28=\"Allocate Adders\",ESTIMATE!BC624,ESTIMATE!AW624)","v":0},{"$f":"IF($Q$28=\"Allocate Adders\",ESTIMATE!BF624,ESTIMATE!AX624)","v":0},{"$f":"IF($Q$28=\"Allocate Adders\",ESTIMATE!BI624,ESTIMATE!AY624)","v":0},0,null,0]
[null,null,{"$f":"T(ESTIMATE!B625)","v":"Paint wood base"},null,null,null,null,{"$f":"ESTIMATE!P625","v":0},{"$f":"T(ESTIMATE!S625)","v":"lf"},{"$f":"IF($Q$28=\"Allocate Adders\",ESTIMATE!BC625,ESTIMATE!AW625)","v":0},{"$f":"IF($Q$28=\"Allocate Adders\",ESTIMATE!BF625,ESTIMATE!AX625)","v":0},{"$f":"IF($Q$28=\"Allocate Adders\",ESTIMATE!BI625,ESTIMATE!AY625)","v":0},0,null,0]
[null,null,{"$f":"T(ESTIMATE!B626)","v":"Strip, paint cabinets/vanities"},null,null,null,null,{"$f":"ESTIMATE!P626","v":0},{"$f":"T(ESTIMATE!S626)","v":"sf"},{"$f":"IF($Q$28=\"Allocate Adders\",ESTIMATE!BC626,ESTIMATE!AW626)","v":0},{"$f":"IF($Q$28=\"Allocate Adders\",ESTIMATE!BF626,ESTIMATE!AX626)","v":0},{"$f":"IF($Q$28=\"Allocate Adders\",ESTIMATE!BI626,ESTIMATE!AY626)","v":0},0,null,0]
[null,null,{"$f":"T(ESTIMATE!B627)","v":""},null,null,null,null,{"$f":"ESTIMATE!P627","v":0},{"$f":"T(ESTIMATE!S627)","v":""},{"$f":"IF($Q$28=\"Allocate Adders\",ESTIMATE!BC627,ESTIMATE!AW627)","v":0},{"$f":"IF($Q$28=\"Allocate Adders\",ESTIMATE!BF627,ESTIMATE!AX627)","v":0},{"$f":"IF($Q$28=\"Allocate Adders\",ESTIMATE!BI627,ESTIMATE!AY627)","v":0},0,null,0]
[null,null,{"$f":"T(ESTIMATE!B628)","v":""},null,null,null,null,{"$f":"ESTIMATE!P628","v":0},{"$f":"T(ESTIMATE!S628)","v":""},{"$f":"IF($Q$28=\"Allocate Adders\",ESTIMATE!BC628,ESTIMATE!AW628)","v":0},{"$f":"IF($Q$28=\"Allocate Adders\",ESTIMATE!BF628,ESTIMATE!AX628)","v":0},{"$f":"IF($Q$28=\"Allocate Adders\",ESTIMATE!BI628,ESTIMATE!AY628)","v":0},0,null,0]
[null,null,{"$f":"T(ESTIMATE!B629)","v":""},null,null,null,null,{"$f":"ESTIMATE!P629","v":0},{"$f":"T(ESTIMATE!S629)","v":""},{"$f":"IF($Q$28=\"Allocate Adders\",ESTIMATE!BC629,ESTIMATE!AW629)","v":0},{"$f":"IF($Q$28=\"Allocate Adders\",ESTIMATE!BF629,ESTIMATE!AX629)","v":0},{"$f":"IF($Q$28=\"Allocate Adders\",ESTIMATE!BI629,ESTIMATE!AY629)","v":0},0,null,0]
[null,null,{"$f":"T(ESTIMATE!B630)","v":""},null,null,null,null,{"$f":"ESTIMATE!P630","v":0},{"$f":"T(ESTIMATE!S630)","v":""},{"$f":"IF($Q$28=\"Allocate Adders\",ESTIMATE!BC630,ESTIMATE!AW630)","v":0},{"$f":"IF($Q$28=\"Allocate Adders\",ESTIMATE!BF630,ESTIMATE!AX630)","v":0},{"$f":"IF($Q$28=\"Allocate Adders\",ESTIMATE!BI630,ESTIMATE!AY630)","v":0},0,null,0]
[null,null,{"$f":"T(ESTIMATE!B631)","v":""},null,null,null,null,{"$f":"ESTIMATE!P631","v":0},{"$f":"T(ESTIMATE!S631)","v":""},{"$f":"IF($Q$28=\"Allocate Adders\",ESTIMATE!BC631,ESTIMATE!AW631)","v":0},{"$f":"IF($Q$28=\"Allocate Adders\",ESTIMATE!BF631,ESTIMATE!AX631)","v":0},{"$f":"IF($Q$28=\"Allocate Adders\",ESTIMATE!BI631,ESTIMATE!AY631)","v":0},0,null,0]
[null,null,{"$f":"T(ESTIMATE!B632)","v":""},null,null,null,null,{"$f":"ESTIMATE!P632","v":0},{"$f":"T(ESTIMATE!S632)","v":""},{"$f":"IF($Q$28=\"Allocate Adders\",ESTIMATE!BC632,ESTIMATE!AW632)","v":0},{"$f":"IF($Q$28=\"Allocate Adders\",ESTIMATE!BF632,ESTIMATE!AX632)","v":0},{"$f":"IF($Q$28=\"Allocate Adders\",ESTIMATE!BI632,ESTIMATE!AY632)","v":0},0,null,0]
[null,null,{"$f":"T(ESTIMATE!B633)","v":""},null,null,null,null,{"$f":"ESTIMATE!P633","v":0},{"$f":"T(ESTIMATE!S633)","v":""},{"$f":"IF($Q$28=\"Allocate Adders\",ESTIMATE!BC633,ESTIMATE!AW633)","v":0},{"$f":"IF($Q$28=\"Allocate Adders\",ESTIMATE!BF633,ESTIMATE!AX633)","v":0},{"$f":"IF($Q$28=\"Allocate Adders\",ESTIMATE!BI633,ESTIMATE!AY633)","v":0},0,null,0]
[null,null,{"$f":"T(ESTIMATE!B634)","v":""},null,null,null,null,{"$f":"ESTIMATE!P634","v":0},{"$f":"T(ESTIMATE!S634)","v":""},{"$f":"IF($Q$28=\"Allocate Adders\",ESTIMATE!BC634,ESTIMATE!AW634)","v":0},{"$f":"IF($Q$28=\"Allocate Adders\",ESTIMATE!BF634,ESTIMATE!AX634)","v":0},{"$f":"IF($Q$28=\"Allocate Adders\",ESTIMATE!BI634,ESTIMATE!AY634)","v":0},0,null,0]
[null,null,{"$f":"T(ESTIMATE!B635)","v":""},null,null,null,null,{"$f":"ESTIMATE!P635","v":0},{"$f":"T(ESTIMATE!S635)","v":""},{"$f":"IF($Q$28=\"Allocate Adders\",ESTIMATE!BC635,ESTIMATE!AW635)","v":0},{"$f":"IF($Q$28=\"Allocate Adders\",ESTIMATE!BF635,ESTIMATE!AX635)","v":0},{"$f":"IF($Q$28=\"Allocate Adders\",ESTIMATE!BI635,ESTIMATE!AY635)","v":0},0,null,0]
[null,null,{"$f":"T(ESTIMATE!B636)","v":""},null,null,null,null,{"$f":"ESTIMATE!P636","v":0},{"$f":"T(ESTIMATE!S636)","v":""},{"$f":"IF($Q$28=\"Allocate Adders\",ESTIMATE!BC636,ESTIMATE!AW636)","v":0},{"$f":"IF($Q$28=\"Allocate Adders\",ESTIMATE!BF636,ESTIMATE!AX636)","v":0},{"$f":"IF($Q$28=\"Allocate Adders\",ESTIMATE!BI636,ESTIMATE!AY636)","v":0},0,null,0]
[null,null,{"$f":"T(ESTIMATE!B637)","v":""},null,null,null,null,{"$f":"ESTIMATE!P637","v":0},{"$f":"T(ESTIMATE!S637)","v":""},{"$f":"IF($Q$28=\"Allocate Adders\",ESTIMATE!BC637,ESTIMATE!AW637)","v":0},{"$f":"IF($Q$28=\"Allocate Adders\",ESTIMATE!BF637,ESTIMATE!AX637)","v":0},{"$f":"IF($Q$28=\"Allocate Adders\",ESTIMATE!BI637,ESTIMATE!AY637)","v":0},0,null,0]
[null,null,{"$f":"T(ESTIMATE!B638)","v":""},null,null,null,null,{"$f":"ESTIMATE!P638","v":0},{"$f":"T(ESTIMATE!S638)","v":""},{"$f":"IF($Q$28=\"Allocate Adders\",ESTIMATE!BC638,ESTIMATE!AW638)","v":0},{"$f":"IF($Q$28=\"Allocate Adders\",ESTIMATE!BF638,ESTIMATE!AX638)","v":0},{"$f":"IF($Q$28=\"Allocate Adders\",ESTIMATE!BI638,ESTIMATE!AY638)","v":0},0,null,0]
[null,null,{"$f":"T(ESTIMATE!B639)","v":""},null,null,null,null,{"$f":"ESTIMATE!P639","v":0},{"$f":"T(ESTIMATE!S639)","v":""},{"$f":"IF($Q$28=\"Allocate Adders\",ESTIMATE!BC639,ESTIMATE!AW639)","v":0},{"$f":"IF($Q$28=\"Allocate Adders\",ESTIMATE!BF639,ESTIMATE!AX639)","v":0},{"$f":"IF($Q$28=\"Allocate Adders\",ESTIMATE!BI639,ESTIMATE!AY639)","v":0},0,null,0]
[null,null,{"$f":"T(ESTIMATE!B640)","v":""},null,null,null,null,{"$f":"ESTIMATE!P640","v":0},{"$f":"T(ESTIMATE!S640)","v":""},{"$f":"IF($Q$28=\"Allocate Adders\",ESTIMATE!BC640,ESTIMATE!AW640)","v":0},{"$f":"IF($Q$28=\"Allocate Adders\",ESTIMATE!BF640,ESTIMATE!AX640)","v":0},{"$f":"IF($Q$28=\"Allocate Adders\",ESTIMATE!BI640,ESTIMATE!AY640)","v":0},0,null,0]
[null,null,{"$f":"T(ESTIMATE!B641)","v":""},null,null,null,null,{"$f":"ESTIMATE!P641","v":0},{"$f":"T(ESTIMATE!S641)","v":""},{"$f":"IF($Q$28=\"Allocate Adders\",ESTIMATE!BC641,ESTIMATE!AW641)","v":0},{"$f":"IF($Q$28=\"Allocate Adders\",ESTIMATE!BF641,ESTIMATE!AX641)","v":0},{"$f":"IF($Q$28=\"Allocate Adders\",ESTIMATE!BI641,ESTIMATE!AY641)","v":0},0,null,0]
[null,null,null,null,null,null,null,null,null,null,null,null,null,null,{"$f":"O673","v":0}]
[null,null,{"$f":"T(ESTIMATE!AC643)","v":"PAINTING TOTAL"},null,null,null,null,null,null,{"$f":"SUM(J632:J672)","v":0},{"$f":"SUM(K632:K672)","v":0},{"$f":"SUM(L632:L672)","v":0},{"$f":"SUM(M632:N672)","v":0},null,{"$f":"SUM(O631:O671)","v":0}]
[null,null,null,null,null,null,null,null,null,null,null,null,null,null,{"$f":"O673","v":0}]
[]
[null,null,{"$f":"T(ESTIMATE!B646)","v":"PLUMBING"},null,null,null,null,{"$f":"SUM(H677:H716)","v":0},null,null,null,null,null,null,{"$f":"H676","v":0}]
[null,null,{"$f":"T(ESTIMATE!B647)","v":"Plumbing, bid/allowance"},null,null,null,null,{"$f":"ESTIMATE!P647","v":0},{"$f":"T(ESTIMATE!S647)","v":"ls"},{"$f":"IF($Q$28=\"Allocate Adders\",ESTIMATE!BC647,ESTIMATE!AW647)","v":0},{"$f":"IF($Q$28=\"Allocate Adders\",ESTIMATE!BF647,ESTIMATE!AX647)","v":0},{"$f":"IF($Q$28=\"Allocate Adders\",ESTIMATE!BI647,ESTIMATE!AY647)","v":0},{"$f":"SUM(J677:L677)","v":0},null,0]
[null,null,{"$f":"T(ESTIMATE!B648)","v":""},null,null,null,null,{"$f":"ESTIMATE!P648","v":0},{"$f":"T(ESTIMATE!S648)","v":""},{"$f":"IF($Q$28=\"Allocate Adders\",ESTIMATE!BC648,ESTIMATE!AW648)","v":0},{"$f":"IF($Q$28=\"Allocate Adders\",ESTIMATE!BF648,ESTIMATE!AX648)","v":0},{"$f":"IF($Q$28=\"Allocate Adders\",ESTIMATE!BI648,ESTIMATE!AY648)","v":0},0,null,0]
[null,null,{"$f":"T(ESTIMATE!B649)","v":"Plumbing Work, Per Hour"},null,null,null,null,{"$f":"ESTIMATE!P649","v":0},{"$f":"T(ESTIMATE!S649)","v":""},{"$f":"IF($Q$28=\"Allocate Adders\",ESTIMATE!BC649,ESTIMATE!AW649)","v":0},{"$f":"IF($Q$28=\"Allocate Adders\",ESTIMATE!BF649,ESTIMATE!AX649)","v":0},{"$f":"IF($Q$28=\"Allocate Adders\",ESTIMATE!BI649,ESTIMATE!AY649)","v":0},0,null,0]
[null,null,{"$f":"T(ESTIMATE!B650)","v":"Plumbing rough-in, per hour"},null,null,null,null,{"$f":"ESTIMATE!P650","v":0},{"$f":"T(ESTIMATE!S650)","v":"hrs"},{"$f":"IF($Q$28=\"Allocate Adders\",ESTIMATE!BC650,ESTIMATE!AW650)","v":0},{"$f":"IF($Q$28=\"Allocate Adders\",ESTIMATE!BF650,ESTIMATE!AX650)","v":0},{"$f":"IF($Q$28=\"Allocate Adders\",ESTIMATE!BI650,ESTIMATE!AY650)","v":0},0,null,0]
[null,null,{"$f":"T(ESTIMATE!B651)","v":"Plumbing finish work, per hour"},null,null,null,null,{"$f":"ESTIMATE!P651","v":0},{"$f":"T(ESTIMATE!S651)","v":"hrs"},{"$f":"IF($Q$28=\"Allocate Adders\",ESTIMATE!BC651,ESTIMATE!AW651)","v":0},{"$f":"IF($Q$28=\"Allocate Adders\",ESTIMATE!BF651,ESTIMATE!AX651)","v":0},{"$f":"IF($Q$28=\"Allocate Adders\",ESTIMATE!BI651,ESTIMATE!AY651)","v":0},0,null,0]
[null,null,{"$f":"T(ESTIMATE!B652)","v":""},null,null,null,null,{"$f":"ESTIMATE!P652","v":0},{"$f":"T(ESTIMATE!S652)","v":""},{"$f":"IF($Q$28=\"Allocate Adders\",ESTIMATE!BC652,ESTIMATE!AW652)","v":0},{"$f":"IF($Q$28=\"Allocate Adders\",ESTIMATE!BF652,ESTIMATE!AX652)","v":0},{"$f":"IF($Q$28=\"Allocate Adders\",ESTIMATE!BI652,ESTIMATE!AY652)","v":0},0,null,0]
[null,null,{"$f":"T(ESTIMATE!B653)","v":"Plumbing Work, per SF"},null,null,null,null,{"$f":"ESTIMATE!P653","v":0},{"$f":"T(ESTIMATE!S653)","v":""},{"$f":"IF($Q$28=\"Allocate Adders\",ESTIMATE!BC653,ESTIMATE!AW653)","v":0},{"$f":"IF($Q$28=\"Allocate Adders\",ESTIMATE!BF653,ESTIMATE!AX653)","v":0},{"$f":"IF($Q$28=\"Allocate Adders\",ESTIMATE!BI653,ESTIMATE!AY653)","v":0},0,null,0]
[null,null,{"$f":"T(ESTIMATE!B654)","v":"New plumbing system throughout (waste/supply)"},null,null,null,null,{"$f":"ESTIMATE!P654","v":0},{"$f":"T(ESTIMATE!S654)","v":"sf"},{"$f":"IF($Q$28=\"Allocate Adders\",ESTIMATE!BC654,ESTIMATE!AW654)","v":0},{"$f":"IF($Q$28=\"Allocate Adders\",ESTIMATE!BF654,ESTIMATE!AX654)","v":0},{"$f":"IF($Q$28=\"Allocate Adders\",ESTIMATE!BI654,ESTIMATE!AY654)","v":0},0,null,0]
[null,null,{"$f":"T(ESTIMATE!B655)","v":"New gas lines to kitchen/fireplace"},null,null,null,null,{"$f":"ESTIMATE!P655","v":0},{"$f":"T(ESTIMATE!S655)","v":"sf"},{"$f":"IF($Q$28=\"Allocate Adders\",ESTIMATE!BC655,ESTIMATE!AW655)","v":0},{"$f":"IF($Q$28=\"Allocate Adders\",ESTIMATE!BF655,ESTIMATE!AX655)","v":0},{"$f":"IF($Q$28=\"Allocate Adders\",ESTIMATE!BI655,ESTIMATE!AY655)","v":0},0,null,0]
[null,null,{"$f":"T(ESTIMATE!B656)","v":""},null,null,null,null,{"$f":"ESTIMATE!P656","v":0},{"$f":"T(ESTIMATE!S656)","v":""},{"$f":"IF($Q$28=\"Allocate Adders\",ESTIMATE!BC656,ESTIMATE!AW656)","v":0},{"$f":"IF($Q$28=\"Allocate Adders\",ESTIMATE!BF656,ESTIMATE!AX656)","v":0},{"$f":"IF($Q$28=\"Allocate Adders\",ESTIMATE!BI656,ESTIMATE!AY656)","v":0},0,null,0]
[null,null,{"$f":"T(ESTIMATE!B657)","v":"Plumbing, Detailed"},null,null,null,null,{"$f":"ESTIMATE!P657","v":0},{"$f":"T(ESTIMATE!S657)","v":""},{"$f":"IF($Q$28=\"Allocate Adders\",ESTIMATE!BC657,ESTIMATE!AW657)","v":0},{"$f":"IF($Q$28=\"Allocate Adders\",ESTIMATE!BF657,ESTIMATE!AX657)","v":0},{"$f":"IF($Q$28=\"Allocate Adders\",ESTIMATE!BI657,ESTIMATE!AY657)","v":0},0,null,0]
[null,null,{"$f":"T(ESTIMATE!B658)","v":"Miscellaneous"},null,null,null,null,{"$f":"ESTIMATE!P658","v":0},{"$f":"T(ESTIMATE!S658)","v":""},{"$f":"IF($Q$28=\"Allocate Adders\",ESTIMATE!BC658,ESTIMATE!AW658)","v":0},{"$f":"IF($Q$28=\"Allocate Adders\",ESTIMATE!BF658,ESTIMATE!AX658)","v":0},{"$f":"IF($Q$28=\"Allocate Adders\",ESTIMATE!BI658,ESTIMATE!AY658)","v":0},0,null,0]
[null,null,{"$f":"T(ESTIMATE!B659)","v":"Concrete demo for below slab rough-in"},null,null,null,null,{"$f":"ESTIMATE!P659","v":0},{"$f":"T(ESTIMATE!S659)","v":"sf"},{"$f":"IF($Q$28=\"Allocate Adders\",ESTIMATE!BC659,ESTIMATE!AW659)","v":0},{"$f":"IF($Q$28=\"Allocate Adders\",ESTIMATE!BF659,ESTIMATE!AX659)","v":0},{"$f":"IF($Q$28=\"Allocate Adders\",ESTIMATE!BI659,ESTIMATE!AY659)","v":0},0,null,0]
[null,null,{"$f":"T(ESTIMATE!B660)","v":"Concrete patching for below slab rough-in"},null,null,null,null,{"$f":"ESTIMATE!P660","v":0},{"$f":"T(ESTIMATE!S660)","v":"sf"},{"$f":"IF($Q$28=\"Allocate Adders\",ESTIMATE!BC660,ESTIMATE!AW660)","v":0},{"$f":"IF($Q$28=\"Allocate Adders\",ESTIMATE!BF660,ESTIMATE!AX660)","v":0},{"$f":"IF($Q$28=\"Allocate Adders\",ESTIMATE!BI660,ESTIMATE!AY660)","v":0},0,null,0]
[null,null,{"$f":"T(ESTIMATE!B661)","v":"New sanitary line below slab rough-in"},null,null,null,null,{"$f":"ESTIMATE!P661","v":0},{"$f":"T(ESTIMATE!S661)","v":"lf"},{"$f":"IF($Q$28=\"Allocate Adders\",ESTIMATE!BC661,ESTIMATE!AW661)","v":0},{"$f":"IF($Q$28=\"Allocate Adders\",ESTIMATE!BF661,ESTIMATE!AX661)","v":0},{"$f":"IF($Q$28=\"Allocate Adders\",ESTIMATE!BI661,ESTIMATE!AY661)","v":0},0,null,0]
[null,null,{"$f":"T(ESTIMATE!B662)","v":"New sanitary line, outside"},null,null,null,null,{"$f":"ESTIMATE!P662","v":0},{"$f":"T(ESTIMATE!S662)","v":"lf"},{"$f":"IF($Q$28=\"Allocate Adders\",ESTIMATE!BC662,ESTIMATE!AW662)","v":0},{"$f":"IF($Q$28=\"Allocate Adders\",ESTIMATE!BF662,ESTIMATE!AX662)","v":0},{"$f":"IF($Q$28=\"Allocate Adders\",ESTIMATE!BI662,ESTIMATE!AY662)","v":0},0,null,0]
[null,null,{"$f":"T(ESTIMATE!B663)","v":"Replace gas hot water heater, 40 gallon"},null,null,null,null,{"$f":"ESTIMATE!P663","v":0},{"$f":"T(ESTIMATE!S663)","v":"ea"},{"$f":"IF($Q$28=\"Allocate Adders\",ESTIMATE!BC663,ESTIMATE!AW663)","v":0},{"$f":"IF($Q$28=\"Allocate Adders\",ESTIMATE!BF663,ESTIMATE!AX663)","v":0},{"$f":"IF($Q$28=\"Allocate Adders\",ESTIMATE!BI663,ESTIMATE!AY663)","v":0},0,null,0]
[null,null,{"$f":"T(ESTIMATE!B664)","v":"Replace existing sump pump, 1/2 HP"},null,null,null,null,{"$f":"ESTIMATE!P664","v":0},{"$f":"T(ESTIMATE!S664)","v":"ea"},{"$f":"IF($Q$28=\"Allocate Adders\",ESTIMATE!BC664,ESTIMATE!AW664)","v":0},{"$f":"IF($Q$28=\"Allocate Adders\",ESTIMATE!BF664,ESTIMATE!AX664)","v":0},{"$f":"IF($Q$28=\"Allocate Adders\",ESTIMATE!BI664,ESTIMATE!AY664)","v":0},0,null,0]
[null,null,{"$f":"T(ESTIMATE!B665)","v":"Kitchens (duplicate from Kitchens section)"},null,null,null,null,{"$f":"ESTIMATE!P665","v":0},{"$f":"T(ESTIMATE!S665)","v":""},{"$f":"IF($Q$28=\"Allocate Adders\",ESTIMATE!BC665,ESTIMATE!AW665)","v":0},{"$f":"IF($Q$28=\"Allocate Adders\",ESTIMATE!BF665,ESTIMATE!AX665)","v":0},{"$f":"IF($Q$28=\"Allocate Adders\",ESTIMATE!BI665,ESTIMATE!AY665)","v":0},0,null,0]
[null,null,{"$f":"T(ESTIMATE!B666)","v":"Kitchen sink bowl, stainless steel, undermount"},null,null,null,null,{"$f":"ESTIMATE!P666","v":0},{"$f":"T(ESTIMATE!S666)","v":"ea"},{"$f":"IF($Q$28=\"Allocate Adders\",ESTIMATE!BC666,ESTIMATE!AW666)","v":0},{"$f":"IF($Q$28=\"Allocate Adders\",ESTIMATE!BF666,ESTIMATE!AX666)","v":0},{"$f":"IF($Q$28=\"Allocate Adders\",ESTIMATE!BI666,ESTIMATE!AY666)","v":0},0,null,0]
[null,null,{"$f":"T(ESTIMATE!B667)","v":"Kitchen faucet fixture"},null,null,null,null,{"$f":"ESTIMATE!P667","v":0},{"$f":"T(ESTIMATE!S667)","v":"ea"},{"$f":"IF($Q$28=\"Allocate Adders\",ESTIMATE!BC667,ESTIMATE!AW667)","v":0},{"$f":"IF($Q$28=\"Allocate Adders\",ESTIMATE!BF667,ESTIMATE!AX667)","v":0},{"$f":"IF($Q$28=\"Allocate Adders\",ESTIMATE!BI667,ESTIMATE!AY667)","v":0},0,null,0]
[null,null,{"$f":"T(ESTIMATE!B668)","v":"Garbage disposal"},null,null,null,null,{"$f":"ESTIMATE!P668","v":0},{"$f":"T(ESTIMATE!S668)","v":"ea"},{"$f":"IF($Q$28=\"Allocate Adders\",ESTIMATE!BC668,ESTIMATE!AW668)","v":0},{"$f":"IF($Q$28=\"Allocate Adders\",ESTIMATE!BF668,ESTIMATE!AX668)","v":0},{"$f":"IF($Q$28=\"Allocate Adders\",ESTIMATE!BI668,ESTIMATE!AY668)","v":0},0,null,0]
[null,null,{"$f":"T(ESTIMATE!B669)","v":"Hookup dishwasher"},null,null,null,null,{"$f":"ESTIMATE!P669","v":0},{"$f":"T(ESTIMATE!S669)","v":"ea"},{"$f":"IF($Q$28=\"Allocate Adders\",ESTIMATE!BC669,ESTIMATE!AW669)","v":0},{"$f":"IF($Q$28=\"Allocate Adders\",ESTIMATE!BF669,ESTIMATE!AX669)","v":0},{"$f":"IF($Q$28=\"Allocate Adders\",ESTIMATE!BI669,ESTIMATE!AY669)","v":0},0,null,0]
[null,null,{"$f":"T(ESTIMATE!B670)","v":"Water supply line for refrigerator"},null,null,null,null,{"$f":"ESTIMATE!P670","v":0},{"$f":"T(ESTIMATE!S670)","v":"ea"},{"$f":"IF($Q$28=\"Allocate Adders\",ESTIMATE!BC670,ESTIMATE!AW670)","v":0},{"$f":"IF($Q$28=\"Allocate Adders\",ESTIMATE!BF670,ESTIMATE!AX670)","v":0},{"$f":"IF($Q$28=\"Allocate Adders\",ESTIMATE!BI670,ESTIMATE!AY670)","v":0},0,null,0]
[null,null,{"$f":"T(ESTIMATE!B671)","v":"Bathrooms (duplicate from Bathrooms section)"},null,null,null,null,{"$f":"ESTIMATE!P671","v":0},{"$f":"T(ESTIMATE!S671)","v":""},{"$f":"IF($Q$28=\"Allocate Adders\",ESTIMATE!BC671,ESTIMATE!AW671)","v":0},{"$f":"IF($Q$28=\"Allocate Adders\",ESTIMATE!BF671,ESTIMATE!AX671)","v":0},{"$f":"IF($Q$28=\"Allocate Adders\",ESTIMATE!BI671,ESTIMATE!AY671)","v":0},0,null,0]
[null,null,{"$f":"T(ESTIMATE!B672)","v":"Bathroom faucet fixture"},null,null,null,null,{"$f":"ESTIMATE!P672","v":0},{"$f":"T(ESTIMATE!S672)","v":"ea"},{"$f":"IF($Q$28=\"Allocate Adders\",ESTIMATE!BC672,ESTIMATE!AW672)","v":0},{"$f":"IF($Q$28=\"Allocate Adders\",ESTIMATE!BF672,ESTIMATE!AX672)","v":0},{"$f":"IF($Q$28=\"Allocate Adders\",ESTIMATE!BI672,ESTIMATE!AY672)","v":0},0,null,0]
[null,null,{"$f":"T(ESTIMATE!B673)","v":"Fiberglass shower stall"},null,null,null,null,{"$f":"ESTIMATE!P673","v":0},{"$f":"T(ESTIMATE!S673)","v":"ea"},{"$f":"IF($Q$28=\"Allocate Adders\",ESTIMATE!BC673,ESTIMATE!AW673)","v":0},{"$f":"IF($Q$28=\"Allocate Adders\",ESTIMATE!BF673,ESTIMATE!AX673)","v":0},{"$f":"IF($Q$28=\"Allocate Adders\",ESTIMATE!BI673,ESTIMATE!AY673)","v":0},0,null,0]
[null,null,{"$f":"T(ESTIMATE!B674)","v":"Fiberglass tub"},null,null,null,null,{"$f":"ESTIMATE!P674","v":0},{"$f":"T(ESTIMATE!S674)","v":"ea"},{"$f":"IF($Q$28=\"Allocate Adders\",ESTIMATE!BC674,ESTIMATE!AW674)","v":0},{"$f":"IF($Q$28=\"Allocate Adders\",ESTIMATE!BF674,ESTIMATE!AX674)","v":0},{"$f":"IF($Q$28=\"Allocate Adders\",ESTIMATE!BI674,ESTIMATE!AY674)","v":0},0,null,0]
[null,null,{"$f":"T(ESTIMATE!B675)","v":"Fiberglass tub/shower surround"},null,null,null,null,{"$f":"ESTIMATE!P675","v":0},{"$f":"T(ESTIMATE!S675)","v":"ea"},{"$f":"IF($Q$28=\"Allocate Adders\",ESTIMATE!BC675,ESTIMATE!AW675)","v":0},{"$f":"IF($Q$28=\"Allocate Adders\",ESTIMATE!BF675,ESTIMATE!AX675)","v":0},{"$f":"IF($Q$28=\"Allocate Adders\",ESTIMATE!BI675,ESTIMATE!AY675)","v":0},0,null,0]
[null,null,{"$f":"T(ESTIMATE!B676)","v":"Showerhead/tub kit"},null,null,null,null,{"$f":"ESTIMATE!P676","v":0},{"$f":"T(ESTIMATE!S676)","v":"ea"},{"$f":"IF($Q$28=\"Allocate Adders\",ESTIMATE!BC676,ESTIMATE!AW676)","v":0},{"$f":"IF($Q$28=\"Allocate Adders\",ESTIMATE!BF676,ESTIMATE!AX676)","v":0},{"$f":"IF($Q$28=\"Allocate Adders\",ESTIMATE!BI676,ESTIMATE!AY676)","v":0},0,null,0]
[null,null,{"$f":"T(ESTIMATE!B677)","v":"Toilets"},null,null,null,null,{"$f":"ESTIMATE!P677","v":0},{"$f":"T(ESTIMATE!S677)","v":"ea"},{"$f":"IF($Q$28=\"Allocate Adders\",ESTIMATE!BC677,ESTIMATE!AW677)","v":0},{"$f":"IF($Q$28=\"Allocate Adders\",ESTIMATE!BF677,ESTIMATE!AX677)","v":0},{"$f":"IF($Q$28=\"Allocate Adders\",ESTIMATE!BI677,ESTIMATE!AY677)","v":0},0,null,0]
[null,null,{"$f":"T(ESTIMATE!B678)","v":"Toilet seats"},null,null,null,null,{"$f":"ESTIMATE!P678","v":0},{"$f":"T(ESTIMATE!S678)","v":"ea"},{"$f":"IF($Q$28=\"Allocate Adders\",ESTIMATE!BC678,ESTIMATE!AW678)","v":0},{"$f":"IF($Q$28=\"Allocate Adders\",ESTIMATE!BF678,ESTIMATE!AX678)","v":0},{"$f":"IF($Q$28=\"Allocate Adders\",ESTIMATE!BI678,ESTIMATE!AY678)","v":0},0,null,0]
[null,null,{"$f":"T(ESTIMATE!B679)","v":"Pedestal sink"},null,null,null,null,{"$f":"ESTIMATE!P679","v":0},{"$f":"T(ESTIMATE!S679)","v":"ea"},{"$f":"IF($Q$28=\"Allocate Adders\",ESTIMATE!BC679,ESTIMATE!AW679)","v":0},{"$f":"IF($Q$28=\"Allocate Adders\",ESTIMATE!BF679,ESTIMATE!AX679)","v":0},{"$f":"IF($Q$28=\"Allocate Adders\",ESTIMATE!BI679,ESTIMATE!AY679)","v":0},0,null,0]
[null,null,{"$f":"T(ESTIMATE!B680)","v":""},null,null,null,null,{"$f":"ESTIMATE!P680","v":0},{"$f":"T(ESTIMATE!S680)","v":""},{"$f":"IF($Q$28=\"Allocate Adders\",ESTIMATE!BC680,ESTIMATE!AW680)","v":0},{"$f":"IF($Q$28=\"Allocate Adders\",ESTIMATE!BF680,ESTIMATE!AX680)","v":0},{"$f":"IF($Q$28=\"Allocate Adders\",ESTIMATE!BI680,ESTIMATE!AY680)","v":0},0,null,0]
[null,null,{"$f":"T(ESTIMATE!B681)","v":""},null,null,null,null,{"$f":"ESTIMATE!P681","v":0},{"$f":"T(ESTIMATE!S681)","v":""},{"$f":"IF($Q$28=\"Allocate Adders\",ESTIMATE!BC681,ESTIMATE!AW681)","v":0},{"$f":"IF($Q$28=\"Allocate Adders\",ESTIMATE!BF681,ESTIMATE!AX681)","v":0},{"$f":"IF($Q$28=\"Allocate Adders\",ESTIMATE!BI681,ESTIMATE!AY681)","v":0},0,null,0]
[null,null,{"$f":"T(ESTIMATE!B682)","v":""},null,null,null,null,{"$f":"ESTIMATE!P682","v":0},{"$f":"T(ESTIMATE!S682)","v":""},{"$f":"IF($Q$28=\"Allocate Adders\",ESTIMATE!BC682,ESTIMATE!AW682)","v":0},{"$f":"IF($Q$28=\"Allocate Adders\",ESTIMATE!BF682,ESTIMATE!AX682)","v":0},{"$f":"IF($Q$28=\"Allocate Adders\",ESTIMATE!BI682,ESTIMATE!AY682)","v":0},0,null,0]
[null,null,{"$f":"T(ESTIMATE!B683)","v":""},null,null,null,null,{"$f":"ESTIMATE!P683","v":0},{"$f":"T(ESTIMATE!S683)","v":""},{"$f":"IF($Q$28=\"Allocate Adders\",ESTIMATE!BC683,ESTIMATE!AW683)","v":0},{"$f":"IF($Q$28=\"Allocate Adders\",ESTIMATE!BF683,ESTIMATE!AX683)","v":0},{"$f":"IF($Q$28=\"Allocate Adders\",ESTIMATE!BI683,ESTIMATE!AY683)","v":0},0,null,0]
[null,null,{"$f":"T(ESTIMATE!B684)","v":""},null,null,null,null,{"$f":"ESTIMATE!P684","v":0},{"$f":"T(ESTIMATE!S684)","v":""},{"$f":"IF($Q$28=\"Allocate Adders\",ESTIMATE!BC684,ESTIMATE!AW684)","v":0},{"$f":"IF($Q$28=\"Allocate Adders\",ESTIMATE!BF684,ESTIMATE!AX684)","v":0},{"$f":"IF($Q$28=\"Allocate Adders\",ESTIMATE!BI684,ESTIMATE!AY684)","v":0},0,null,0]
[null,null,{"$f":"T(ESTIMATE!B685)","v":""},null,null,null,null,{"$f":"ESTIMATE!P685","v":0},{"$f":"T(ESTIMATE!S685)","v":""},{"$f":"IF($Q$28=\"Allocate Adders\",ESTIMATE!BC685,ESTIMATE!AW685)","v":0},{"$f":"IF($Q$28=\"Allocate Adders\",ESTIMATE!BF685,ESTIMATE!AX685)","v":0},{"$f":"IF($Q$28=\"Allocate Adders\",ESTIMATE!BI685,ESTIMATE!AY685)","v":0},0,null,0]
[null,null,{"$f":"T(ESTIMATE!B686)","v":""},null,null,null,null,{"$f":"ESTIMATE!P686","v":0},{"$f":"T(ESTIMATE!S686)","v":""},{"$f":"IF($Q$28=\"Allocate Adders\",ESTIMATE!BC686,ESTIMATE!AW686)","v":0},{"$f":"IF($Q$28=\"Allocate Adders\",ESTIMATE!BF686,ESTIMATE!AX686)","v":0},{"$f":"IF($Q$28=\"Allocate Adders\",ESTIMATE!BI686,ESTIMATE!AY686)","v":0},0,null,0]
[null,null,null,null,null,null,null,null,null,null,null,null,null,null,{"$f":"O718","v":0}]
[null,null,{"$f":"T(ESTIMATE!AC688)","v":"PLUMBING TOTAL"},null,null,null,null,null,null,{"$f":"SUM(J677:J717)","v":0},{"$f":"SUM(K677:K717)","v":0},{"$f":"SUM(L677:L717)","v":0},{"$f":"SUM(M677:N717)","v":0},null,{"$f":"SUM(O676:O716)","v":0}]
[null,null,null,null,null,null,null,null,null,null,null,null,null,null,{"$f":"O718","v":0}]
[]
[null,null,{"$f":"T(ESTIMATE!B691)","v":"HVAC"},null,null,null,null,{"$f":"SUM(H722:H761)","v":0},null,null,null,null,null,null,{"$f":"H721","v":0}]
[null,null,{"$f":"T(ESTIMATE!B692)","v":"HVAC, bid/allowance"},null,null,null,null,{"$f":"ESTIMATE!P692","v":0},{"$f":"T(ESTIMATE!S692)","v":"ls"},{"$f":"IF($Q$28=\"Allocate Adders\",ESTIMATE!BC692,ESTIMATE!AW692)","v":0},{"$f":"IF($Q$28=\"Allocate Adders\",ESTIMATE!BF692,ESTIMATE!AX692)","v":0},{"$f":"IF($Q$28=\"Allocate Adders\",ESTIMATE!BI692,ESTIMATE!AY692)","v":0},{"$f":"SUM(J722:L722)","v":0},null,0]
[null,null,{"$f":"T(ESTIMATE!B693)","v":"HVAC Rough-In, per hour"},null,null,null,null,{"$f":"ESTIMATE!P693","v":0},{"$f":"T(ESTIMATE!S693)","v":"hrs"},{"$f":"IF($Q$28=\"Allocate Adders\",ESTIMATE!BC693,ESTIMATE!AW693)","v":0},{"$f":"IF($Q$28=\"Allocate Adders\",ESTIMATE!BF693,ESTIMATE!AX693)","v":0},{"$f":"IF($Q$28=\"Allocate Adders\",ESTIMATE!BI693,ESTIMATE!AY693)","v":0},0,null,0]
[null,null,{"$f":"T(ESTIMATE!B694)","v":"HVAC Finish Work, per hour"},null,null,null,null,{"$f":"ESTIMATE!P694","v":0},{"$f":"T(ESTIMATE!S694)","v":"hrs"},{"$f":"IF($Q$28=\"Allocate Adders\",ESTIMATE!BC694,ESTIMATE!AW694)","v":0},{"$f":"IF($Q$28=\"Allocate Adders\",ESTIMATE!BF694,ESTIMATE!AX694)","v":0},{"$f":"IF($Q$28=\"Allocate Adders\",ESTIMATE!BI694,ESTIMATE!AY694)","v":0},0,null,0]
[null,null,{"$f":"T(ESTIMATE!B695)","v":"Replace gas fired forced air unit, 1000 sf, 60k btus"},null,null,null,null,{"$f":"ESTIMATE!P695","v":0},{"$f":"T(ESTIMATE!S695)","v":"ea"},{"$f":"IF($Q$28=\"Allocate Adders\",ESTIMATE!BC695,ESTIMATE!AW695)","v":0},{"$f":"IF($Q$28=\"Allocate Adders\",ESTIMATE!BF695,ESTIMATE!AX695)","v":0},{"$f":"IF($Q$28=\"Allocate Adders\",ESTIMATE!BI695,ESTIMATE!AY695)","v":0},0,null,0]
[null,null,{"$f":"T(ESTIMATE!B696)","v":"Replace gas fired forced air unit, 2,000, 80k btus"},null,null,null,null,{"$f":"ESTIMATE!P696","v":0},{"$f":"T(ESTIMATE!S696)","v":"ea"},{"$f":"IF($Q$28=\"Allocate Adders\",ESTIMATE!BC696,ESTIMATE!AW696)","v":0},{"$f":"IF($Q$28=\"Allocate Adders\",ESTIMATE!BF696,ESTIMATE!AX696)","v":0},{"$f":"IF($Q$28=\"Allocate Adders\",ESTIMATE!BI696,ESTIMATE!AY696)","v":0},0,null,0]
[null,null,{"$f":"T(ESTIMATE!B697)","v":"Replace gas fired forced air unit, 3,000, 100k btus"},null,null,null,null,{"$f":"ESTIMATE!P697","v":0},{"$f":"T(ESTIMATE!S697)","v":"ea"},{"$f":"IF($Q$28=\"Allocate Adders\",ESTIMATE!BC697,ESTIMATE!AW697)","v":0},{"$f":"IF($Q$28=\"Allocate Adders\",ESTIMATE!BF697,ESTIMATE!AX697)","v":0},{"$f":"IF($Q$28=\"Allocate Adders\",ESTIMATE!BI697,ESTIMATE!AY697)","v":0},0,null,0]
[null,null,{"$f":"T(ESTIMATE!B698)","v":"Replace air conditioning unit, ~1,000 sf, 2 ton"},null,null,null,null,{"$f":"ESTIMATE!P698","v":0},{"$f":"T(ESTIMATE!S698)","v":"ea"},{"$f":"IF($Q$28=\"Allocate Adders\",ESTIMATE!BC698,ESTIMATE!AW698)","v":0},{"$f":"IF($Q$28=\"Allocate Adders\",ESTIMATE!BF698,ESTIMATE!AX698)","v":0},{"$f":"IF($Q$28=\"Allocate Adders\",ESTIMATE!BI698,ESTIMATE!AY698)","v":0},0,null,0]
[null,null,{"$f":"T(ESTIMATE!B699)","v":"Replace air conditioning unit, ~2,000 sf, 3.5 ton"},null,null,null,null,{"$f":"ESTIMATE!P699","v":0},{"$f":"T(ESTIMATE!S699)","v":"ea"},{"$f":"IF($Q$28=\"Allocate Adders\",ESTIMATE!BC699,ESTIMATE!AW699)","v":0},{"$f":"IF($Q$28=\"Allocate Adders\",ESTIMATE!BF699,ESTIMATE!AX699)","v":0},{"$f":"IF($Q$28=\"Allocate Adders\",ESTIMATE!BI699,ESTIMATE!AY699)","v":0},0,null,0]
[null,null,{"$f":"T(ESTIMATE!B700)","v":"Replace air conditioning unit, ~3,000sf, 5 ton"},null,null,null,null,{"$f":"ESTIMATE!P700","v":0},{"$f":"T(ESTIMATE!S700)","v":"ea"},{"$f":"IF($Q$28=\"Allocate Adders\",ESTIMATE!BC700,ESTIMATE!AW700)","v":0},{"$f":"IF($Q$28=\"Allocate Adders\",ESTIMATE!BF700,ESTIMATE!AX700)","v":0},{"$f":"IF($Q$28=\"Allocate Adders\",ESTIMATE!BI700,ESTIMATE!AY700)","v":0},0,null,0]
[null,null,{"$f":"T(ESTIMATE!B701)","v":"Hotel type, hot/cold packaged unit"},null,null,null,null,{"$f":"ESTIMATE!P701","v":0},{"$f":"T(ESTIMATE!S701)","v":"ea"},{"$f":"IF($Q$28=\"Allocate Adders\",ESTIMATE!BC701,ESTIMATE!AW701)","v":0},{"$f":"IF($Q$28=\"Allocate Adders\",ESTIMATE!BF701,ESTIMATE!AX701)","v":0},{"$f":"IF($Q$28=\"Allocate Adders\",ESTIMATE!BI701,ESTIMATE!AY701)","v":0},0,null,0]
[null,null,{"$f":"T(ESTIMATE!B702)","v":"Window mounted unit"},null,null,null,null,{"$f":"ESTIMATE!P702","v":0},{"$f":"T(ESTIMATE!S702)","v":"ea"},{"$f":"IF($Q$28=\"Allocate Adders\",ESTIMATE!BC702,ESTIMATE!AW702)","v":0},{"$f":"IF($Q$28=\"Allocate Adders\",ESTIMATE!BF702,ESTIMATE!AX702)","v":0},{"$f":"IF($Q$28=\"Allocate Adders\",ESTIMATE!BI702,ESTIMATE!AY702)","v":0},0,null,0]
[null,null,{"$f":"T(ESTIMATE!B703)","v":"HVAC equipment tune-up/service call"},null,null,null,null,{"$f":"ESTIMATE!P703","v":0},{"$f":"T(ESTIMATE!S703)","v":"ea"},{"$f":"IF($Q$28=\"Allocate Adders\",ESTIMATE!BC703,ESTIMATE!AW703)","v":0},{"$f":"IF($Q$28=\"Allocate Adders\",ESTIMATE!BF703,ESTIMATE!AX703)","v":0},{"$f":"IF($Q$28=\"Allocate Adders\",ESTIMATE!BI703,ESTIMATE!AY703)","v":0},0,null,0]
[null,null,{"$f":"T(ESTIMATE!B704)","v":"Programmable thermostat"},null,null,null,null,{"$f":"ESTIMATE!P704","v":0},{"$f":"T(ESTIMATE!S704)","v":"ea"},{"$f":"IF($Q$28=\"Allocate Adders\",ESTIMATE!BC704,ESTIMATE!AW704)","v":0},{"$f":"IF($Q$28=\"Allocate Adders\",ESTIMATE!BF704,ESTIMATE!AX704)","v":0},{"$f":"IF($Q$28=\"Allocate Adders\",ESTIMATE!BI704,ESTIMATE!AY704)","v":0},0,null,0]
[null,null,{"$f":"T(ESTIMATE!B705)","v":"Replace supply air grilles/returns"},null,null,null,null,{"$f":"ESTIMATE!P705","v":0},{"$f":"T(ESTIMATE!S705)","v":"ea"},{"$f":"IF($Q$28=\"Allocate Adders\",ESTIMATE!BC705,ESTIMATE!AW705)","v":0},{"$f":"IF($Q$28=\"Allocate Adders\",ESTIMATE!BF705,ESTIMATE!AX705)","v":0},{"$f":"IF($Q$28=\"Allocate Adders\",ESTIMATE!BI705,ESTIMATE!AY705)","v":0},0,null,0]
[null,null,{"$f":"T(ESTIMATE!B706)","v":"Clean ductwork"},null,null,null,null,{"$f":"ESTIMATE!P706","v":0},{"$f":"T(ESTIMATE!S706)","v":"ls"},{"$f":"IF($Q$28=\"Allocate Adders\",ESTIMATE!BC706,ESTIMATE!AW706)","v":0},{"$f":"IF($Q$28=\"Allocate Adders\",ESTIMATE!BF706,ESTIMATE!AX706)","v":0},{"$f":"IF($Q$28=\"Allocate Adders\",ESTIMATE!BI706,ESTIMATE!AY706)","v":0},0,null,0]
[null,null,{"$f":"T(ESTIMATE!B707)","v":""},null,null,null,null,{"$f":"ESTIMATE!P707","v":0},{"$f":"T(ESTIMATE!S707)","v":""},{"$f":"IF($Q$28=\"Allocate Adders\",ESTIMATE!BC707,ESTIMATE!AW707)","v":0},{"$f":"IF($Q$28=\"Allocate Adders\",ESTIMATE!BF707,ESTIMATE!AX707)","v":0},{"$f":"IF($Q$28=\"Allocate Adders\",ESTIMATE!BI707,ESTIMATE!AY707)","v":0},0,null,0]
[null,null,{"$f":"T(ESTIMATE!B708)","v":""},null,null,null,null,{"$f":"ESTIMATE!P708","v":0},{"$f":"T(ESTIMATE!S708)","v":""},{"$f":"IF($Q$28=\"Allocate Adders\",ESTIMATE!BC708,ESTIMATE!AW708)","v":0},{"$f":"IF($Q$28=\"Allocate Adders\",ESTIMATE!BF708,ESTIMATE!AX708)","v":0},{"$f":"IF($Q$28=\"Allocate Adders\",ESTIMATE!BI708,ESTIMATE!AY708)","v":0},0,null,0]
[null,null,{"$f":"T(ESTIMATE!B709)","v":""},null,null,null,null,{"$f":"ESTIMATE!P709","v":0},{"$f":"T(ESTIMATE!S709)","v":""},{"$f":"IF($Q$28=\"Allocate Adders\",ESTIMATE!BC709,ESTIMATE!AW709)","v":0},{"$f":"IF($Q$28=\"Allocate Adders\",ESTIMATE!BF709,ESTIMATE!AX709)","v":0},{"$f":"IF($Q$28=\"Allocate Adders\",ESTIMATE!BI709,ESTIMATE!AY709)","v":0},0,null,0]
[null,null,{"$f":"T(ESTIMATE!B710)","v":""},null,null,null,null,{"$f":"ESTIMATE!P710","v":0},{"$f":"T(ESTIMATE!S710)","v":""},{"$f":"IF($Q$28=\"Allocate Adders\",ESTIMATE!BC710,ESTIMATE!AW710)","v":0},{"$f":"IF($Q$28=\"Allocate Adders\",ESTIMATE!BF710,ESTIMATE!AX710)","v":0},{"$f":"IF($Q$28=\"Allocate Adders\",ESTIMATE!BI710,ESTIMATE!AY710)","v":0},0,null,0]
[null,null,{"$f":"T(ESTIMATE!B711)","v":""},null,null,null,null,{"$f":"ESTIMATE!P711","v":0},{"$f":"T(ESTIMATE!S711)","v":""},{"$f":"IF($Q$28=\"Allocate Adders\",ESTIMATE!BC711,ESTIMATE!AW711)","v":0},{"$f":"IF($Q$28=\"Allocate Adders\",ESTIMATE!BF711,ESTIMATE!AX711)","v":0},{"$f":"IF($Q$28=\"Allocate Adders\",ESTIMATE!BI711,ESTIMATE!AY711)","v":0},0,null,0]
[null,null,{"$f":"T(ESTIMATE!B712)","v":""},null,null,null,null,{"$f":"ESTIMATE!P712","v":0},{"$f":"T(ESTIMATE!S712)","v":""},{"$f":"IF($Q$28=\"Allocate Adders\",ESTIMATE!BC712,ESTIMATE!AW712)","v":0},{"$f":"IF($Q$28=\"Allocate Adders\",ESTIMATE!BF712,ESTIMATE!AX712)","v":0},{"$f":"IF($Q$28=\"Allocate Adders\",ESTIMATE!BI712,ESTIMATE!AY712)","v":0},0,null,0]
[null,null,{"$f":"T(ESTIMATE!B713)","v":""},null,null,null,null,{"$f":"ESTIMATE!P713","v":0},{"$f":"T(ESTIMATE!S713)","v":""},{"$f":"IF($Q$28=\"Allocate Adders\",ESTIMATE!BC713,ESTIMATE!AW713)","v":0},{"$f":"IF($Q$28=\"Allocate Adders\",ESTIMATE!BF713,ESTIMATE!AX713)","v":0},{"$f":"IF($Q$28=\"Allocate Adders\",ESTIMATE!BI713,ESTIMATE!AY713)","v":0},0,null,0]
[null,null,{"$f":"T(ESTIMATE!B714)","v":""},null,null,null,null,{"$f":"ESTIMATE!P714","v":0},{"$f":"T(ESTIMATE!S714)","v":""},{"$f":"IF($Q$28=\"Allocate Adders\",ESTIMATE!BC714,ESTIMATE!AW714)","v":0},{"$f":"IF($Q$28=\"Allocate Adders\",ESTIMATE!BF714,ESTIMATE!AX714)","v":0},{"$f":"IF($Q$28=\"Allocate Adders\",ESTIMATE!BI714,ESTIMATE!AY714)","v":0},0,null,0]
[null,null,{"$f":"T(ESTIMATE!B715)","v":""},null,null,null,null,{"$f":"ESTIMATE!P715","v":0},{"$f":"T(ESTIMATE!S715)","v":""},{"$f":"IF($Q$28=\"Allocate Adders\",ESTIMATE!BC715,ESTIMATE!AW715)","v":0},{"$f":"IF($Q$28=\"Allocate Adders\",ESTIMATE!BF715,ESTIMATE!AX715)","v":0},{"$f":"IF($Q$28=\"Allocate Adders\",ESTIMATE!BI715,ESTIMATE!AY715)","v":0},0,null,0]
[null,null,{"$f":"T(ESTIMATE!B716)","v":""},null,null,null,null,{"$f":"ESTIMATE!P716","v":0},{"$f":"T(ESTIMATE!S716)","v":""},{"$f":"IF($Q$28=\"Allocate Adders\",ESTIMATE!BC716,ESTIMATE!AW716)","v":0},{"$f":"IF($Q$28=\"Allocate Adders\",ESTIMATE!BF716,ESTIMATE!AX716)","v":0},{"$f":"IF($Q$28=\"Allocate Adders\",ESTIMATE!BI716,ESTIMATE!AY716)","v":0},0,null,0]
[null,null,{"$f":"T(ESTIMATE!B717)","v":""},null,null,null,null,{"$f":"ESTIMATE!P717","v":0},{"$f":"T(ESTIMATE!S717)","v":""},{"$f":"IF($Q$28=\"Allocate Adders\",ESTIMATE!BC717,ESTIMATE!AW717)","v":0},{"$f":"IF($Q$28=\"Allocate Adders\",ESTIMATE!BF717,ESTIMATE!AX717)","v":0},{"$f":"IF($Q$28=\"Allocate Adders\",ESTIMATE!BI717,ESTIMATE!AY717)","v":0},0,null,0]
[null,null,{"$f":"T(ESTIMATE!B718)","v":""},null,null,null,null,{"$f":"ESTIMATE!P718","v":0},{"$f":"T(ESTIMATE!S718)","v":""},{"$f":"IF($Q$28=\"Allocate Adders\",ESTIMATE!BC718,ESTIMATE!AW718)","v":0},{"$f":"IF($Q$28=\"Allocate Adders\",ESTIMATE!BF718,ESTIMATE!AX718)","v":0},{"$f":"IF($Q$28=\"Allocate Adders\",ESTIMATE!BI718,ESTIMATE!AY718)","v":0},0,null,0]
[null,null,{"$f":"T(ESTIMATE!B719)","v":""},null,null,null,null,{"$f":"ESTIMATE!P719","v":0},{"$f":"T(ESTIMATE!S719)","v":""},{"$f":"IF($Q$28=\"Allocate Adders\",ESTIMATE!BC719,ESTIMATE!AW719)","v":0},{"$f":"IF($Q$28=\"Allocate Adders\",ESTIMATE!BF719,ESTIMATE!AX719)","v":0},{"$f":"IF($Q$28=\"Allocate Adders\",ESTIMATE!BI719,ESTIMATE!AY719)","v":0},0,null,0]
[null,null,{"$f":"T(ESTIMATE!B720)","v":""},null,null,null,null,{"$f":"ESTIMATE!P720","v":0},{"$f":"T(ESTIMATE!S720)","v":""},{"$f":"IF($Q$28=\"Allocate Adders\",ESTIMATE!BC720,ESTIMATE!AW720)","v":0},{"$f":"IF($Q$28=\"Allocate Adders\",ESTIMATE!BF720,ESTIMATE!AX720)","v":0},{"$f":"IF($Q$28=\"Allocate Adders\",ESTIMATE!BI720,ESTIMATE!AY720)","v":0},0,null,0]
[null,null,{"$f":"T(ESTIMATE!B721)","v":""},null,null,null,null,{"$f":"ESTIMATE!P721","v":0},{"$f":"T(ESTIMATE!S721)","v":""},{"$f":"IF($Q$28=\"Allocate Adders\",ESTIMATE!BC721,ESTIMATE!AW721)","v":0},{"$f":"IF($Q$28=\"Allocate Adders\",ESTIMATE!BF721,ESTIMATE!AX721)","v":0},{"$f":"IF($Q$28=\"Allocate Adders\",ESTIMATE!BI721,ESTIMATE!AY721)","v":0},0,null,0]
[null,null,{"$f":"T(ESTIMATE!B722)","v":""},null,null,null,null,{"$f":"ESTIMATE!P722","v":0},{"$f":"T(ESTIMATE!S722)","v":""},{"$f":"IF($Q$28=\"Allocate Adders\",ESTIMATE!BC722,ESTIMATE!AW722)","v":0},{"$f":"IF($Q$28=\"Allocate Adders\",ESTIMATE!BF722,ESTIMATE!AX722)","v":0},{"$f":"IF($Q$28=\"Allocate Adders\",ESTIMATE!BI722,ESTIMATE!AY722)","v":0},0,null,0]
[null,null,{"$f":"T(ESTIMATE!B723)","v":""},null,null,null,null,{"$f":"ESTIMATE!P723","v":0},{"$f":"T(ESTIMATE!S723)","v":""},{"$f":"IF($Q$28=\"Allocate Adders\",ESTIMATE!BC723,ESTIMATE!AW723)","v":0},{"$f":"IF($Q$28=\"Allocate Adders\",ESTIMATE!BF723,ESTIMATE!AX723)","v":0},{"$f":"IF($Q$28=\"Allocate Adders\",ESTIMATE!BI723,ESTIMATE!AY723)","v":0},0,null,0]
[null,null,{"$f":"T(ESTIMATE!B724)","v":""},null,null,null,null,{"$f":"ESTIMATE!P724","v":0},{"$f":"T(ESTIMATE!S724)","v":""},{"$f":"IF($Q$28=\"Allocate Adders\",ESTIMATE!BC724,ESTIMATE!AW724)","v":0},{"$f":"IF($Q$28=\"Allocate Adders\",ESTIMATE!BF724,ESTIMATE!AX724)","v":0},{"$f":"IF($Q$28=\"Allocate Adders\",ESTIMATE!BI724,ESTIMATE!AY724)","v":0},0,null,0]
[null,null,{"$f":"T(ESTIMATE!B725)","v":""},null,null,null,null,{"$f":"ESTIMATE!P725","v":0},{"$f":"T(ESTIMATE!S725)","v":""},{"$f":"IF($Q$28=\"Allocate Adders\",ESTIMATE!BC725,ESTIMATE!AW725)","v":0},{"$f":"IF($Q$28=\"Allocate Adders\",ESTIMATE!BF725,ESTIMATE!AX725)","v":0},{"$f":"IF($Q$28=\"Allocate Adders\",ESTIMATE!BI725,ESTIMATE!AY725)","v":0},0,null,0]
[null,null,{"$f":"T(ESTIMATE!B726)","v":""},null,null,null,null,{"$f":"ESTIMATE!P726","v":0},{"$f":"T(ESTIMATE!S726)","v":""},{"$f":"IF($Q$28=\"Allocate Adders\",ESTIMATE!BC726,ESTIMATE!AW726)","v":0},{"$f":"IF($Q$28=\"Allocate Adders\",ESTIMATE!BF726,ESTIMATE!AX726)","v":0},{"$f":"IF($Q$28=\"Allocate Adders\",ESTIMATE!BI726,ESTIMATE!AY726)","v":0},0,null,0]
[null,null,{"$f":"T(ESTIMATE!B727)","v":""},null,null,null,null,{"$f":"ESTIMATE!P727","v":0},{"$f":"T(ESTIMATE!S727)","v":""},{"$f":"IF($Q$28=\"Allocate Adders\",ESTIMATE!BC727,ESTIMATE!AW727)","v":0},{"$f":"IF($Q$28=\"Allocate Adders\",ESTIMATE!BF727,ESTIMATE!AX727)","v":0},{"$f":"IF($Q$28=\"Allocate Adders\",ESTIMATE!BI727,ESTIMATE!AY727)","v":0},0,null,0]
[null,null,{"$f":"T(ESTIMATE!B728)","v":""},null,null,null,null,{"$f":"ESTIMATE!P728","v":0},{"$f":"T(ESTIMATE!S728)","v":""},{"$f":"IF($Q$28=\"Allocate Adders\",ESTIMATE!BC728,ESTIMATE!AW728)","v":0},{"$f":"IF($Q$28=\"Allocate Adders\",ESTIMATE!BF728,ESTIMATE!AX728)","v":0},{"$f":"IF($Q$28=\"Allocate Adders\",ESTIMATE!BI728,ESTIMATE!AY728)","v":0},0,null,0]
[null,null,{"$f":"T(ESTIMATE!B729)","v":""},null,null,null,null,{"$f":"ESTIMATE!P729","v":0},{"$f":"T(ESTIMATE!S729)","v":""},{"$f":"IF($Q$28=\"Allocate Adders\",ESTIMATE!BC729,ESTIMATE!AW729)","v":0},{"$f":"IF($Q$28=\"Allocate Adders\",ESTIMATE!BF729,ESTIMATE!AX729)","v":0},{"$f":"IF($Q$28=\"Allocate Adders\",ESTIMATE!BI729,ESTIMATE!AY729)","v":0},0,null,0]
[null,null,{"$f":"T(ESTIMATE!B730)","v":""},null,null,null,null,{"$f":"ESTIMATE!P730","v":0},{"$f":"T(ESTIMATE!S730)","v":""},{"$f":"IF($Q$28=\"Allocate Adders\",ESTIMATE!BC730,ESTIMATE!AW730)","v":0},{"$f":"IF($Q$28=\"Allocate Adders\",ESTIMATE!BF730,ESTIMATE!AX730)","v":0},{"$f":"IF($Q$28=\"Allocate Adders\",ESTIMATE!BI730,ESTIMATE!AY730)","v":0},0,null,0]
[null,null,{"$f":"T(ESTIMATE!B731)","v":""},null,null,null,null,{"$f":"ESTIMATE!P731","v":0},{"$f":"T(ESTIMATE!S731)","v":""},{"$f":"IF($Q$28=\"Allocate Adders\",ESTIMATE!BC731,ESTIMATE!AW731)","v":0},{"$f":"IF($Q$28=\"Allocate Adders\",ESTIMATE!BF731,ESTIMATE!AX731)","v":0},{"$f":"IF($Q$28=\"Allocate Adders\",ESTIMATE!BI731,ESTIMATE!AY731)","v":0},0,null,0]
[null,null,null,null,null,null,null,null,null,null,null,null,null,null,{"$f":"O763","v":0}]
[null,null,{"$f":"T(ESTIMATE!AC733)","v":"HVAC TOTAL"},null,null,null,null,null,null,{"$f":"SUM(J722:J762)","v":0},{"$f":"SUM(K722:K762)","v":0},{"$f":"SUM(L722:L762)","v":0},{"$f":"SUM(M722:N762)","v":0},null,{"$f":"SUM(O721:O761)","v":0}]
[null,null,null,null,null,null,null,null,null,null,null,null,null,null,{"$f":"O763","v":0}]
[]
[null,null,{"$f":"T(ESTIMATE!B736)","v":"ELECTRICAL"},null,null,null,null,{"$f":"SUM(H767:H806)","v":0},null,null,null,null,null,null,{"$f":"H766","v":0}]
[null,null,{"$f":"T(ESTIMATE!B737)","v":"Electrical, bid/allowance"},null,null,null,null,{"$f":"ESTIMATE!P737","v":0},{"$f":"T(ESTIMATE!S737)","v":"ls"},{"$f":"IF($Q$28=\"Allocate Adders\",ESTIMATE!BC737,ESTIMATE!AW737)","v":0},{"$f":"IF($Q$28=\"Allocate Adders\",ESTIMATE!BF737,ESTIMATE!AX737)","v":0},{"$f":"IF($Q$28=\"Allocate Adders\",ESTIMATE!BI737,ESTIMATE!AY737)","v":0},{"$f":"SUM(J767:L767)","v":0},null,0]
[null,null,{"$f":"T(ESTIMATE!B738)","v":""},null,null,null,null,{"$f":"ESTIMATE!P738","v":0},{"$f":"T(ESTIMATE!S738)","v":""},{"$f":"IF($Q$28=\"Allocate Adders\",ESTIMATE!BC738,ESTIMATE!AW738)","v":0},{"$f":"IF($Q$28=\"Allocate Adders\",ESTIMATE!BF738,ESTIMATE!AX738)","v":0},{"$f":"IF($Q$28=\"Allocate Adders\",ESTIMATE!BI738,ESTIMATE!AY738)","v":0},0,null,0]
[null,null,{"$f":"T(ESTIMATE!B739)","v":"Electrical Work, Per Hour"},null,null,null,null,{"$f":"ESTIMATE!P739","v":0},{"$f":"T(ESTIMATE!S739)","v":""},{"$f":"IF($Q$28=\"Allocate Adders\",ESTIMATE!BC739,ESTIMATE!AW739)","v":0},{"$f":"IF($Q$28=\"Allocate Adders\",ESTIMATE!BF739,ESTIMATE!AX739)","v":0},{"$f":"IF($Q$28=\"Allocate Adders\",ESTIMATE!BI739,ESTIMATE!AY739)","v":0},0,null,0]
[null,null,{"$f":"T(ESTIMATE!B740)","v":"Electrical rough-in, per hour"},null,null,null,null,{"$f":"ESTIMATE!P740","v":0},{"$f":"T(ESTIMATE!S740)","v":"hrs"},{"$f":"IF($Q$28=\"Allocate Adders\",ESTIMATE!BC740,ESTIMATE!AW740)","v":0},{"$f":"IF($Q$28=\"Allocate Adders\",ESTIMATE!BF740,ESTIMATE!AX740)","v":0},{"$f":"IF($Q$28=\"Allocate Adders\",ESTIMATE!BI740,ESTIMATE!AY740)","v":0},0,null,0]
[null,null,{"$f":"T(ESTIMATE!B741)","v":"Electrical finish work, per hour"},null,null,null,null,{"$f":"ESTIMATE!P741","v":0},{"$f":"T(ESTIMATE!S741)","v":"hrs"},{"$f":"IF($Q$28=\"Allocate Adders\",ESTIMATE!BC741,ESTIMATE!AW741)","v":0},{"$f":"IF($Q$28=\"Allocate Adders\",ESTIMATE!BF741,ESTIMATE!AX741)","v":0},{"$f":"IF($Q$28=\"Allocate Adders\",ESTIMATE!BI741,ESTIMATE!AY741)","v":0},0,null,0]
[null,null,{"$f":"T(ESTIMATE!B742)","v":""},null,null,null,null,{"$f":"ESTIMATE!P742","v":0},{"$f":"T(ESTIMATE!S742)","v":""},{"$f":"IF($Q$28=\"Allocate Adders\",ESTIMATE!BC742,ESTIMATE!AW742)","v":0},{"$f":"IF($Q$28=\"Allocate Adders\",ESTIMATE!BF742,ESTIMATE!AX742)","v":0},{"$f":"IF($Q$28=\"Allocate Adders\",ESTIMATE!BI742,ESTIMATE!AY742)","v":0},0,null,0]
[null,null,{"$f":"T(ESTIMATE!B743)","v":"Electrical Work, per SF"},null,null,null,null,{"$f":"ESTIMATE!P743","v":0},{"$f":"T(ESTIMATE!S743)","v":""},{"$f":"IF($Q$28=\"Allocate Adders\",ESTIMATE!BC743,ESTIMATE!AW743)","v":0},{"$f":"IF($Q$28=\"Allocate Adders\",ESTIMATE!BF743,ESTIMATE!AX743)","v":0},{"$f":"IF($Q$28=\"Allocate Adders\",ESTIMATE!BI743,ESTIMATE!AY743)","v":0},0,null,0]
[null,null,{"$f":"T(ESTIMATE!B744)","v":"Rewire entire house (new panel, circuits, outlets, lighting)"},null,null,null,null,{"$f":"ESTIMATE!P744","v":0},{"$f":"T(ESTIMATE!S744)","v":"sf"},{"$f":"IF($Q$28=\"Allocate Adders\",ESTIMATE!BC744,ESTIMATE!AW744)","v":0},{"$f":"IF($Q$28=\"Allocate Adders\",ESTIMATE!BF744,ESTIMATE!AX744)","v":0},{"$f":"IF($Q$28=\"Allocate Adders\",ESTIMATE!BI744,ESTIMATE!AY744)","v":0},0,null,0]
[null,null,{"$f":"T(ESTIMATE!B745)","v":"Electrical, finish work only, etc (fixtures, cover plates, etc)"},null,null,null,null,{"$f":"ESTIMATE!P745","v":0},{"$f":"T(ESTIMATE!S745)","v":"sf"},{"$f":"IF($Q$28=\"Allocate Adders\",ESTIMATE!BC745,ESTIMATE!AW745)","v":0},{"$f":"IF($Q$28=\"Allocate Adders\",ESTIMATE!BF745,ESTIMATE!AX745)","v":0},{"$f":"IF($Q$28=\"Allocate Adders\",ESTIMATE!BI745,ESTIMATE!AY745)","v":0},0,null,0]
[null,null,{"$f":"T(ESTIMATE!B746)","v":""},null,null,null,null,{"$f":"ESTIMATE!P746","v":0},{"$f":"T(ESTIMATE!S746)","v":""},{"$f":"IF($Q$28=\"Allocate Adders\",ESTIMATE!BC746,ESTIMATE!AW746)","v":0},{"$f":"IF($Q$28=\"Allocate Adders\",ESTIMATE!BF746,ESTIMATE!AX746)","v":0},{"$f":"IF($Q$28=\"Allocate Adders\",ESTIMATE!BI746,ESTIMATE!AY746)","v":0},0,null,0]
[null,null,{"$f":"T(ESTIMATE!B747)","v":"Electrical work, Detailed"},null,null,null,null,{"$f":"ESTIMATE!P747","v":0},{"$f":"T(ESTIMATE!S747)","v":""},{"$f":"IF($Q$28=\"Allocate Adders\",ESTIMATE!BC747,ESTIMATE!AW747)","v":0},{"$f":"IF($Q$28=\"Allocate Adders\",ESTIMATE!BF747,ESTIMATE!AX747)","v":0},{"$f":"IF($Q$28=\"Allocate Adders\",ESTIMATE!BI747,ESTIMATE!AY747)","v":0},0,null,0]
[null,null,{"$f":"T(ESTIMATE!B748)","v":"Miscellaneous"},null,null,null,null,{"$f":"ESTIMATE!P748","v":0},{"$f":"T(ESTIMATE!S748)","v":""},{"$f":"IF($Q$28=\"Allocate Adders\",ESTIMATE!BC748,ESTIMATE!AW748)","v":0},{"$f":"IF($Q$28=\"Allocate Adders\",ESTIMATE!BF748,ESTIMATE!AX748)","v":0},{"$f":"IF($Q$28=\"Allocate Adders\",ESTIMATE!BI748,ESTIMATE!AY748)","v":0},0,null,0]
[null,null,{"$f":"T(ESTIMATE!B749)","v":"Replace electrical panel, 100 AMP"},null,null,null,null,{"$f":"ESTIMATE!P749","v":0},{"$f":"T(ESTIMATE!S749)","v":"ea"},{"$f":"IF($Q$28=\"Allocate Adders\",ESTIMATE!BC749,ESTIMATE!AW749)","v":0},{"$f":"IF($Q$28=\"Allocate Adders\",ESTIMATE!BF749,ESTIMATE!AX749)","v":0},{"$f":"IF($Q$28=\"Allocate Adders\",ESTIMATE!BI749,ESTIMATE!AY749)","v":0},0,null,0]
[null,null,{"$f":"T(ESTIMATE!B750)","v":"Replace electrical panel, 200 AMP"},null,null,null,null,{"$f":"ESTIMATE!P750","v":0},{"$f":"T(ESTIMATE!S750)","v":"ea"},{"$f":"IF($Q$28=\"Allocate Adders\",ESTIMATE!BC750,ESTIMATE!AW750)","v":0},{"$f":"IF($Q$28=\"Allocate Adders\",ESTIMATE!BF750,ESTIMATE!AX750)","v":0},{"$f":"IF($Q$28=\"Allocate Adders\",ESTIMATE!BI750,ESTIMATE!AY750)","v":0},0,null,0]
[null,null,{"$f":"T(ESTIMATE!B751)","v":"Replace outlets, light switches"},null,null,null,null,{"$f":"ESTIMATE!P751","v":0},{"$f":"T(ESTIMATE!S751)","v":"ea"},{"$f":"IF($Q$28=\"Allocate Adders\",ESTIMATE!BC751,ESTIMATE!AW751)","v":0},{"$f":"IF($Q$28=\"Allocate Adders\",ESTIMATE!BF751,ESTIMATE!AX751)","v":0},{"$f":"IF($Q$28=\"Allocate Adders\",ESTIMATE!BI751,ESTIMATE!AY751)","v":0},0,null,0]
[null,null,{"$f":"T(ESTIMATE!B752)","v":"Replace GFI outlets/ground back to panel"},null,null,null,null,{"$f":"ESTIMATE!P752","v":0},{"$f":"T(ESTIMATE!S752)","v":"ea"},{"$f":"IF($Q$28=\"Allocate Adders\",ESTIMATE!BC752,ESTIMATE!AW752)","v":0},{"$f":"IF($Q$28=\"Allocate Adders\",ESTIMATE!BF752,ESTIMATE!AX752)","v":0},{"$f":"IF($Q$28=\"Allocate Adders\",ESTIMATE!BI752,ESTIMATE!AY752)","v":0},0,null,0]
[null,null,{"$f":"T(ESTIMATE!B753)","v":"Exhaust Fan"},null,null,null,null,{"$f":"ESTIMATE!P753","v":0},{"$f":"T(ESTIMATE!S753)","v":"ea"},{"$f":"IF($Q$28=\"Allocate Adders\",ESTIMATE!BC753,ESTIMATE!AW753)","v":0},{"$f":"IF($Q$28=\"Allocate Adders\",ESTIMATE!BF753,ESTIMATE!AX753)","v":0},{"$f":"IF($Q$28=\"Allocate Adders\",ESTIMATE!BI753,ESTIMATE!AY753)","v":0},0,null,0]
[null,null,{"$f":"T(ESTIMATE!B754)","v":"Smoke detectors"},null,null,null,null,{"$f":"ESTIMATE!P754","v":0},{"$f":"T(ESTIMATE!S754)","v":"ea"},{"$f":"IF($Q$28=\"Allocate Adders\",ESTIMATE!BC754,ESTIMATE!AW754)","v":0},{"$f":"IF($Q$28=\"Allocate Adders\",ESTIMATE!BF754,ESTIMATE!AX754)","v":0},{"$f":"IF($Q$28=\"Allocate Adders\",ESTIMATE!BI754,ESTIMATE!AY754)","v":0},0,null,0]
[null,null,{"$f":"T(ESTIMATE!B755)","v":"Carbon monoxide detector"},null,null,null,null,{"$f":"ESTIMATE!P755","v":0},{"$f":"T(ESTIMATE!S755)","v":"ea"},{"$f":"IF($Q$28=\"Allocate Adders\",ESTIMATE!BC755,ESTIMATE!AW755)","v":0},{"$f":"IF($Q$28=\"Allocate Adders\",ESTIMATE!BF755,ESTIMATE!AX755)","v":0},{"$f":"IF($Q$28=\"Allocate Adders\",ESTIMATE!BI755,ESTIMATE!AY755)","v":0},0,null,0]
[null,null,{"$f":"T(ESTIMATE!B756)","v":"Lighting"},null,null,null,null,{"$f":"ESTIMATE!P756","v":0},{"$f":"T(ESTIMATE!S756)","v":""},{"$f":"IF($Q$28=\"Allocate Adders\",ESTIMATE!BC756,ESTIMATE!AW756)","v":0},{"$f":"IF($Q$28=\"Allocate Adders\",ESTIMATE!BF756,ESTIMATE!AX756)","v":0},{"$f":"IF($Q$28=\"Allocate Adders\",ESTIMATE!BI756,ESTIMATE!AY756)","v":0},0,null,0]
[null,null,{"$f":"T(ESTIMATE!B757)","v":"Track/Pendent light"},null,null,null,null,{"$f":"ESTIMATE!P757","v":0},{"$f":"T(ESTIMATE!S757)","v":"ea"},{"$f":"IF($Q$28=\"Allocate Adders\",ESTIMATE!BC757,ESTIMATE!AW757)","v":0},{"$f":"IF($Q$28=\"Allocate Adders\",ESTIMATE!BF757,ESTIMATE!AX757)","v":0},{"$f":"IF($Q$28=\"Allocate Adders\",ESTIMATE!BI757,ESTIMATE!AY757)","v":0},0,null,0]
[null,null,{"$f":"T(ESTIMATE!B758)","v":"Chandelier light fixture"},null,null,null,null,{"$f":"ESTIMATE!P758","v":0},{"$f":"T(ESTIMATE!S758)","v":"ea"},{"$f":"IF($Q$28=\"Allocate Adders\",ESTIMATE!BC758,ESTIMATE!AW758)","v":0},{"$f":"IF($Q$28=\"Allocate Adders\",ESTIMATE!BF758,ESTIMATE!AX758)","v":0},{"$f":"IF($Q$28=\"Allocate Adders\",ESTIMATE!BI758,ESTIMATE!AY758)","v":0},0,null,0]
[null,null,{"$f":"T(ESTIMATE!B759)","v":"Ceiling dome light"},null,null,null,null,{"$f":"ESTIMATE!P759","v":0},{"$f":"T(ESTIMATE!S759)","v":"ea"},{"$f":"IF($Q$28=\"Allocate Adders\",ESTIMATE!BC759,ESTIMATE!AW759)","v":0},{"$f":"IF($Q$28=\"Allocate Adders\",ESTIMATE!BF759,ESTIMATE!AX759)","v":0},{"$f":"IF($Q$28=\"Allocate Adders\",ESTIMATE!BI759,ESTIMATE!AY759)","v":0},0,null,0]
[null,null,{"$f":"T(ESTIMATE!B760)","v":"Ceiling fan fixture"},null,null,null,null,{"$f":"ESTIMATE!P760","v":0},{"$f":"T(ESTIMATE!S760)","v":"ea"},{"$f":"IF($Q$28=\"Allocate Adders\",ESTIMATE!BC760,ESTIMATE!AW760)","v":0},{"$f":"IF($Q$28=\"Allocate Adders\",ESTIMATE!BF760,ESTIMATE!AX760)","v":0},{"$f":"IF($Q$28=\"Allocate Adders\",ESTIMATE!BI760,ESTIMATE!AY760)","v":0},0,null,0]
[null,null,{"$f":"T(ESTIMATE!B761)","v":"Can lighting"},null,null,null,null,{"$f":"ESTIMATE!P761","v":0},{"$f":"T(ESTIMATE!S761)","v":"ea"},{"$f":"IF($Q$28=\"Allocate Adders\",ESTIMATE!BC761,ESTIMATE!AW761)","v":0},{"$f":"IF($Q$28=\"Allocate Adders\",ESTIMATE!BF761,ESTIMATE!AX761)","v":0},{"$f":"IF($Q$28=\"Allocate Adders\",ESTIMATE!BI761,ESTIMATE!AY761)","v":0},0,null,0]
[null,null,{"$f":"T(ESTIMATE!B762)","v":"Exterior light fixture"},null,null,null,null,{"$f":"ESTIMATE!P762","v":0},{"$f":"T(ESTIMATE!S762)","v":"ea"},{"$f":"IF($Q$28=\"Allocate Adders\",ESTIMATE!BC762,ESTIMATE!AW762)","v":0},{"$f":"IF($Q$28=\"Allocate Adders\",ESTIMATE!BF762,ESTIMATE!AX762)","v":0},{"$f":"IF($Q$28=\"Allocate Adders\",ESTIMATE!BI762,ESTIMATE!AY762)","v":0},0,null,0]
[null,null,{"$f":"T(ESTIMATE!B763)","v":""},null,null,null,null,{"$f":"ESTIMATE!P763","v":0},{"$f":"T(ESTIMATE!S763)","v":""},{"$f":"IF($Q$28=\"Allocate Adders\",ESTIMATE!BC763,ESTIMATE!AW763)","v":0},{"$f":"IF($Q$28=\"Allocate Adders\",ESTIMATE!BF763,ESTIMATE!AX763)","v":0},{"$f":"IF($Q$28=\"Allocate Adders\",ESTIMATE!BI763,ESTIMATE!AY763)","v":0},0,null,0]
[null,null,{"$f":"T(ESTIMATE!B764)","v":""},null,null,null,null,{"$f":"ESTIMATE!P764","v":0},{"$f":"T(ESTIMATE!S764)","v":""},{"$f":"IF($Q$28=\"Allocate Adders\",ESTIMATE!BC764,ESTIMATE!AW764)","v":0},{"$f":"IF($Q$28=\"Allocate Adders\",ESTIMATE!BF764,ESTIMATE!AX764)","v":0},{"$f":"IF($Q$28=\"Allocate Adders\",ESTIMATE!BI764,ESTIMATE!AY764)","v":0},0,null,0]
[null,null,{"$f":"T(ESTIMATE!B765)","v":""},null,null,null,null,{"$f":"ESTIMATE!P765","v":0},{"$f":"T(ESTIMATE!S765)","v":""},{"$f":"IF($Q$28=\"Allocate Adders\",ESTIMATE!BC765,ESTIMATE!AW765)","v":0},{"$f":"IF($Q$28=\"Allocate Adders\",ESTIMATE!BF765,ESTIMATE!AX765)","v":0},{"$f":"IF($Q$28=\"Allocate Adders\",ESTIMATE!BI765,ESTIMATE!AY765)","v":0},0,null,0]
[null,null,{"$f":"T(ESTIMATE!B766)","v":""},null,null,null,null,{"$f":"ESTIMATE!P766","v":0},{"$f":"T(ESTIMATE!S766)","v":""},{"$f":"IF($Q$28=\"Allocate Adders\",ESTIMATE!BC766,ESTIMATE!AW766)","v":0},{"$f":"IF($Q$28=\"Allocate Adders\",ESTIMATE!BF766,ESTIMATE!AX766)","v":0},{"$f":"IF($Q$28=\"Allocate Adders\",ESTIMATE!BI766,ESTIMATE!AY766)","v":0},0,null,0]
[null,null,{"$f":"T(ESTIMATE!B767)","v":""},null,null,null,null,{"$f":"ESTIMATE!P767","v":0},{"$f":"T(ESTIMATE!S767)","v":""},{"$f":"IF($Q$28=\"Allocate Adders\",ESTIMATE!BC767,ESTIMATE!AW767)","v":0},{"$f":"IF($Q$28=\"Allocate Adders\",ESTIMATE!BF767,ESTIMATE!AX767)","v":0},{"$f":"IF($Q$28=\"Allocate Adders\",ESTIMATE!BI767,ESTIMATE!AY767)","v":0},0,null,0]
[null,null,{"$f":"T(ESTIMATE!B768)","v":""},null,null,null,null,{"$f":"ESTIMATE!P768","v":0},{"$f":"T(ESTIMATE!S768)","v":""},{"$f":"IF($Q$28=\"Allocate Adders\",ESTIMATE!BC768,ESTIMATE!AW768)","v":0},{"$f":"IF($Q$28=\"Allocate Adders\",ESTIMATE!BF768,ESTIMATE!AX768)","v":0},{"$f":"IF($Q$28=\"Allocate Adders\",ESTIMATE!BI768,ESTIMATE!AY768)","v":0},0,null,0]
[null,null,{"$f":"T(ESTIMATE!B769)","v":""},null,null,null,null,{"$f":"ESTIMATE!P769","v":0},{"$f":"T(ESTIMATE!S769)","v":""},{"$f":"IF($Q$28=\"Allocate Adders\",ESTIMATE!BC769,ESTIMATE!AW769)","v":0},{"$f":"IF($Q$28=\"Allocate Adders\",ESTIMATE!BF769,ESTIMATE!AX769)","v":0},{"$f":"IF($Q$28=\"Allocate Adders\",ESTIMATE!BI769,ESTIMATE!AY769)","v":0},0,null,0]
[null,null,{"$f":"T(ESTIMATE!B770)","v":""},null,null,null,null,{"$f":"ESTIMATE!P770","v":0},{"$f":"T(ESTIMATE!S770)","v":""},{"$f":"IF($Q$28=\"Allocate Adders\",ESTIMATE!BC770,ESTIMATE!AW770)","v":0},{"$f":"IF($Q$28=\"Allocate Adders\",ESTIMATE!BF770,ESTIMATE!AX770)","v":0},{"$f":"IF($Q$28=\"Allocate Adders\",ESTIMATE!BI770,ESTIMATE!AY770)","v":0},0,null,0]
[null,null,{"$f":"T(ESTIMATE!B771)","v":""},null,null,null,null,{"$f":"ESTIMATE!P771","v":0},{"$f":"T(ESTIMATE!S771)","v":""},{"$f":"IF($Q$28=\"Allocate Adders\",ESTIMATE!BC771,ESTIMATE!AW771)","v":0},{"$f":"IF($Q$28=\"Allocate Adders\",ESTIMATE!BF771,ESTIMATE!AX771)","v":0},{"$f":"IF($Q$28=\"Allocate Adders\",ESTIMATE!BI771,ESTIMATE!AY771)","v":0},0,null,0]
[null,null,{"$f":"T(ESTIMATE!B772)","v":""},null,null,null,null,{"$f":"ESTIMATE!P772","v":0},{"$f":"T(ESTIMATE!S772)","v":""},{"$f":"IF($Q$28=\"Allocate Adders\",ESTIMATE!BC772,ESTIMATE!AW772)","v":0},{"$f":"IF($Q$28=\"Allocate Adders\",ESTIMATE!BF772,ESTIMATE!AX772)","v":0},{"$f":"IF($Q$28=\"Allocate Adders\",ESTIMATE!BI772,ESTIMATE!AY772)","v":0},0,null,0]
[null,null,{"$f":"T(ESTIMATE!B773)","v":""},null,null,null,null,{"$f":"ESTIMATE!P773","v":0},{"$f":"T(ESTIMATE!S773)","v":""},{"$f":"IF($Q$28=\"Allocate Adders\",ESTIMATE!BC773,ESTIMATE!AW773)","v":0},{"$f":"IF($Q$28=\"Allocate Adders\",ESTIMATE!BF773,ESTIMATE!AX773)","v":0},{"$f":"IF($Q$28=\"Allocate Adders\",ESTIMATE!BI773,ESTIMATE!AY773)","v":0},0,null,0]
[null,null,{"$f":"T(ESTIMATE!B774)","v":""},null,null,null,null,{"$f":"ESTIMATE!P774","v":0},{"$f":"T(ESTIMATE!S774)","v":""},{"$f":"IF($Q$28=\"Allocate Adders\",ESTIMATE!BC774,ESTIMATE!AW774)","v":0},{"$f":"IF($Q$28=\"Allocate Adders\",ESTIMATE!BF774,ESTIMATE!AX774)","v":0},{"$f":"IF($Q$28=\"Allocate Adders\",ESTIMATE!BI774,ESTIMATE!AY774)","v":0},0,null,0]
[null,null,{"$f":"T(ESTIMATE!B775)","v":""},null,null,null,null,{"$f":"ESTIMATE!P775","v":0},{"$f":"T(ESTIMATE!S775)","v":""},{"$f":"IF($Q$28=\"Allocate Adders\",ESTIMATE!BC775,ESTIMATE!AW775)","v":0},{"$f":"IF($Q$28=\"Allocate Adders\",ESTIMATE!BF775,ESTIMATE!AX775)","v":0},{"$f":"IF($Q$28=\"Allocate Adders\",ESTIMATE!BI775,ESTIMATE!AY775)","v":0},0,null,0]
[null,null,{"$f":"T(ESTIMATE!B776)","v":""},null,null,null,null,{"$f":"ESTIMATE!P776","v":0},{"$f":"T(ESTIMATE!S776)","v":""},{"$f":"IF($Q$28=\"Allocate Adders\",ESTIMATE!BC776,ESTIMATE!AW776)","v":0},{"$f":"IF($Q$28=\"Allocate Adders\",ESTIMATE!BF776,ESTIMATE!AX776)","v":0},{"$f":"IF($Q$28=\"Allocate Adders\",ESTIMATE!BI776,ESTIMATE!AY776)","v":0},0,null,0]
[null,null,null,null,null,null,null,null,null,null,null,null,null,null,{"$f":"O808","v":0}]
[null,null,{"$f":"T(ESTIMATE!AC778)","v":"ELECTRICAL TOTAL"},null,null,null,null,null,null,{"$f":"SUM(J767:J807)","v":0},{"$f":"SUM(K767:K807)","v":0},{"$f":"SUM(L767:L807)","v":0},{"$f":"SUM(M767:N807)","v":0},null,{"$f":"SUM(O766:O806)","v":0}]
[null,null,null,null,null,null,null,null,null,null,null,null,null,null,{"$f":"O808","v":0}]
[]
[null,null,{"$f":"T(ESTIMATE!B781)","v":"OTHER"},null,null,null,null,{"$f":"SUM(H812:H851)","v":0},null,null,null,null,null,null,{"$f":"H811","v":0}]
[null,null,{"$f":"T(ESTIMATE!B782)","v":""},null,null,null,null,{"$f":"ESTIMATE!P782","v":0},{"$f":"T(ESTIMATE!S782)","v":""},{"$f":"IF($Q$28=\"Allocate Adders\",ESTIMATE!BC782,ESTIMATE!AW782)","v":0},{"$f":"IF($Q$28=\"Allocate Adders\",ESTIMATE!BF782,ESTIMATE!AX782)","v":0},{"$f":"IF($Q$28=\"Allocate Adders\",ESTIMATE!BI782,ESTIMATE!AY782)","v":0},{"$f":"SUM(J812:L812)","v":0},null,0]
[null,null,{"$f":"T(ESTIMATE!B783)","v":""},null,null,null,null,{"$f":"ESTIMATE!P783","v":0},{"$f":"T(ESTIMATE!S783)","v":""},{"$f":"IF($Q$28=\"Allocate Adders\",ESTIMATE!BC783,ESTIMATE!AW783)","v":0},{"$f":"IF($Q$28=\"Allocate Adders\",ESTIMATE!BF783,ESTIMATE!AX783)","v":0},{"$f":"IF($Q$28=\"Allocate Adders\",ESTIMATE!BI783,ESTIMATE!AY783)","v":0},0,null,0]
[null,null,{"$f":"T(ESTIMATE!B784)","v":""},null,null,null,null,{"$f":"ESTIMATE!P784","v":0},{"$f":"T(ESTIMATE!S784)","v":""},{"$f":"IF($Q$28=\"Allocate Adders\",ESTIMATE!BC784,ESTIMATE!AW784)","v":0},{"$f":"IF($Q$28=\"Allocate Adders\",ESTIMATE!BF784,ESTIMATE!AX784)","v":0},{"$f":"IF($Q$28=\"Allocate Adders\",ESTIMATE!BI784,ESTIMATE!AY784)","v":0},0,null,0]
[null,null,{"$f":"T(ESTIMATE!B785)","v":""},null,null,null,null,{"$f":"ESTIMATE!P785","v":0},{"$f":"T(ESTIMATE!S785)","v":""},{"$f":"IF($Q$28=\"Allocate Adders\",ESTIMATE!BC785,ESTIMATE!AW785)","v":0},{"$f":"IF($Q$28=\"Allocate Adders\",ESTIMATE!BF785,ESTIMATE!AX785)","v":0},{"$f":"IF($Q$28=\"Allocate Adders\",ESTIMATE!BI785,ESTIMATE!AY785)","v":0},0,null,0]
[null,null,{"$f":"T(ESTIMATE!B786)","v":""},null,null,null,null,{"$f":"ESTIMATE!P786","v":0},{"$f":"T(ESTIMATE!S786)","v":""},{"$f":"IF($Q$28=\"Allocate Adders\",ESTIMATE!BC786,ESTIMATE!AW786)","v":0},{"$f":"IF($Q$28=\"Allocate Adders\",ESTIMATE!BF786,ESTIMATE!AX786)","v":0},{"$f":"IF($Q$28=\"Allocate Adders\",ESTIMATE!BI786,ESTIMATE!AY786)","v":0},0,null,0]
[null,null,{"$f":"T(ESTIMATE!B787)","v":""},null,null,null,null,{"$f":"ESTIMATE!P787","v":0},{"$f":"T(ESTIMATE!S787)","v":""},{"$f":"IF($Q$28=\"Allocate Adders\",ESTIMATE!BC787,ESTIMATE!AW787)","v":0},{"$f":"IF($Q$28=\"Allocate Adders\",ESTIMATE!BF787,ESTIMATE!AX787)","v":0},{"$f":"IF($Q$28=\"Allocate Adders\",ESTIMATE!BI787,ESTIMATE!AY787)","v":0},0,null,0]
[null,null,{"$f":"T(ESTIMATE!B788)","v":""},null,null,null,null,{"$f":"ESTIMATE!P788","v":0},{"$f":"T(ESTIMATE!S788)","v":""},{"$f":"IF($Q$28=\"Allocate Adders\",ESTIMATE!BC788,ESTIMATE!AW788)","v":0},{"$f":"IF($Q$28=\"Allocate Adders\",ESTIMATE!BF788,ESTIMATE!AX788)","v":0},{"$f":"IF($Q$28=\"Allocate Adders\",ESTIMATE!BI788,ESTIMATE!AY788)","v":0},0,null,0]
[null,null,{"$f":"T(ESTIMATE!B789)","v":""},null,null,null,null,{"$f":"ESTIMATE!P789","v":0},{"$f":"T(ESTIMATE!S789)","v":""},{"$f":"IF($Q$28=\"Allocate Adders\",ESTIMATE!BC789,ESTIMATE!AW789)","v":0},{"$f":"IF($Q$28=\"Allocate Adders\",ESTIMATE!BF789,ESTIMATE!AX789)","v":0},{"$f":"IF($Q$28=\"Allocate Adders\",ESTIMATE!BI789,ESTIMATE!AY789)","v":0},0,null,0]
[null,null,{"$f":"T(ESTIMATE!B790)","v":""},null,null,null,null,{"$f":"ESTIMATE!P790","v":0},{"$f":"T(ESTIMATE!S790)","v":""},{"$f":"IF($Q$28=\"Allocate Adders\",ESTIMATE!BC790,ESTIMATE!AW790)","v":0},{"$f":"IF($Q$28=\"Allocate Adders\",ESTIMATE!BF790,ESTIMATE!AX790)","v":0},{"$f":"IF($Q$28=\"Allocate Adders\",ESTIMATE!BI790,ESTIMATE!AY790)","v":0},0,null,0]
[null,null,{"$f":"T(ESTIMATE!B791)","v":""},null,null,null,null,{"$f":"ESTIMATE!P791","v":0},{"$f":"T(ESTIMATE!S791)","v":""},{"$f":"IF($Q$28=\"Allocate Adders\",ESTIMATE!BC791,ESTIMATE!AW791)","v":0},{"$f":"IF($Q$28=\"Allocate Adders\",ESTIMATE!BF791,ESTIMATE!AX791)","v":0},{"$f":"IF($Q$28=\"Allocate Adders\",ESTIMATE!BI791,ESTIMATE!AY791)","v":0},0,null,0]
[null,null,{"$f":"T(ESTIMATE!B792)","v":""},null,null,null,null,{"$f":"ESTIMATE!P792","v":0},{"$f":"T(ESTIMATE!S792)","v":""},{"$f":"IF($Q$28=\"Allocate Adders\",ESTIMATE!BC792,ESTIMATE!AW792)","v":0},{"$f":"IF($Q$28=\"Allocate Adders\",ESTIMATE!BF792,ESTIMATE!AX792)","v":0},{"$f":"IF($Q$28=\"Allocate Adders\",ESTIMATE!BI792,ESTIMATE!AY792)","v":0},0,null,0]
[null,null,{"$f":"T(ESTIMATE!B793)","v":""},null,null,null,null,{"$f":"ESTIMATE!P793","v":0},{"$f":"T(ESTIMATE!S793)","v":""},{"$f":"IF($Q$28=\"Allocate Adders\",ESTIMATE!BC793,ESTIMATE!AW793)","v":0},{"$f":"IF($Q$28=\"Allocate Adders\",ESTIMATE!BF793,ESTIMATE!AX793)","v":0},{"$f":"IF($Q$28=\"Allocate Adders\",ESTIMATE!BI793,ESTIMATE!AY793)","v":0},0,null,0]
[null,null,{"$f":"T(ESTIMATE!B794)","v":""},null,null,null,null,{"$f":"ESTIMATE!P794","v":0},{"$f":"T(ESTIMATE!S794)","v":""},{"$f":"IF($Q$28=\"Allocate Adders\",ESTIMATE!BC794,ESTIMATE!AW794)","v":0},{"$f":"IF($Q$28=\"Allocate Adders\",ESTIMATE!BF794,ESTIMATE!AX794)","v":0},{"$f":"IF($Q$28=\"Allocate Adders\",ESTIMATE!BI794,ESTIMATE!AY794)","v":0},0,null,0]
[null,null,{"$f":"T(ESTIMATE!B795)","v":""},null,null,null,null,{"$f":"ESTIMATE!P795","v":0},{"$f":"T(ESTIMATE!S795)","v":""},{"$f":"IF($Q$28=\"Allocate Adders\",ESTIMATE!BC795,ESTIMATE!AW795)","v":0},{"$f":"IF($Q$28=\"Allocate Adders\",ESTIMATE!BF795,ESTIMATE!AX795)","v":0},{"$f":"IF($Q$28=\"Allocate Adders\",ESTIMATE!BI795,ESTIMATE!AY795)","v":0},0,null,0]
[null,null,{"$f":"T(ESTIMATE!B796)","v":""},null,null,null,null,{"$f":"ESTIMATE!P796","v":0},{"$f":"T(ESTIMATE!S796)","v":""},{"$f":"IF($Q$28=\"Allocate Adders\",ESTIMATE!BC796,ESTIMATE!AW796)","v":0},{"$f":"IF($Q$28=\"Allocate Adders\",ESTIMATE!BF796,ESTIMATE!AX796)","v":0},{"$f":"IF($Q$28=\"Allocate Adders\",ESTIMATE!BI796,ESTIMATE!AY796)","v":0},0,null,0]
[null,null,{"$f":"T(ESTIMATE!B797)","v":""},null,null,null,null,{"$f":"ESTIMATE!P797","v":0},{"$f":"T(ESTIMATE!S797)","v":""},{"$f":"IF($Q$28=\"Allocate Adders\",ESTIMATE!BC797,ESTIMATE!AW797)","v":0},{"$f":"IF($Q$28=\"Allocate Adders\",ESTIMATE!BF797,ESTIMATE!AX797)","v":0},{"$f":"IF($Q$28=\"Allocate Adders\",ESTIMATE!BI797,ESTIMATE!AY797)","v":0},0,null,0]
[null,null,{"$f":"T(ESTIMATE!B798)","v":""},null,null,null,null,{"$f":"ESTIMATE!P798","v":0},{"$f":"T(ESTIMATE!S798)","v":""},{"$f":"IF($Q$28=\"Allocate Adders\",ESTIMATE!BC798,ESTIMATE!AW798)","v":0},{"$f":"IF($Q$28=\"Allocate Adders\",ESTIMATE!BF798,ESTIMATE!AX798)","v":0},{"$f":"IF($Q$28=\"Allocate Adders\",ESTIMATE!BI798,ESTIMATE!AY798)","v":0},0,null,0]
[null,null,{"$f":"T(ESTIMATE!B799)","v":""},null,null,null,null,{"$f":"ESTIMATE!P799","v":0},{"$f":"T(ESTIMATE!S799)","v":""},{"$f":"IF($Q$28=\"Allocate Adders\",ESTIMATE!BC799,ESTIMATE!AW799)","v":0},{"$f":"IF($Q$28=\"Allocate Adders\",ESTIMATE!BF799,ESTIMATE!AX799)","v":0},{"$f":"IF($Q$28=\"Allocate Adders\",ESTIMATE!BI799,ESTIMATE!AY799)","v":0},0,null,0]
[null,null,{"$f":"T(ESTIMATE!B800)","v":""},null,null,null,null,{"$f":"ESTIMATE!P800","v":0},{"$f":"T(ESTIMATE!S800)","v":""},{"$f":"IF($Q$28=\"Allocate Adders\",ESTIMATE!BC800,ESTIMATE!AW800)","v":0},{"$f":"IF($Q$28=\"Allocate Adders\",ESTIMATE!BF800,ESTIMATE!AX800)","v":0},{"$f":"IF($Q$28=\"Allocate Adders\",ESTIMATE!BI800,ESTIMATE!AY800)","v":0},0,null,0]
[null,null,{"$f":"T(ESTIMATE!B801)","v":""},null,null,null,null,{"$f":"ESTIMATE!P801","v":0},{"$f":"T(ESTIMATE!S801)","v":""},{"$f":"IF($Q$28=\"Allocate Adders\",ESTIMATE!BC801,ESTIMATE!AW801)","v":0},{"$f":"IF($Q$28=\"Allocate Adders\",ESTIMATE!BF801,ESTIMATE!AX801)","v":0},{"$f":"IF($Q$28=\"Allocate Adders\",ESTIMATE!BI801,ESTIMATE!AY801)","v":0},0,null,0]
[null,null,{"$f":"T(ESTIMATE!B802)","v":""},null,null,null,null,{"$f":"ESTIMATE!P802","v":0},{"$f":"T(ESTIMATE!S802)","v":""},{"$f":"IF($Q$28=\"Allocate Adders\",ESTIMATE!BC802,ESTIMATE!AW802)","v":0},{"$f":"IF($Q$28=\"Allocate Adders\",ESTIMATE!BF802,ESTIMATE!AX802)","v":0},{"$f":"IF($Q$28=\"Allocate Adders\",ESTIMATE!BI802,ESTIMATE!AY802)","v":0},0,null,0]
[null,null,{"$f":"T(ESTIMATE!B803)","v":""},null,null,null,null,{"$f":"ESTIMATE!P803","v":0},{"$f":"T(ESTIMATE!S803)","v":""},{"$f":"IF($Q$28=\"Allocate Adders\",ESTIMATE!BC803,ESTIMATE!AW803)","v":0},{"$f":"IF($Q$28=\"Allocate Adders\",ESTIMATE!BF803,ESTIMATE!AX803)","v":0},{"$f":"IF($Q$28=\"Allocate Adders\",ESTIMATE!BI803,ESTIMATE!AY803)","v":0},0,null,0]
[null,null,{"$f":"T(ESTIMATE!B804)","v":""},null,null,null,null,{"$f":"ESTIMATE!P804","v":0},{"$f":"T(ESTIMATE!S804)","v":""},{"$f":"IF($Q$28=\"Allocate Adders\",ESTIMATE!BC804,ESTIMATE!AW804)","v":0},{"$f":"IF($Q$28=\"Allocate Adders\",ESTIMATE!BF804,ESTIMATE!AX804)","v":0},{"$f":"IF($Q$28=\"Allocate Adders\",ESTIMATE!BI804,ESTIMATE!AY804)","v":0},0,null,0]
[null,null,{"$f":"T(ESTIMATE!B805)","v":""},null,null,null,null,{"$f":"ESTIMATE!P805","v":0},{"$f":"T(ESTIMATE!S805)","v":""},{"$f":"IF($Q$28=\"Allocate Adders\",ESTIMATE!BC805,ESTIMATE!AW805)","v":0},{"$f":"IF($Q$28=\"Allocate Adders\",ESTIMATE!BF805,ESTIMATE!AX805)","v":0},{"$f":"IF($Q$28=\"Allocate Adders\",ESTIMATE!BI805,ESTIMATE!AY805)","v":0},0,null,0]
[null,null,{"$f":"T(ESTIMATE!B806)","v":""},null,null,null,null,{"$f":"ESTIMATE!P806","v":0},{"$f":"T(ESTIMATE!S806)","v":""},{"$f":"IF($Q$28=\"Allocate Adders\",ESTIMATE!BC806,ESTIMATE!AW806)","v":0},{"$f":"IF($Q$28=\"Allocate Adders\",ESTIMATE!BF806,ESTIMATE!AX806)","v":0},{"$f":"IF($Q$28=\"Allocate Adders\",ESTIMATE!BI806,ESTIMATE!AY806)","v":0},0,null,0]
[null,null,{"$f":"T(ESTIMATE!B807)","v":""},null,null,null,null,{"$f":"ESTIMATE!P807","v":0},{"$f":"T(ESTIMATE!S807)","v":""},{"$f":"IF($Q$28=\"Allocate Adders\",ESTIMATE!BC807,ESTIMATE!AW807)","v":0},{"$f":"IF($Q$28=\"Allocate Adders\",ESTIMATE!BF807,ESTIMATE!AX807)","v":0},{"$f":"IF($Q$28=\"Allocate Adders\",ESTIMATE!BI807,ESTIMATE!AY807)","v":0},0,null,0]
[null,null,{"$f":"T(ESTIMATE!B808)","v":""},null,null,null,null,{"$f":"ESTIMATE!P808","v":0},{"$f":"T(ESTIMATE!S808)","v":""},{"$f":"IF($Q$28=\"Allocate Adders\",ESTIMATE!BC808,ESTIMATE!AW808)","v":0},{"$f":"IF($Q$28=\"Allocate Adders\",ESTIMATE!BF808,ESTIMATE!AX808)","v":0},{"$f":"IF($Q$28=\"Allocate Adders\",ESTIMATE!BI808,ESTIMATE!AY808)","v":0},0,null,0]
[null,null,{"$f":"T(ESTIMATE!B809)","v":""},null,null,null,null,{"$f":"ESTIMATE!P809","v":0},{"$f":"T(ESTIMATE!S809)","v":""},{"$f":"IF($Q$28=\"Allocate Adders\",ESTIMATE!BC809,ESTIMATE!AW809)","v":0},{"$f":"IF($Q$28=\"Allocate Adders\",ESTIMATE!BF809,ESTIMATE!AX809)","v":0},{"$f":"IF($Q$28=\"Allocate Adders\",ESTIMATE!BI809,ESTIMATE!AY809)","v":0},0,null,0]
[null,null,{"$f":"T(ESTIMATE!B810)","v":""},null,null,null,null,{"$f":"ESTIMATE!P810","v":0},{"$f":"T(ESTIMATE!S810)","v":""},{"$f":"IF($Q$28=\"Allocate Adders\",ESTIMATE!BC810,ESTIMATE!AW810)","v":0},{"$f":"IF($Q$28=\"Allocate Adders\",ESTIMATE!BF810,ESTIMATE!AX810)","v":0},{"$f":"IF($Q$28=\"Allocate Adders\",ESTIMATE!BI810,ESTIMATE!AY810)","v":0},0,null,0]
[null,null,{"$f":"T(ESTIMATE!B811)","v":""},null,null,null,null,{"$f":"ESTIMATE!P811","v":0},{"$f":"T(ESTIMATE!S811)","v":""},{"$f":"IF($Q$28=\"Allocate Adders\",ESTIMATE!BC811,ESTIMATE!AW811)","v":0},{"$f":"IF($Q$28=\"Allocate Adders\",ESTIMATE!BF811,ESTIMATE!AX811)","v":0},{"$f":"IF($Q$28=\"Allocate Adders\",ESTIMATE!BI811,ESTIMATE!AY811)","v":0},0,null,0]
[null,null,{"$f":"T(ESTIMATE!B812)","v":""},null,null,null,null,{"$f":"ESTIMATE!P812","v":0},{"$f":"T(ESTIMATE!S812)","v":""},{"$f":"IF($Q$28=\"Allocate Adders\",ESTIMATE!BC812,ESTIMATE!AW812)","v":0},{"$f":"IF($Q$28=\"Allocate Adders\",ESTIMATE!BF812,ESTIMATE!AX812)","v":0},{"$f":"IF($Q$28=\"Allocate Adders\",ESTIMATE!BI812,ESTIMATE!AY812)","v":0},0,null,0]
[null,null,{"$f":"T(ESTIMATE!B813)","v":""},null,null,null,null,{"$f":"ESTIMATE!P813","v":0},{"$f":"T(ESTIMATE!S813)","v":""},{"$f":"IF($Q$28=\"Allocate Adders\",ESTIMATE!BC813,ESTIMATE!AW813)","v":0},{"$f":"IF($Q$28=\"Allocate Adders\",ESTIMATE!BF813,ESTIMATE!AX813)","v":0},{"$f":"IF($Q$28=\"Allocate Adders\",ESTIMATE!BI813,ESTIMATE!AY813)","v":0},0,null,0]
[null,null,{"$f":"T(ESTIMATE!B814)","v":""},null,null,null,null,{"$f":"ESTIMATE!P814","v":0},{"$f":"T(ESTIMATE!S814)","v":""},{"$f":"IF($Q$28=\"Allocate Adders\",ESTIMATE!BC814,ESTIMATE!AW814)","v":0},{"$f":"IF($Q$28=\"Allocate Adders\",ESTIMATE!BF814,ESTIMATE!AX814)","v":0},{"$f":"IF($Q$28=\"Allocate Adders\",ESTIMATE!BI814,ESTIMATE!AY814)","v":0},0,null,0]
[null,null,{"$f":"T(ESTIMATE!B815)","v":""},null,null,null,null,{"$f":"ESTIMATE!P815","v":0},{"$f":"T(ESTIMATE!S815)","v":""},{"$f":"IF($Q$28=\"Allocate Adders\",ESTIMATE!BC815,ESTIMATE!AW815)","v":0},{"$f":"IF($Q$28=\"Allocate Adders\",ESTIMATE!BF815,ESTIMATE!AX815)","v":0},{"$f":"IF($Q$28=\"Allocate Adders\",ESTIMATE!BI815,ESTIMATE!AY815)","v":0},0,null,0]
[null,null,{"$f":"T(ESTIMATE!B816)","v":""},null,null,null,null,{"$f":"ESTIMATE!P816","v":0},{"$f":"T(ESTIMATE!S816)","v":""},{"$f":"IF($Q$28=\"Allocate Adders\",ESTIMATE!BC816,ESTIMATE!AW816)","v":0},{"$f":"IF($Q$28=\"Allocate Adders\",ESTIMATE!BF816,ESTIMATE!AX816)","v":0},{"$f":"IF($Q$28=\"Allocate Adders\",ESTIMATE!BI816,ESTIMATE!AY816)","v":0},0,null,0]
[null,null,{"$f":"T(ESTIMATE!B817)","v":""},null,null,null,null,{"$f":"ESTIMATE!P817","v":0},{"$f":"T(ESTIMATE!S817)","v":""},{"$f":"IF($Q$28=\"Allocate Adders\",ESTIMATE!BC817,ESTIMATE!AW817)","v":0},{"$f":"IF($Q$28=\"Allocate Adders\",ESTIMATE!BF817,ESTIMATE!AX817)","v":0},{"$f":"IF($Q$28=\"Allocate Adders\",ESTIMATE!BI817,ESTIMATE!AY817)","v":0},0,null,0]
[null,null,{"$f":"T(ESTIMATE!B818)","v":""},null,null,null,null,{"$f":"ESTIMATE!P818","v":0},{"$f":"T(ESTIMATE!S818)","v":""},{"$f":"IF($Q$28=\"Allocate Adders\",ESTIMATE!BC818,ESTIMATE!AW818)","v":0},{"$f":"IF($Q$28=\"Allocate Adders\",ESTIMATE!BF818,ESTIMATE!AX818)","v":0},{"$f":"IF($Q$28=\"Allocate Adders\",ESTIMATE!BI818,ESTIMATE!AY818)","v":0},0,null,0]
[null,null,{"$f":"T(ESTIMATE!B819)","v":""},null,null,null,null,{"$f":"ESTIMATE!P819","v":0},{"$f":"T(ESTIMATE!S819)","v":""},{"$f":"IF($Q$28=\"Allocate Adders\",ESTIMATE!BC819,ESTIMATE!AW819)","v":0},{"$f":"IF($Q$28=\"Allocate Adders\",ESTIMATE!BF819,ESTIMATE!AX819)","v":0},{"$f":"IF($Q$28=\"Allocate Adders\",ESTIMATE!BI819,ESTIMATE!AY819)","v":0},0,null,0]
[null,null,{"$f":"T(ESTIMATE!B820)","v":""},null,null,null,null,{"$f":"ESTIMATE!P820","v":0},{"$f":"T(ESTIMATE!S820)","v":""},{"$f":"IF($Q$28=\"Allocate Adders\",ESTIMATE!BC820,ESTIMATE!AW820)","v":0},{"$f":"IF($Q$28=\"Allocate Adders\",ESTIMATE!BF820,ESTIMATE!AX820)","v":0},{"$f":"IF($Q$28=\"Allocate Adders\",ESTIMATE!BI820,ESTIMATE!AY820)","v":0},0,null,0]
[null,null,{"$f":"T(ESTIMATE!B821)","v":""},null,null,null,null,{"$f":"ESTIMATE!P821","v":0},{"$f":"T(ESTIMATE!S821)","v":""},{"$f":"IF($Q$28=\"Allocate Adders\",ESTIMATE!BC821,ESTIMATE!AW821)","v":0},{"$f":"IF($Q$28=\"Allocate Adders\",ESTIMATE!BF821,ESTIMATE!AX821)","v":0},{"$f":"IF($Q$28=\"Allocate Adders\",ESTIMATE!BI821,ESTIMATE!AY821)","v":0},0,null,0]
[null,null,null,null,null,null,null,null,null,null,null,null,null,null,{"$f":"O853","v":0}]
[null,null,{"$f":"T(ESTIMATE!AC823)","v":"OTHER TOTAL"},null,null,null,null,null,null,{"$f":"SUM(J812:J852)","v":0},{"$f":"SUM(K812:K852)","v":0},{"$f":"SUM(L812:L852)","v":0},{"$f":"SUM(M812:N852)","v":0},null,{"$f":"SUM(O811:O851)","v":0}]
[null,null,null,null,null,null,null,null,null,null,null,null,null,null,{"$f":"O853","v":0}]
[]
[null,null,null,null,null,null,null,null,null,{"$f":"IF(#REF!=0,\"\",#REF!)","v":{"$error":"#REF!"}},null,{"$f":"IF(#REF!=0,\"\",#REF!)","v":{"$error":"#REF!"}},null,null,{"$f":"O857","v":0}]
[null,null,"TOTAL CONSTRUCTION COSTS",null,null,null,null,null,null,{"$f":"J88+J133+J178+J223+J268+J313+J358+J403+J448+J493+J538+J583+J628+J673+J718+J763+J808+J853","v":0},{"$f":"K88+K133+K178+K223+K268+K313+K358+K403+K448+K493+K538+K583+K628+K673+K718+K763+K808+K853","v":0},{"$f":"L88+L133+L178+L223+L268+L313+L358+L403+L448+L493+L538+L583+L628+L673+L718+L763+L808+L853","v":0},{"$f":"M88+M133+M178+M223+M268+M313+M358+M403+M448+M493+M538+M583+M628+M673+M718+M763+M808+M853","v":0},{"$f":"N88+N133+N178+N223+N268+N313+N358+N403+N448+N493+N538+N583+N628+N673+N718+N763+N808+N853","v":0},{"$f":"M857","v":0}]
[]
[]
[null,null,null,null,null,{"$f":"IF(Q29=0,\"TOTAL PROPOSAL\",\"TOTAL CONSTRUCTION COSTS\")","v":"TOTAL PROPOSAL"},null,null,null,{"$f":"M857","v":0},null,{"$f":"IFERROR(J860/PROJECT_SIZE,0)","v":0}]
[null,null,null,null,null,"SOFT COSTS",null,null,null,{"$f":"IF(Q28=\"Raw Costs\",ADDERS!AW58,ADDERS!BY58)","v":0},null,{"$f":"IFERROR(J861/PROJECT_SIZE,0)","v":0}]
[null,null,null,null,null,"TOTAL PROPOSAL",null,null,null,{"$f":"J860+J861","v":0},null,{"$f":"L860+L861","v":0}]
[null,null,"All work to be completed in a workmanlike manner according to standard practices & local building codes.  Any alteration or deviation from the above specifications involving extra costs, will be executed only upon written and will be an extra charge over and above the estimate.  This proposal is subject to acceptance within ______ days and is void thereafter at the option of the undersigned."]
[]
[]
[]
[]
[null,null,"Acceptance of Proposal"]
[]
[]
[null,null,"The above prices, specifications and conditions are satisfactory and are hereby accepted.  You are authorized to do the work specified."]
[]
[]
[]
[null,null,"SIGNATURE",null,null,null,null,null,null,"DATE"]
[]
[]
[null,null,{"$f":"T(Company_Name)","v":"Test Company"},null,null,{"$f":"(Company_Phone)","v":0},null,null,{"$f":"T(Company_Email)","v":"Test@test.com"},null,null,{"$f":"T(Company_Website)","v":""}]
[null,null,"© 2017 by RemodelCostSpreadsheet.com. All rights reserved"]

{"sheet":"SCOPE PROPOSAL ","index":11,"n_rows":799,"n_cols":34,"rows_kept":799,"cut":false,"hidden":true,"merged":[[798,2,799,29],[2,6,2,10],[777,2,777,23],[776,2,776,23],[777,24,777,29],[776,24,776,29],[778,24,778,29],[778,2,778,23],[774,2,774,12],[774,13,774,14],[774,15,774,16],[774,17,774,29],[792,2,794,5],[792,19,794,22],[792,23,794,29],[22,2,32,29],[771,2,771,12],[771,13,771,14],[771,15,771,16],[771,17,771,29],[772,2,772,12],[772,13,772,14],[772,15,772,16],[772,17,772,29],[773,2,773,12],[773,13,773,14],[773,15,773,16],[773,17,773,29],[768,2,768,12],[768,13,768,14],[768,15,768,16],[768,17,768,29],[769,2,769,12],[769,13,769,14],[769,15,769,16],[769,17,769,29],[770,2,770,12],[770,13,770,14],[770,15,770,16],[770,17,770,29],[765,2,765,12],[765,13,765,14],[765,15,765,16],[765,17,765,29],[766,2,766,12],[766,13,766,14],[766,15,766,16],[766,17,766,29],[767,2,767,12],[767,13,767,14],[767,15,767,16],[767,17,767,29],[762,2,762,12],[762,13,762,14],[762,15,762,16],[762,17,762,29],[763,2,763,12],[763,13,763,14],[763,15,763,16],[763,17,763,29],[764,2,764,12],[764,13,764,14],[764,15,764,16],[764,17,764,29],[759,2,759,12],[759,13,759,14],[759,15,759,16],[759,17,759,29],[760,2,760,12],[760,13,760,14],[760,15,760,16],[760,17,760,29],[761,2,761,12],[761,13,761,14],[761,15,761,16],[761,17,761,29],[756,2,756,12],[756,13,756,14],[756,15,756,16],[756,17,756,29],[757,2,757,12],[757,13,757,14],[757,15,757,16],[757,17,757,29],[758,2,758,12],[758,13,758,14],[758,15,758,16],[758,17,758,29],[753,2,753,12],[753,13,753,14],[753,15,753,16],[753,17,753,29],[754,2,754,12],[754,13,754,14],[754,15,754,16],[754,17,754,29],[755,2,755,12],[755,13,755,14],[755,15,755,16],[755,17,755,29],[750,2,750,12],[750,13,750,14],[750,15,750,16],[750,17,750,29],[751,2,751,12],[751,13,751,14],[751,15,751,16],[751,17,751,29],[752,2,752,12],[752,13,752,14],[752,15,752,16],[752,17,752,29],[747,2,747,12],[747,13,747,14],[747,15,747,16],[747,17,747,29],[748,2,748,12],[748,13,748,14],[748,15,748,16],[748,17,748,29],[749,2,749,12],[749,13,749,14],[749,15,749,16],[749,17,749,29],[744,2,744,12],[744,13,744,14],[744,15,744,16],[744,17,744,29],[745,2,745,12],[745,13,745,14],[745,15,745,16],[745,17,745,29],[746,2,746,12],[746,13,746,14],[746,15,746,16],[746,17,746,29],[741,2,741,12],[741,13,741,14],[741,15,741,16],[741,17,741,29],[742,2,742,12],[742,13,742,14],[742,15,742,16],[742,17,742,29],[743,2,743,12],[743,13,743,14],[743,15,743,16],[743,17,743,29],[738,2,738,12],[738,13,738,14],[738,15,738,16],[738,17,738,29],[739,2,739,12],[739,13,739,14],[739,15,739,16],[739,17,739,29],[740,2,740,12],[740,13,740,14],[740,15,740,16],[740,17,740,29],[735,2,735,12],[735,13,735,14],[735,15,735,16],[735,17,735,29],[736,2,736,12],[736,13,736,14],[736,15,736,16],[736,17,736,29],[737,2,737,12],[737,13,737,14],[737,15,737,16],[737,17,737,29],[732,2,732,12],[732,13,732,14],[732,15,732,16],[732,17,732,29],[733,2,733,12],[733,13,733,14],[733,15,733,16],[733,17,733,29],[734,2,734,12],[734,13,734,14],[734,15,734,16],[734,17,734,29],[729,2,729,12],[729,13,729,14],[729,15,729,16],[729,17,729,29],[730,2,730,12],[730,13,730,14],[730,15,730,16],[730,17,730,29],[731,2,731,12],[731,13,731,14],[731,15,731,16],[731,17,731,29],[726,2,726,12],[726,13,726,14],[726,15,726,16],[726,17,726,29],[727,2,727,12],[727,13,727,14],[727,15,727,16],[727,17,727,29],[728,2,728,12],[728,13,728,14],[728,15,728,16],[728,17,728,29],[723,2,723,12],[723,13,723,14],[723,15,723,16],[723,17,723,29],[724,2,724,12],[724,13,724,14],[724,15,724,16],[724,17,724,29],[725,2,725,12],[725,13,725,14],[725,15,725,16],[725,17,725,29],[720,2,720,12],[720,13,720,14],[720,15,720,16],[720,17,720,29],[721,2,721,12],[721,13,721,14],[721,15,721,16],[721,17,721,29],[722,2,722,12],[722,13,722,14],[722,15,722,16],[722,17,722,29],[717,2,717,12],[717,13,717,14],[717,15,717,16],[717,17,717,29],[718,2,718,12],[718,13,718,14],[718,15,718,16],[718,17,718,29],[719,2,719,12],[719,13,719,14],[719,15,719,16],[719,17,719,29],[714,2,714,12],[714,13,714,14],[714,15,714,16],[714,17,714,29],[715,2,715,12],[715,13,715,14],[715,15,715,16],[715,17,715,29],[716,2,716,12],[716,13,716,14],[716,15,716,16],[716,17,716,29],[711,2,711,12],[711,13,711,14],[711,15,711,16],[711,17,711,29],[712,2,712,12],[712,13,712,14],[712,15,712,16],[712,17,712,29],[713,2,713,12],[713,13,713,14],[713,15,713,16],[713,17,713,29],[708,2,708,12],[708,13,708,14],[708,15,708,16],[708,17,708,29],[709,2,709,12],[709,13,709,14],[709,15,709,16],[709,17,709,29],[710,2,710,12],[710,13,710,14],[710,15,710,16],[710,17,710,29],[705,2,705,12],[705,13,705,14],[705,15,705,16],[705,17,705,29],[706,2,706,12],[706,13,706,14],[706,15,706,16],[706,17,706,29],[707,2,707,12],[707,13,707,14],[707,15,707,16],[707,17,707,29],[702,2,702,12],[702,13,702,14],[702,15,702,16],[702,17,702,29],[703,2,703,12],[703,13,703,14],[703,15,703,16],[703,17,703,29],[704,2,704,12],[704,13,704,14],[704,15,704,16],[704,17,704,29],[699,2,699,12],[699,13,699,14],[699,15,699,16],[699,17,699,29],[700,2,700,12],[700,13,700,14],[700,15,700,16],[700,17,700,29],[701,2,701,12],[701,13,701,14],[701,15,701,16],[701,17,701,29],[696,2,696,12],[696,13,696,14],[696,15,696,16],[696,17,696,29],[697,2,697,12],[697,13,697,14],[697,15,697,16],[697,17,697,29],[698,2,698,12],[698,13,698,14],[698,15,698,16],[698,17,698,29],[693,2,693,12],[693,13,693,14],[693,15,693,16],[693,17,693,29],[694,2,694,12],[694,13,694,14],[694,15,694,16],[694,17,694,29],[695,2,695,12],[695,13,695,14],[695,15,695,16],[695,17,695,29],[690,2,690,12],[690,13,690,14],[690,15,690,16],[690,17,690,29],[691,2,691,12],[691,13,691,14],[691,15,691,16],[691,17,691,29],[692,2,692,12],[692,13,692,14],[692,15,692,16],[692,17,692,29],[687,2,687,12],[687,13,687,14],[687,15,687,16],[687,17,687,29],[688,2,688,12],[688,13,688,14],[688,15,688,16],[688,17,688,29],[689,2,689,12],[689,13,689,14],[689,15,689,16],[689,17,689,29],[684,2,684,12],[684,13,684,14],[684,15,684,16],[684,17,684,29],[685,2,685,12],[685,13,685,14],[685,15,685,16],[685,17,685,29],[686,2,686,12],[686,13,686,14],[686,15,686,16],[686,17,686,29],[681,2,681,12],[681,13,681,14],[681,15,681,16],[681,17,681,29],[682,2,682,12],[682,13,682,14],[682,15,682,16],[682,17,682,29],[683,2,683,12],[683,13,683,14],[683,15,683,16],[683,17,683,29],[678,2,678,12],[678,13,678,14],[678,15,678,16],[678,17,678,29],[679,2,679,12],[679,13,679,14],[679,15,679,16],[679,17,679,29],[680,2,680,12],[680,13,680,14],[680,15,680,16],[680,17,680,29],[675,2,675,12],[675,13,675,14],[675,15,675,16],[675,17,675,29],[676,2,676,12],[676,13,676,14],[676,15,676,16],[676,17,676,29],[677,2,677,12],[677,13,677,14],[677,15,677,16],[677,17,677,29],[672,2,672,12],[672,13,672,14],[672,15,672,16],[672,17,672,29],[673,2,673,12],[673,13,673,14],[673,15,673,16],[673,17,673,29],[674,2,674,12],[674,13,674,14],[674,15,674,16],[674,17,674,29],[669,2,669,12],[669,13,669,14],[669,15,669,16],[669,17,669,29],[670,2,670,12],[670,13,670,14],[670,15,670,16],[670,17,670,29],[671,2,671,12],[671,13,671,14],[671,15,671,16],[671,17,671,29],[666,2,666,12],[666,13,666,14],[666,15,666,16],[666,17,666,29],[667,2,667,12],[667,13,667,14],[667,15,667,16],[667,17,667,29],[668,2,668,12],[668,13,668,14],[668,15,668,16],[668,17,668,29],[663,2,663,12],[663,13,663,14],[663,15,663,16],[663,17,663,29],[664,2,664,12],[664,13,664,14],[664,15,664,16],[664,17,664,29],[665,2,665,12],[665,13,665,14],[665,15,665,16],[665,17,665,29],[660,2,660,12],[660,13,660,14],[660,15,660,16],[660,17,660,29],[661,2,661,12],[661,13,661,14],[661,15,661,16],[661,17,661,29],[662,2,662,12],[662,13,662,14],[662,15,662,16],[662,17,662,29],[657,2,657,12],[657,13,657,14],[657,15,657,16],[657,17,657,29],[658,2,658,12],[658,13,658,14],[658,15,658,16],[658,17,658,29],[659,2,659,12],[659,13,659,14],[659,15,659,16],[659,17,659,29],[654,2,654,12],[654,13,654,14],[654,15,654,16],[654,17,654,29],[655,2,655,12],[655,13,655,14],[655,15,655,16],[655,17,655,29],[656,2,656,12],[656,13,656,14],[656,15,656,16],[656,17,656,29],[651,2,651,12],[651,13,651,14],[651,15,651,16],[651,17,651,29],[652,2,652,12],[652,13,652,14],[652,15,652,16],[652,17,652,29],[653,2,653,12],[653,13,653,14],[653,15,653,16],[653,17,653,29],[648,2,648,12],[648,13,648,14],[648,15,648,16],[648,17,648,29],[649,2,649,12],[649,13,649,14],[649,15,649,16],[649,17,649,29],[650,2,650,12],[650,13,650,14],[650,15,650,16],[650,17,650,29],[645,2,645,12],[645,13,645,14],[645,15,645,16],[645,17,645,29],[646,2,646,12],[646,13,646,14],[646,15,646,16],[646,17,646,29],[647,2,647,12],[647,13,647,14],[647,15,647,16],[647,17,647,29],[642,2,642,12],[642,13,642,14],[642,15,642,16],[642,17,642,29],[643,2,643,12],[643,13,643,14],[643,15,643,16],[643,17,643,29],[644,2,644,12],[644,13,644,14],[644,15,644,16],[644,17,644,29],[639,2,639,12],[639,13,639,14],[639,15,639,16],[639,17,639,29],[640,2,640,12],[640,13,640,14],[640,15,640,16],[640,17,640,29],[641,2,641,12],[641,13,641,14],[641,15,641,16],[641,17,641,29],[636,2,636,12],[636,13,636,14],[636,15,636,16],[636,17,636,29],[637,2,637,12],[637,13,637,14],[637,15,637,16],[637,17,637,29],[638,2,638,12],[638,13,638,14],[638,15,638,16],[638,17,638,29],[633,2,633,12],[633,13,633,14],[633,15,633,16],[633,17,633,29],[634,2,634,12],[634,13,634,14],[634,15,634,16],[634,17,634,29],[635,2,635,12],[635,13,635,14],[635,15,635,16],[635,17,635,29],[630,2,630,12],[630,13,630,14],[630,15,630,16],[630,17,630,29],[631,2,631,12],[631,13,631,14],[631,15,631,16],[631,17,631,29],[632,2,632,12],[632,13,632,14],[632,15,632,16],[632,17,632,29],[627,2,627,12],[627,13,627,14],[627,15,627,16],[627,17,627,29],[628,2,628,12],[628,13,628,14],[628,15,628,16],[628,17,628,29],[629,2,629,12],[629,13,629,14],[629,15,629,16],[629,17,629,29],[624,2,624,12],[624,13,624,14],[624,15,624,16],[624,17,624,29],[625,2,625,12],[625,13,625,14],[625,15,625,16],[625,17,625,29],[626,2,626,12],[626,13,626,14],[626,15,626,16],[626,17,626,29],[621,2,621,12],[621,13,621,14],[621,15,621,16],[621,17,621,29],[622,2,622,12],[622,13,622,14],[622,15,622,16],[622,17,622,29],[623,2,623,12],[623,13,623,14],[623,15,623,16],[623,17,623,29],[618,2,618,12],[618,13,618,14],[618,15,618,16],[618,17,618,29],[619,2,619,12],[619,13,619,14],[619,15,619,16],[619,17,619,29],[620,2,620,12],[620,13,620,14],[620,15,620,16],[620,17,620,29],[615,2,615,12],[615,13,615,14],[615,15,615,16],[615,17,615,29],[616,2,616,12],[616,13,616,14],[616,15,616,16],[616,17,616,29],[617,2,617,12],[617,13,617,14],[617,15,617,16],[617,17,617,29],[612,2,612,12],[612,13,612,14],[612,15,612,16],[612,17,612,29],[613,2,613,12],[613,13,613,14],[613,15,613,16],[613,17,613,29],[614,2,614,12],[614,13,614,14],[614,15,614,16],[614,17,614,29],[609,2,609,12],[609,13,609,14],[609,15,609,16],[609,17,609,29],[610,2,610,12],[610,13,610,14],[610,15,610,16],[610,17,610,29],[611,2,611,12],[611,13,611,14],[611,15,611,16],[611,17,611,29],[606,2,606,12],[606,13,606,14],[606,15,606,16],[606,17,606,29],[607,2,607,12],[607,13,607,14],[607,15,607,16],[607,17,607,29],[608,2,608,12],[608,13,608,14],[608,15,608,16],[608,17,608,29],[603,2,603,12],[603,13,603,14],[603,15,603,16],[603,17,603,29],[604,2,604,12],[604,13,604,14],[604,15,604,16],[604,17,604,29],[605,2,605,12],[605,13,605,14],[605,15,605,16],[605,17,605,29],[600,2,600,12],[600,13,600,14],[600,15,600,16],[600,17,600,29],[601,2,601,12],[601,13,601,14],[601,15,601,16],[601,17,601,29],[602,2,602,12],[602,13,602,14],[602,15,602,16],[602,17,602,29],[597,2,597,12],[597,13,597,14],[597,15,597,16],[597,17,597,29],[598,2,598,12],[598,13,598,14],[598,15,598,16],[598,17,598,29],[599,2,599,12],[599,13,599,14],[599,15,599,16],[599,17,599,29],[594,2,594,12],[594,13,594,14],[594,15,594,16],[594,17,594,29],[595,2,595,12],[595,13,595,14],[595,15,595,16],[595,17,595,29],[596,2,596,12],[596,13,596,14],[596,15,596,16],[596,17,596,29],[591,2,591,12],[591,13,591,14],[591,15,591,16],[591,17,591,29],[592,2,592,12],[592,13,592,14],[592,15,592,16],[592,17,592,29],[593,2,593,12],[593,13,593,14],[593,15,593,16],[593,17,593,29],[588,2,588,12],[588,13,588,14],[588,15,588,16],[588,17,588,29],[589,2,589,12],[589,13,589,14],[589,15,589,16],[589,17,589,29],[590,2,590,12],[590,13,590,14],[590,15,590,16],[590,17,590,29],[585,2,585,12],[585,13,585,14],[585,15,585,16],[585,17,585,29],[586,2,586,12],[586,13,586,14],[586,15,586,16],[586,17,586,29],[587,2,587,12],[587,13,587,14],[587,15,587,16],[587,17,587,29],[582,2,582,12],[582,13,582,14],[582,15,582,16],[582,17,582,29],[583,2,583,12],[583,13,583,14],[583,15,583,16],[583,17,583,29],[584,2,584,12],[584,13,584,14],[584,15,584,16],[584,17,584,29],[579,2,579,12],[579,13,579,14],[579,15,579,16],[579,17,579,29],[580,2,580,12],[580,13,580,14],[580,15,580,16],[580,17,580,29],[581,2,581,12],[581,13,581,14],[581,15,581,16],[581,17,581,29],[576,2,576,12],[576,13,576,14],[576,15,576,16],[576,17,576,29],[577,2,577,12],[577,13,577,14],[577,15,577,16],[577,17,577,29],[578,2,578,12],[578,13,578,14],[578,15,578,16],[578,17,578,29],[573,2,573,12],[573,13,573,14],[573,15,573,16],[573,17,573,29],[574,2,574,12],[574,13,574,14],[574,15,574,16],[574,17,574,29],[575,2,575,12],[575,13,575,14],[575,15,575,16],[575,17,575,29],[570,2,570,12],[570,13,570,14],[570,15,570,16],[570,17,570,29],[571,2,571,12],[571,13,571,14],[571,15,571,16],[571,17,571,29],[572,2,572,12],[572,13,572,14],[572,15,572,16],[572,17,572,29],[567,2,567,12],[567,13,567,14],[567,15,567,16],[567,17,567,29],[568,2,568,12],[568,13,568,14],[568,15,568,16],[568,17,568,29],[569,2,569,12],[569,13,569,14],[569,15,569,16],[569,17,569,29],[564,2,564,12],[564,13,564,14],[564,15,564,16],[564,17,564,29],[565,2,565,12],[565,13,565,14],[565,15,565,16],[565,17,565,29],[566,2,566,12],[566,13,566,14],[566,15,566,16],[566,17,566,29],[561,2,561,12],[561,13,561,14],[561,15,561,16],[561,17,561,29],[562,2,562,12],[562,13,562,14],[562,15,562,16],[562,17,562,29],[563,2,563,12],[563,13,563,14],[563,15,563,16],[563,17,563,29],[558,2,558,12],[558,13,558,14],[558,15,558,16],[558,17,558,29],[559,2,559,12],[559,13,559,14],[559,15,559,16],[559,17,559,29],[560,2,560,12],[560,13,560,14],[560,15,560,16],[560,17,560,29],[555,2,555,12],[555,13,555,14],[555,15,555,16],[555,17,555,29],[556,2,556,12],[556,13,556,14],[556,15,556,16],[556,17,556,29],[557,2,557,12],[557,13,557,14],[557,15,557,16],[557,17,557,29],[552,2,552,12],[552,13,552,14],[552,15,552,16],[552,17,552,29],[553,2,553,12],[553,13,553,14],[553,15,553,16],[553,17,553,29],[554,2,554,12],[554,13,554,14],[554,15,554,16],[554,17,554,29],[549,2,549,12],[549,13,549,14],[549,15,549,16],[549,17,549,29],[550,2,550,12],[550,13,550,14],[550,15,550,16],[550,17,550,29],[551,2,551,12],[551,13,551,14],[551,15,551,16],[551,17,551,29],[546,2,546,12],[546,13,546,14],[546,15,546,16],[546,17,546,29],[547,2,547,12],[547,13,547,14],[547,15,547,16],[547,17,547,29],[548,2,548,12],[548,13,548,14],[548,15,548,16],[548,17,548,29],[543,2,543,12],[543,13,543,14],[543,15,543,16],[543,17,543,29],[544,2,544,12],[544,13,544,14],[544,15,544,16],[544,17,544,29],[545,2,545,12],[545,13,545,14],[545,15,545,16],[545,17,545,29],[540,2,540,12],[540,13,540,14],[540,15,540,16],[540,17,540,29],[541,2,541,12],[541,13,541,14],[541,15,541,16],[541,17,541,29],[542,2,542,12],[542,13,542,14],[542,15,542,16],[542,17,542,29],[537,2,537,12],[537,13,537,14],[537,15,537,16],[537,17,537,29],[538,2,538,12],[538,13,538,14],[538,15,538,16],[538,17,538,29],[539,2,539,12],[539,13,539,14],[539,15,539,16],[539,17,539,29],[534,2,534,12],[534,13,534,14],[534,15,534,16],[534,17,534,29],[535,2,535,12],[535,13,535,14],[535,15,535,16],[535,17,535,29],[536,2,536,12],[536,13,536,14],[536,15,536,16],[536,17,536,29],[531,2,531,12],[531,13,531,14],[531,15,531,16],[531,17,531,29],[532,2,532,12],[532,13,532,14],[532,15,532,16],[532,17,532,29],[533,2,533,12],[533,13,533,14],[533,15,533,16],[533,17,533,29],[528,2,528,12],[528,13,528,14],[528,15,528,16],[528,17,528,29],[529,2,529,12],[529,13,529,14],[529,15,529,16],[529,17,529,29],[530,2,530,12],[530,13,530,14],[530,15,530,16],[530,17,530,29]],"merged_total":3000,"flags":["merged_cut"]}
[]
[]
[null,null,null,null,null,null,"Client Proposal"]
[]
[]
[null,null,{"$f":"IF(G3=\"Client Proposal\",\"PROPOSAL\",\"ESTIMATE\")","v":"PROPOSAL"}]
[]
[null,null,{"$f":"T(Street_Address)","v":"1234 N. Main St"}]
[]
[]
[null,null,{"$f":"T(City_State_Zip)","v":"Kansas City, MO 64116"}]
[]
[]
[null,null,"Client Information:",null,null,null,null,null,null,null,null,null,null,null,null,null,null,{"$f":"T(Company_Name)","v":"Test Company"}]
[]
[null,null,"Contact:",null,{"$f":"T(CLIENT_NAME)","v":"Test Client"},null,null,null,null,null,null,null,null,null,null,null,null,"Contact:",null,{"$f":"T(Company_Contact)","v":"Test Contact"}]
[null,null,"Phone #:",null,{"$f":"Company_Phone","v":0},null,null,null,null,null,null,null,null,null,null,null,null,"Phone #:",null,{"$f":"T(Company_Phone)","v":""}]
[null,null,"Email:",null,{"$f":"T(CLIENT_EMAIL)","v":""},null,null,null,null,null,null,null,null,null,null,null,null,"Email:",null,{"$f":"T(Company_Email)","v":"Test@test.com"}]
[null,null,null,null,null,null,null,null,null,null,null,null,null,null,null,null,null,"Website:",null,{"$f":"T(Company_Website)","v":""}]
[null,null,"We hereby propose to furnish labor, material & equipment - complete in accordance with the below specifications."]
[null,null,null,null,null,null,null,null,null,null,null,null,null,null,null,null,null,null,null,null,null,null,null,null,null,null,null,null,null,null,null,"Raw Costs"]
[null,null,null,null,null,null,null,null,null,null,null,null,null,null,null,null,null,null,null,null,null,null,null,null,null,null,null,null,null,null,null,{"$f":"Y777-Y779","v":0}]
[null,null,"Input a brief executive summary of the project.",null,null,null,null,null,null,null,null,null,null,null,null,null,null,null,null,null,null,null,null,null,null,null,null,null,null,null,null,"Client Proposal",null,"Client Proposal"]
[]
[]
[]
[]
[]
[]
[]
[]
[]
[]
[]
[null,null,"DESCRIPTION OF WORK",null,null,null,null,null,null,null,null,null,null,"QTY",null,"UNIT",null,"NOTES"]
[]
[]
[null,null,{"$f":"T(ESTIMATE!B16)","v":"GENERAL REQUIREMENTS"},{"$f":"T(#REF!)","v":{"$error":"#REF!"}},{"$f":"T(#REF!)","v":{"$error":"#REF!"}},{"$f":"T(#REF!)","v":{"$error":"#REF!"}},{"$f":"T(#REF!)","v":{"$error":"#REF!"}},null,null,{"$f":"T(#REF!)","v":{"$error":"#REF!"}},{"$f":"T(#REF!)","v":{"$error":"#REF!"}},{"$f":"T(#REF!)","v":{"$error":"#REF!"}},{"$f":"T(#REF!)","v":{"$error":"#REF!"}},{"$f":"SUM(N39:O78)","v":0}]
[null,null,{"$f":"T(ESTIMATE!B17)","v":"Dumpster rental-40 yard"},{"$f":"T(#REF!)","v":{"$error":"#REF!"}},{"$f":"T(#REF!)","v":{"$error":"#REF!"}},{"$f":"T(#REF!)","v":{"$error":"#REF!"}},{"$f":"T(#REF!)","v":{"$error":"#REF!"}},null,null,{"$f":"T(#REF!)","v":{"$error":"#REF!"}},{"$f":"T(#REF!)","v":{"$error":"#REF!"}},{"$f":"T(#REF!)","v":{"$error":"#REF!"}},{"$f":"T(#REF!)","v":{"$error":"#REF!"}},{"$f":"ESTIMATE!P17","v":0},null,{"$f":"T(ESTIMATE!S17)","v":"ea"}]
[null,null,{"$f":"T(ESTIMATE!B18)","v":"Construction Permits < $10k"},{"$f":"T(#REF!)","v":{"$error":"#REF!"}},{"$f":"T(#REF!)","v":{"$error":"#REF!"}},{"$f":"T(#REF!)","v":{"$error":"#REF!"}},{"$f":"T(#REF!)","v":{"$error":"#REF!"}},null,null,{"$f":"T(#REF!)","v":{"$error":"#REF!"}},{"$f":"T(#REF!)","v":{"$error":"#REF!"}},{"$f":"T(#REF!)","v":{"$error":"#REF!"}},{"$f":"T(#REF!)","v":{"$error":"#REF!"}},{"$f":"ESTIMATE!P18","v":0},null,{"$f":"T(ESTIMATE!S18)","v":"job"}]
[null,null,{"$f":"T(ESTIMATE!B19)","v":"Construction Permits, 10k to $25k"},{"$f":"T(#REF!)","v":{"$error":"#REF!"}},{"$f":"T(#REF!)","v":{"$error":"#REF!"}},{"$f":"T(#REF!)","v":{"$error":"#REF!"}},{"$f":"T(#REF!)","v":{"$error":"#REF!"}},null,null,{"$f":"T(#REF!)","v":{"$error":"#REF!"}},{"$f":"T(#REF!)","v":{"$error":"#REF!"}},{"$f":"T(#REF!)","v":{"$error":"#REF!"}},{"$f":"T(#REF!)","v":{"$error":"#REF!"}},{"$f":"ESTIMATE!P19","v":0},null,{"$f":"T(ESTIMATE!S19)","v":"job"}]
[null,null,{"$f":"T(ESTIMATE!B20)","v":"Construction Permits, 25k to 50k"},{"$f":"T(#REF!)","v":{"$error":"#REF!"}},{"$f":"T(#REF!)","v":{"$error":"#REF!"}},{"$f":"T(#REF!)","v":{"$error":"#REF!"}},{"$f":"T(#REF!)","v":{"$error":"#REF!"}},null,null,{"$f":"T(#REF!)","v":{"$error":"#REF!"}},{"$f":"T(#REF!)","v":{"$error":"#REF!"}},{"$f":"T(#REF!)","v":{"$error":"#REF!"}},{"$f":"T(#REF!)","v":{"$error":"#REF!"}},{"$f":"ESTIMATE!P20","v":0},null,{"$f":"T(ESTIMATE!S20)","v":"job"}]
[null,null,{"$f":"T(ESTIMATE!B21)","v":"Storage Container"},{"$f":"T(#REF!)","v":{"$error":"#REF!"}},{"$f":"T(#REF!)","v":{"$error":"#REF!"}},{"$f":"T(#REF!)","v":{"$error":"#REF!"}},{"$f":"T(#REF!)","v":{"$error":"#REF!"}},null,null,{"$f":"T(#REF!)","v":{"$error":"#REF!"}},{"$f":"T(#REF!)","v":{"$error":"#REF!"}},{"$f":"T(#REF!)","v":{"$error":"#REF!"}},{"$f":"T(#REF!)","v":{"$error":"#REF!"}},{"$f":"ESTIMATE!P21","v":0},null,{"$f":"T(ESTIMATE!S21)","v":"job"}]
[null,null,{"$f":"T(ESTIMATE!B22)","v":"Chemical Toilet"},{"$f":"T(#REF!)","v":{"$error":"#REF!"}},{"$f":"T(#REF!)","v":{"$error":"#REF!"}},{"$f":"T(#REF!)","v":{"$error":"#REF!"}},{"$f":"T(#REF!)","v":{"$error":"#REF!"}},null,null,{"$f":"T(#REF!)","v":{"$error":"#REF!"}},{"$f":"T(#REF!)","v":{"$error":"#REF!"}},{"$f":"T(#REF!)","v":{"$error":"#REF!"}},{"$f":"T(#REF!)","v":{"$error":"#REF!"}},{"$f":"ESTIMATE!P22","v":0},null,{"$f":"T(ESTIMATE!S22)","v":"mo"}]
[null,null,{"$f":"T(ESTIMATE!B23)","v":"Misc. Tools & Materials"},{"$f":"T(#REF!)","v":{"$error":"#REF!"}},{"$f":"T(#REF!)","v":{"$error":"#REF!"}},{"$f":"T(#REF!)","v":{"$error":"#REF!"}},{"$f":"T(#REF!)","v":{"$error":"#REF!"}},null,null,{"$f":"T(#REF!)","v":{"$error":"#REF!"}},{"$f":"T(#REF!)","v":{"$error":"#REF!"}},{"$f":"T(#REF!)","v":{"$error":"#REF!"}},{"$f":"T(#REF!)","v":{"$error":"#REF!"}},{"$f":"ESTIMATE!P23","v":0},null,{"$f":"T(ESTIMATE!S23)","v":"ls"}]
[null,null,{"$f":"T(ESTIMATE!B24)","v":"Rekey/lock box"},{"$f":"T(#REF!)","v":{"$error":"#REF!"}},{"$f":"T(#REF!)","v":{"$error":"#REF!"}},{"$f":"T(#REF!)","v":{"$error":"#REF!"}},{"$f":"T(#REF!)","v":{"$error":"#REF!"}},null,null,{"$f":"T(#REF!)","v":{"$error":"#REF!"}},{"$f":"T(#REF!)","v":{"$error":"#REF!"}},{"$f":"T(#REF!)","v":{"$error":"#REF!"}},{"$f":"T(#REF!)","v":{"$error":"#REF!"}},{"$f":"ESTIMATE!P24","v":0},null,{"$f":"T(ESTIMATE!S24)","v":"ea"}]
[null,null,{"$f":"T(ESTIMATE!B25)","v":"Turn on utilities"},{"$f":"T(#REF!)","v":{"$error":"#REF!"}},{"$f":"T(#REF!)","v":{"$error":"#REF!"}},{"$f":"T(#REF!)","v":{"$error":"#REF!"}},{"$f":"T(#REF!)","v":{"$error":"#REF!"}},null,null,{"$f":"T(#REF!)","v":{"$error":"#REF!"}},{"$f":"T(#REF!)","v":{"$error":"#REF!"}},{"$f":"T(#REF!)","v":{"$error":"#REF!"}},{"$f":"T(#REF!)","v":{"$error":"#REF!"}},{"$f":"ESTIMATE!P25","v":0},null,{"$f":"T(ESTIMATE!S25)","v":"ls"}]
[null,null,{"$f":"T(ESTIMATE!B26)","v":"Truck expense/car payment"},{"$f":"T(#REF!)","v":{"$error":"#REF!"}},{"$f":"T(#REF!)","v":{"$error":"#REF!"}},{"$f":"T(#REF!)","v":{"$error":"#REF!"}},{"$f":"T(#REF!)","v":{"$error":"#REF!"}},null,null,{"$f":"T(#REF!)","v":{"$error":"#REF!"}},{"$f":"T(#REF!)","v":{"$error":"#REF!"}},{"$f":"T(#REF!)","v":{"$error":"#REF!"}},{"$f":"T(#REF!)","v":{"$error":"#REF!"}},{"$f":"ESTIMATE!P26","v":0},null,{"$f":"T(ESTIMATE!S26)","v":"month"}]
[null,null,{"$f":"T(ESTIMATE!B27)","v":"Fuel/gas expense"},{"$f":"T(#REF!)","v":{"$error":"#REF!"}},{"$f":"T(#REF!)","v":{"$error":"#REF!"}},{"$f":"T(#REF!)","v":{"$error":"#REF!"}},{"$f":"T(#REF!)","v":{"$error":"#REF!"}},null,null,{"$f":"T(#REF!)","v":{"$error":"#REF!"}},{"$f":"T(#REF!)","v":{"$error":"#REF!"}},{"$f":"T(#REF!)","v":{"$error":"#REF!"}},{"$f":"T(#REF!)","v":{"$error":"#REF!"}},{"$f":"ESTIMATE!P27","v":0},null,{"$f":"T(ESTIMATE!S27)","v":"wk"}]
[null,null,{"$f":"T(ESTIMATE!B28)","v":"Project management"},{"$f":"T(#REF!)","v":{"$error":"#REF!"}},{"$f":"T(#REF!)","v":{"$error":"#REF!"}},{"$f":"T(#REF!)","v":{"$error":"#REF!"}},{"$f":"T(#REF!)","v":{"$error":"#REF!"}},null,null,{"$f":"T(#REF!)","v":{"$error":"#REF!"}},{"$f":"T(#REF!)","v":{"$error":"#REF!"}},{"$f":"T(#REF!)","v":{"$error":"#REF!"}},{"$f":"T(#REF!)","v":{"$error":"#REF!"}},{"$f":"ESTIMATE!P28","v":0},null,{"$f":"T(ESTIMATE!S28)","v":"wk"}]
[null,null,{"$f":"T(ESTIMATE!B29)","v":"Architectural Fees"},{"$f":"T(#REF!)","v":{"$error":"#REF!"}},{"$f":"T(#REF!)","v":{"$error":"#REF!"}},{"$f":"T(#REF!)","v":{"$error":"#REF!"}},{"$f":"T(#REF!)","v":{"$error":"#REF!"}},null,null,{"$f":"T(#REF!)","v":{"$error":"#REF!"}},{"$f":"T(#REF!)","v":{"$error":"#REF!"}},{"$f":"T(#REF!)","v":{"$error":"#REF!"}},{"$f":"T(#REF!)","v":{"$error":"#REF!"}},{"$f":"ESTIMATE!P29","v":0},null,{"$f":"T(ESTIMATE!S29)","v":"hrs"}]
[null,null,{"$f":"T(ESTIMATE!B30)","v":"Engineering Fees"},{"$f":"T(#REF!)","v":{"$error":"#REF!"}},{"$f":"T(#REF!)","v":{"$error":"#REF!"}},{"$f":"T(#REF!)","v":{"$error":"#REF!"}},{"$f":"T(#REF!)","v":{"$error":"#REF!"}},null,null,{"$f":"T(#REF!)","v":{"$error":"#REF!"}},{"$f":"T(#REF!)","v":{"$error":"#REF!"}},{"$f":"T(#REF!)","v":{"$error":"#REF!"}},{"$f":"T(#REF!)","v":{"$error":"#REF!"}},{"$f":"ESTIMATE!P30","v":0},null,{"$f":"T(ESTIMATE!S30)","v":"hrs"}]
[null,null,{"$f":"T(ESTIMATE!B31)","v":"Professional Photography"},{"$f":"T(#REF!)","v":{"$error":"#REF!"}},{"$f":"T(#REF!)","v":{"$error":"#REF!"}},{"$f":"T(#REF!)","v":{"$error":"#REF!"}},{"$f":"T(#REF!)","v":{"$error":"#REF!"}},null,null,{"$f":"T(#REF!)","v":{"$error":"#REF!"}},{"$f":"T(#REF!)","v":{"$error":"#REF!"}},{"$f":"T(#REF!)","v":{"$error":"#REF!"}},{"$f":"T(#REF!)","v":{"$error":"#REF!"}},{"$f":"ESTIMATE!P31","v":0},null,{"$f":"T(ESTIMATE!S31)","v":"ls"}]
[null,null,{"$f":"T(ESTIMATE!B32)","v":"Material Deliveries"},{"$f":"T(#REF!)","v":{"$error":"#REF!"}},{"$f":"T(#REF!)","v":{"$error":"#REF!"}},{"$f":"T(#REF!)","v":{"$error":"#REF!"}},{"$f":"T(#REF!)","v":{"$error":"#REF!"}},null,null,{"$f":"T(#REF!)","v":{"$error":"#REF!"}},{"$f":"T(#REF!)","v":{"$error":"#REF!"}},{"$f":"T(#REF!)","v":{"$error":"#REF!"}},{"$f":"T(#REF!)","v":{"$error":"#REF!"}},{"$f":"ESTIMATE!P32","v":0},null,{"$f":"T(ESTIMATE!S32)","v":"ea"}]
[null,null,{"$f":"T(ESTIMATE!B33)","v":"Final cleaning"},{"$f":"T(#REF!)","v":{"$error":"#REF!"}},{"$f":"T(#REF!)","v":{"$error":"#REF!"}},{"$f":"T(#REF!)","v":{"$error":"#REF!"}},{"$f":"T(#REF!)","v":{"$error":"#REF!"}},null,null,{"$f":"T(#REF!)","v":{"$error":"#REF!"}},{"$f":"T(#REF!)","v":{"$error":"#REF!"}},{"$f":"T(#REF!)","v":{"$error":"#REF!"}},{"$f":"T(#REF!)","v":{"$error":"#REF!"}},{"$f":"ESTIMATE!P33","v":0},null,{"$f":"T(ESTIMATE!S33)","v":"hrs"}]
[null,null,{"$f":"T(ESTIMATE!B34)","v":""},{"$f":"T(#REF!)","v":{"$error":"#REF!"}},{"$f":"T(#REF!)","v":{"$error":"#REF!"}},{"$f":"T(#REF!)","v":{"$error":"#REF!"}},{"$f":"T(#REF!)","v":{"$error":"#REF!"}},null,null,{"$f":"T(#REF!)","v":{"$error":"#REF!"}},{"$f":"T(#REF!)","v":{"$error":"#REF!"}},{"$f":"T(#REF!)","v":{"$error":"#REF!"}},{"$f":"T(#REF!)","v":{"$error":"#REF!"}},{"$f":"ESTIMATE!P34","v":0},null,{"$f":"T(ESTIMATE!S34)","v":""}]
[null,null,{"$f":"T(ESTIMATE!B35)","v":""},{"$f":"T(#REF!)","v":{"$error":"#REF!"}},{"$f":"T(#REF!)","v":{"$error":"#REF!"}},{"$f":"T(#REF!)","v":{"$error":"#REF!"}},{"$f":"T(#REF!)","v":{"$error":"#REF!"}},null,null,{"$f":"T(#REF!)","v":{"$error":"#REF!"}},{"$f":"T(#REF!)","v":{"$error":"#REF!"}},{"$f":"T(#REF!)","v":{"$error":"#REF!"}},{"$f":"T(#REF!)","v":{"$error":"#REF!"}},{"$f":"ESTIMATE!P35","v":0},null,{"$f":"T(ESTIMATE!S35)","v":""}]
[null,null,{"$f":"T(ESTIMATE!B36)","v":""},{"$f":"T(#REF!)","v":{"$error":"#REF!"}},{"$f":"T(#REF!)","v":{"$error":"#REF!"}},{"$f":"T(#REF!)","v":{"$error":"#REF!"}},{"$f":"T(#REF!)","v":{"$error":"#REF!"}},null,null,{"$f":"T(#REF!)","v":{"$error":"#REF!"}},{"$f":"T(#REF!)","v":{"$error":"#REF!"}},{"$f":"T(#REF!)","v":{"$error":"#REF!"}},{"$f":"T(#REF!)","v":{"$error":"#REF!"}},{"$f":"ESTIMATE!P36","v":0},null,{"$f":"T(ESTIMATE!S36)","v":""}]
[null,null,{"$f":"T(ESTIMATE!B37)","v":""},{"$f":"T(#REF!)","v":{"$error":"#REF!"}},{"$f":"T(#REF!)","v":{"$error":"#REF!"}},{"$f":"T(#REF!)","v":{"$error":"#REF!"}},{"$f":"T(#REF!)","v":{"$error":"#REF!"}},null,null,{"$f":"T(#REF!)","v":{"$error":"#REF!"}},{"$f":"T(#REF!)","v":{"$error":"#REF!"}},{"$f":"T(#REF!)","v":{"$error":"#REF!"}},{"$f":"T(#REF!)","v":{"$error":"#REF!"}},{"$f":"ESTIMATE!P37","v":0},null,{"$f":"T(ESTIMATE!S37)","v":""}]
[null,null,{"$f":"T(ESTIMATE!B38)","v":""},{"$f":"T(#REF!)","v":{"$error":"#REF!"}},{"$f":"T(#REF!)","v":{"$error":"#REF!"}},{"$f":"T(#REF!)","v":{"$error":"#REF!"}},{"$f":"T(#REF!)","v":{"$error":"#REF!"}},null,null,{"$f":"T(#REF!)","v":{"$error":"#REF!"}},{"$f":"T(#REF!)","v":{"$error":"#REF!"}},{"$f":"T(#REF!)","v":{"$error":"#REF!"}},{"$f":"T(#REF!)","v":{"$error":"#REF!"}},{"$f":"ESTIMATE!P38","v":0},null,{"$f":"T(ESTIMATE!S38)","v":""}]
[null,null,{"$f":"T(ESTIMATE!B39)","v":""},{"$f":"T(#REF!)","v":{"$error":"#REF!"}},{"$f":"T(#REF!)","v":{"$error":"#REF!"}},{"$f":"T(#REF!)","v":{"$error":"#REF!"}},{"$f":"T(#REF!)","v":{"$error":"#REF!"}},null,null,{"$f":"T(#REF!)","v":{"$error":"#REF!"}},{"$f":"T(#REF!)","v":{"$error":"#REF!"}},{"$f":"T(#REF!)","v":{"$error":"#REF!"}},{"$f":"T(#REF!)","v":{"$error":"#REF!"}},{"$f":"ESTIMATE!P39","v":0},null,{"$f":"T(ESTIMATE!S39)","v":""}]
[null,null,{"$f":"T(ESTIMATE!B40)","v":""},{"$f":"T(#REF!)","v":{"$error":"#REF!"}},{"$f":"T(#REF!)","v":{"$error":"#REF!"}},{"$f":"T(#REF!)","v":{"$error":"#REF!"}},{"$f":"T(#REF!)","v":{"$error":"#REF!"}},null,null,{"$f":"T(#REF!)","v":{"$error":"#REF!"}},{"$f":"T(#REF!)","v":{"$error":"#REF!"}},{"$f":"T(#REF!)","v":{"$error":"#REF!"}},{"$f":"T(#REF!)","v":{"$error":"#REF!"}},{"$f":"ESTIMATE!P40","v":0},null,{"$f":"T(ESTIMATE!S40)","v":""}]
[null,null,{"$f":"T(ESTIMATE!B41)","v":""},{"$f":"T(#REF!)","v":{"$error":"#REF!"}},{"$f":"T(#REF!)","v":{"$error":"#REF!"}},{"$f":"T(#REF!)","v":{"$error":"#REF!"}},{"$f":"T(#REF!)","v":{"$error":"#REF!"}},null,null,{"$f":"T(#REF!)","v":{"$error":"#REF!"}},{"$f":"T(#REF!)","v":{"$error":"#REF!"}},{"$f":"T(#REF!)","v":{"$error":"#REF!"}},{"$f":"T(#REF!)","v":{"$error":"#REF!"}},{"$f":"ESTIMATE!P41","v":0},null,{"$f":"T(ESTIMATE!S41)","v":""}]
[null,null,{"$f":"T(ESTIMATE!B42)","v":""},{"$f":"T(#REF!)","v":{"$error":"#REF!"}},{"$f":"T(#REF!)","v":{"$error":"#REF!"}},{"$f":"T(#REF!)","v":{"$error":"#REF!"}},{"$f":"T(#REF!)","v":{"$error":"#REF!"}},null,null,{"$f":"T(#REF!)","v":{"$error":"#REF!"}},{"$f":"T(#REF!)","v":{"$error":"#REF!"}},{"$f":"T(#REF!)","v":{"$error":"#REF!"}},{"$f":"T(#REF!)","v":{"$error":"#REF!"}},{"$f":"ESTIMATE!P42","v":0},null,{"$f":"T(ESTIMATE!S42)","v":""}]
[null,null,{"$f":"T(ESTIMATE!B43)","v":""},{"$f":"T(#REF!)","v":{"$error":"#REF!"}},{"$f":"T(#REF!)","v":{"$error":"#REF!"}},{"$f":"T(#REF!)","v":{"$error":"#REF!"}},{"$f":"T(#REF!)","v":{"$error":"#REF!"}},null,null,{"$f":"T(#REF!)","v":{"$error":"#REF!"}},{"$f":"T(#REF!)","v":{"$error":"#REF!"}},{"$f":"T(#REF!)","v":{"$error":"#REF!"}},{"$f":"T(#REF!)","v":{"$error":"#REF!"}},{"$f":"ESTIMATE!P43","v":0},null,{"$f":"T(ESTIMATE!S43)","v":""}]
[null,null,{"$f":"T(ESTIMATE!B44)","v":""},{"$f":"T(#REF!)","v":{"$error":"#REF!"}},{"$f":"T(#REF!)","v":{"$error":"#REF!"}},{"$f":"T(#REF!)","v":{"$error":"#REF!"}},{"$f":"T(#REF!)","v":{"$error":"#REF!"}},null,null,{"$f":"T(#REF!)","v":{"$error":"#REF!"}},{"$f":"T(#REF!)","v":{"$error":"#REF!"}},{"$f":"T(#REF!)","v":{"$error":"#REF!"}},{"$f":"T(#REF!)","v":{"$error":"#REF!"}},{"$f":"ESTIMATE!P44","v":0},null,{"$f":"T(ESTIMATE!S44)","v":""}]
[null,null,{"$f":"T(ESTIMATE!B45)","v":""},{"$f":"T(#REF!)","v":{"$error":"#REF!"}},{"$f":"T(#REF!)","v":{"$error":"#REF!"}},{"$f":"T(#REF!)","v":{"$error":"#REF!"}},{"$f":"T(#REF!)","v":{"$error":"#REF!"}},null,null,{"$f":"T(#REF!)","v":{"$error":"#REF!"}},{"$f":"T(#REF!)","v":{"$error":"#REF!"}},{"$f":"T(#REF!)","v":{"$error":"#REF!"}},{"$f":"T(#REF!)","v":{"$error":"#REF!"}},{"$f":"ESTIMATE!P45","v":0},null,{"$f":"T(ESTIMATE!S45)","v":""}]
[null,null,{"$f":"T(ESTIMATE!B46)","v":""},{"$f":"T(#REF!)","v":{"$error":"#REF!"}},{"$f":"T(#REF!)","v":{"$error":"#REF!"}},{"$f":"T(#REF!)","v":{"$error":"#REF!"}},{"$f":"T(#REF!)","v":{"$error":"#REF!"}},null,null,{"$f":"T(#REF!)","v":{"$error":"#REF!"}},{"$f":"T(#REF!)","v":{"$error":"#REF!"}},{"$f":"T(#REF!)","v":{"$error":"#REF!"}},{"$f":"T(#REF!)","v":{"$error":"#REF!"}},{"$f":"ESTIMATE!P46","v":0},null,{"$f":"T(ESTIMATE!S46)","v":""}]
[null,null,{"$f":"T(ESTIMATE!B47)","v":""},{"$f":"T(#REF!)","v":{"$error":"#REF!"}},{"$f":"T(#REF!)","v":{"$error":"#REF!"}},{"$f":"T(#REF!)","v":{"$error":"#REF!"}},{"$f":"T(#REF!)","v":{"$error":"#REF!"}},null,null,{"$f":"T(#REF!)","v":{"$error":"#REF!"}},{"$f":"T(#REF!)","v":{"$error":"#REF!"}},{"$f":"T(#REF!)","v":{"$error":"#REF!"}},{"$f":"T(#REF!)","v":{"$error":"#REF!"}},{"$f":"ESTIMATE!P47","v":0},null,{"$f":"T(ESTIMATE!S47)","v":""}]
[null,null,{"$f":"T(ESTIMATE!B48)","v":""},{"$f":"T(#REF!)","v":{"$error":"#REF!"}},{"$f":"T(#REF!)","v":{"$error":"#REF!"}},{"$f":"T(#REF!)","v":{"$error":"#REF!"}},{"$f":"T(#REF!)","v":{"$error":"#REF!"}},null,null,{"$f":"T(#REF!)","v":{"$error":"#REF!"}},{"$f":"T(#REF!)","v":{"$error":"#REF!"}},{"$f":"T(#REF!)","v":{"$error":"#REF!"}},{"$f":"T(#REF!)","v":{"$error":"#REF!"}},{"$f":"ESTIMATE!P48","v":0},null,{"$f":"T(ESTIMATE!S48)","v":""}]
[null,null,{"$f":"T(ESTIMATE!B49)","v":""},{"$f":"T(#REF!)","v":{"$error":"#REF!"}},{"$f":"T(#REF!)","v":{"$error":"#REF!"}},{"$f":"T(#REF!)","v":{"$error":"#REF!"}},{"$f":"T(#REF!)","v":{"$error":"#REF!"}},null,null,{"$f":"T(#REF!)","v":{"$error":"#REF!"}},{"$f":"T(#REF!)","v":{"$error":"#REF!"}},{"$f":"T(#REF!)","v":{"$error":"#REF!"}},{"$f":"T(#REF!)","v":{"$error":"#REF!"}},{"$f":"ESTIMATE!P49","v":0},null,{"$f":"T(ESTIMATE!S49)","v":""}]
[null,null,{"$f":"T(ESTIMATE!B50)","v":""},{"$f":"T(#REF!)","v":{"$error":"#REF!"}},{"$f":"T(#REF!)","v":{"$error":"#REF!"}},{"$f":"T(#REF!)","v":{"$error":"#REF!"}},{"$f":"T(#REF!)","v":{"$error":"#REF!"}},null,null,{"$f":"T(#REF!)","v":{"$error":"#REF!"}},{"$f":"T(#REF!)","v":{"$error":"#REF!"}},{"$f":"T(#REF!)","v":{"$error":"#REF!"}},{"$f":"T(#REF!)","v":{"$error":"#REF!"}},{"$f":"ESTIMATE!P50","v":0},null,{"$f":"T(ESTIMATE!S50)","v":""}]
[null,null,{"$f":"T(ESTIMATE!B51)","v":""},{"$f":"T(#REF!)","v":{"$error":"#REF!"}},{"$f":"T(#REF!)","v":{"$error":"#REF!"}},{"$f":"T(#REF!)","v":{"$error":"#REF!"}},{"$f":"T(#REF!)","v":{"$error":"#REF!"}},null,null,{"$f":"T(#REF!)","v":{"$error":"#REF!"}},{"$f":"T(#REF!)","v":{"$error":"#REF!"}},{"$f":"T(#REF!)","v":{"$error":"#REF!"}},{"$f":"T(#REF!)","v":{"$error":"#REF!"}},{"$f":"ESTIMATE!P51","v":0},null,{"$f":"T(ESTIMATE!S51)","v":""}]
[null,null,{"$f":"T(ESTIMATE!B52)","v":""},{"$f":"T(#REF!)","v":{"$error":"#REF!"}},{"$f":"T(#REF!)","v":{"$error":"#REF!"}},{"$f":"T(#REF!)","v":{"$error":"#REF!"}},{"$f":"T(#REF!)","v":{"$error":"#REF!"}},null,null,{"$f":"T(#REF!)","v":{"$error":"#REF!"}},{"$f":"T(#REF!)","v":{"$error":"#REF!"}},{"$f":"T(#REF!)","v":{"$error":"#REF!"}},{"$f":"T(#REF!)","v":{"$error":"#REF!"}},{"$f":"ESTIMATE!P52","v":0},null,{"$f":"T(ESTIMATE!S52)","v":""}]
[null,null,{"$f":"T(ESTIMATE!B53)","v":""},{"$f":"T(#REF!)","v":{"$error":"#REF!"}},{"$f":"T(#REF!)","v":{"$error":"#REF!"}},{"$f":"T(#REF!)","v":{"$error":"#REF!"}},{"$f":"T(#REF!)","v":{"$error":"#REF!"}},null,null,{"$f":"T(#REF!)","v":{"$error":"#REF!"}},{"$f":"T(#REF!)","v":{"$error":"#REF!"}},{"$f":"T(#REF!)","v":{"$error":"#REF!"}},{"$f":"T(#REF!)","v":{"$error":"#REF!"}},{"$f":"ESTIMATE!P53","v":0},null,{"$f":"T(ESTIMATE!S53)","v":""}]
[null,null,{"$f":"T(ESTIMATE!B54)","v":""},{"$f":"T(#REF!)","v":{"$error":"#REF!"}},{"$f":"T(#REF!)","v":{"$error":"#REF!"}},{"$f":"T(#REF!)","v":{"$error":"#REF!"}},{"$f":"T(#REF!)","v":{"$error":"#REF!"}},null,null,{"$f":"T(#REF!)","v":{"$error":"#REF!"}},{"$f":"T(#REF!)","v":{"$error":"#REF!"}},{"$f":"T(#REF!)","v":{"$error":"#REF!"}},{"$f":"T(#REF!)","v":{"$error":"#REF!"}},{"$f":"ESTIMATE!P54","v":0},null,{"$f":"T(ESTIMATE!S54)","v":""}]
[null,null,{"$f":"T(ESTIMATE!B55)","v":""},{"$f":"T(#REF!)","v":{"$error":"#REF!"}},{"$f":"T(#REF!)","v":{"$error":"#REF!"}},{"$f":"T(#REF!)","v":{"$error":"#REF!"}},{"$f":"T(#REF!)","v":{"$error":"#REF!"}},null,null,{"$f":"T(#REF!)","v":{"$error":"#REF!"}},{"$f":"T(#REF!)","v":{"$error":"#REF!"}},{"$f":"T(#REF!)","v":{"$error":"#REF!"}},{"$f":"T(#REF!)","v":{"$error":"#REF!"}},{"$f":"ESTIMATE!P55","v":0},null,{"$f":"T(ESTIMATE!S55)","v":""}]
[null,null,{"$f":"T(ESTIMATE!B56)","v":""},{"$f":"T(#REF!)","v":{"$error":"#REF!"}},{"$f":"T(#REF!)","v":{"$error":"#REF!"}},{"$f":"T(#REF!)","v":{"$error":"#REF!"}},{"$f":"T(#REF!)","v":{"$error":"#REF!"}},null,null,{"$f":"T(#REF!)","v":{"$error":"#REF!"}},{"$f":"T(#REF!)","v":{"$error":"#REF!"}},{"$f":"T(#REF!)","v":{"$error":"#REF!"}},{"$f":"T(#REF!)","v":{"$error":"#REF!"}},{"$f":"ESTIMATE!P56","v":0},null,{"$f":"T(ESTIMATE!S56)","v":""}]
[null,null,{"$f":"T(ESTIMATE!B61)","v":"DEMOLITION"},{"$f":"T(#REF!)","v":{"$error":"#REF!"}},{"$f":"T(#REF!)","v":{"$error":"#REF!"}},{"$f":"T(#REF!)","v":{"$error":"#REF!"}},{"$f":"T(#REF!)","v":{"$error":"#REF!"}},null,null,{"$f":"T(#REF!)","v":{"$error":"#REF!"}},{"$f":"T(#REF!)","v":{"$error":"#REF!"}},{"$f":"T(#REF!)","v":{"$error":"#REF!"}},{"$f":"T(#REF!)","v":{"$error":"#REF!"}},{"$f":"SUM(N80:O119)","v":0}]
[null,null,{"$f":"T(ESTIMATE!B62)","v":"Demolition"},{"$f":"T(#REF!)","v":{"$error":"#REF!"}},{"$f":"T(#REF!)","v":{"$error":"#REF!"}},{"$f":"T(#REF!)","v":{"$error":"#REF!"}},{"$f":"T(#REF!)","v":{"$error":"#REF!"}},null,null,{"$f":"T(#REF!)","v":{"$error":"#REF!"}},{"$f":"T(#REF!)","v":{"$error":"#REF!"}},{"$f":"T(#REF!)","v":{"$error":"#REF!"}},{"$f":"T(#REF!)","v":{"$error":"#REF!"}},{"$f":"ESTIMATE!P62","v":0},null,{"$f":"T(ESTIMATE!S62)","v":"ls"}]
[null,null,{"$f":"T(ESTIMATE!B63)","v":"Demo bid/allowance"},{"$f":"T(#REF!)","v":{"$error":"#REF!"}},{"$f":"T(#REF!)","v":{"$error":"#REF!"}},{"$f":"T(#REF!)","v":{"$error":"#REF!"}},{"$f":"T(#REF!)","v":{"$error":"#REF!"}},null,null,{"$f":"T(#REF!)","v":{"$error":"#REF!"}},{"$f":"T(#REF!)","v":{"$error":"#REF!"}},{"$f":"T(#REF!)","v":{"$error":"#REF!"}},{"$f":"T(#REF!)","v":{"$error":"#REF!"}},{"$f":"ESTIMATE!P63","v":0},null,{"$f":"T(ESTIMATE!S63)","v":"ls"}]
[null,null,{"$f":"T(ESTIMATE!B64)","v":"Demolition work per hour"},{"$f":"T(#REF!)","v":{"$error":"#REF!"}},{"$f":"T(#REF!)","v":{"$error":"#REF!"}},{"$f":"T(#REF!)","v":{"$error":"#REF!"}},{"$f":"T(#REF!)","v":{"$error":"#REF!"}},null,null,{"$f":"T(#REF!)","v":{"$error":"#REF!"}},{"$f":"T(#REF!)","v":{"$error":"#REF!"}},{"$f":"T(#REF!)","v":{"$error":"#REF!"}},{"$f":"T(#REF!)","v":{"$error":"#REF!"}},{"$f":"ESTIMATE!P64","v":0},null,{"$f":"T(ESTIMATE!S64)","v":"hrs"}]
[null,null,{"$f":"T(ESTIMATE!B65)","v":"Room demolition, typical room"},{"$f":"T(#REF!)","v":{"$error":"#REF!"}},{"$f":"T(#REF!)","v":{"$error":"#REF!"}},{"$f":"T(#REF!)","v":{"$error":"#REF!"}},{"$f":"T(#REF!)","v":{"$error":"#REF!"}},null,null,{"$f":"T(#REF!)","v":{"$error":"#REF!"}},{"$f":"T(#REF!)","v":{"$error":"#REF!"}},{"$f":"T(#REF!)","v":{"$error":"#REF!"}},{"$f":"T(#REF!)","v":{"$error":"#REF!"}},{"$f":"ESTIMATE!P65","v":0},null,{"$f":"T(ESTIMATE!S65)","v":"sf"}]
[null,null,{"$f":"T(ESTIMATE!B66)","v":"Room demolition, bathroom"},{"$f":"T(#REF!)","v":{"$error":"#REF!"}},{"$f":"T(#REF!)","v":{"$error":"#REF!"}},{"$f":"T(#REF!)","v":{"$error":"#REF!"}},{"$f":"T(#REF!)","v":{"$error":"#REF!"}},null,null,{"$f":"T(#REF!)","v":{"$error":"#REF!"}},{"$f":"T(#REF!)","v":{"$error":"#REF!"}},{"$f":"T(#REF!)","v":{"$error":"#REF!"}},{"$f":"T(#REF!)","v":{"$error":"#REF!"}},{"$f":"ESTIMATE!P66","v":0},null,{"$f":"T(ESTIMATE!S66)","v":"sf"}]
[null,null,{"$f":"T(ESTIMATE!B67)","v":"Room demolition, kitchen"},{"$f":"T(#REF!)","v":{"$error":"#REF!"}},{"$f":"T(#REF!)","v":{"$error":"#REF!"}},{"$f":"T(#REF!)","v":{"$error":"#REF!"}},{"$f":"T(#REF!)","v":{"$error":"#REF!"}},null,null,{"$f":"T(#REF!)","v":{"$error":"#REF!"}},{"$f":"T(#REF!)","v":{"$error":"#REF!"}},{"$f":"T(#REF!)","v":{"$error":"#REF!"}},{"$f":"T(#REF!)","v":{"$error":"#REF!"}},{"$f":"ESTIMATE!P67","v":0},null,{"$f":"T(ESTIMATE!S67)","v":"sf"}]
[null,null,{"$f":"T(ESTIMATE!B68)","v":"Building demolition, 1-story wood-framed"},{"$f":"T(#REF!)","v":{"$error":"#REF!"}},{"$f":"T(#REF!)","v":{"$error":"#REF!"}},{"$f":"T(#REF!)","v":{"$error":"#REF!"}},{"$f":"T(#REF!)","v":{"$error":"#REF!"}},null,null,{"$f":"T(#REF!)","v":{"$error":"#REF!"}},{"$f":"T(#REF!)","v":{"$error":"#REF!"}},{"$f":"T(#REF!)","v":{"$error":"#REF!"}},{"$f":"T(#REF!)","v":{"$error":"#REF!"}},{"$f":"ESTIMATE!P68","v":0},null,{"$f":"T(ESTIMATE!S68)","v":"sf"}]
[null,null,{"$f":"T(ESTIMATE!B69)","v":"Building demolition, 2-story wood framed"},{"$f":"T(#REF!)","v":{"$error":"#REF!"}},{"$f":"T(#REF!)","v":{"$error":"#REF!"}},{"$f":"T(#REF!)","v":{"$error":"#REF!"}},{"$f":"T(#REF!)","v":{"$error":"#REF!"}},null,null,{"$f":"T(#REF!)","v":{"$error":"#REF!"}},{"$f":"T(#REF!)","v":{"$error":"#REF!"}},{"$f":"T(#REF!)","v":{"$error":"#REF!"}},{"$f":"T(#REF!)","v":{"$error":"#REF!"}},{"$f":"ESTIMATE!P69","v":0},null,{"$f":"T(ESTIMATE!S69)","v":"sf"}]
[null,null,{"$f":"T(ESTIMATE!B70)","v":"Building demolition, masonry"},{"$f":"T(#REF!)","v":{"$error":"#REF!"}},{"$f":"T(#REF!)","v":{"$error":"#REF!"}},{"$f":"T(#REF!)","v":{"$error":"#REF!"}},{"$f":"T(#REF!)","v":{"$error":"#REF!"}},null,null,{"$f":"T(#REF!)","v":{"$error":"#REF!"}},{"$f":"T(#REF!)","v":{"$error":"#REF!"}},{"$f":"T(#REF!)","v":{"$error":"#REF!"}},{"$f":"T(#REF!)","v":{"$error":"#REF!"}},{"$f":"ESTIMATE!P70","v":0},null,{"$f":"T(ESTIMATE!S70)","v":"sf"}]
[null,null,{"$f":"T(ESTIMATE!B71)","v":"Building demolition, steel/concrete"},{"$f":"T(#REF!)","v":{"$error":"#REF!"}},{"$f":"T(#REF!)","v":{"$error":"#REF!"}},{"$f":"T(#REF!)","v":{"$error":"#REF!"}},{"$f":"T(#REF!)","v":{"$error":"#REF!"}},null,null,{"$f":"T(#REF!)","v":{"$error":"#REF!"}},{"$f":"T(#REF!)","v":{"$error":"#REF!"}},{"$f":"T(#REF!)","v":{"$error":"#REF!"}},{"$f":"T(#REF!)","v":{"$error":"#REF!"}},{"$f":"ESTIMATE!P71","v":0},null,{"$f":"T(ESTIMATE!S71)","v":"sf"}]
[null,null,{"$f":"T(ESTIMATE!B72)","v":"Concrete slab demolition, 4\"-6\""},{"$f":"T(#REF!)","v":{"$error":"#REF!"}},{"$f":"T(#REF!)","v":{"$error":"#REF!"}},{"$f":"T(#REF!)","v":{"$error":"#REF!"}},{"$f":"T(#REF!)","v":{"$error":"#REF!"}},null,null,{"$f":"T(#REF!)","v":{"$error":"#REF!"}},{"$f":"T(#REF!)","v":{"$error":"#REF!"}},{"$f":"T(#REF!)","v":{"$error":"#REF!"}},{"$f":"T(#REF!)","v":{"$error":"#REF!"}},{"$f":"ESTIMATE!P72","v":0},null,{"$f":"T(ESTIMATE!S72)","v":""}]
[null,null,{"$f":"T(ESTIMATE!B73)","v":""},{"$f":"T(#REF!)","v":{"$error":"#REF!"}},{"$f":"T(#REF!)","v":{"$error":"#REF!"}},{"$f":"T(#REF!)","v":{"$error":"#REF!"}},{"$f":"T(#REF!)","v":{"$error":"#REF!"}},null,null,{"$f":"T(#REF!)","v":{"$error":"#REF!"}},{"$f":"T(#REF!)","v":{"$error":"#REF!"}},{"$f":"T(#REF!)","v":{"$error":"#REF!"}},{"$f":"T(#REF!)","v":{"$error":"#REF!"}},{"$f":"ESTIMATE!P73","v":0},null,{"$f":"T(ESTIMATE!S73)","v":""}]
[null,null,{"$f":"T(ESTIMATE!B74)","v":""},{"$f":"T(#REF!)","v":{"$error":"#REF!"}},{"$f":"T(#REF!)","v":{"$error":"#REF!"}},{"$f":"T(#REF!)","v":{"$error":"#REF!"}},{"$f":"T(#REF!)","v":{"$error":"#REF!"}},null,null,{"$f":"T(#REF!)","v":{"$error":"#REF!"}},{"$f":"T(#REF!)","v":{"$error":"#REF!"}},{"$f":"T(#REF!)","v":{"$error":"#REF!"}},{"$f":"T(#REF!)","v":{"$error":"#REF!"}},{"$f":"ESTIMATE!P74","v":0},null,{"$f":"T(ESTIMATE!S74)","v":""}]
[null,null,{"$f":"T(ESTIMATE!B75)","v":"Abatement"},{"$f":"T(#REF!)","v":{"$error":"#REF!"}},{"$f":"T(#REF!)","v":{"$error":"#REF!"}},{"$f":"T(#REF!)","v":{"$error":"#REF!"}},{"$f":"T(#REF!)","v":{"$error":"#REF!"}},null,null,{"$f":"T(#REF!)","v":{"$error":"#REF!"}},{"$f":"T(#REF!)","v":{"$error":"#REF!"}},{"$f":"T(#REF!)","v":{"$error":"#REF!"}},{"$f":"T(#REF!)","v":{"$error":"#REF!"}},{"$f":"ESTIMATE!P75","v":0},null,{"$f":"T(ESTIMATE!S75)","v":"ls"}]
[null,null,{"$f":"T(ESTIMATE!B76)","v":"Asbestos bid/allowance"},{"$f":"T(#REF!)","v":{"$error":"#REF!"}},{"$f":"T(#REF!)","v":{"$error":"#REF!"}},{"$f":"T(#REF!)","v":{"$error":"#REF!"}},{"$f":"T(#REF!)","v":{"$error":"#REF!"}},null,null,{"$f":"T(#REF!)","v":{"$error":"#REF!"}},{"$f":"T(#REF!)","v":{"$error":"#REF!"}},{"$f":"T(#REF!)","v":{"$error":"#REF!"}},{"$f":"T(#REF!)","v":{"$error":"#REF!"}},{"$f":"ESTIMATE!P76","v":0},null,{"$f":"T(ESTIMATE!S76)","v":"ls"}]
[null,null,{"$f":"T(ESTIMATE!B77)","v":"Asbestos testing"},{"$f":"T(#REF!)","v":{"$error":"#REF!"}},{"$f":"T(#REF!)","v":{"$error":"#REF!"}},{"$f":"T(#REF!)","v":{"$error":"#REF!"}},{"$f":"T(#REF!)","v":{"$error":"#REF!"}},null,null,{"$f":"T(#REF!)","v":{"$error":"#REF!"}},{"$f":"T(#REF!)","v":{"$error":"#REF!"}},{"$f":"T(#REF!)","v":{"$error":"#REF!"}},{"$f":"T(#REF!)","v":{"$error":"#REF!"}},{"$f":"ESTIMATE!P77","v":0},null,{"$f":"T(ESTIMATE!S77)","v":"ea"}]
[null,null,{"$f":"T(ESTIMATE!B78)","v":"Asbestos abatement, minimum charge"},{"$f":"T(#REF!)","v":{"$error":"#REF!"}},{"$f":"T(#REF!)","v":{"$error":"#REF!"}},{"$f":"T(#REF!)","v":{"$error":"#REF!"}},{"$f":"T(#REF!)","v":{"$error":"#REF!"}},null,null,{"$f":"T(#REF!)","v":{"$error":"#REF!"}},{"$f":"T(#REF!)","v":{"$error":"#REF!"}},{"$f":"T(#REF!)","v":{"$error":"#REF!"}},{"$f":"T(#REF!)","v":{"$error":"#REF!"}},{"$f":"ESTIMATE!P78","v":0},null,{"$f":"T(ESTIMATE!S78)","v":"ea"}]
[null,null,{"$f":"T(ESTIMATE!B79)","v":"Mold, minimum charge"},{"$f":"T(#REF!)","v":{"$error":"#REF!"}},{"$f":"T(#REF!)","v":{"$error":"#REF!"}},{"$f":"T(#REF!)","v":{"$error":"#REF!"}},{"$f":"T(#REF!)","v":{"$error":"#REF!"}},null,null,{"$f":"T(#REF!)","v":{"$error":"#REF!"}},{"$f":"T(#REF!)","v":{"$error":"#REF!"}},{"$f":"T(#REF!)","v":{"$error":"#REF!"}},{"$f":"T(#REF!)","v":{"$error":"#REF!"}},{"$f":"ESTIMATE!P79","v":0},null,{"$f":"T(ESTIMATE!S79)","v":"ea"}]
[null,null,{"$f":"T(ESTIMATE!B80)","v":""},{"$f":"T(#REF!)","v":{"$error":"#REF!"}},{"$f":"T(#REF!)","v":{"$error":"#REF!"}},{"$f":"T(#REF!)","v":{"$error":"#REF!"}},{"$f":"T(#REF!)","v":{"$error":"#REF!"}},null,null,{"$f":"T(#REF!)","v":{"$error":"#REF!"}},{"$f":"T(#REF!)","v":{"$error":"#REF!"}},{"$f":"T(#REF!)","v":{"$error":"#REF!"}},{"$f":"T(#REF!)","v":{"$error":"#REF!"}},{"$f":"ESTIMATE!P80","v":0},null,{"$f":"T(ESTIMATE!S80)","v":""}]
[null,null,{"$f":"T(ESTIMATE!B81)","v":""},{"$f":"T(#REF!)","v":{"$error":"#REF!"}},{"$f":"T(#REF!)","v":{"$error":"#REF!"}},{"$f":"T(#REF!)","v":{"$error":"#REF!"}},{"$f":"T(#REF!)","v":{"$error":"#REF!"}},null,null,{"$f":"T(#REF!)","v":{"$error":"#REF!"}},{"$f":"T(#REF!)","v":{"$error":"#REF!"}},{"$f":"T(#REF!)","v":{"$error":"#REF!"}},{"$f":"T(#REF!)","v":{"$error":"#REF!"}},{"$f":"ESTIMATE!P81","v":0},null,{"$f":"T(ESTIMATE!S81)","v":""}]
[null,null,{"$f":"T(ESTIMATE!B82)","v":""},{"$f":"T(#REF!)","v":{"$error":"#REF!"}},{"$f":"T(#REF!)","v":{"$error":"#REF!"}},{"$f":"T(#REF!)","v":{"$error":"#REF!"}},{"$f":"T(#REF!)","v":{"$error":"#REF!"}},null,null,{"$f":"T(#REF!)","v":{"$error":"#REF!"}},{"$f":"T(#REF!)","v":{"$error":"#REF!"}},{"$f":"T(#REF!)","v":{"$error":"#REF!"}},{"$f":"T(#REF!)","v":{"$error":"#REF!"}},{"$f":"ESTIMATE!P82","v":0},null,{"$f":"T(ESTIMATE!S82)","v":""}]
[null,null,{"$f":"T(ESTIMATE!B83)","v":""},{"$f":"T(#REF!)","v":{"$error":"#REF!"}},{"$f":"T(#REF!)","v":{"$error":"#REF!"}},{"$f":"T(#REF!)","v":{"$error":"#REF!"}},{"$f":"T(#REF!)","v":{"$error":"#REF!"}},null,null,{"$f":"T(#REF!)","v":{"$error":"#REF!"}},{"$f":"T(#REF!)","v":{"$error":"#REF!"}},{"$f":"T(#REF!)","v":{"$error":"#REF!"}},{"$f":"T(#REF!)","v":{"$error":"#REF!"}},{"$f":"ESTIMATE!P83","v":0},null,{"$f":"T(ESTIMATE!S83)","v":""}]
[null,null,{"$f":"T(ESTIMATE!B84)","v":""},{"$f":"T(#REF!)","v":{"$error":"#REF!"}},{"$f":"T(#REF!)","v":{"$error":"#REF!"}},{"$f":"T(#REF!)","v":{"$error":"#REF!"}},{"$f":"T(#REF!)","v":{"$error":"#REF!"}},null,null,{"$f":"T(#REF!)","v":{"$error":"#REF!"}},{"$f":"T(#REF!)","v":{"$error":"#REF!"}},{"$f":"T(#REF!)","v":{"$error":"#REF!"}},{"$f":"T(#REF!)","v":{"$error":"#REF!"}},{"$f":"ESTIMATE!P84","v":0},null,{"$f":"T(ESTIMATE!S84)","v":""}]
[null,null,{"$f":"T(ESTIMATE!B85)","v":""},{"$f":"T(#REF!)","v":{"$error":"#REF!"}},{"$f":"T(#REF!)","v":{"$error":"#REF!"}},{"$f":"T(#REF!)","v":{"$error":"#REF!"}},{"$f":"T(#REF!)","v":{"$error":"#REF!"}},null,null,{"$f":"T(#REF!)","v":{"$error":"#REF!"}},{"$f":"T(#REF!)","v":{"$error":"#REF!"}},{"$f":"T(#REF!)","v":{"$error":"#REF!"}},{"$f":"T(#REF!)","v":{"$error":"#REF!"}},{"$f":"ESTIMATE!P85","v":0},null,{"$f":"T(ESTIMATE!S85)","v":""}]
[null,null,{"$f":"T(ESTIMATE!B86)","v":""},{"$f":"T(#REF!)","v":{"$error":"#REF!"}},{"$f":"T(#REF!)","v":{"$error":"#REF!"}},{"$f":"T(#REF!)","v":{"$error":"#REF!"}},{"$f":"T(#REF!)","v":{"$error":"#REF!"}},null,null,{"$f":"T(#REF!)","v":{"$error":"#REF!"}},{"$f":"T(#REF!)","v":{"$error":"#REF!"}},{"$f":"T(#REF!)","v":{"$error":"#REF!"}},{"$f":"T(#REF!)","v":{"$error":"#REF!"}},{"$f":"ESTIMATE!P86","v":0},null,{"$f":"T(ESTIMATE!S86)","v":""}]
[null,null,{"$f":"T(ESTIMATE!B87)","v":""},{"$f":"T(#REF!)","v":{"$error":"#REF!"}},{"$f":"T(#REF!)","v":{"$error":"#REF!"}},{"$f":"T(#REF!)","v":{"$error":"#REF!"}},{"$f":"T(#REF!)","v":{"$error":"#REF!"}},null,null,{"$f":"T(#REF!)","v":{"$error":"#REF!"}},{"$f":"T(#REF!)","v":{"$error":"#REF!"}},{"$f":"T(#REF!)","v":{"$error":"#REF!"}},{"$f":"T(#REF!)","v":{"$error":"#REF!"}},{"$f":"ESTIMATE!P87","v":0},null,{"$f":"T(ESTIMATE!S87)","v":""}]
[null,null,{"$f":"T(ESTIMATE!B88)","v":""},{"$f":"T(#REF!)","v":{"$error":"#REF!"}},{"$f":"T(#REF!)","v":{"$error":"#REF!"}},{"$f":"T(#REF!)","v":{"$error":"#REF!"}},{"$f":"T(#REF!)","v":{"$error":"#REF!"}},null,null,{"$f":"T(#REF!)","v":{"$error":"#REF!"}},{"$f":"T(#REF!)","v":{"$error":"#REF!"}},{"$f":"T(#REF!)","v":{"$error":"#REF!"}},{"$f":"T(#REF!)","v":{"$error":"#REF!"}},{"$f":"ESTIMATE!P88","v":0},null,{"$f":"T(ESTIMATE!S88)","v":""}]
[null,null,{"$f":"T(ESTIMATE!B89)","v":""},{"$f":"T(#REF!)","v":{"$error":"#REF!"}},{"$f":"T(#REF!)","v":{"$error":"#REF!"}},{"$f":"T(#REF!)","v":{"$error":"#REF!"}},{"$f":"T(#REF!)","v":{"$error":"#REF!"}},null,null,{"$f":"T(#REF!)","v":{"$error":"#REF!"}},{"$f":"T(#REF!)","v":{"$error":"#REF!"}},{"$f":"T(#REF!)","v":{"$error":"#REF!"}},{"$f":"T(#REF!)","v":{"$error":"#REF!"}},{"$f":"ESTIMATE!P89","v":0},null,{"$f":"T(ESTIMATE!S89)","v":""}]
[null,null,{"$f":"T(ESTIMATE!B90)","v":""},{"$f":"T(#REF!)","v":{"$error":"#REF!"}},{"$f":"T(#REF!)","v":{"$error":"#REF!"}},{"$f":"T(#REF!)","v":{"$error":"#REF!"}},{"$f":"T(#REF!)","v":{"$error":"#REF!"}},null,null,{"$f":"T(#REF!)","v":{"$error":"#REF!"}},{"$f":"T(#REF!)","v":{"$error":"#REF!"}},{"$f":"T(#REF!)","v":{"$error":"#REF!"}},{"$f":"T(#REF!)","v":{"$error":"#REF!"}},{"$f":"ESTIMATE!P90","v":0},null,{"$f":"T(ESTIMATE!S90)","v":""}]
[null,null,{"$f":"T(ESTIMATE!B91)","v":""},{"$f":"T(#REF!)","v":{"$error":"#REF!"}},{"$f":"T(#REF!)","v":{"$error":"#REF!"}},{"$f":"T(#REF!)","v":{"$error":"#REF!"}},{"$f":"T(#REF!)","v":{"$error":"#REF!"}},null,null,{"$f":"T(#REF!)","v":{"$error":"#REF!"}},{"$f":"T(#REF!)","v":{"$error":"#REF!"}},{"$f":"T(#REF!)","v":{"$error":"#REF!"}},{"$f":"T(#REF!)","v":{"$error":"#REF!"}},{"$f":"ESTIMATE!P91","v":0},null,{"$f":"T(ESTIMATE!S91)","v":""}]
[null,null,{"$f":"T(ESTIMATE!B92)","v":""},{"$f":"T(#REF!)","v":{"$error":"#REF!"}},{"$f":"T(#REF!)","v":{"$error":"#REF!"}},{"$f":"T(#REF!)","v":{"$error":"#REF!"}},{"$f":"T(#REF!)","v":{"$error":"#REF!"}},null,null,{"$f":"T(#REF!)","v":{"$error":"#REF!"}},{"$f":"T(#REF!)","v":{"$error":"#REF!"}},{"$f":"T(#REF!)","v":{"$error":"#REF!"}},{"$f":"T(#REF!)","v":{"$error":"#REF!"}},{"$f":"ESTIMATE!P92","v":0},null,{"$f":"T(ESTIMATE!S92)","v":""}]
[null,null,{"$f":"T(ESTIMATE!B93)","v":""},{"$f":"T(#REF!)","v":{"$error":"#REF!"}},{"$f":"T(#REF!)","v":{"$error":"#REF!"}},{"$f":"T(#REF!)","v":{"$error":"#REF!"}},{"$f":"T(#REF!)","v":{"$error":"#REF!"}},null,null,{"$f":"T(#REF!)","v":{"$error":"#REF!"}},{"$f":"T(#REF!)","v":{"$error":"#REF!"}},{"$f":"T(#REF!)","v":{"$error":"#REF!"}},{"$f":"T(#REF!)","v":{"$error":"#REF!"}},{"$f":"ESTIMATE!P93","v":0},null,{"$f":"T(ESTIMATE!S93)","v":""}]
[null,null,{"$f":"T(ESTIMATE!B94)","v":""},{"$f":"T(#REF!)","v":{"$error":"#REF!"}},{"$f":"T(#REF!)","v":{"$error":"#REF!"}},{"$f":"T(#REF!)","v":{"$error":"#REF!"}},{"$f":"T(#REF!)","v":{"$error":"#REF!"}},null,null,{"$f":"T(#REF!)","v":{"$error":"#REF!"}},{"$f":"T(#REF!)","v":{"$error":"#REF!"}},{"$f":"T(#REF!)","v":{"$error":"#REF!"}},{"$f":"T(#REF!)","v":{"$error":"#REF!"}},{"$f":"ESTIMATE!P94","v":0},null,{"$f":"T(ESTIMATE!S94)","v":""}]
[null,null,{"$f":"T(ESTIMATE!B95)","v":""},{"$f":"T(#REF!)","v":{"$error":"#REF!"}},{"$f":"T(#REF!)","v":{"$error":"#REF!"}},{"$f":"T(#REF!)","v":{"$error":"#REF!"}},{"$f":"T(#REF!)","v":{"$error":"#REF!"}},null,null,{"$f":"T(#REF!)","v":{"$error":"#REF!"}},{"$f":"T(#REF!)","v":{"$error":"#REF!"}},{"$f":"T(#REF!)","v":{"$error":"#REF!"}},{"$f":"T(#REF!)","v":{"$error":"#REF!"}},{"$f":"ESTIMATE!P95","v":0},null,{"$f":"T(ESTIMATE!S95)","v":""}]
[null,null,{"$f":"T(ESTIMATE!B96)","v":""},{"$f":"T(#REF!)","v":{"$error":"#REF!"}},{"$f":"T(#REF!)","v":{"$error":"#REF!"}},{"$f":"T(#REF!)","v":{"$error":"#REF!"}},{"$f":"T(#REF!)","v":{"$error":"#REF!"}},null,null,{"$f":"T(#REF!)","v":{"$error":"#REF!"}},{"$f":"T(#REF!)","v":{"$error":"#REF!"}},{"$f":"T(#REF!)","v":{"$error":"#REF!"}},{"$f":"T(#REF!)","v":{"$error":"#REF!"}},{"$f":"ESTIMATE!P96","v":0},null,{"$f":"T(ESTIMATE!S96)","v":""}]
[null,null,{"$f":"T(ESTIMATE!B97)","v":""},{"$f":"T(#REF!)","v":{"$error":"#REF!"}},{"$f":"T(#REF!)","v":{"$error":"#REF!"}},{"$f":"T(#REF!)","v":{"$error":"#REF!"}},{"$f":"T(#REF!)","v":{"$error":"#REF!"}},null,null,{"$f":"T(#REF!)","v":{"$error":"#REF!"}},{"$f":"T(#REF!)","v":{"$error":"#REF!"}},{"$f":"T(#REF!)","v":{"$error":"#REF!"}},{"$f":"T(#REF!)","v":{"$error":"#REF!"}},{"$f":"ESTIMATE!P97","v":0},null,{"$f":"T(ESTIMATE!S97)","v":""}]
[null,null,{"$f":"T(ESTIMATE!B98)","v":""},{"$f":"T(#REF!)","v":{"$error":"#REF!"}},{"$f":"T(#REF!)","v":{"$error":"#REF!"}},{"$f":"T(#REF!)","v":{"$error":"#REF!"}},{"$f":"T(#REF!)","v":{"$error":"#REF!"}},null,null,{"$f":"T(#REF!)","v":{"$error":"#REF!"}},{"$f":"T(#REF!)","v":{"$error":"#REF!"}},{"$f":"T(#REF!)","v":{"$error":"#REF!"}},{"$f":"T(#REF!)","v":{"$error":"#REF!"}},{"$f":"ESTIMATE!P98","v":0},null,{"$f":"T(ESTIMATE!S98)","v":""}]
[null,null,{"$f":"T(ESTIMATE!B99)","v":""},{"$f":"T(#REF!)","v":{"$error":"#REF!"}},{"$f":"T(#REF!)","v":{"$error":"#REF!"}},{"$f":"T(#REF!)","v":{"$error":"#REF!"}},{"$f":"T(#REF!)","v":{"$error":"#REF!"}},null,null,{"$f":"T(#REF!)","v":{"$error":"#REF!"}},{"$f":"T(#REF!)","v":{"$error":"#REF!"}},{"$f":"T(#REF!)","v":{"$error":"#REF!"}},{"$f":"T(#REF!)","v":{"$error":"#REF!"}},{"$f":"ESTIMATE!P99","v":0},null,{"$f":"T(ESTIMATE!S99)","v":""}]
[null,null,{"$f":"T(ESTIMATE!B100)","v":""},{"$f":"T(#REF!)","v":{"$error":"#REF!"}},{"$f":"T(#REF!)","v":{"$error":"#REF!"}},{"$f":"T(#REF!)","v":{"$error":"#REF!"}},{"$f":"T(#REF!)","v":{"$error":"#REF!"}},null,null,{"$f":"T(#REF!)","v":{"$error":"#REF!"}},{"$f":"T(#REF!)","v":{"$error":"#REF!"}},{"$f":"T(#REF!)","v":{"$error":"#REF!"}},{"$f":"T(#REF!)","v":{"$error":"#REF!"}},{"$f":"ESTIMATE!P100","v":0},null,{"$f":"T(ESTIMATE!S100)","v":""}]
[null,null,{"$f":"T(ESTIMATE!B101)","v":""},{"$f":"T(#REF!)","v":{"$error":"#REF!"}},{"$f":"T(#REF!)","v":{"$error":"#REF!"}},{"$f":"T(#REF!)","v":{"$error":"#REF!"}},{"$f":"T(#REF!)","v":{"$error":"#REF!"}},null,null,{"$f":"T(#REF!)","v":{"$error":"#REF!"}},{"$f":"T(#REF!)","v":{"$error":"#REF!"}},{"$f":"T(#REF!)","v":{"$error":"#REF!"}},{"$f":"T(#REF!)","v":{"$error":"#REF!"}},{"$f":"ESTIMATE!P101","v":0},null,{"$f":"T(ESTIMATE!S101)","v":""}]
[null,null,{"$f":"T(ESTIMATE!B106)","v":"CONCRETE & FLATWORK"},{"$f":"T(#REF!)","v":{"$error":"#REF!"}},{"$f":"T(#REF!)","v":{"$error":"#REF!"}},{"$f":"T(#REF!)","v":{"$error":"#REF!"}},{"$f":"T(#REF!)","v":{"$error":"#REF!"}},null,null,{"$f":"T(#REF!)","v":{"$error":"#REF!"}},{"$f":"T(#REF!)","v":{"$error":"#REF!"}},{"$f":"T(#REF!)","v":{"$error":"#REF!"}},{"$f":"T(#REF!)","v":{"$error":"#REF!"}},{"$f":"SUM(N121:O160)","v":0}]
[null,null,{"$f":"T(ESTIMATE!B107)","v":"Excavation"},{"$f":"T(#REF!)","v":{"$error":"#REF!"}},{"$f":"T(#REF!)","v":{"$error":"#REF!"}},{"$f":"T(#REF!)","v":{"$error":"#REF!"}},{"$f":"T(#REF!)","v":{"$error":"#REF!"}},null,null,{"$f":"T(#REF!)","v":{"$error":"#REF!"}},{"$f":"T(#REF!)","v":{"$error":"#REF!"}},{"$f":"T(#REF!)","v":{"$error":"#REF!"}},{"$f":"T(#REF!)","v":{"$error":"#REF!"}},{"$f":"ESTIMATE!P107","v":0},null,{"$f":"T(ESTIMATE!S107)","v":""}]
[null,null,{"$f":"T(ESTIMATE!B108)","v":"Excavation bid/allowance"},{"$f":"T(#REF!)","v":{"$error":"#REF!"}},{"$f":"T(#REF!)","v":{"$error":"#REF!"}},{"$f":"T(#REF!)","v":{"$error":"#REF!"}},{"$f":"T(#REF!)","v":{"$error":"#REF!"}},null,null,{"$f":"T(#REF!)","v":{"$error":"#REF!"}},{"$f":"T(#REF!)","v":{"$error":"#REF!"}},{"$f":"T(#REF!)","v":{"$error":"#REF!"}},{"$f":"T(#REF!)","v":{"$error":"#REF!"}},{"$f":"ESTIMATE!P108","v":0},null,{"$f":"T(ESTIMATE!S108)","v":"ls"}]
[null,null,{"$f":"T(ESTIMATE!B109)","v":"Footing trenching"},{"$f":"T(#REF!)","v":{"$error":"#REF!"}},{"$f":"T(#REF!)","v":{"$error":"#REF!"}},{"$f":"T(#REF!)","v":{"$error":"#REF!"}},{"$f":"T(#REF!)","v":{"$error":"#REF!"}},null,null,{"$f":"T(#REF!)","v":{"$error":"#REF!"}},{"$f":"T(#REF!)","v":{"$error":"#REF!"}},{"$f":"T(#REF!)","v":{"$error":"#REF!"}},{"$f":"T(#REF!)","v":{"$error":"#REF!"}},{"$f":"ESTIMATE!P109","v":0},null,{"$f":"T(ESTIMATE!S109)","v":"cy"}]
[null,null,{"$f":"T(ESTIMATE!B110)","v":"Backfill of trenches "},{"$f":"T(#REF!)","v":{"$error":"#REF!"}},{"$f":"T(#REF!)","v":{"$error":"#REF!"}},{"$f":"T(#REF!)","v":{"$error":"#REF!"}},{"$f":"T(#REF!)","v":{"$error":"#REF!"}},null,null,{"$f":"T(#REF!)","v":{"$error":"#REF!"}},{"$f":"T(#REF!)","v":{"$error":"#REF!"}},{"$f":"T(#REF!)","v":{"$error":"#REF!"}},{"$f":"T(#REF!)","v":{"$error":"#REF!"}},{"$f":"ESTIMATE!P110","v":0},null,{"$f":"T(ESTIMATE!S110)","v":"cy"}]
[null,null,{"$f":"T(ESTIMATE!B111)","v":""},{"$f":"T(#REF!)","v":{"$error":"#REF!"}},{"$f":"T(#REF!)","v":{"$error":"#REF!"}},{"$f":"T(#REF!)","v":{"$error":"#REF!"}},{"$f":"T(#REF!)","v":{"$error":"#REF!"}},null,null,{"$f":"T(#REF!)","v":{"$error":"#REF!"}},{"$f":"T(#REF!)","v":{"$error":"#REF!"}},{"$f":"T(#REF!)","v":{"$error":"#REF!"}},{"$f":"T(#REF!)","v":{"$error":"#REF!"}},{"$f":"ESTIMATE!P111","v":0},null,{"$f":"T(ESTIMATE!S111)","v":""}]
[null,null,{"$f":"T(ESTIMATE!B112)","v":""},{"$f":"T(#REF!)","v":{"$error":"#REF!"}},{"$f":"T(#REF!)","v":{"$error":"#REF!"}},{"$f":"T(#REF!)","v":{"$error":"#REF!"}},{"$f":"T(#REF!)","v":{"$error":"#REF!"}},null,null,{"$f":"T(#REF!)","v":{"$error":"#REF!"}},{"$f":"T(#REF!)","v":{"$error":"#REF!"}},{"$f":"T(#REF!)","v":{"$error":"#REF!"}},{"$f":"T(#REF!)","v":{"$error":"#REF!"}},{"$f":"ESTIMATE!P112","v":0},null,{"$f":"T(ESTIMATE!S112)","v":""}]
[null,null,{"$f":"T(ESTIMATE!B113)","v":"Foundation"},{"$f":"T(#REF!)","v":{"$error":"#REF!"}},{"$f":"T(#REF!)","v":{"$error":"#REF!"}},{"$f":"T(#REF!)","v":{"$error":"#REF!"}},{"$f":"T(#REF!)","v":{"$error":"#REF!"}},null,null,{"$f":"T(#REF!)","v":{"$error":"#REF!"}},{"$f":"T(#REF!)","v":{"$error":"#REF!"}},{"$f":"T(#REF!)","v":{"$error":"#REF!"}},{"$f":"T(#REF!)","v":{"$error":"#REF!"}},{"$f":"ESTIMATE!P113","v":0},null,{"$f":"T(ESTIMATE!S113)","v":""}]
[null,null,{"$f":"T(ESTIMATE!B114)","v":"Foundation bid/allowance"},{"$f":"T(#REF!)","v":{"$error":"#REF!"}},{"$f":"T(#REF!)","v":{"$error":"#REF!"}},{"$f":"T(#REF!)","v":{"$error":"#REF!"}},{"$f":"T(#REF!)","v":{"$error":"#REF!"}},null,null,{"$f":"T(#REF!)","v":{"$error":"#REF!"}},{"$f":"T(#REF!)","v":{"$error":"#REF!"}},{"$f":"T(#REF!)","v":{"$error":"#REF!"}},{"$f":"T(#REF!)","v":{"$error":"#REF!"}},{"$f":"ESTIMATE!P114","v":0},null,{"$f":"T(ESTIMATE!S114)","v":"ls"}]
[null,null,{"$f":"T(ESTIMATE!B115)","v":"Concrete slab on grade, 4\" thick"},{"$f":"T(#REF!)","v":{"$error":"#REF!"}},{"$f":"T(#REF!)","v":{"$error":"#REF!"}},{"$f":"T(#REF!)","v":{"$error":"#REF!"}},{"$f":"T(#REF!)","v":{"$error":"#REF!"}},null,null,{"$f":"T(#REF!)","v":{"$error":"#REF!"}},{"$f":"T(#REF!)","v":{"$error":"#REF!"}},{"$f":"T(#REF!)","v":{"$error":"#REF!"}},{"$f":"T(#REF!)","v":{"$error":"#REF!"}},{"$f":"ESTIMATE!P115","v":0},null,{"$f":"T(ESTIMATE!S115)","v":"sf"}]
[null,null,{"$f":"T(ESTIMATE!B116)","v":"Concrete footing, 12\" wide "},{"$f":"T(#REF!)","v":{"$error":"#REF!"}},{"$f":"T(#REF!)","v":{"$error":"#REF!"}},{"$f":"T(#REF!)","v":{"$error":"#REF!"}},{"$f":"T(#REF!)","v":{"$error":"#REF!"}},null,null,{"$f":"T(#REF!)","v":{"$error":"#REF!"}},{"$f":"T(#REF!)","v":{"$error":"#REF!"}},{"$f":"T(#REF!)","v":{"$error":"#REF!"}},{"$f":"T(#REF!)","v":{"$error":"#REF!"}},{"$f":"ESTIMATE!P116","v":0},null,{"$f":"T(ESTIMATE!S116)","v":"lf"}]
[null,null,{"$f":"T(ESTIMATE!B117)","v":"Stem wall, single story"},{"$f":"T(#REF!)","v":{"$error":"#REF!"}},{"$f":"T(#REF!)","v":{"$error":"#REF!"}},{"$f":"T(#REF!)","v":{"$error":"#REF!"}},{"$f":"T(#REF!)","v":{"$error":"#REF!"}},null,null,{"$f":"T(#REF!)","v":{"$error":"#REF!"}},{"$f":"T(#REF!)","v":{"$error":"#REF!"}},{"$f":"T(#REF!)","v":{"$error":"#REF!"}},{"$f":"T(#REF!)","v":{"$error":"#REF!"}},{"$f":"ESTIMATE!P117","v":0},null,{"$f":"T(ESTIMATE!S117)","v":"lf"}]
[null,null,{"$f":"T(ESTIMATE!B118)","v":""},{"$f":"T(#REF!)","v":{"$error":"#REF!"}},{"$f":"T(#REF!)","v":{"$error":"#REF!"}},{"$f":"T(#REF!)","v":{"$error":"#REF!"}},{"$f":"T(#REF!)","v":{"$error":"#REF!"}},null,null,{"$f":"T(#REF!)","v":{"$error":"#REF!"}},{"$f":"T(#REF!)","v":{"$error":"#REF!"}},{"$f":"T(#REF!)","v":{"$error":"#REF!"}},{"$f":"T(#REF!)","v":{"$error":"#REF!"}},{"$f":"ESTIMATE!P118","v":0},null,{"$f":"T(ESTIMATE!S118)","v":""}]
[null,null,{"$f":"T(ESTIMATE!B119)","v":""},{"$f":"T(#REF!)","v":{"$error":"#REF!"}},{"$f":"T(#REF!)","v":{"$error":"#REF!"}},{"$f":"T(#REF!)","v":{"$error":"#REF!"}},{"$f":"T(#REF!)","v":{"$error":"#REF!"}},null,null,{"$f":"T(#REF!)","v":{"$error":"#REF!"}},{"$f":"T(#REF!)","v":{"$error":"#REF!"}},{"$f":"T(#REF!)","v":{"$error":"#REF!"}},{"$f":"T(#REF!)","v":{"$error":"#REF!"}},{"$f":"ESTIMATE!P119","v":0},null,{"$f":"T(ESTIMATE!S119)","v":""}]
[null,null,{"$f":"T(ESTIMATE!B120)","v":"Structural Repairs"},{"$f":"T(#REF!)","v":{"$error":"#REF!"}},{"$f":"T(#REF!)","v":{"$error":"#REF!"}},{"$f":"T(#REF!)","v":{"$error":"#REF!"}},{"$f":"T(#REF!)","v":{"$error":"#REF!"}},null,null,{"$f":"T(#REF!)","v":{"$error":"#REF!"}},{"$f":"T(#REF!)","v":{"$error":"#REF!"}},{"$f":"T(#REF!)","v":{"$error":"#REF!"}},{"$f":"T(#REF!)","v":{"$error":"#REF!"}},{"$f":"ESTIMATE!P120","v":0},null,{"$f":"T(ESTIMATE!S120)","v":""}]
[null,null,{"$f":"T(ESTIMATE!B121)","v":"Bowing foundation walls, vertical I-Beams"},{"$f":"T(#REF!)","v":{"$error":"#REF!"}},{"$f":"T(#REF!)","v":{"$error":"#REF!"}},{"$f":"T(#REF!)","v":{"$error":"#REF!"}},{"$f":"T(#REF!)","v":{"$error":"#REF!"}},null,null,{"$f":"T(#REF!)","v":{"$error":"#REF!"}},{"$f":"T(#REF!)","v":{"$error":"#REF!"}},{"$f":"T(#REF!)","v":{"$error":"#REF!"}},{"$f":"T(#REF!)","v":{"$error":"#REF!"}},{"$f":"ESTIMATE!P121","v":0},null,{"$f":"T(ESTIMATE!S121)","v":"ea"}]
[null,null,{"$f":"T(ESTIMATE!B122)","v":"Settled foundation walls, concrete piers/underpinning"},{"$f":"T(#REF!)","v":{"$error":"#REF!"}},{"$f":"T(#REF!)","v":{"$error":"#REF!"}},{"$f":"T(#REF!)","v":{"$error":"#REF!"}},{"$f":"T(#REF!)","v":{"$error":"#REF!"}},null,null,{"$f":"T(#REF!)","v":{"$error":"#REF!"}},{"$f":"T(#REF!)","v":{"$error":"#REF!"}},{"$f":"T(#REF!)","v":{"$error":"#REF!"}},{"$f":"T(#REF!)","v":{"$error":"#REF!"}},{"$f":"ESTIMATE!P122","v":0},null,{"$f":"T(ESTIMATE!S122)","v":"ea"}]
[null,null,{"$f":"T(ESTIMATE!B123)","v":"Foundation waterproofing & drain tile, single story"},{"$f":"T(#REF!)","v":{"$error":"#REF!"}},{"$f":"T(#REF!)","v":{"$error":"#REF!"}},{"$f":"T(#REF!)","v":{"$error":"#REF!"}},{"$f":"T(#REF!)","v":{"$error":"#REF!"}},null,null,{"$f":"T(#REF!)","v":{"$error":"#REF!"}},{"$f":"T(#REF!)","v":{"$error":"#REF!"}},{"$f":"T(#REF!)","v":{"$error":"#REF!"}},{"$f":"T(#REF!)","v":{"$error":"#REF!"}},{"$f":"ESTIMATE!P123","v":0},null,{"$f":"T(ESTIMATE!S123)","v":"lf"}]
[null,null,{"$f":"T(ESTIMATE!B124)","v":"Epoxy crack injection"},{"$f":"T(#REF!)","v":{"$error":"#REF!"}},{"$f":"T(#REF!)","v":{"$error":"#REF!"}},{"$f":"T(#REF!)","v":{"$error":"#REF!"}},{"$f":"T(#REF!)","v":{"$error":"#REF!"}},null,null,{"$f":"T(#REF!)","v":{"$error":"#REF!"}},{"$f":"T(#REF!)","v":{"$error":"#REF!"}},{"$f":"T(#REF!)","v":{"$error":"#REF!"}},{"$f":"T(#REF!)","v":{"$error":"#REF!"}},{"$f":"ESTIMATE!P124","v":0},null,{"$f":"T(ESTIMATE!S124)","v":"lf"}]
[null,null,{"$f":"T(ESTIMATE!B125)","v":""},{"$f":"T(#REF!)","v":{"$error":"#REF!"}},{"$f":"T(#REF!)","v":{"$error":"#REF!"}},{"$f":"T(#REF!)","v":{"$error":"#REF!"}},{"$f":"T(#REF!)","v":{"$error":"#REF!"}},null,null,{"$f":"T(#REF!)","v":{"$error":"#REF!"}},{"$f":"T(#REF!)","v":{"$error":"#REF!"}},{"$f":"T(#REF!)","v":{"$error":"#REF!"}},{"$f":"T(#REF!)","v":{"$error":"#REF!"}},{"$f":"ESTIMATE!P125","v":0},null,{"$f":"T(ESTIMATE!S125)","v":""}]
[null,null,{"$f":"T(ESTIMATE!B126)","v":""},{"$f":"T(#REF!)","v":{"$error":"#REF!"}},{"$f":"T(#REF!)","v":{"$error":"#REF!"}},{"$f":"T(#REF!)","v":{"$error":"#REF!"}},{"$f":"T(#REF!)","v":{"$error":"#REF!"}},null,null,{"$f":"T(#REF!)","v":{"$error":"#REF!"}},{"$f":"T(#REF!)","v":{"$error":"#REF!"}},{"$f":"T(#REF!)","v":{"$error":"#REF!"}},{"$f":"T(#REF!)","v":{"$error":"#REF!"}},{"$f":"ESTIMATE!P126","v":0},null,{"$f":"T(ESTIMATE!S126)","v":""}]
[null,null,{"$f":"T(ESTIMATE!B127)","v":"Concrete Flatwork"},{"$f":"T(#REF!)","v":{"$error":"#REF!"}},{"$f":"T(#REF!)","v":{"$error":"#REF!"}},{"$f":"T(#REF!)","v":{"$error":"#REF!"}},{"$f":"T(#REF!)","v":{"$error":"#REF!"}},null,null,{"$f":"T(#REF!)","v":{"$error":"#REF!"}},{"$f":"T(#REF!)","v":{"$error":"#REF!"}},{"$f":"T(#REF!)","v":{"$error":"#REF!"}},{"$f":"T(#REF!)","v":{"$error":"#REF!"}},{"$f":"ESTIMATE!P127","v":0},null,{"$f":"T(ESTIMATE!S127)","v":""}]
[null,null,{"$f":"T(ESTIMATE!B128)","v":"Concrete bid/allowance"},{"$f":"T(#REF!)","v":{"$error":"#REF!"}},{"$f":"T(#REF!)","v":{"$error":"#REF!"}},{"$f":"T(#REF!)","v":{"$error":"#REF!"}},{"$f":"T(#REF!)","v":{"$error":"#REF!"}},null,null,{"$f":"T(#REF!)","v":{"$error":"#REF!"}},{"$f":"T(#REF!)","v":{"$error":"#REF!"}},{"$f":"T(#REF!)","v":{"$error":"#REF!"}},{"$f":"T(#REF!)","v":{"$error":"#REF!"}},{"$f":"ESTIMATE!P128","v":0},null,{"$f":"T(ESTIMATE!S128)","v":"ls"}]
[null,null,{"$f":"T(ESTIMATE!B129)","v":"Concrete flatwork demo"},{"$f":"T(#REF!)","v":{"$error":"#REF!"}},{"$f":"T(#REF!)","v":{"$error":"#REF!"}},{"$f":"T(#REF!)","v":{"$error":"#REF!"}},{"$f":"T(#REF!)","v":{"$error":"#REF!"}},null,null,{"$f":"T(#REF!)","v":{"$error":"#REF!"}},{"$f":"T(#REF!)","v":{"$error":"#REF!"}},{"$f":"T(#REF!)","v":{"$error":"#REF!"}},{"$f":"T(#REF!)","v":{"$error":"#REF!"}},{"$f":"ESTIMATE!P129","v":0},null,{"$f":"T(ESTIMATE!S129)","v":"sf"}]
[null,null,{"$f":"T(ESTIMATE!B130)","v":"Concrete driveway/patio, 6\" thick"},{"$f":"T(#REF!)","v":{"$error":"#REF!"}},{"$f":"T(#REF!)","v":{"$error":"#REF!"}},{"$f":"T(#REF!)","v":{"$error":"#REF!"}},{"$f":"T(#REF!)","v":{"$error":"#REF!"}},null,null,{"$f":"T(#REF!)","v":{"$error":"#REF!"}},{"$f":"T(#REF!)","v":{"$error":"#REF!"}},{"$f":"T(#REF!)","v":{"$error":"#REF!"}},{"$f":"T(#REF!)","v":{"$error":"#REF!"}},{"$f":"ESTIMATE!P130","v":0},null,{"$f":"T(ESTIMATE!S130)","v":"sf"}]
[null,null,{"$f":"T(ESTIMATE!B131)","v":"Concrete sidewalk, 4\" thick"},{"$f":"T(#REF!)","v":{"$error":"#REF!"}},{"$f":"T(#REF!)","v":{"$error":"#REF!"}},{"$f":"T(#REF!)","v":{"$error":"#REF!"}},{"$f":"T(#REF!)","v":{"$error":"#REF!"}},null,null,{"$f":"T(#REF!)","v":{"$error":"#REF!"}},{"$f":"T(#REF!)","v":{"$error":"#REF!"}},{"$f":"T(#REF!)","v":{"$error":"#REF!"}},{"$f":"T(#REF!)","v":{"$error":"#REF!"}},{"$f":"ESTIMATE!P131","v":0},null,{"$f":"T(ESTIMATE!S131)","v":"sf"}]
[null,null,{"$f":"T(ESTIMATE!B132)","v":""},{"$f":"T(#REF!)","v":{"$error":"#REF!"}},{"$f":"T(#REF!)","v":{"$error":"#REF!"}},{"$f":"T(#REF!)","v":{"$error":"#REF!"}},{"$f":"T(#REF!)","v":{"$error":"#REF!"}},null,null,{"$f":"T(#REF!)","v":{"$error":"#REF!"}},{"$f":"T(#REF!)","v":{"$error":"#REF!"}},{"$f":"T(#REF!)","v":{"$error":"#REF!"}},{"$f":"T(#REF!)","v":{"$error":"#REF!"}},{"$f":"ESTIMATE!P132","v":0},null,{"$f":"T(ESTIMATE!S132)","v":""}]
[null,null,{"$f":"T(ESTIMATE!B133)","v":""},{"$f":"T(#REF!)","v":{"$error":"#REF!"}},{"$f":"T(#REF!)","v":{"$error":"#REF!"}},{"$f":"T(#REF!)","v":{"$error":"#REF!"}},{"$f":"T(#REF!)","v":{"$error":"#REF!"}},null,null,{"$f":"T(#REF!)","v":{"$error":"#REF!"}},{"$f":"T(#REF!)","v":{"$error":"#REF!"}},{"$f":"T(#REF!)","v":{"$error":"#REF!"}},{"$f":"T(#REF!)","v":{"$error":"#REF!"}},{"$f":"ESTIMATE!P133","v":0},null,{"$f":"T(ESTIMATE!S133)","v":""}]
[null,null,{"$f":"T(ESTIMATE!B134)","v":"Asphalt"},{"$f":"T(#REF!)","v":{"$error":"#REF!"}},{"$f":"T(#REF!)","v":{"$error":"#REF!"}},{"$f":"T(#REF!)","v":{"$error":"#REF!"}},{"$f":"T(#REF!)","v":{"$error":"#REF!"}},null,null,{"$f":"T(#REF!)","v":{"$error":"#REF!"}},{"$f":"T(#REF!)","v":{"$error":"#REF!"}},{"$f":"T(#REF!)","v":{"$error":"#REF!"}},{"$f":"T(#REF!)","v":{"$error":"#REF!"}},{"$f":"ESTIMATE!P134","v":0},null,{"$f":"T(ESTIMATE!S134)","v":""}]
[null,null,{"$f":"T(ESTIMATE!B135)","v":"Asphalt bid/allowance"},{"$f":"T(#REF!)","v":{"$error":"#REF!"}},{"$f":"T(#REF!)","v":{"$error":"#REF!"}},{"$f":"T(#REF!)","v":{"$error":"#REF!"}},{"$f":"T(#REF!)","v":{"$error":"#REF!"}},null,null,{"$f":"T(#REF!)","v":{"$error":"#REF!"}},{"$f":"T(#REF!)","v":{"$error":"#REF!"}},{"$f":"T(#REF!)","v":{"$error":"#REF!"}},{"$f":"T(#REF!)","v":{"$error":"#REF!"}},{"$f":"ESTIMATE!P135","v":0},null,{"$f":"T(ESTIMATE!S135)","v":"ls"}]
[null,null,{"$f":"T(ESTIMATE!B136)","v":"Asphalt pavement, 5\" thick"},{"$f":"T(#REF!)","v":{"$error":"#REF!"}},{"$f":"T(#REF!)","v":{"$error":"#REF!"}},{"$f":"T(#REF!)","v":{"$error":"#REF!"}},{"$f":"T(#REF!)","v":{"$error":"#REF!"}},null,null,{"$f":"T(#REF!)","v":{"$error":"#REF!"}},{"$f":"T(#REF!)","v":{"$error":"#REF!"}},{"$f":"T(#REF!)","v":{"$error":"#REF!"}},{"$f":"T(#REF!)","v":{"$error":"#REF!"}},{"$f":"ESTIMATE!P136","v":0},null,{"$f":"T(ESTIMATE!S136)","v":"sy"}]
[null,null,{"$f":"T(ESTIMATE!B137)","v":"Asphalt pavement, 7\" thick"},{"$f":"T(#REF!)","v":{"$error":"#REF!"}},{"$f":"T(#REF!)","v":{"$error":"#REF!"}},{"$f":"T(#REF!)","v":{"$error":"#REF!"}},{"$f":"T(#REF!)","v":{"$error":"#REF!"}},null,null,{"$f":"T(#REF!)","v":{"$error":"#REF!"}},{"$f":"T(#REF!)","v":{"$error":"#REF!"}},{"$f":"T(#REF!)","v":{"$error":"#REF!"}},{"$f":"T(#REF!)","v":{"$error":"#REF!"}},{"$f":"ESTIMATE!P137","v":0},null,{"$f":"T(ESTIMATE!S137)","v":"sy"}]
[null,null,{"$f":"T(ESTIMATE!B138)","v":"Asphalt pavement, wearing course, 1\" thick only"},{"$f":"T(#REF!)","v":{"$error":"#REF!"}},{"$f":"T(#REF!)","v":{"$error":"#REF!"}},{"$f":"T(#REF!)","v":{"$error":"#REF!"}},{"$f":"T(#REF!)","v":{"$error":"#REF!"}},null,null,{"$f":"T(#REF!)","v":{"$error":"#REF!"}},{"$f":"T(#REF!)","v":{"$error":"#REF!"}},{"$f":"T(#REF!)","v":{"$error":"#REF!"}},{"$f":"T(#REF!)","v":{"$error":"#REF!"}},{"$f":"ESTIMATE!P138","v":0},null,{"$f":"T(ESTIMATE!S138)","v":"sy"}]
[null,null,{"$f":"T(ESTIMATE!B139)","v":"Asphalt seal coat"},{"$f":"T(#REF!)","v":{"$error":"#REF!"}},{"$f":"T(#REF!)","v":{"$error":"#REF!"}},{"$f":"T(#REF!)","v":{"$error":"#REF!"}},{"$f":"T(#REF!)","v":{"$error":"#REF!"}},null,null,{"$f":"T(#REF!)","v":{"$error":"#REF!"}},{"$f":"T(#REF!)","v":{"$error":"#REF!"}},{"$f":"T(#REF!)","v":{"$error":"#REF!"}},{"$f":"T(#REF!)","v":{"$error":"#REF!"}},{"$f":"ESTIMATE!P139","v":0},null,{"$f":"T(ESTIMATE!S139)","v":"sy"}]
[null,null,{"$f":"T(ESTIMATE!B140)","v":""},{"$f":"T(#REF!)","v":{"$error":"#REF!"}},{"$f":"T(#REF!)","v":{"$error":"#REF!"}},{"$f":"T(#REF!)","v":{"$error":"#REF!"}},{"$f":"T(#REF!)","v":{"$error":"#REF!"}},null,null,{"$f":"T(#REF!)","v":{"$error":"#REF!"}},{"$f":"T(#REF!)","v":{"$error":"#REF!"}},{"$f":"T(#REF!)","v":{"$error":"#REF!"}},{"$f":"T(#REF!)","v":{"$error":"#REF!"}},{"$f":"ESTIMATE!P140","v":0},null,{"$f":"T(ESTIMATE!S140)","v":""}]
[null,null,{"$f":"T(ESTIMATE!B141)","v":""},{"$f":"T(#REF!)","v":{"$error":"#REF!"}},{"$f":"T(#REF!)","v":{"$error":"#REF!"}},{"$f":"T(#REF!)","v":{"$error":"#REF!"}},{"$f":"T(#REF!)","v":{"$error":"#REF!"}},null,null,{"$f":"T(#REF!)","v":{"$error":"#REF!"}},{"$f":"T(#REF!)","v":{"$error":"#REF!"}},{"$f":"T(#REF!)","v":{"$error":"#REF!"}},{"$f":"T(#REF!)","v":{"$error":"#REF!"}},{"$f":"ESTIMATE!P141","v":0},null,{"$f":"T(ESTIMATE!S141)","v":""}]
[null,null,{"$f":"T(ESTIMATE!B142)","v":"Pavers"},{"$f":"T(#REF!)","v":{"$error":"#REF!"}},{"$f":"T(#REF!)","v":{"$error":"#REF!"}},{"$f":"T(#REF!)","v":{"$error":"#REF!"}},{"$f":"T(#REF!)","v":{"$error":"#REF!"}},null,null,{"$f":"T(#REF!)","v":{"$error":"#REF!"}},{"$f":"T(#REF!)","v":{"$error":"#REF!"}},{"$f":"T(#REF!)","v":{"$error":"#REF!"}},{"$f":"T(#REF!)","v":{"$error":"#REF!"}},{"$f":"ESTIMATE!P142","v":0},null,{"$f":"T(ESTIMATE!S142)","v":""}]
[null,null,{"$f":"T(ESTIMATE!B143)","v":"Pavers bid/allowance"},{"$f":"T(#REF!)","v":{"$error":"#REF!"}},{"$f":"T(#REF!)","v":{"$error":"#REF!"}},{"$f":"T(#REF!)","v":{"$error":"#REF!"}},{"$f":"T(#REF!)","v":{"$error":"#REF!"}},null,null,{"$f":"T(#REF!)","v":{"$error":"#REF!"}},{"$f":"T(#REF!)","v":{"$error":"#REF!"}},{"$f":"T(#REF!)","v":{"$error":"#REF!"}},{"$f":"T(#REF!)","v":{"$error":"#REF!"}},{"$f":"ESTIMATE!P143","v":0},null,{"$f":"T(ESTIMATE!S143)","v":"ls"}]
[null,null,{"$f":"T(ESTIMATE!B144)","v":"Brick pavers, sand base"},{"$f":"T(#REF!)","v":{"$error":"#REF!"}},{"$f":"T(#REF!)","v":{"$error":"#REF!"}},{"$f":"T(#REF!)","v":{"$error":"#REF!"}},{"$f":"T(#REF!)","v":{"$error":"#REF!"}},null,null,{"$f":"T(#REF!)","v":{"$error":"#REF!"}},{"$f":"T(#REF!)","v":{"$error":"#REF!"}},{"$f":"T(#REF!)","v":{"$error":"#REF!"}},{"$f":"T(#REF!)","v":{"$error":"#REF!"}},{"$f":"ESTIMATE!P144","v":0},null,{"$f":"T(ESTIMATE!S144)","v":"sf"}]
[null,null,{"$f":"T(ESTIMATE!B145)","v":"Brick pavers, mortar base"},{"$f":"T(#REF!)","v":{"$error":"#REF!"}},{"$f":"T(#REF!)","v":{"$error":"#REF!"}},{"$f":"T(#REF!)","v":{"$error":"#REF!"}},{"$f":"T(#REF!)","v":{"$error":"#REF!"}},null,null,{"$f":"T(#REF!)","v":{"$error":"#REF!"}},{"$f":"T(#REF!)","v":{"$error":"#REF!"}},{"$f":"T(#REF!)","v":{"$error":"#REF!"}},{"$f":"T(#REF!)","v":{"$error":"#REF!"}},{"$f":"ESTIMATE!P145","v":0},null,{"$f":"T(ESTIMATE!S145)","v":"sf"}]
[null,null,{"$f":"T(ESTIMATE!B146)","v":""},{"$f":"T(#REF!)","v":{"$error":"#REF!"}},{"$f":"T(#REF!)","v":{"$error":"#REF!"}},{"$f":"T(#REF!)","v":{"$error":"#REF!"}},{"$f":"T(#REF!)","v":{"$error":"#REF!"}},null,null,{"$f":"T(#REF!)","v":{"$error":"#REF!"}},{"$f":"T(#REF!)","v":{"$error":"#REF!"}},{"$f":"T(#REF!)","v":{"$error":"#REF!"}},{"$f":"T(#REF!)","v":{"$error":"#REF!"}},{"$f":"ESTIMATE!P146","v":0},null,{"$f":"T(ESTIMATE!S146)","v":""}]
[null,null,{"$f":"T(ESTIMATE!B151)","v":"SIDING"},{"$f":"T(#REF!)","v":{"$error":"#REF!"}},{"$f":"T(#REF!)","v":{"$error":"#REF!"}},{"$f":"T(#REF!)","v":{"$error":"#REF!"}},{"$f":"T(#REF!)","v":{"$error":"#REF!"}},null,null,{"$f":"T(#REF!)","v":{"$error":"#REF!"}},{"$f":"T(#REF!)","v":{"$error":"#REF!"}},{"$f":"T(#REF!)","v":{"$error":"#REF!"}},{"$f":"T(#REF!)","v":{"$error":"#REF!"}},{"$f":"SUM(N162:O201)","v":0}]
[null,null,{"$f":"T(ESTIMATE!B152)","v":"Siding"},{"$f":"T(#REF!)","v":{"$error":"#REF!"}},{"$f":"T(#REF!)","v":{"$error":"#REF!"}},{"$f":"T(#REF!)","v":{"$error":"#REF!"}},{"$f":"T(#REF!)","v":{"$error":"#REF!"}},null,null,{"$f":"T(#REF!)","v":{"$error":"#REF!"}},{"$f":"T(#REF!)","v":{"$error":"#REF!"}},{"$f":"T(#REF!)","v":{"$error":"#REF!"}},{"$f":"T(#REF!)","v":{"$error":"#REF!"}},{"$f":"ESTIMATE!P152","v":0},null,{"$f":"T(ESTIMATE!S152)","v":""}]
[null,null,{"$f":"T(ESTIMATE!B153)","v":"Siding bid/allowance"},{"$f":"T(#REF!)","v":{"$error":"#REF!"}},{"$f":"T(#REF!)","v":{"$error":"#REF!"}},{"$f":"T(#REF!)","v":{"$error":"#REF!"}},{"$f":"T(#REF!)","v":{"$error":"#REF!"}},null,null,{"$f":"T(#REF!)","v":{"$error":"#REF!"}},{"$f":"T(#REF!)","v":{"$error":"#REF!"}},{"$f":"T(#REF!)","v":{"$error":"#REF!"}},{"$f":"T(#REF!)","v":{"$error":"#REF!"}},{"$f":"ESTIMATE!P153","v":0},null,{"$f":"T(ESTIMATE!S153)","v":"ls"}]
[null,null,{"$f":"T(ESTIMATE!B154)","v":"Demo existing siding"},{"$f":"T(#REF!)","v":{"$error":"#REF!"}},{"$f":"T(#REF!)","v":{"$error":"#REF!"}},{"$f":"T(#REF!)","v":{"$error":"#REF!"}},{"$f":"T(#REF!)","v":{"$error":"#REF!"}},null,null,{"$f":"T(#REF!)","v":{"$error":"#REF!"}},{"$f":"T(#REF!)","v":{"$error":"#REF!"}},{"$f":"T(#REF!)","v":{"$error":"#REF!"}},{"$f":"T(#REF!)","v":{"$error":"#REF!"}},{"$f":"ESTIMATE!P154","v":0},null,{"$f":"T(ESTIMATE!S154)","v":"sf"}]
[null,null,{"$f":"T(ESTIMATE!B155)","v":"Plywood panel, douglas fir"},{"$f":"T(#REF!)","v":{"$error":"#REF!"}},{"$f":"T(#REF!)","v":{"$error":"#REF!"}},{"$f":"T(#REF!)","v":{"$error":"#REF!"}},{"$f":"T(#REF!)","v":{"$error":"#REF!"}},null,null,{"$f":"T(#REF!)","v":{"$error":"#REF!"}},{"$f":"T(#REF!)","v":{"$error":"#REF!"}},{"$f":"T(#REF!)","v":{"$error":"#REF!"}},{"$f":"T(#REF!)","v":{"$error":"#REF!"}},{"$f":"ESTIMATE!P155","v":0},null,{"$f":"T(ESTIMATE!S155)","v":"sf"}]
[null,null,{"$f":"T(ESTIMATE!B156)","v":"Plywood panel, cedar"},{"$f":"T(#REF!)","v":{"$error":"#REF!"}},{"$f":"T(#REF!)","v":{"$error":"#REF!"}},{"$f":"T(#REF!)","v":{"$error":"#REF!"}},{"$f":"T(#REF!)","v":{"$error":"#REF!"}},null,null,{"$f":"T(#REF!)","v":{"$error":"#REF!"}},{"$f":"T(#REF!)","v":{"$error":"#REF!"}},{"$f":"T(#REF!)","v":{"$error":"#REF!"}},{"$f":"T(#REF!)","v":{"$error":"#REF!"}},{"$f":"ESTIMATE!P156","v":0},null,{"$f":"T(ESTIMATE!S156)","v":"sf"}]
[null,null,{"$f":"T(ESTIMATE!B157)","v":"Tongue and groove, douglas fir"},{"$f":"T(#REF!)","v":{"$error":"#REF!"}},{"$f":"T(#REF!)","v":{"$error":"#REF!"}},{"$f":"T(#REF!)","v":{"$error":"#REF!"}},{"$f":"T(#REF!)","v":{"$error":"#REF!"}},null,null,{"$f":"T(#REF!)","v":{"$error":"#REF!"}},{"$f":"T(#REF!)","v":{"$error":"#REF!"}},{"$f":"T(#REF!)","v":{"$error":"#REF!"}},{"$f":"T(#REF!)","v":{"$error":"#REF!"}},{"$f":"ESTIMATE!P157","v":0},null,{"$f":"T(ESTIMATE!S157)","v":"sf"}]
[null,null,{"$f":"T(ESTIMATE!B158)","v":"Tongue and groove, cedar"},{"$f":"T(#REF!)","v":{"$error":"#REF!"}},{"$f":"T(#REF!)","v":{"$error":"#REF!"}},{"$f":"T(#REF!)","v":{"$error":"#REF!"}},{"$f":"T(#REF!)","v":{"$error":"#REF!"}},null,null,{"$f":"T(#REF!)","v":{"$error":"#REF!"}},{"$f":"T(#REF!)","v":{"$error":"#REF!"}},{"$f":"T(#REF!)","v":{"$error":"#REF!"}},{"$f":"T(#REF!)","v":{"$error":"#REF!"}},{"$f":"ESTIMATE!P158","v":0},null,{"$f":"T(ESTIMATE!S158)","v":"sf"}]
[null,null,{"$f":"T(ESTIMATE!B159)","v":"Board and batten, douglas fir"},{"$f":"T(#REF!)","v":{"$error":"#REF!"}},{"$f":"T(#REF!)","v":{"$error":"#REF!"}},{"$f":"T(#REF!)","v":{"$error":"#REF!"}},{"$f":"T(#REF!)","v":{"$error":"#REF!"}},null,null,{"$f":"T(#REF!)","v":{"$error":"#REF!"}},{"$f":"T(#REF!)","v":{"$error":"#REF!"}},{"$f":"T(#REF!)","v":{"$error":"#REF!"}},{"$f":"T(#REF!)","v":{"$error":"#REF!"}},{"$f":"ESTIMATE!P159","v":0},null,{"$f":"T(ESTIMATE!S159)","v":"sf"}]
[null,null,{"$f":"T(ESTIMATE!B160)","v":"Board and batten, cedar"},{"$f":"T(#REF!)","v":{"$error":"#REF!"}},{"$f":"T(#REF!)","v":{"$error":"#REF!"}},{"$f":"T(#REF!)","v":{"$error":"#REF!"}},{"$f":"T(#REF!)","v":{"$error":"#REF!"}},null,null,{"$f":"T(#REF!)","v":{"$error":"#REF!"}},{"$f":"T(#REF!)","v":{"$error":"#REF!"}},{"$f":"T(#REF!)","v":{"$error":"#REF!"}},{"$f":"T(#REF!)","v":{"$error":"#REF!"}},{"$f":"ESTIMATE!P160","v":0},null,{"$f":"T(ESTIMATE!S160)","v":"sf"}]
[null,null,{"$f":"T(ESTIMATE!B161)","v":"Wood shingle/shake"},{"$f":"T(#REF!)","v":{"$error":"#REF!"}},{"$f":"T(#REF!)","v":{"$error":"#REF!"}},{"$f":"T(#REF!)","v":{"$error":"#REF!"}},{"$f":"T(#REF!)","v":{"$error":"#REF!"}},null,null,{"$f":"T(#REF!)","v":{"$error":"#REF!"}},{"$f":"T(#REF!)","v":{"$error":"#REF!"}},{"$f":"T(#REF!)","v":{"$error":"#REF!"}},{"$f":"T(#REF!)","v":{"$error":"#REF!"}},{"$f":"ESTIMATE!P161","v":0},null,{"$f":"T(ESTIMATE!S161)","v":"sf"}]
[null,null,{"$f":"T(ESTIMATE!B162)","v":"Fiber cement siding, 4x8 panels"},{"$f":"T(#REF!)","v":{"$error":"#REF!"}},{"$f":"T(#REF!)","v":{"$error":"#REF!"}},{"$f":"T(#REF!)","v":{"$error":"#REF!"}},{"$f":"T(#REF!)","v":{"$error":"#REF!"}},null,null,{"$f":"T(#REF!)","v":{"$error":"#REF!"}},{"$f":"T(#REF!)","v":{"$error":"#REF!"}},{"$f":"T(#REF!)","v":{"$error":"#REF!"}},{"$f":"T(#REF!)","v":{"$error":"#REF!"}},{"$f":"ESTIMATE!P162","v":0},null,{"$f":"T(ESTIMATE!S162)","v":"sf"}]
[null,null,{"$f":"T(ESTIMATE!B163)","v":"Fiber cement siding, lap"},{"$f":"T(#REF!)","v":{"$error":"#REF!"}},{"$f":"T(#REF!)","v":{"$error":"#REF!"}},{"$f":"T(#REF!)","v":{"$error":"#REF!"}},{"$f":"T(#REF!)","v":{"$error":"#REF!"}},null,null,{"$f":"T(#REF!)","v":{"$error":"#REF!"}},{"$f":"T(#REF!)","v":{"$error":"#REF!"}},{"$f":"T(#REF!)","v":{"$error":"#REF!"}},{"$f":"T(#REF!)","v":{"$error":"#REF!"}},{"$f":"ESTIMATE!P163","v":0},null,{"$f":"T(ESTIMATE!S163)","v":"sf"}]
[null,null,{"$f":"T(ESTIMATE!B164)","v":"Vinyl siding, non-insulated"},{"$f":"T(#REF!)","v":{"$error":"#REF!"}},{"$f":"T(#REF!)","v":{"$error":"#REF!"}},{"$f":"T(#REF!)","v":{"$error":"#REF!"}},{"$f":"T(#REF!)","v":{"$error":"#REF!"}},null,null,{"$f":"T(#REF!)","v":{"$error":"#REF!"}},{"$f":"T(#REF!)","v":{"$error":"#REF!"}},{"$f":"T(#REF!)","v":{"$error":"#REF!"}},{"$f":"T(#REF!)","v":{"$error":"#REF!"}},{"$f":"ESTIMATE!P164","v":0},null,{"$f":"T(ESTIMATE!S164)","v":"sf"}]
[null,null,{"$f":"T(ESTIMATE!B165)","v":"Vinyl siding, insulated"},{"$f":"T(#REF!)","v":{"$error":"#REF!"}},{"$f":"T(#REF!)","v":{"$error":"#REF!"}},{"$f":"T(#REF!)","v":{"$error":"#REF!"}},{"$f":"T(#REF!)","v":{"$error":"#REF!"}},null,null,{"$f":"T(#REF!)","v":{"$error":"#REF!"}},{"$f":"T(#REF!)","v":{"$error":"#REF!"}},{"$f":"T(#REF!)","v":{"$error":"#REF!"}},{"$f":"T(#REF!)","v":{"$error":"#REF!"}},{"$f":"ESTIMATE!P165","v":0},null,{"$f":"T(ESTIMATE!S165)","v":"sf"}]
[null,null,{"$f":"T(ESTIMATE!B166)","v":"Trim, 1\"x3\", pine"},{"$f":"T(#REF!)","v":{"$error":"#REF!"}},{"$f":"T(#REF!)","v":{"$error":"#REF!"}},{"$f":"T(#REF!)","v":{"$error":"#REF!"}},{"$f":"T(#REF!)","v":{"$error":"#REF!"}},null,null,{"$f":"T(#REF!)","v":{"$error":"#REF!"}},{"$f":"T(#REF!)","v":{"$error":"#REF!"}},{"$f":"T(#REF!)","v":{"$error":"#REF!"}},{"$f":"T(#REF!)","v":{"$error":"#REF!"}},{"$f":"ESTIMATE!P166","v":0},null,{"$f":"T(ESTIMATE!S166)","v":"lf"}]
[null,null,{"$f":"T(ESTIMATE!B167)","v":"Trim, 1\"x4\", pine"},{"$f":"T(#REF!)","v":{"$error":"#REF!"}},{"$f":"T(#REF!)","v":{"$error":"#REF!"}},{"$f":"T(#REF!)","v":{"$error":"#REF!"}},{"$f":"T(#REF!)","v":{"$error":"#REF!"}},null,null,{"$f":"T(#REF!)","v":{"$error":"#REF!"}},{"$f":"T(#REF!)","v":{"$error":"#REF!"}},{"$f":"T(#REF!)","v":{"$error":"#REF!"}},{"$f":"T(#REF!)","v":{"$error":"#REF!"}},{"$f":"ESTIMATE!P167","v":0},null,{"$f":"T(ESTIMATE!S167)","v":"lf"}]
[null,null,{"$f":"T(ESTIMATE!B168)","v":"Trim, 1\"x6\", pine"},{"$f":"T(#REF!)","v":{"$error":"#REF!"}},{"$f":"T(#REF!)","v":{"$error":"#REF!"}},{"$f":"T(#REF!)","v":{"$error":"#REF!"}},{"$f":"T(#REF!)","v":{"$error":"#REF!"}},null,null,{"$f":"T(#REF!)","v":{"$error":"#REF!"}},{"$f":"T(#REF!)","v":{"$error":"#REF!"}},{"$f":"T(#REF!)","v":{"$error":"#REF!"}},{"$f":"T(#REF!)","v":{"$error":"#REF!"}},{"$f":"ESTIMATE!P168","v":0},null,{"$f":"T(ESTIMATE!S168)","v":"lf"}]
[null,null,{"$f":"T(ESTIMATE!B169)","v":"Siding patch, window/door, siding, insulation"},{"$f":"T(#REF!)","v":{"$error":"#REF!"}},{"$f":"T(#REF!)","v":{"$error":"#REF!"}},{"$f":"T(#REF!)","v":{"$error":"#REF!"}},{"$f":"T(#REF!)","v":{"$error":"#REF!"}},null,null,{"$f":"T(#REF!)","v":{"$error":"#REF!"}},{"$f":"T(#REF!)","v":{"$error":"#REF!"}},{"$f":"T(#REF!)","v":{"$error":"#REF!"}},{"$f":"T(#REF!)","v":{"$error":"#REF!"}},{"$f":"ESTIMATE!P169","v":0},null,{"$f":"T(ESTIMATE!S169)","v":"ea"}]
[null,null,{"$f":"T(ESTIMATE!B170)","v":"Stucco"},{"$f":"T(#REF!)","v":{"$error":"#REF!"}},{"$f":"T(#REF!)","v":{"$error":"#REF!"}},{"$f":"T(#REF!)","v":{"$error":"#REF!"}},{"$f":"T(#REF!)","v":{"$error":"#REF!"}},null,null,{"$f":"T(#REF!)","v":{"$error":"#REF!"}},{"$f":"T(#REF!)","v":{"$error":"#REF!"}},{"$f":"T(#REF!)","v":{"$error":"#REF!"}},{"$f":"T(#REF!)","v":{"$error":"#REF!"}},{"$f":"ESTIMATE!P170","v":0},null,{"$f":"T(ESTIMATE!S170)","v":"sf"}]
[null,null,{"$f":"T(ESTIMATE!B171)","v":""},{"$f":"T(#REF!)","v":{"$error":"#REF!"}},{"$f":"T(#REF!)","v":{"$error":"#REF!"}},{"$f":"T(#REF!)","v":{"$error":"#REF!"}},{"$f":"T(#REF!)","v":{"$error":"#REF!"}},null,null,{"$f":"T(#REF!)","v":{"$error":"#REF!"}},{"$f":"T(#REF!)","v":{"$error":"#REF!"}},{"$f":"T(#REF!)","v":{"$error":"#REF!"}},{"$f":"T(#REF!)","v":{"$error":"#REF!"}},{"$f":"ESTIMATE!P171","v":0},null,{"$f":"T(ESTIMATE!S171)","v":""}]
[null,null,{"$f":"T(ESTIMATE!B172)","v":""},{"$f":"T(#REF!)","v":{"$error":"#REF!"}},{"$f":"T(#REF!)","v":{"$error":"#REF!"}},{"$f":"T(#REF!)","v":{"$error":"#REF!"}},{"$f":"T(#REF!)","v":{"$error":"#REF!"}},null,null,{"$f":"T(#REF!)","v":{"$error":"#REF!"}},{"$f":"T(#REF!)","v":{"$error":"#REF!"}},{"$f":"T(#REF!)","v":{"$error":"#REF!"}},{"$f":"T(#REF!)","v":{"$error":"#REF!"}},{"$f":"ESTIMATE!P172","v":0},null,{"$f":"T(ESTIMATE!S172)","v":""}]
[null,null,{"$f":"T(ESTIMATE!B173)","v":"Masonry"},{"$f":"T(#REF!)","v":{"$error":"#REF!"}},{"$f":"T(#REF!)","v":{"$error":"#REF!"}},{"$f":"T(#REF!)","v":{"$error":"#REF!"}},{"$f":"T(#REF!)","v":{"$error":"#REF!"}},null,null,{"$f":"T(#REF!)","v":{"$error":"#REF!"}},{"$f":"T(#REF!)","v":{"$error":"#REF!"}},{"$f":"T(#REF!)","v":{"$error":"#REF!"}},{"$f":"T(#REF!)","v":{"$error":"#REF!"}},{"$f":"ESTIMATE!P173","v":0},null,{"$f":"T(ESTIMATE!S173)","v":""}]
[null,null,{"$f":"T(ESTIMATE!B174)","v":"Masonry bid/allowance"},{"$f":"T(#REF!)","v":{"$error":"#REF!"}},{"$f":"T(#REF!)","v":{"$error":"#REF!"}},{"$f":"T(#REF!)","v":{"$error":"#REF!"}},{"$f":"T(#REF!)","v":{"$error":"#REF!"}},null,null,{"$f":"T(#REF!)","v":{"$error":"#REF!"}},{"$f":"T(#REF!)","v":{"$error":"#REF!"}},{"$f":"T(#REF!)","v":{"$error":"#REF!"}},{"$f":"T(#REF!)","v":{"$error":"#REF!"}},{"$f":"ESTIMATE!P174","v":0},null,{"$f":"T(ESTIMATE!S174)","v":"ls"}]
[null,null,{"$f":"T(ESTIMATE!B175)","v":"CMU, 4x8"},{"$f":"T(#REF!)","v":{"$error":"#REF!"}},{"$f":"T(#REF!)","v":{"$error":"#REF!"}},{"$f":"T(#REF!)","v":{"$error":"#REF!"}},{"$f":"T(#REF!)","v":{"$error":"#REF!"}},null,null,{"$f":"T(#REF!)","v":{"$error":"#REF!"}},{"$f":"T(#REF!)","v":{"$error":"#REF!"}},{"$f":"T(#REF!)","v":{"$error":"#REF!"}},{"$f":"T(#REF!)","v":{"$error":"#REF!"}},{"$f":"ESTIMATE!P175","v":0},null,{"$f":"T(ESTIMATE!S175)","v":"sf"}]
[null,null,{"$f":"T(ESTIMATE!B176)","v":"CMU, 8x8"},{"$f":"T(#REF!)","v":{"$error":"#REF!"}},{"$f":"T(#REF!)","v":{"$error":"#REF!"}},{"$f":"T(#REF!)","v":{"$error":"#REF!"}},{"$f":"T(#REF!)","v":{"$error":"#REF!"}},null,null,{"$f":"T(#REF!)","v":{"$error":"#REF!"}},{"$f":"T(#REF!)","v":{"$error":"#REF!"}},{"$f":"T(#REF!)","v":{"$error":"#REF!"}},{"$f":"T(#REF!)","v":{"$error":"#REF!"}},{"$f":"ESTIMATE!P176","v":0},null,{"$f":"T(ESTIMATE!S176)","v":"sf"}]
[null,null,{"$f":"T(ESTIMATE!B177)","v":"Brick veneer"},{"$f":"T(#REF!)","v":{"$error":"#REF!"}},{"$f":"T(#REF!)","v":{"$error":"#REF!"}},{"$f":"T(#REF!)","v":{"$error":"#REF!"}},{"$f":"T(#REF!)","v":{"$error":"#REF!"}},null,null,{"$f":"T(#REF!)","v":{"$error":"#REF!"}},{"$f":"T(#REF!)","v":{"$error":"#REF!"}},{"$f":"T(#REF!)","v":{"$error":"#REF!"}},{"$f":"T(#REF!)","v":{"$error":"#REF!"}},{"$f":"ESTIMATE!P177","v":0},null,{"$f":"T(ESTIMATE!S177)","v":"sf"}]
[null,null,{"$f":"T(ESTIMATE!B178)","v":"Natural stone"},{"$f":"T(#REF!)","v":{"$error":"#REF!"}},{"$f":"T(#REF!)","v":{"$error":"#REF!"}},{"$f":"T(#REF!)","v":{"$error":"#REF!"}},{"$f":"T(#REF!)","v":{"$error":"#REF!"}},null,null,{"$f":"T(#REF!)","v":{"$error":"#REF!"}},{"$f":"T(#REF!)","v":{"$error":"#REF!"}},{"$f":"T(#REF!)","v":{"$error":"#REF!"}},{"$f":"T(#REF!)","v":{"$error":"#REF!"}},{"$f":"ESTIMATE!P178","v":0},null,{"$f":"T(ESTIMATE!S178)","v":"sf"}]
[null,null,{"$f":"T(ESTIMATE!B179)","v":"Masonry waterproofing"},{"$f":"T(#REF!)","v":{"$error":"#REF!"}},{"$f":"T(#REF!)","v":{"$error":"#REF!"}},{"$f":"T(#REF!)","v":{"$error":"#REF!"}},{"$f":"T(#REF!)","v":{"$error":"#REF!"}},null,null,{"$f":"T(#REF!)","v":{"$error":"#REF!"}},{"$f":"T(#REF!)","v":{"$error":"#REF!"}},{"$f":"T(#REF!)","v":{"$error":"#REF!"}},{"$f":"T(#REF!)","v":{"$error":"#REF!"}},{"$f":"ESTIMATE!P179","v":0},null,{"$f":"T(ESTIMATE!S179)","v":"sf"}]
[null,null,{"$f":"T(ESTIMATE!B180)","v":"Tuck-point masonry"},{"$f":"T(#REF!)","v":{"$error":"#REF!"}},{"$f":"T(#REF!)","v":{"$error":"#REF!"}},{"$f":"T(#REF!)","v":{"$error":"#REF!"}},{"$f":"T(#REF!)","v":{"$error":"#REF!"}},null,null,{"$f":"T(#REF!)","v":{"$error":"#REF!"}},{"$f":"T(#REF!)","v":{"$error":"#REF!"}},{"$f":"T(#REF!)","v":{"$error":"#REF!"}},{"$f":"T(#REF!)","v":{"$error":"#REF!"}},{"$f":"ESTIMATE!P180","v":0},null,{"$f":"T(ESTIMATE!S180)","v":"sf"}]
[null,null,{"$f":"T(ESTIMATE!B181)","v":"Power wash masonry"},{"$f":"T(#REF!)","v":{"$error":"#REF!"}},{"$f":"T(#REF!)","v":{"$error":"#REF!"}},{"$f":"T(#REF!)","v":{"$error":"#REF!"}},{"$f":"T(#REF!)","v":{"$error":"#REF!"}},null,null,{"$f":"T(#REF!)","v":{"$error":"#REF!"}},{"$f":"T(#REF!)","v":{"$error":"#REF!"}},{"$f":"T(#REF!)","v":{"$error":"#REF!"}},{"$f":"T(#REF!)","v":{"$error":"#REF!"}},{"$f":"ESTIMATE!P181","v":0},null,{"$f":"T(ESTIMATE!S181)","v":"sf"}]
[null,null,{"$f":"T(ESTIMATE!B182)","v":"Chimney, brick "},{"$f":"T(#REF!)","v":{"$error":"#REF!"}},{"$f":"T(#REF!)","v":{"$error":"#REF!"}},{"$f":"T(#REF!)","v":{"$error":"#REF!"}},{"$f":"T(#REF!)","v":{"$error":"#REF!"}},null,null,{"$f":"T(#REF!)","v":{"$error":"#REF!"}},{"$f":"T(#REF!)","v":{"$error":"#REF!"}},{"$f":"T(#REF!)","v":{"$error":"#REF!"}},{"$f":"T(#REF!)","v":{"$error":"#REF!"}},{"$f":"ESTIMATE!P182","v":0},null,{"$f":"T(ESTIMATE!S182)","v":"vlf"}]
[null,null,{"$f":"T(ESTIMATE!B183)","v":"Chimney, stone"},{"$f":"T(#REF!)","v":{"$error":"#REF!"}},{"$f":"T(#REF!)","v":{"$error":"#REF!"}},{"$f":"T(#REF!)","v":{"$error":"#REF!"}},{"$f":"T(#REF!)","v":{"$error":"#REF!"}},null,null,{"$f":"T(#REF!)","v":{"$error":"#REF!"}},{"$f":"T(#REF!)","v":{"$error":"#REF!"}},{"$f":"T(#REF!)","v":{"$error":"#REF!"}},{"$f":"T(#REF!)","v":{"$error":"#REF!"}},{"$f":"ESTIMATE!P183","v":0},null,{"$f":"T(ESTIMATE!S183)","v":"vlf"}]
[null,null,{"$f":"T(ESTIMATE!B184)","v":"Add to above for chimney cap"},{"$f":"T(#REF!)","v":{"$error":"#REF!"}},{"$f":"T(#REF!)","v":{"$error":"#REF!"}},{"$f":"T(#REF!)","v":{"$error":"#REF!"}},{"$f":"T(#REF!)","v":{"$error":"#REF!"}},null,null,{"$f":"T(#REF!)","v":{"$error":"#REF!"}},{"$f":"T(#REF!)","v":{"$error":"#REF!"}},{"$f":"T(#REF!)","v":{"$error":"#REF!"}},{"$f":"T(#REF!)","v":{"$error":"#REF!"}},{"$f":"ESTIMATE!P184","v":0},null,{"$f":"T(ESTIMATE!S184)","v":"ea"}]
[null,null,{"$f":"T(ESTIMATE!B185)","v":"Fireplace complete, brick, 3ft-4ft wide w/ chimney"},{"$f":"T(#REF!)","v":{"$error":"#REF!"}},{"$f":"T(#REF!)","v":{"$error":"#REF!"}},{"$f":"T(#REF!)","v":{"$error":"#REF!"}},{"$f":"T(#REF!)","v":{"$error":"#REF!"}},null,null,{"$f":"T(#REF!)","v":{"$error":"#REF!"}},{"$f":"T(#REF!)","v":{"$error":"#REF!"}},{"$f":"T(#REF!)","v":{"$error":"#REF!"}},{"$f":"T(#REF!)","v":{"$error":"#REF!"}},{"$f":"ESTIMATE!P185","v":0},null,{"$f":"T(ESTIMATE!S185)","v":"ea"}]
[null,null,{"$f":"T(ESTIMATE!B186)","v":""},{"$f":"T(#REF!)","v":{"$error":"#REF!"}},{"$f":"T(#REF!)","v":{"$error":"#REF!"}},{"$f":"T(#REF!)","v":{"$error":"#REF!"}},{"$f":"T(#REF!)","v":{"$error":"#REF!"}},null,null,{"$f":"T(#REF!)","v":{"$error":"#REF!"}},{"$f":"T(#REF!)","v":{"$error":"#REF!"}},{"$f":"T(#REF!)","v":{"$error":"#REF!"}},{"$f":"T(#REF!)","v":{"$error":"#REF!"}},{"$f":"ESTIMATE!P186","v":0},null,{"$f":"T(ESTIMATE!S186)","v":""}]
[null,null,{"$f":"T(ESTIMATE!B187)","v":""},{"$f":"T(#REF!)","v":{"$error":"#REF!"}},{"$f":"T(#REF!)","v":{"$error":"#REF!"}},{"$f":"T(#REF!)","v":{"$error":"#REF!"}},{"$f":"T(#REF!)","v":{"$error":"#REF!"}},null,null,{"$f":"T(#REF!)","v":{"$error":"#REF!"}},{"$f":"T(#REF!)","v":{"$error":"#REF!"}},{"$f":"T(#REF!)","v":{"$error":"#REF!"}},{"$f":"T(#REF!)","v":{"$error":"#REF!"}},{"$f":"ESTIMATE!P187","v":0},null,{"$f":"T(ESTIMATE!S187)","v":""}]
[null,null,{"$f":"T(ESTIMATE!B188)","v":""},{"$f":"T(#REF!)","v":{"$error":"#REF!"}},{"$f":"T(#REF!)","v":{"$error":"#REF!"}},{"$f":"T(#REF!)","v":{"$error":"#REF!"}},{"$f":"T(#REF!)","v":{"$error":"#REF!"}},null,null,{"$f":"T(#REF!)","v":{"$error":"#REF!"}},{"$f":"T(#REF!)","v":{"$error":"#REF!"}},{"$f":"T(#REF!)","v":{"$error":"#REF!"}},{"$f":"T(#REF!)","v":{"$error":"#REF!"}},{"$f":"ESTIMATE!P188","v":0},null,{"$f":"T(ESTIMATE!S188)","v":""}]
[null,null,{"$f":"T(ESTIMATE!B189)","v":""},{"$f":"T(#REF!)","v":{"$error":"#REF!"}},{"$f":"T(#REF!)","v":{"$error":"#REF!"}},{"$f":"T(#REF!)","v":{"$error":"#REF!"}},{"$f":"T(#REF!)","v":{"$error":"#REF!"}},null,null,{"$f":"T(#REF!)","v":{"$error":"#REF!"}},{"$f":"T(#REF!)","v":{"$error":"#REF!"}},{"$f":"T(#REF!)","v":{"$error":"#REF!"}},{"$f":"T(#REF!)","v":{"$error":"#REF!"}},{"$f":"ESTIMATE!P189","v":0},null,{"$f":"T(ESTIMATE!S189)","v":""}]
[null,null,{"$f":"T(ESTIMATE!B190)","v":""},{"$f":"T(#REF!)","v":{"$error":"#REF!"}},{"$f":"T(#REF!)","v":{"$error":"#REF!"}},{"$f":"T(#REF!)","v":{"$error":"#REF!"}},{"$f":"T(#REF!)","v":{"$error":"#REF!"}},null,null,{"$f":"T(#REF!)","v":{"$error":"#REF!"}},{"$f":"T(#REF!)","v":{"$error":"#REF!"}},{"$f":"T(#REF!)","v":{"$error":"#REF!"}},{"$f":"T(#REF!)","v":{"$error":"#REF!"}},{"$f":"ESTIMATE!P190","v":0},null,{"$f":"T(ESTIMATE!S190)","v":""}]
[null,null,{"$f":"T(ESTIMATE!B191)","v":""},{"$f":"T(#REF!)","v":{"$error":"#REF!"}},{"$f":"T(#REF!)","v":{"$error":"#REF!"}},{"$f":"T(#REF!)","v":{"$error":"#REF!"}},{"$f":"T(#REF!)","v":{"$error":"#REF!"}},null,null,{"$f":"T(#REF!)","v":{"$error":"#REF!"}},{"$f":"T(#REF!)","v":{"$error":"#REF!"}},{"$f":"T(#REF!)","v":{"$error":"#REF!"}},{"$f":"T(#REF!)","v":{"$error":"#REF!"}},{"$f":"ESTIMATE!P191","v":0},null,{"$f":"T(ESTIMATE!S191)","v":""}]
[null,null,{"$f":"T(ESTIMATE!B196)","v":"ROOFING"},{"$f":"T(#REF!)","v":{"$error":"#REF!"}},{"$f":"T(#REF!)","v":{"$error":"#REF!"}},{"$f":"T(#REF!)","v":{"$error":"#REF!"}},{"$f":"T(#REF!)","v":{"$error":"#REF!"}},null,null,{"$f":"T(#REF!)","v":{"$error":"#REF!"}},{"$f":"T(#REF!)","v":{"$error":"#REF!"}},{"$f":"T(#REF!)","v":{"$error":"#REF!"}},{"$f":"T(#REF!)","v":{"$error":"#REF!"}},{"$f":"SUM(N203:O242)","v":0}]
[null,null,{"$f":"T(ESTIMATE!B197)","v":"Roofing bid/allowance"},{"$f":"T(#REF!)","v":{"$error":"#REF!"}},{"$f":"T(#REF!)","v":{"$error":"#REF!"}},{"$f":"T(#REF!)","v":{"$error":"#REF!"}},{"$f":"T(#REF!)","v":{"$error":"#REF!"}},null,null,{"$f":"T(#REF!)","v":{"$error":"#REF!"}},{"$f":"T(#REF!)","v":{"$error":"#REF!"}},{"$f":"T(#REF!)","v":{"$error":"#REF!"}},{"$f":"T(#REF!)","v":{"$error":"#REF!"}},{"$f":"ESTIMATE!P197","v":0},null,{"$f":"T(ESTIMATE!S197)","v":"ls"}]
[null,null,{"$f":"T(ESTIMATE!B198)","v":"Asphalt shingle roof"},{"$f":"T(#REF!)","v":{"$error":"#REF!"}},{"$f":"T(#REF!)","v":{"$error":"#REF!"}},{"$f":"T(#REF!)","v":{"$error":"#REF!"}},{"$f":"T(#REF!)","v":{"$error":"#REF!"}},null,null,{"$f":"T(#REF!)","v":{"$error":"#REF!"}},{"$f":"T(#REF!)","v":{"$error":"#REF!"}},{"$f":"T(#REF!)","v":{"$error":"#REF!"}},{"$f":"T(#REF!)","v":{"$error":"#REF!"}},{"$f":"ESTIMATE!P198","v":0},null,{"$f":"T(ESTIMATE!S198)","v":""}]
[null,null,{"$f":"T(ESTIMATE!B199)","v":"Roof repair/patch, asphalt"},{"$f":"T(#REF!)","v":{"$error":"#REF!"}},{"$f":"T(#REF!)","v":{"$error":"#REF!"}},{"$f":"T(#REF!)","v":{"$error":"#REF!"}},{"$f":"T(#REF!)","v":{"$error":"#REF!"}},null,null,{"$f":"T(#REF!)","v":{"$error":"#REF!"}},{"$f":"T(#REF!)","v":{"$error":"#REF!"}},{"$f":"T(#REF!)","v":{"$error":"#REF!"}},{"$f":"T(#REF!)","v":{"$error":"#REF!"}},{"$f":"ESTIMATE!P199","v":0},null,{"$f":"T(ESTIMATE!S199)","v":"ea"}]
[null,null,{"$f":"T(ESTIMATE!B200)","v":"Roof replacement-demo & replace, 3-tab"},{"$f":"T(#REF!)","v":{"$error":"#REF!"}},{"$f":"T(#REF!)","v":{"$error":"#REF!"}},{"$f":"T(#REF!)","v":{"$error":"#REF!"}},{"$f":"T(#REF!)","v":{"$error":"#REF!"}},null,null,{"$f":"T(#REF!)","v":{"$error":"#REF!"}},{"$f":"T(#REF!)","v":{"$error":"#REF!"}},{"$f":"T(#REF!)","v":{"$error":"#REF!"}},{"$f":"T(#REF!)","v":{"$error":"#REF!"}},{"$f":"ESTIMATE!P200","v":0},null,{"$f":"T(ESTIMATE!S200)","v":"sq"}]
[null,null,{"$f":"T(ESTIMATE!B201)","v":"Roof replacement-demo & replace, architectural"},{"$f":"T(#REF!)","v":{"$error":"#REF!"}},{"$f":"T(#REF!)","v":{"$error":"#REF!"}},{"$f":"T(#REF!)","v":{"$error":"#REF!"}},{"$f":"T(#REF!)","v":{"$error":"#REF!"}},null,null,{"$f":"T(#REF!)","v":{"$error":"#REF!"}},{"$f":"T(#REF!)","v":{"$error":"#REF!"}},{"$f":"T(#REF!)","v":{"$error":"#REF!"}},{"$f":"T(#REF!)","v":{"$error":"#REF!"}},{"$f":"ESTIMATE!P201","v":0},null,{"$f":"T(ESTIMATE!S201)","v":"sq"}]
[null,null,{"$f":"T(ESTIMATE!B202)","v":"Premium for 3 layer tear off"},{"$f":"T(#REF!)","v":{"$error":"#REF!"}},{"$f":"T(#REF!)","v":{"$error":"#REF!"}},{"$f":"T(#REF!)","v":{"$error":"#REF!"}},{"$f":"T(#REF!)","v":{"$error":"#REF!"}},null,null,{"$f":"T(#REF!)","v":{"$error":"#REF!"}},{"$f":"T(#REF!)","v":{"$error":"#REF!"}},{"$f":"T(#REF!)","v":{"$error":"#REF!"}},{"$f":"T(#REF!)","v":{"$error":"#REF!"}},{"$f":"ESTIMATE!P202","v":0},null,{"$f":"T(ESTIMATE!S202)","v":"sq"}]
[null,null,{"$f":"T(ESTIMATE!B203)","v":"Premium for steep pitch roof"},{"$f":"T(#REF!)","v":{"$error":"#REF!"}},{"$f":"T(#REF!)","v":{"$error":"#REF!"}},{"$f":"T(#REF!)","v":{"$error":"#REF!"}},{"$f":"T(#REF!)","v":{"$error":"#REF!"}},null,null,{"$f":"T(#REF!)","v":{"$error":"#REF!"}},{"$f":"T(#REF!)","v":{"$error":"#REF!"}},{"$f":"T(#REF!)","v":{"$error":"#REF!"}},{"$f":"T(#REF!)","v":{"$error":"#REF!"}},{"$f":"ESTIMATE!P203","v":0},null,{"$f":"T(ESTIMATE!S203)","v":"sq"}]
[null,null,{"$f":"T(ESTIMATE!B204)","v":""},{"$f":"T(#REF!)","v":{"$error":"#REF!"}},{"$f":"T(#REF!)","v":{"$error":"#REF!"}},{"$f":"T(#REF!)","v":{"$error":"#REF!"}},{"$f":"T(#REF!)","v":{"$error":"#REF!"}},null,null,{"$f":"T(#REF!)","v":{"$error":"#REF!"}},{"$f":"T(#REF!)","v":{"$error":"#REF!"}},{"$f":"T(#REF!)","v":{"$error":"#REF!"}},{"$f":"T(#REF!)","v":{"$error":"#REF!"}},{"$f":"ESTIMATE!P204","v":0},null,{"$f":"T(ESTIMATE!S204)","v":""}]
[null,null,{"$f":"T(ESTIMATE!B205)","v":"Wood Shingle Roof"},{"$f":"T(#REF!)","v":{"$error":"#REF!"}},{"$f":"T(#REF!)","v":{"$error":"#REF!"}},{"$f":"T(#REF!)","v":{"$error":"#REF!"}},{"$f":"T(#REF!)","v":{"$error":"#REF!"}},null,null,{"$f":"T(#REF!)","v":{"$error":"#REF!"}},{"$f":"T(#REF!)","v":{"$error":"#REF!"}},{"$f":"T(#REF!)","v":{"$error":"#REF!"}},{"$f":"T(#REF!)","v":{"$error":"#REF!"}},{"$f":"ESTIMATE!P205","v":0},null,{"$f":"T(ESTIMATE!S205)","v":""}]
[null,null,{"$f":"T(ESTIMATE!B206)","v":"Roof repair/patch, wood"},{"$f":"T(#REF!)","v":{"$error":"#REF!"}},{"$f":"T(#REF!)","v":{"$error":"#REF!"}},{"$f":"T(#REF!)","v":{"$error":"#REF!"}},{"$f":"T(#REF!)","v":{"$error":"#REF!"}},null,null,{"$f":"T(#REF!)","v":{"$error":"#REF!"}},{"$f":"T(#REF!)","v":{"$error":"#REF!"}},{"$f":"T(#REF!)","v":{"$error":"#REF!"}},{"$f":"T(#REF!)","v":{"$error":"#REF!"}},{"$f":"ESTIMATE!P206","v":0},null,{"$f":"T(ESTIMATE!S206)","v":"ea"}]
[null,null,{"$f":"T(ESTIMATE!B207)","v":"Roof replacement-demo & replace, 3-tab"},{"$f":"T(#REF!)","v":{"$error":"#REF!"}},{"$f":"T(#REF!)","v":{"$error":"#REF!"}},{"$f":"T(#REF!)","v":{"$error":"#REF!"}},{"$f":"T(#REF!)","v":{"$error":"#REF!"}},null,null,{"$f":"T(#REF!)","v":{"$error":"#REF!"}},{"$f":"T(#REF!)","v":{"$error":"#REF!"}},{"$f":"T(#REF!)","v":{"$error":"#REF!"}},{"$f":"T(#REF!)","v":{"$error":"#REF!"}},{"$f":"ESTIMATE!P207","v":0},null,{"$f":"T(ESTIMATE!S207)","v":"sq"}]
[null,null,{"$f":"T(ESTIMATE!B208)","v":"Wood shingle, low end"},{"$f":"T(#REF!)","v":{"$error":"#REF!"}},{"$f":"T(#REF!)","v":{"$error":"#REF!"}},{"$f":"T(#REF!)","v":{"$error":"#REF!"}},{"$f":"T(#REF!)","v":{"$error":"#REF!"}},null,null,{"$f":"T(#REF!)","v":{"$error":"#REF!"}},{"$f":"T(#REF!)","v":{"$error":"#REF!"}},{"$f":"T(#REF!)","v":{"$error":"#REF!"}},{"$f":"T(#REF!)","v":{"$error":"#REF!"}},{"$f":"ESTIMATE!P208","v":0},null,{"$f":"T(ESTIMATE!S208)","v":"sq"}]
[null,null,{"$f":"T(ESTIMATE!B209)","v":"Wood shingle, high end"},{"$f":"T(#REF!)","v":{"$error":"#REF!"}},{"$f":"T(#REF!)","v":{"$error":"#REF!"}},{"$f":"T(#REF!)","v":{"$error":"#REF!"}},{"$f":"T(#REF!)","v":{"$error":"#REF!"}},null,null,{"$f":"T(#REF!)","v":{"$error":"#REF!"}},{"$f":"T(#REF!)","v":{"$error":"#REF!"}},{"$f":"T(#REF!)","v":{"$error":"#REF!"}},{"$f":"T(#REF!)","v":{"$error":"#REF!"}},{"$f":"ESTIMATE!P209","v":0},null,{"$f":"T(ESTIMATE!S209)","v":"sq"}]
[null,null,{"$f":"T(ESTIMATE!B210)","v":"Roof sheathing, plywood 1/2\", remove & install"},{"$f":"T(#REF!)","v":{"$error":"#REF!"}},{"$f":"T(#REF!)","v":{"$error":"#REF!"}},{"$f":"T(#REF!)","v":{"$error":"#REF!"}},{"$f":"T(#REF!)","v":{"$error":"#REF!"}},null,null,{"$f":"T(#REF!)","v":{"$error":"#REF!"}},{"$f":"T(#REF!)","v":{"$error":"#REF!"}},{"$f":"T(#REF!)","v":{"$error":"#REF!"}},{"$f":"T(#REF!)","v":{"$error":"#REF!"}},{"$f":"ESTIMATE!P210","v":0},null,{"$f":"T(ESTIMATE!S210)","v":"sheet"}]
[null,null,{"$f":"T(ESTIMATE!B211)","v":""},{"$f":"T(#REF!)","v":{"$error":"#REF!"}},{"$f":"T(#REF!)","v":{"$error":"#REF!"}},{"$f":"T(#REF!)","v":{"$error":"#REF!"}},{"$f":"T(#REF!)","v":{"$error":"#REF!"}},null,null,{"$f":"T(#REF!)","v":{"$error":"#REF!"}},{"$f":"T(#REF!)","v":{"$error":"#REF!"}},{"$f":"T(#REF!)","v":{"$error":"#REF!"}},{"$f":"T(#REF!)","v":{"$error":"#REF!"}},{"$f":"ESTIMATE!P211","v":0},null,{"$f":"T(ESTIMATE!S211)","v":""}]
[null,null,{"$f":"T(ESTIMATE!B212)","v":"Slate/Clay Tile"},{"$f":"T(#REF!)","v":{"$error":"#REF!"}},{"$f":"T(#REF!)","v":{"$error":"#REF!"}},{"$f":"T(#REF!)","v":{"$error":"#REF!"}},{"$f":"T(#REF!)","v":{"$error":"#REF!"}},null,null,{"$f":"T(#REF!)","v":{"$error":"#REF!"}},{"$f":"T(#REF!)","v":{"$error":"#REF!"}},{"$f":"T(#REF!)","v":{"$error":"#REF!"}},{"$f":"T(#REF!)","v":{"$error":"#REF!"}},{"$f":"ESTIMATE!P212","v":0},null,{"$f":"T(ESTIMATE!S212)","v":""}]
[null,null,{"$f":"T(ESTIMATE!B213)","v":"Roof replacement-demo & replace, slate"},{"$f":"T(#REF!)","v":{"$error":"#REF!"}},{"$f":"T(#REF!)","v":{"$error":"#REF!"}},{"$f":"T(#REF!)","v":{"$error":"#REF!"}},{"$f":"T(#REF!)","v":{"$error":"#REF!"}},null,null,{"$f":"T(#REF!)","v":{"$error":"#REF!"}},{"$f":"T(#REF!)","v":{"$error":"#REF!"}},{"$f":"T(#REF!)","v":{"$error":"#REF!"}},{"$f":"T(#REF!)","v":{"$error":"#REF!"}},{"$f":"ESTIMATE!P213","v":0},null,{"$f":"T(ESTIMATE!S213)","v":"sq"}]
[null,null,{"$f":"T(ESTIMATE!B214)","v":""},{"$f":"T(#REF!)","v":{"$error":"#REF!"}},{"$f":"T(#REF!)","v":{"$error":"#REF!"}},{"$f":"T(#REF!)","v":{"$error":"#REF!"}},{"$f":"T(#REF!)","v":{"$error":"#REF!"}},null,null,{"$f":"T(#REF!)","v":{"$error":"#REF!"}},{"$f":"T(#REF!)","v":{"$error":"#REF!"}},{"$f":"T(#REF!)","v":{"$error":"#REF!"}},{"$f":"T(#REF!)","v":{"$error":"#REF!"}},{"$f":"ESTIMATE!P214","v":0},null,{"$f":"T(ESTIMATE!S214)","v":""}]
[null,null,{"$f":"T(ESTIMATE!B215)","v":"Gutters & downspouts, aluminum"},{"$f":"T(#REF!)","v":{"$error":"#REF!"}},{"$f":"T(#REF!)","v":{"$error":"#REF!"}},{"$f":"T(#REF!)","v":{"$error":"#REF!"}},{"$f":"T(#REF!)","v":{"$error":"#REF!"}},null,null,{"$f":"T(#REF!)","v":{"$error":"#REF!"}},{"$f":"T(#REF!)","v":{"$error":"#REF!"}},{"$f":"T(#REF!)","v":{"$error":"#REF!"}},{"$f":"T(#REF!)","v":{"$error":"#REF!"}},{"$f":"ESTIMATE!P215","v":0},null,{"$f":"T(ESTIMATE!S215)","v":"lf"}]
[null,null,{"$f":"T(ESTIMATE!B216)","v":"Clean gutters & downspouts"},{"$f":"T(#REF!)","v":{"$error":"#REF!"}},{"$f":"T(#REF!)","v":{"$error":"#REF!"}},{"$f":"T(#REF!)","v":{"$error":"#REF!"}},{"$f":"T(#REF!)","v":{"$error":"#REF!"}},null,null,{"$f":"T(#REF!)","v":{"$error":"#REF!"}},{"$f":"T(#REF!)","v":{"$error":"#REF!"}},{"$f":"T(#REF!)","v":{"$error":"#REF!"}},{"$f":"T(#REF!)","v":{"$error":"#REF!"}},{"$f":"ESTIMATE!P216","v":0},null,{"$f":"T(ESTIMATE!S216)","v":""}]
[null,null,{"$f":"T(ESTIMATE!B217)","v":""},{"$f":"T(#REF!)","v":{"$error":"#REF!"}},{"$f":"T(#REF!)","v":{"$error":"#REF!"}},{"$f":"T(#REF!)","v":{"$error":"#REF!"}},{"$f":"T(#REF!)","v":{"$error":"#REF!"}},null,null,{"$f":"T(#REF!)","v":{"$error":"#REF!"}},{"$f":"T(#REF!)","v":{"$error":"#REF!"}},{"$f":"T(#REF!)","v":{"$error":"#REF!"}},{"$f":"T(#REF!)","v":{"$error":"#REF!"}},{"$f":"ESTIMATE!P217","v":0},null,{"$f":"T(ESTIMATE!S217)","v":""}]
[null,null,{"$f":"T(ESTIMATE!B218)","v":""},{"$f":"T(#REF!)","v":{"$error":"#REF!"}},{"$f":"T(#REF!)","v":{"$error":"#REF!"}},{"$f":"T(#REF!)","v":{"$error":"#REF!"}},{"$f":"T(#REF!)","v":{"$error":"#REF!"}},null,null,{"$f":"T(#REF!)","v":{"$error":"#REF!"}},{"$f":"T(#REF!)","v":{"$error":"#REF!"}},{"$f":"T(#REF!)","v":{"$error":"#REF!"}},{"$f":"T(#REF!)","v":{"$error":"#REF!"}},{"$f":"ESTIMATE!P218","v":0},null,{"$f":"T(ESTIMATE!S218)","v":""}]
[null,null,{"$f":"T(ESTIMATE!B219)","v":""},{"$f":"T(#REF!)","v":{"$error":"#REF!"}},{"$f":"T(#REF!)","v":{"$error":"#REF!"}},{"$f":"T(#REF!)","v":{"$error":"#REF!"}},{"$f":"T(#REF!)","v":{"$error":"#REF!"}},null,null,{"$f":"T(#REF!)","v":{"$error":"#REF!"}},{"$f":"T(#REF!)","v":{"$error":"#REF!"}},{"$f":"T(#REF!)","v":{"$error":"#REF!"}},{"$f":"T(#REF!)","v":{"$error":"#REF!"}},{"$f":"ESTIMATE!P219","v":0},null,{"$f":"T(ESTIMATE!S219)","v":""}]
[null,null,{"$f":"T(ESTIMATE!B220)","v":""},{"$f":"T(#REF!)","v":{"$error":"#REF!"}},{"$f":"T(#REF!)","v":{"$error":"#REF!"}},{"$f":"T(#REF!)","v":{"$error":"#REF!"}},{"$f":"T(#REF!)","v":{"$error":"#REF!"}},null,null,{"$f":"T(#REF!)","v":{"$error":"#REF!"}},{"$f":"T(#REF!)","v":{"$error":"#REF!"}},{"$f":"T(#REF!)","v":{"$error":"#REF!"}},{"$f":"T(#REF!)","v":{"$error":"#REF!"}},{"$f":"ESTIMATE!P220","v":0},null,{"$f":"T(ESTIMATE!S220)","v":""}]
[null,null,{"$f":"T(ESTIMATE!B221)","v":""},{"$f":"T(#REF!)","v":{"$error":"#REF!"}},{"$f":"T(#REF!)","v":{"$error":"#REF!"}},{"$f":"T(#REF!)","v":{"$error":"#REF!"}},{"$f":"T(#REF!)","v":{"$error":"#REF!"}},null,null,{"$f":"T(#REF!)","v":{"$error":"#REF!"}},{"$f":"T(#REF!)","v":{"$error":"#REF!"}},{"$f":"T(#REF!)","v":{"$error":"#REF!"}},{"$f":"T(#REF!)","v":{"$error":"#REF!"}},{"$f":"ESTIMATE!P221","v":0},null,{"$f":"T(ESTIMATE!S221)","v":""}]
[null,null,{"$f":"T(ESTIMATE!B222)","v":""},{"$f":"T(#REF!)","v":{"$error":"#REF!"}},{"$f":"T(#REF!)","v":{"$error":"#REF!"}},{"$f":"T(#REF!)","v":{"$error":"#REF!"}},{"$f":"T(#REF!)","v":{"$error":"#REF!"}},null,null,{"$f":"T(#REF!)","v":{"$error":"#REF!"}},{"$f":"T(#REF!)","v":{"$error":"#REF!"}},{"$f":"T(#REF!)","v":{"$error":"#REF!"}},{"$f":"T(#REF!)","v":{"$error":"#REF!"}},{"$f":"ESTIMATE!P222","v":0},null,{"$f":"T(ESTIMATE!S222)","v":""}]
[null,null,{"$f":"T(ESTIMATE!B223)","v":""},{"$f":"T(#REF!)","v":{"$error":"#REF!"}},{"$f":"T(#REF!)","v":{"$error":"#REF!"}},{"$f":"T(#REF!)","v":{"$error":"#REF!"}},{"$f":"T(#REF!)","v":{"$error":"#REF!"}},null,null,{"$f":"T(#REF!)","v":{"$error":"#REF!"}},{"$f":"T(#REF!)","v":{"$error":"#REF!"}},{"$f":"T(#REF!)","v":{"$error":"#REF!"}},{"$f":"T(#REF!)","v":{"$error":"#REF!"}},{"$f":"ESTIMATE!P223","v":0},null,{"$f":"T(ESTIMATE!S223)","v":""}]
[null,null,{"$f":"T(ESTIMATE!B224)","v":""},{"$f":"T(#REF!)","v":{"$error":"#REF!"}},{"$f":"T(#REF!)","v":{"$error":"#REF!"}},{"$f":"T(#REF!)","v":{"$error":"#REF!"}},{"$f":"T(#REF!)","v":{"$error":"#REF!"}},null,null,{"$f":"T(#REF!)","v":{"$error":"#REF!"}},{"$f":"T(#REF!)","v":{"$error":"#REF!"}},{"$f":"T(#REF!)","v":{"$error":"#REF!"}},{"$f":"T(#REF!)","v":{"$error":"#REF!"}},{"$f":"ESTIMATE!P224","v":0},null,{"$f":"T(ESTIMATE!S224)","v":""}]
[null,null,{"$f":"T(ESTIMATE!B225)","v":""},{"$f":"T(#REF!)","v":{"$error":"#REF!"}},{"$f":"T(#REF!)","v":{"$error":"#REF!"}},{"$f":"T(#REF!)","v":{"$error":"#REF!"}},{"$f":"T(#REF!)","v":{"$error":"#REF!"}},null,null,{"$f":"T(#REF!)","v":{"$error":"#REF!"}},{"$f":"T(#REF!)","v":{"$error":"#REF!"}},{"$f":"T(#REF!)","v":{"$error":"#REF!"}},{"$f":"T(#REF!)","v":{"$error":"#REF!"}},{"$f":"ESTIMATE!P225","v":0},null,{"$f":"T(ESTIMATE!S225)","v":""}]
[null,null,{"$f":"T(ESTIMATE!B226)","v":""},{"$f":"T(#REF!)","v":{"$error":"#REF!"}},{"$f":"T(#REF!)","v":{"$error":"#REF!"}},{"$f":"T(#REF!)","v":{"$error":"#REF!"}},{"$f":"T(#REF!)","v":{"$error":"#REF!"}},null,null,{"$f":"T(#REF!)","v":{"$error":"#REF!"}},{"$f":"T(#REF!)","v":{"$error":"#REF!"}},{"$f":"T(#REF!)","v":{"$error":"#REF!"}},{"$f":"T(#REF!)","v":{"$error":"#REF!"}},{"$f":"ESTIMATE!P226","v":0},null,{"$f":"T(ESTIMATE!S226)","v":""}]
[null,null,{"$f":"T(ESTIMATE!B227)","v":""},{"$f":"T(#REF!)","v":{"$error":"#REF!"}},{"$f":"T(#REF!)","v":{"$error":"#REF!"}},{"$f":"T(#REF!)","v":{"$error":"#REF!"}},{"$f":"T(#REF!)","v":{"$error":"#REF!"}},null,null,{"$f":"T(#REF!)","v":{"$error":"#REF!"}},{"$f":"T(#REF!)","v":{"$error":"#REF!"}},{"$f":"T(#REF!)","v":{"$error":"#REF!"}},{"$f":"T(#REF!)","v":{"$error":"#REF!"}},{"$f":"ESTIMATE!P227","v":0},null,{"$f":"T(ESTIMATE!S227)","v":""}]
[null,null,{"$f":"T(ESTIMATE!B228)","v":""},{"$f":"T(#REF!)","v":{"$error":"#REF!"}},{"$f":"T(#REF!)","v":{"$error":"#REF!"}},{"$f":"T(#REF!)","v":{"$error":"#REF!"}},{"$f":"T(#REF!)","v":{"$error":"#REF!"}},null,null,{"$f":"T(#REF!)","v":{"$error":"#REF!"}},{"$f":"T(#REF!)","v":{"$error":"#REF!"}},{"$f":"T(#REF!)","v":{"$error":"#REF!"}},{"$f":"T(#REF!)","v":{"$error":"#REF!"}},{"$f":"ESTIMATE!P228","v":0},null,{"$f":"T(ESTIMATE!S228)","v":""}]
[null,null,{"$f":"T(ESTIMATE!B229)","v":""},{"$f":"T(#REF!)","v":{"$error":"#REF!"}},{"$f":"T(#REF!)","v":{"$error":"#REF!"}},{"$f":"T(#REF!)","v":{"$error":"#REF!"}},{"$f":"T(#REF!)","v":{"$error":"#REF!"}},null,null,{"$f":"T(#REF!)","v":{"$error":"#REF!"}},{"$f":"T(#REF!)","v":{"$error":"#REF!"}},{"$f":"T(#REF!)","v":{"$error":"#REF!"}},{"$f":"T(#REF!)","v":{"$error":"#REF!"}},{"$f":"ESTIMATE!P229","v":0},null,{"$f":"T(ESTIMATE!S229)","v":""}]
[null,null,{"$f":"T(ESTIMATE!B230)","v":""},{"$f":"T(#REF!)","v":{"$error":"#REF!"}},{"$f":"T(#REF!)","v":{"$error":"#REF!"}},{"$f":"T(#REF!)","v":{"$error":"#REF!"}},{"$f":"T(#REF!)","v":{"$error":"#REF!"}},null,null,{"$f":"T(#REF!)","v":{"$error":"#REF!"}},{"$f":"T(#REF!)","v":{"$error":"#REF!"}},{"$f":"T(#REF!)","v":{"$error":"#REF!"}},{"$f":"T(#REF!)","v":{"$error":"#REF!"}},{"$f":"ESTIMATE!P230","v":0},null,{"$f":"T(ESTIMATE!S230)","v":""}]
[null,null,{"$f":"T(ESTIMATE!B231)","v":""},{"$f":"T(#REF!)","v":{"$error":"#REF!"}},{"$f":"T(#REF!)","v":{"$error":"#REF!"}},{"$f":"T(#REF!)","v":{"$error":"#REF!"}},{"$f":"T(#REF!)","v":{"$error":"#REF!"}},null,null,{"$f":"T(#REF!)","v":{"$error":"#REF!"}},{"$f":"T(#REF!)","v":{"$error":"#REF!"}},{"$f":"T(#REF!)","v":{"$error":"#REF!"}},{"$f":"T(#REF!)","v":{"$error":"#REF!"}},{"$f":"ESTIMATE!P231","v":0},null,{"$f":"T(ESTIMATE!S231)","v":""}]
[null,null,{"$f":"T(ESTIMATE!B232)","v":""},{"$f":"T(#REF!)","v":{"$error":"#REF!"}},{"$f":"T(#REF!)","v":{"$error":"#REF!"}},{"$f":"T(#REF!)","v":{"$error":"#REF!"}},{"$f":"T(#REF!)","v":{"$error":"#REF!"}},null,null,{"$f":"T(#REF!)","v":{"$error":"#REF!"}},{"$f":"T(#REF!)","v":{"$error":"#REF!"}},{"$f":"T(#REF!)","v":{"$error":"#REF!"}},{"$f":"T(#REF!)","v":{"$error":"#REF!"}},{"$f":"ESTIMATE!P232","v":0},null,{"$f":"T(ESTIMATE!S232)","v":""}]
[null,null,{"$f":"T(ESTIMATE!B233)","v":""},{"$f":"T(#REF!)","v":{"$error":"#REF!"}},{"$f":"T(#REF!)","v":{"$error":"#REF!"}},{"$f":"T(#REF!)","v":{"$error":"#REF!"}},{"$f":"T(#REF!)","v":{"$error":"#REF!"}},null,null,{"$f":"T(#REF!)","v":{"$error":"#REF!"}},{"$f":"T(#REF!)","v":{"$error":"#REF!"}},{"$f":"T(#REF!)","v":{"$error":"#REF!"}},{"$f":"T(#REF!)","v":{"$error":"#REF!"}},{"$f":"ESTIMATE!P233","v":0},null,{"$f":"T(ESTIMATE!S233)","v":""}]
[null,null,{"$f":"T(ESTIMATE!B234)","v":""},{"$f":"T(#REF!)","v":{"$error":"#REF!"}},{"$f":"T(#REF!)","v":{"$error":"#REF!"}},{"$f":"T(#REF!)","v":{"$error":"#REF!"}},{"$f":"T(#REF!)","v":{"$error":"#REF!"}},null,null,{"$f":"T(#REF!)","v":{"$error":"#REF!"}},{"$f":"T(#REF!)","v":{"$error":"#REF!"}},{"$f":"T(#REF!)","v":{"$error":"#REF!"}},{"$f":"T(#REF!)","v":{"$error":"#REF!"}},{"$f":"ESTIMATE!P234","v":0},null,{"$f":"T(ESTIMATE!S234)","v":""}]
[null,null,{"$f":"T(ESTIMATE!B235)","v":""},{"$f":"T(#REF!)","v":{"$error":"#REF!"}},{"$f":"T(#REF!)","v":{"$error":"#REF!"}},{"$f":"T(#REF!)","v":{"$error":"#REF!"}},{"$f":"T(#REF!)","v":{"$error":"#REF!"}},null,null,{"$f":"T(#REF!)","v":{"$error":"#REF!"}},{"$f":"T(#REF!)","v":{"$error":"#REF!"}},{"$f":"T(#REF!)","v":{"$error":"#REF!"}},{"$f":"T(#REF!)","v":{"$error":"#REF!"}},{"$f":"ESTIMATE!P235","v":0},null,{"$f":"T(ESTIMATE!S235)","v":""}]
[null,null,{"$f":"T(ESTIMATE!B236)","v":""},{"$f":"T(#REF!)","v":{"$error":"#REF!"}},{"$f":"T(#REF!)","v":{"$error":"#REF!"}},{"$f":"T(#REF!)","v":{"$error":"#REF!"}},{"$f":"T(#REF!)","v":{"$error":"#REF!"}},null,null,{"$f":"T(#REF!)","v":{"$error":"#REF!"}},{"$f":"T(#REF!)","v":{"$error":"#REF!"}},{"$f":"T(#REF!)","v":{"$error":"#REF!"}},{"$f":"T(#REF!)","v":{"$error":"#REF!"}},{"$f":"ESTIMATE!P236","v":0},null,{"$f":"T(ESTIMATE!S236)","v":""}]
[null,null,{"$f":"T(ESTIMATE!B241)","v":"EXT. DOORS & WINDOWS"},{"$f":"T(#REF!)","v":{"$error":"#REF!"}},{"$f":"T(#REF!)","v":{"$error":"#REF!"}},{"$f":"T(#REF!)","v":{"$error":"#REF!"}},{"$f":"T(#REF!)","v":{"$error":"#REF!"}},null,null,{"$f":"T(#REF!)","v":{"$error":"#REF!"}},{"$f":"T(#REF!)","v":{"$error":"#REF!"}},{"$f":"T(#REF!)","v":{"$error":"#REF!"}},{"$f":"T(#REF!)","v":{"$error":"#REF!"}},{"$f":"SUM(N244:O283)","v":0}]
[null,null,{"$f":"T(ESTIMATE!B242)","v":"Exterior Doors"},{"$f":"T(#REF!)","v":{"$error":"#REF!"}},{"$f":"T(#REF!)","v":{"$error":"#REF!"}},{"$f":"T(#REF!)","v":{"$error":"#REF!"}},{"$f":"T(#REF!)","v":{"$error":"#REF!"}},null,null,{"$f":"T(#REF!)","v":{"$error":"#REF!"}},{"$f":"T(#REF!)","v":{"$error":"#REF!"}},{"$f":"T(#REF!)","v":{"$error":"#REF!"}},{"$f":"T(#REF!)","v":{"$error":"#REF!"}},{"$f":"ESTIMATE!P242","v":0},null,{"$f":"T(ESTIMATE!S242)","v":""}]
[null,null,{"$f":"T(ESTIMATE!B243)","v":"Exterior doors bid/allowance"},{"$f":"T(#REF!)","v":{"$error":"#REF!"}},{"$f":"T(#REF!)","v":{"$error":"#REF!"}},{"$f":"T(#REF!)","v":{"$error":"#REF!"}},{"$f":"T(#REF!)","v":{"$error":"#REF!"}},null,null,{"$f":"T(#REF!)","v":{"$error":"#REF!"}},{"$f":"T(#REF!)","v":{"$error":"#REF!"}},{"$f":"T(#REF!)","v":{"$error":"#REF!"}},{"$f":"T(#REF!)","v":{"$error":"#REF!"}},{"$f":"ESTIMATE!P243","v":0},null,{"$f":"T(ESTIMATE!S243)","v":"ls"}]
[null,null,{"$f":"T(ESTIMATE!B244)","v":"Steel entry door,  single"},{"$f":"T(#REF!)","v":{"$error":"#REF!"}},{"$f":"T(#REF!)","v":{"$error":"#REF!"}},{"$f":"T(#REF!)","v":{"$error":"#REF!"}},{"$f":"T(#REF!)","v":{"$error":"#REF!"}},null,null,{"$f":"T(#REF!)","v":{"$error":"#REF!"}},{"$f":"T(#REF!)","v":{"$error":"#REF!"}},{"$f":"T(#REF!)","v":{"$error":"#REF!"}},{"$f":"T(#REF!)","v":{"$error":"#REF!"}},{"$f":"ESTIMATE!P244","v":0},null,{"$f":"T(ESTIMATE!S244)","v":"ea"}]
[null,null,{"$f":"T(ESTIMATE!B245)","v":"French patio door, pair"},{"$f":"T(#REF!)","v":{"$error":"#REF!"}},{"$f":"T(#REF!)","v":{"$error":"#REF!"}},{"$f":"T(#REF!)","v":{"$error":"#REF!"}},{"$f":"T(#REF!)","v":{"$error":"#REF!"}},null,null,{"$f":"T(#REF!)","v":{"$error":"#REF!"}},{"$f":"T(#REF!)","v":{"$error":"#REF!"}},{"$f":"T(#REF!)","v":{"$error":"#REF!"}},{"$f":"T(#REF!)","v":{"$error":"#REF!"}},{"$f":"ESTIMATE!P245","v":0},null,{"$f":"T(ESTIMATE!S245)","v":"ea"}]
[null,null,{"$f":"T(ESTIMATE!B246)","v":"Exterior door hardware w/ dead bolt "},{"$f":"T(#REF!)","v":{"$error":"#REF!"}},{"$f":"T(#REF!)","v":{"$error":"#REF!"}},{"$f":"T(#REF!)","v":{"$error":"#REF!"}},{"$f":"T(#REF!)","v":{"$error":"#REF!"}},null,null,{"$f":"T(#REF!)","v":{"$error":"#REF!"}},{"$f":"T(#REF!)","v":{"$error":"#REF!"}},{"$f":"T(#REF!)","v":{"$error":"#REF!"}},{"$f":"T(#REF!)","v":{"$error":"#REF!"}},{"$f":"ESTIMATE!P246","v":0},null,{"$f":"T(ESTIMATE!S246)","v":"ea"}]
[null,null,{"$f":"T(ESTIMATE!B247)","v":"Glass storm door, single"},{"$f":"T(#REF!)","v":{"$error":"#REF!"}},{"$f":"T(#REF!)","v":{"$error":"#REF!"}},{"$f":"T(#REF!)","v":{"$error":"#REF!"}},{"$f":"T(#REF!)","v":{"$error":"#REF!"}},null,null,{"$f":"T(#REF!)","v":{"$error":"#REF!"}},{"$f":"T(#REF!)","v":{"$error":"#REF!"}},{"$f":"T(#REF!)","v":{"$error":"#REF!"}},{"$f":"T(#REF!)","v":{"$error":"#REF!"}},{"$f":"ESTIMATE!P247","v":0},null,{"$f":"T(ESTIMATE!S247)","v":"ea"}]
[null,null,{"$f":"T(ESTIMATE!B248)","v":"Sliding glass door, vinyl, double"},{"$f":"T(#REF!)","v":{"$error":"#REF!"}},{"$f":"T(#REF!)","v":{"$error":"#REF!"}},{"$f":"T(#REF!)","v":{"$error":"#REF!"}},{"$f":"T(#REF!)","v":{"$error":"#REF!"}},null,null,{"$f":"T(#REF!)","v":{"$error":"#REF!"}},{"$f":"T(#REF!)","v":{"$error":"#REF!"}},{"$f":"T(#REF!)","v":{"$error":"#REF!"}},{"$f":"T(#REF!)","v":{"$error":"#REF!"}},{"$f":"ESTIMATE!P248","v":0},null,{"$f":"T(ESTIMATE!S248)","v":"ea"}]
[null,null,{"$f":"T(ESTIMATE!B249)","v":""},{"$f":"T(#REF!)","v":{"$error":"#REF!"}},{"$f":"T(#REF!)","v":{"$error":"#REF!"}},{"$f":"T(#REF!)","v":{"$error":"#REF!"}},{"$f":"T(#REF!)","v":{"$error":"#REF!"}},null,null,{"$f":"T(#REF!)","v":{"$error":"#REF!"}},{"$f":"T(#REF!)","v":{"$error":"#REF!"}},{"$f":"T(#REF!)","v":{"$error":"#REF!"}},{"$f":"T(#REF!)","v":{"$error":"#REF!"}},{"$f":"ESTIMATE!P249","v":0},null,{"$f":"T(ESTIMATE!S249)","v":""}]
[null,null,{"$f":"T(ESTIMATE!B250)","v":""},{"$f":"T(#REF!)","v":{"$error":"#REF!"}},{"$f":"T(#REF!)","v":{"$error":"#REF!"}},{"$f":"T(#REF!)","v":{"$error":"#REF!"}},{"$f":"T(#REF!)","v":{"$error":"#REF!"}},null,null,{"$f":"T(#REF!)","v":{"$error":"#REF!"}},{"$f":"T(#REF!)","v":{"$error":"#REF!"}},{"$f":"T(#REF!)","v":{"$error":"#REF!"}},{"$f":"T(#REF!)","v":{"$error":"#REF!"}},{"$f":"ESTIMATE!P250","v":0},null,{"$f":"T(ESTIMATE!S250)","v":""}]
[null,null,{"$f":"T(ESTIMATE!B251)","v":"Windows"},{"$f":"T(#REF!)","v":{"$error":"#REF!"}},{"$f":"T(#REF!)","v":{"$error":"#REF!"}},{"$f":"T(#REF!)","v":{"$error":"#REF!"}},{"$f":"T(#REF!)","v":{"$error":"#REF!"}},null,null,{"$f":"T(#REF!)","v":{"$error":"#REF!"}},{"$f":"T(#REF!)","v":{"$error":"#REF!"}},{"$f":"T(#REF!)","v":{"$error":"#REF!"}},{"$f":"T(#REF!)","v":{"$error":"#REF!"}},{"$f":"ESTIMATE!P251","v":0},null,{"$f":"T(ESTIMATE!S251)","v":""}]
[null,null,{"$f":"T(ESTIMATE!B252)","v":"New windows, vinyl, average size"},{"$f":"T(#REF!)","v":{"$error":"#REF!"}},{"$f":"T(#REF!)","v":{"$error":"#REF!"}},{"$f":"T(#REF!)","v":{"$error":"#REF!"}},{"$f":"T(#REF!)","v":{"$error":"#REF!"}},null,null,{"$f":"T(#REF!)","v":{"$error":"#REF!"}},{"$f":"T(#REF!)","v":{"$error":"#REF!"}},{"$f":"T(#REF!)","v":{"$error":"#REF!"}},{"$f":"T(#REF!)","v":{"$error":"#REF!"}},{"$f":"ESTIMATE!P252","v":0},null,{"$f":"T(ESTIMATE!S252)","v":"ea"}]
[null,null,{"$f":"T(ESTIMATE!B253)","v":"Replacement windows, vinyl, average size"},{"$f":"T(#REF!)","v":{"$error":"#REF!"}},{"$f":"T(#REF!)","v":{"$error":"#REF!"}},{"$f":"T(#REF!)","v":{"$error":"#REF!"}},{"$f":"T(#REF!)","v":{"$error":"#REF!"}},null,null,{"$f":"T(#REF!)","v":{"$error":"#REF!"}},{"$f":"T(#REF!)","v":{"$error":"#REF!"}},{"$f":"T(#REF!)","v":{"$error":"#REF!"}},{"$f":"T(#REF!)","v":{"$error":"#REF!"}},{"$f":"ESTIMATE!P253","v":0},null,{"$f":"T(ESTIMATE!S253)","v":"ea"}]
[null,null,{"$f":"T(ESTIMATE!B254)","v":"Wood windows, average size"},{"$f":"T(#REF!)","v":{"$error":"#REF!"}},{"$f":"T(#REF!)","v":{"$error":"#REF!"}},{"$f":"T(#REF!)","v":{"$error":"#REF!"}},{"$f":"T(#REF!)","v":{"$error":"#REF!"}},null,null,{"$f":"T(#REF!)","v":{"$error":"#REF!"}},{"$f":"T(#REF!)","v":{"$error":"#REF!"}},{"$f":"T(#REF!)","v":{"$error":"#REF!"}},{"$f":"T(#REF!)","v":{"$error":"#REF!"}},{"$f":"ESTIMATE!P254","v":0},null,{"$f":"T(ESTIMATE!S254)","v":"ea"}]
[null,null,{"$f":"T(ESTIMATE!B255)","v":"Replace broken window pane"},{"$f":"T(#REF!)","v":{"$error":"#REF!"}},{"$f":"T(#REF!)","v":{"$error":"#REF!"}},{"$f":"T(#REF!)","v":{"$error":"#REF!"}},{"$f":"T(#REF!)","v":{"$error":"#REF!"}},null,null,{"$f":"T(#REF!)","v":{"$error":"#REF!"}},{"$f":"T(#REF!)","v":{"$error":"#REF!"}},{"$f":"T(#REF!)","v":{"$error":"#REF!"}},{"$f":"T(#REF!)","v":{"$error":"#REF!"}},{"$f":"ESTIMATE!P255","v":0},null,{"$f":"T(ESTIMATE!S255)","v":"ea"}]
[null,null,{"$f":"T(ESTIMATE!B256)","v":"Replace broken screens"},{"$f":"T(#REF!)","v":{"$error":"#REF!"}},{"$f":"T(#REF!)","v":{"$error":"#REF!"}},{"$f":"T(#REF!)","v":{"$error":"#REF!"}},{"$f":"T(#REF!)","v":{"$error":"#REF!"}},null,null,{"$f":"T(#REF!)","v":{"$error":"#REF!"}},{"$f":"T(#REF!)","v":{"$error":"#REF!"}},{"$f":"T(#REF!)","v":{"$error":"#REF!"}},{"$f":"T(#REF!)","v":{"$error":"#REF!"}},{"$f":"ESTIMATE!P256","v":0},null,{"$f":"T(ESTIMATE!S256)","v":"ea"}]
[null,null,{"$f":"T(ESTIMATE!B257)","v":"Repair broken screens"},{"$f":"T(#REF!)","v":{"$error":"#REF!"}},{"$f":"T(#REF!)","v":{"$error":"#REF!"}},{"$f":"T(#REF!)","v":{"$error":"#REF!"}},{"$f":"T(#REF!)","v":{"$error":"#REF!"}},null,null,{"$f":"T(#REF!)","v":{"$error":"#REF!"}},{"$f":"T(#REF!)","v":{"$error":"#REF!"}},{"$f":"T(#REF!)","v":{"$error":"#REF!"}},{"$f":"T(#REF!)","v":{"$error":"#REF!"}},{"$f":"ESTIMATE!P257","v":0},null,{"$f":"T(ESTIMATE!S257)","v":"ea"}]
[null,null,{"$f":"T(ESTIMATE!B258)","v":"Skylight, 3x3, fixed"},{"$f":"T(#REF!)","v":{"$error":"#REF!"}},{"$f":"T(#REF!)","v":{"$error":"#REF!"}},{"$f":"T(#REF!)","v":{"$error":"#REF!"}},{"$f":"T(#REF!)","v":{"$error":"#REF!"}},null,null,{"$f":"T(#REF!)","v":{"$error":"#REF!"}},{"$f":"T(#REF!)","v":{"$error":"#REF!"}},{"$f":"T(#REF!)","v":{"$error":"#REF!"}},{"$f":"T(#REF!)","v":{"$error":"#REF!"}},{"$f":"ESTIMATE!P258","v":0},null,{"$f":"T(ESTIMATE!S258)","v":"ea"}]
[null,null,{"$f":"T(ESTIMATE!B259)","v":"Skylight, operable"},{"$f":"T(#REF!)","v":{"$error":"#REF!"}},{"$f":"T(#REF!)","v":{"$error":"#REF!"}},{"$f":"T(#REF!)","v":{"$error":"#REF!"}},{"$f":"T(#REF!)","v":{"$error":"#REF!"}},null,null,{"$f":"T(#REF!)","v":{"$error":"#REF!"}},{"$f":"T(#REF!)","v":{"$error":"#REF!"}},{"$f":"T(#REF!)","v":{"$error":"#REF!"}},{"$f":"T(#REF!)","v":{"$error":"#REF!"}},{"$f":"ESTIMATE!P259","v":0},null,{"$f":"T(ESTIMATE!S259)","v":"ea"}]
[null,null,{"$f":"T(ESTIMATE!B260)","v":""},{"$f":"T(#REF!)","v":{"$error":"#REF!"}},{"$f":"T(#REF!)","v":{"$error":"#REF!"}},{"$f":"T(#REF!)","v":{"$error":"#REF!"}},{"$f":"T(#REF!)","v":{"$error":"#REF!"}},null,null,{"$f":"T(#REF!)","v":{"$error":"#REF!"}},{"$f":"T(#REF!)","v":{"$error":"#REF!"}},{"$f":"T(#REF!)","v":{"$error":"#REF!"}},{"$f":"T(#REF!)","v":{"$error":"#REF!"}},{"$f":"ESTIMATE!P260","v":0},null,{"$f":"T(ESTIMATE!S260)","v":""}]
[null,null,{"$f":"T(ESTIMATE!B261)","v":""},{"$f":"T(#REF!)","v":{"$error":"#REF!"}},{"$f":"T(#REF!)","v":{"$error":"#REF!"}},{"$f":"T(#REF!)","v":{"$error":"#REF!"}},{"$f":"T(#REF!)","v":{"$error":"#REF!"}},null,null,{"$f":"T(#REF!)","v":{"$error":"#REF!"}},{"$f":"T(#REF!)","v":{"$error":"#REF!"}},{"$f":"T(#REF!)","v":{"$error":"#REF!"}},{"$f":"T(#REF!)","v":{"$error":"#REF!"}},{"$f":"ESTIMATE!P261","v":0},null,{"$f":"T(ESTIMATE!S261)","v":""}]
[null,null,{"$f":"T(ESTIMATE!B262)","v":"Garage Doors"},{"$f":"T(#REF!)","v":{"$error":"#REF!"}},{"$f":"T(#REF!)","v":{"$error":"#REF!"}},{"$f":"T(#REF!)","v":{"$error":"#REF!"}},{"$f":"T(#REF!)","v":{"$error":"#REF!"}},null,null,{"$f":"T(#REF!)","v":{"$error":"#REF!"}},{"$f":"T(#REF!)","v":{"$error":"#REF!"}},{"$f":"T(#REF!)","v":{"$error":"#REF!"}},{"$f":"T(#REF!)","v":{"$error":"#REF!"}},{"$f":"ESTIMATE!P262","v":0},null,{"$f":"T(ESTIMATE!S262)","v":""}]
[null,null,{"$f":"T(ESTIMATE!B263)","v":"Garage Doors Bid/Allowance"},{"$f":"T(#REF!)","v":{"$error":"#REF!"}},{"$f":"T(#REF!)","v":{"$error":"#REF!"}},{"$f":"T(#REF!)","v":{"$error":"#REF!"}},{"$f":"T(#REF!)","v":{"$error":"#REF!"}},null,null,{"$f":"T(#REF!)","v":{"$error":"#REF!"}},{"$f":"T(#REF!)","v":{"$error":"#REF!"}},{"$f":"T(#REF!)","v":{"$error":"#REF!"}},{"$f":"T(#REF!)","v":{"$error":"#REF!"}},{"$f":"ESTIMATE!P263","v":0},null,{"$f":"T(ESTIMATE!S263)","v":"ls"}]
[null,null,{"$f":"T(ESTIMATE!B264)","v":"Garage Doors Only- 9'x7'  door, manual"},{"$f":"T(#REF!)","v":{"$error":"#REF!"}},{"$f":"T(#REF!)","v":{"$error":"#REF!"}},{"$f":"T(#REF!)","v":{"$error":"#REF!"}},{"$f":"T(#REF!)","v":{"$error":"#REF!"}},null,null,{"$f":"T(#REF!)","v":{"$error":"#REF!"}},{"$f":"T(#REF!)","v":{"$error":"#REF!"}},{"$f":"T(#REF!)","v":{"$error":"#REF!"}},{"$f":"T(#REF!)","v":{"$error":"#REF!"}},{"$f":"ESTIMATE!P264","v":0},null,{"$f":"T(ESTIMATE!S264)","v":"ea"}]
[null,null,{"$f":"T(ESTIMATE!B265)","v":"Garage Doors Only- 16' door, manual"},{"$f":"T(#REF!)","v":{"$error":"#REF!"}},{"$f":"T(#REF!)","v":{"$error":"#REF!"}},{"$f":"T(#REF!)","v":{"$error":"#REF!"}},{"$f":"T(#REF!)","v":{"$error":"#REF!"}},null,null,{"$f":"T(#REF!)","v":{"$error":"#REF!"}},{"$f":"T(#REF!)","v":{"$error":"#REF!"}},{"$f":"T(#REF!)","v":{"$error":"#REF!"}},{"$f":"T(#REF!)","v":{"$error":"#REF!"}},{"$f":"ESTIMATE!P265","v":0},null,{"$f":"T(ESTIMATE!S265)","v":"ea"}]
[null,null,{"$f":"T(ESTIMATE!B266)","v":"Garage Door Operator only"},{"$f":"T(#REF!)","v":{"$error":"#REF!"}},{"$f":"T(#REF!)","v":{"$error":"#REF!"}},{"$f":"T(#REF!)","v":{"$error":"#REF!"}},{"$f":"T(#REF!)","v":{"$error":"#REF!"}},null,null,{"$f":"T(#REF!)","v":{"$error":"#REF!"}},{"$f":"T(#REF!)","v":{"$error":"#REF!"}},{"$f":"T(#REF!)","v":{"$error":"#REF!"}},{"$f":"T(#REF!)","v":{"$error":"#REF!"}},{"$f":"ESTIMATE!P266","v":0},null,{"$f":"T(ESTIMATE!S266)","v":"ea"}]
[null,null,{"$f":"T(ESTIMATE!B267)","v":"Replace springs for garage door"},{"$f":"T(#REF!)","v":{"$error":"#REF!"}},{"$f":"T(#REF!)","v":{"$error":"#REF!"}},{"$f":"T(#REF!)","v":{"$error":"#REF!"}},{"$f":"T(#REF!)","v":{"$error":"#REF!"}},null,null,{"$f":"T(#REF!)","v":{"$error":"#REF!"}},{"$f":"T(#REF!)","v":{"$error":"#REF!"}},{"$f":"T(#REF!)","v":{"$error":"#REF!"}},{"$f":"T(#REF!)","v":{"$error":"#REF!"}},{"$f":"ESTIMATE!P267","v":0},null,{"$f":"T(ESTIMATE!S267)","v":"ea"}]
[null,null,{"$f":"T(ESTIMATE!B268)","v":""},{"$f":"T(#REF!)","v":{"$error":"#REF!"}},{"$f":"T(#REF!)","v":{"$error":"#REF!"}},{"$f":"T(#REF!)","v":{"$error":"#REF!"}},{"$f":"T(#REF!)","v":{"$error":"#REF!"}},null,null,{"$f":"T(#REF!)","v":{"$error":"#REF!"}},{"$f":"T(#REF!)","v":{"$error":"#REF!"}},{"$f":"T(#REF!)","v":{"$error":"#REF!"}},{"$f":"T(#REF!)","v":{"$error":"#REF!"}},{"$f":"ESTIMATE!P268","v":0},null,{"$f":"T(ESTIMATE!S268)","v":""}]
[null,null,{"$f":"T(ESTIMATE!B269)","v":""},{"$f":"T(#REF!)","v":{"$error":"#REF!"}},{"$f":"T(#REF!)","v":{"$error":"#REF!"}},{"$f":"T(#REF!)","v":{"$error":"#REF!"}},{"$f":"T(#REF!)","v":{"$error":"#REF!"}},null,null,{"$f":"T(#REF!)","v":{"$error":"#REF!"}},{"$f":"T(#REF!)","v":{"$error":"#REF!"}},{"$f":"T(#REF!)","v":{"$error":"#REF!"}},{"$f":"T(#REF!)","v":{"$error":"#REF!"}},{"$f":"ESTIMATE!P269","v":0},null,{"$f":"T(ESTIMATE!S269)","v":""}]
[null,null,{"$f":"T(ESTIMATE!B270)","v":""},{"$f":"T(#REF!)","v":{"$error":"#REF!"}},{"$f":"T(#REF!)","v":{"$error":"#REF!"}},{"$f":"T(#REF!)","v":{"$error":"#REF!"}},{"$f":"T(#REF!)","v":{"$error":"#REF!"}},null,null,{"$f":"T(#REF!)","v":{"$error":"#REF!"}},{"$f":"T(#REF!)","v":{"$error":"#REF!"}},{"$f":"T(#REF!)","v":{"$error":"#REF!"}},{"$f":"T(#REF!)","v":{"$error":"#REF!"}},{"$f":"ESTIMATE!P270","v":0},null,{"$f":"T(ESTIMATE!S270)","v":""}]
[null,null,{"$f":"T(ESTIMATE!B271)","v":""},{"$f":"T(#REF!)","v":{"$error":"#REF!"}},{"$f":"T(#REF!)","v":{"$error":"#REF!"}},{"$f":"T(#REF!)","v":{"$error":"#REF!"}},{"$f":"T(#REF!)","v":{"$error":"#REF!"}},null,null,{"$f":"T(#REF!)","v":{"$error":"#REF!"}},{"$f":"T(#REF!)","v":{"$error":"#REF!"}},{"$f":"T(#REF!)","v":{"$error":"#REF!"}},{"$f":"T(#REF!)","v":{"$error":"#REF!"}},{"$f":"ESTIMATE!P271","v":0},null,{"$f":"T(ESTIMATE!S271)","v":""}]
[null,null,{"$f":"T(ESTIMATE!B272)","v":""},{"$f":"T(#REF!)","v":{"$error":"#REF!"}},{"$f":"T(#REF!)","v":{"$error":"#REF!"}},{"$f":"T(#REF!)","v":{"$error":"#REF!"}},{"$f":"T(#REF!)","v":{"$error":"#REF!"}},null,null,{"$f":"T(#REF!)","v":{"$error":"#REF!"}},{"$f":"T(#REF!)","v":{"$error":"#REF!"}},{"$f":"T(#REF!)","v":{"$error":"#REF!"}},{"$f":"T(#REF!)","v":{"$error":"#REF!"}},{"$f":"ESTIMATE!P272","v":0},null,{"$f":"T(ESTIMATE!S272)","v":""}]
[null,null,{"$f":"T(ESTIMATE!B273)","v":""},{"$f":"T(#REF!)","v":{"$error":"#REF!"}},{"$f":"T(#REF!)","v":{"$error":"#REF!"}},{"$f":"T(#REF!)","v":{"$error":"#REF!"}},{"$f":"T(#REF!)","v":{"$error":"#REF!"}},null,null,{"$f":"T(#REF!)","v":{"$error":"#REF!"}},{"$f":"T(#REF!)","v":{"$error":"#REF!"}},{"$f":"T(#REF!)","v":{"$error":"#REF!"}},{"$f":"T(#REF!)","v":{"$error":"#REF!"}},{"$f":"ESTIMATE!P273","v":0},null,{"$f":"T(ESTIMATE!S273)","v":""}]
[null,null,{"$f":"T(ESTIMATE!B274)","v":""},{"$f":"T(#REF!)","v":{"$error":"#REF!"}},{"$f":"T(#REF!)","v":{"$error":"#REF!"}},{"$f":"T(#REF!)","v":{"$error":"#REF!"}},{"$f":"T(#REF!)","v":{"$error":"#REF!"}},null,null,{"$f":"T(#REF!)","v":{"$error":"#REF!"}},{"$f":"T(#REF!)","v":{"$error":"#REF!"}},{"$f":"T(#REF!)","v":{"$error":"#REF!"}},{"$f":"T(#REF!)","v":{"$error":"#REF!"}},{"$f":"ESTIMATE!P274","v":0},null,{"$f":"T(ESTIMATE!S274)","v":""}]
[null,null,{"$f":"T(ESTIMATE!B275)","v":""},{"$f":"T(#REF!)","v":{"$error":"#REF!"}},{"$f":"T(#REF!)","v":{"$error":"#REF!"}},{"$f":"T(#REF!)","v":{"$error":"#REF!"}},{"$f":"T(#REF!)","v":{"$error":"#REF!"}},null,null,{"$f":"T(#REF!)","v":{"$error":"#REF!"}},{"$f":"T(#REF!)","v":{"$error":"#REF!"}},{"$f":"T(#REF!)","v":{"$error":"#REF!"}},{"$f":"T(#REF!)","v":{"$error":"#REF!"}},{"$f":"ESTIMATE!P275","v":0},null,{"$f":"T(ESTIMATE!S275)","v":""}]
[null,null,{"$f":"T(ESTIMATE!B276)","v":""},{"$f":"T(#REF!)","v":{"$error":"#REF!"}},{"$f":"T(#REF!)","v":{"$error":"#REF!"}},{"$f":"T(#REF!)","v":{"$error":"#REF!"}},{"$f":"T(#REF!)","v":{"$error":"#REF!"}},null,null,{"$f":"T(#REF!)","v":{"$error":"#REF!"}},{"$f":"T(#REF!)","v":{"$error":"#REF!"}},{"$f":"T(#REF!)","v":{"$error":"#REF!"}},{"$f":"T(#REF!)","v":{"$error":"#REF!"}},{"$f":"ESTIMATE!P276","v":0},null,{"$f":"T(ESTIMATE!S276)","v":""}]
[null,null,{"$f":"T(ESTIMATE!B277)","v":""},{"$f":"T(#REF!)","v":{"$error":"#REF!"}},{"$f":"T(#REF!)","v":{"$error":"#REF!"}},{"$f":"T(#REF!)","v":{"$error":"#REF!"}},{"$f":"T(#REF!)","v":{"$error":"#REF!"}},null,null,{"$f":"T(#REF!)","v":{"$error":"#REF!"}},{"$f":"T(#REF!)","v":{"$error":"#REF!"}},{"$f":"T(#REF!)","v":{"$error":"#REF!"}},{"$f":"T(#REF!)","v":{"$error":"#REF!"}},{"$f":"ESTIMATE!P277","v":0},null,{"$f":"T(ESTIMATE!S277)","v":""}]
[null,null,{"$f":"T(ESTIMATE!B278)","v":""},{"$f":"T(#REF!)","v":{"$error":"#REF!"}},{"$f":"T(#REF!)","v":{"$error":"#REF!"}},{"$f":"T(#REF!)","v":{"$error":"#REF!"}},{"$f":"T(#REF!)","v":{"$error":"#REF!"}},null,null,{"$f":"T(#REF!)","v":{"$error":"#REF!"}},{"$f":"T(#REF!)","v":{"$error":"#REF!"}},{"$f":"T(#REF!)","v":{"$error":"#REF!"}},{"$f":"T(#REF!)","v":{"$error":"#REF!"}},{"$f":"ESTIMATE!P278","v":0},null,{"$f":"T(ESTIMATE!S278)","v":""}]
[null,null,{"$f":"T(ESTIMATE!B279)","v":""},{"$f":"T(#REF!)","v":{"$error":"#REF!"}},{"$f":"T(#REF!)","v":{"$error":"#REF!"}},{"$f":"T(#REF!)","v":{"$error":"#REF!"}},{"$f":"T(#REF!)","v":{"$error":"#REF!"}},null,null,{"$f":"T(#REF!)","v":{"$error":"#REF!"}},{"$f":"T(#REF!)","v":{"$error":"#REF!"}},{"$f":"T(#REF!)","v":{"$error":"#REF!"}},{"$f":"T(#REF!)","v":{"$error":"#REF!"}},{"$f":"ESTIMATE!P279","v":0},null,{"$f":"T(ESTIMATE!S279)","v":""}]
[null,null,{"$f":"T(ESTIMATE!B280)","v":""},{"$f":"T(#REF!)","v":{"$error":"#REF!"}},{"$f":"T(#REF!)","v":{"$error":"#REF!"}},{"$f":"T(#REF!)","v":{"$error":"#REF!"}},{"$f":"T(#REF!)","v":{"$error":"#REF!"}},null,null,{"$f":"T(#REF!)","v":{"$error":"#REF!"}},{"$f":"T(#REF!)","v":{"$error":"#REF!"}},{"$f":"T(#REF!)","v":{"$error":"#REF!"}},{"$f":"T(#REF!)","v":{"$error":"#REF!"}},{"$f":"ESTIMATE!P280","v":0},null,{"$f":"T(ESTIMATE!S280)","v":""}]
[null,null,{"$f":"T(ESTIMATE!B281)","v":""},{"$f":"T(#REF!)","v":{"$error":"#REF!"}},{"$f":"T(#REF!)","v":{"$error":"#REF!"}},{"$f":"T(#REF!)","v":{"$error":"#REF!"}},{"$f":"T(#REF!)","v":{"$error":"#REF!"}},null,null,{"$f":"T(#REF!)","v":{"$error":"#REF!"}},{"$f":"T(#REF!)","v":{"$error":"#REF!"}},{"$f":"T(#REF!)","v":{"$error":"#REF!"}},{"$f":"T(#REF!)","v":{"$error":"#REF!"}},{"$f":"ESTIMATE!P281","v":0},null,{"$f":"T(ESTIMATE!S281)","v":""}]
[null,null,{"$f":"T(ESTIMATE!B286)","v":"MISC. EXT. IMPROVEMENTS"},{"$f":"T(#REF!)","v":{"$error":"#REF!"}},{"$f":"T(#REF!)","v":{"$error":"#REF!"}},{"$f":"T(#REF!)","v":{"$error":"#REF!"}},{"$f":"T(#REF!)","v":{"$error":"#REF!"}},null,null,{"$f":"T(#REF!)","v":{"$error":"#REF!"}},{"$f":"T(#REF!)","v":{"$error":"#REF!"}},{"$f":"T(#REF!)","v":{"$error":"#REF!"}},{"$f":"T(#REF!)","v":{"$error":"#REF!"}},{"$f":"SUM(N285:O324)","v":0}]
[null,null,{"$f":"T(ESTIMATE!B287)","v":"Decking"},{"$f":"T(#REF!)","v":{"$error":"#REF!"}},{"$f":"T(#REF!)","v":{"$error":"#REF!"}},{"$f":"T(#REF!)","v":{"$error":"#REF!"}},{"$f":"T(#REF!)","v":{"$error":"#REF!"}},null,null,{"$f":"T(#REF!)","v":{"$error":"#REF!"}},{"$f":"T(#REF!)","v":{"$error":"#REF!"}},{"$f":"T(#REF!)","v":{"$error":"#REF!"}},{"$f":"T(#REF!)","v":{"$error":"#REF!"}},{"$f":"ESTIMATE!P287","v":0},null,{"$f":"T(ESTIMATE!S287)","v":""}]
[null,null,{"$f":"T(ESTIMATE!B288)","v":"Deck bid/allowance"},{"$f":"T(#REF!)","v":{"$error":"#REF!"}},{"$f":"T(#REF!)","v":{"$error":"#REF!"}},{"$f":"T(#REF!)","v":{"$error":"#REF!"}},{"$f":"T(#REF!)","v":{"$error":"#REF!"}},null,null,{"$f":"T(#REF!)","v":{"$error":"#REF!"}},{"$f":"T(#REF!)","v":{"$error":"#REF!"}},{"$f":"T(#REF!)","v":{"$error":"#REF!"}},{"$f":"T(#REF!)","v":{"$error":"#REF!"}},{"$f":"ESTIMATE!P288","v":0},null,{"$f":"T(ESTIMATE!S288)","v":"ls"}]
[null,null,{"$f":"T(ESTIMATE!B289)","v":"New deck, columns, joists, railing-treated lumber"},{"$f":"T(#REF!)","v":{"$error":"#REF!"}},{"$f":"T(#REF!)","v":{"$error":"#REF!"}},{"$f":"T(#REF!)","v":{"$error":"#REF!"}},{"$f":"T(#REF!)","v":{"$error":"#REF!"}},null,null,{"$f":"T(#REF!)","v":{"$error":"#REF!"}},{"$f":"T(#REF!)","v":{"$error":"#REF!"}},{"$f":"T(#REF!)","v":{"$error":"#REF!"}},{"$f":"T(#REF!)","v":{"$error":"#REF!"}},{"$f":"ESTIMATE!P289","v":0},null,{"$f":"T(ESTIMATE!S289)","v":"sf"}]
[null,null,{"$f":"T(ESTIMATE!B290)","v":"New deck, columns, joists, railing-cedar"},{"$f":"T(#REF!)","v":{"$error":"#REF!"}},{"$f":"T(#REF!)","v":{"$error":"#REF!"}},{"$f":"T(#REF!)","v":{"$error":"#REF!"}},{"$f":"T(#REF!)","v":{"$error":"#REF!"}},null,null,{"$f":"T(#REF!)","v":{"$error":"#REF!"}},{"$f":"T(#REF!)","v":{"$error":"#REF!"}},{"$f":"T(#REF!)","v":{"$error":"#REF!"}},{"$f":"T(#REF!)","v":{"$error":"#REF!"}},{"$f":"ESTIMATE!P290","v":0},null,{"$f":"T(ESTIMATE!S290)","v":"sf"}]
[null,null,{"$f":"T(ESTIMATE!B291)","v":"Existing deck, replace decking"},{"$f":"T(#REF!)","v":{"$error":"#REF!"}},{"$f":"T(#REF!)","v":{"$error":"#REF!"}},{"$f":"T(#REF!)","v":{"$error":"#REF!"}},{"$f":"T(#REF!)","v":{"$error":"#REF!"}},null,null,{"$f":"T(#REF!)","v":{"$error":"#REF!"}},{"$f":"T(#REF!)","v":{"$error":"#REF!"}},{"$f":"T(#REF!)","v":{"$error":"#REF!"}},{"$f":"T(#REF!)","v":{"$error":"#REF!"}},{"$f":"ESTIMATE!P291","v":0},null,{"$f":"T(ESTIMATE!S291)","v":"sf"}]
[null,null,{"$f":"T(ESTIMATE!B292)","v":"Install railing w/ wood balusters only"},{"$f":"T(#REF!)","v":{"$error":"#REF!"}},{"$f":"T(#REF!)","v":{"$error":"#REF!"}},{"$f":"T(#REF!)","v":{"$error":"#REF!"}},{"$f":"T(#REF!)","v":{"$error":"#REF!"}},null,null,{"$f":"T(#REF!)","v":{"$error":"#REF!"}},{"$f":"T(#REF!)","v":{"$error":"#REF!"}},{"$f":"T(#REF!)","v":{"$error":"#REF!"}},{"$f":"T(#REF!)","v":{"$error":"#REF!"}},{"$f":"ESTIMATE!P292","v":0},null,{"$f":"T(ESTIMATE!S292)","v":"lf"}]
[null,null,{"$f":"T(ESTIMATE!B293)","v":"Install railing w/ metal balusters only"},{"$f":"T(#REF!)","v":{"$error":"#REF!"}},{"$f":"T(#REF!)","v":{"$error":"#REF!"}},{"$f":"T(#REF!)","v":{"$error":"#REF!"}},{"$f":"T(#REF!)","v":{"$error":"#REF!"}},null,null,{"$f":"T(#REF!)","v":{"$error":"#REF!"}},{"$f":"T(#REF!)","v":{"$error":"#REF!"}},{"$f":"T(#REF!)","v":{"$error":"#REF!"}},{"$f":"T(#REF!)","v":{"$error":"#REF!"}},{"$f":"ESTIMATE!P293","v":0},null,{"$f":"T(ESTIMATE!S293)","v":"lf"}]
[null,null,{"$f":"T(ESTIMATE!B294)","v":"Stairs, 5 to 7 risers"},{"$f":"T(#REF!)","v":{"$error":"#REF!"}},{"$f":"T(#REF!)","v":{"$error":"#REF!"}},{"$f":"T(#REF!)","v":{"$error":"#REF!"}},{"$f":"T(#REF!)","v":{"$error":"#REF!"}},null,null,{"$f":"T(#REF!)","v":{"$error":"#REF!"}},{"$f":"T(#REF!)","v":{"$error":"#REF!"}},{"$f":"T(#REF!)","v":{"$error":"#REF!"}},{"$f":"T(#REF!)","v":{"$error":"#REF!"}},{"$f":"ESTIMATE!P294","v":0},null,{"$f":"T(ESTIMATE!S294)","v":"ea"}]
[null,null,{"$f":"T(ESTIMATE!B295)","v":""},{"$f":"T(#REF!)","v":{"$error":"#REF!"}},{"$f":"T(#REF!)","v":{"$error":"#REF!"}},{"$f":"T(#REF!)","v":{"$error":"#REF!"}},{"$f":"T(#REF!)","v":{"$error":"#REF!"}},null,null,{"$f":"T(#REF!)","v":{"$error":"#REF!"}},{"$f":"T(#REF!)","v":{"$error":"#REF!"}},{"$f":"T(#REF!)","v":{"$error":"#REF!"}},{"$f":"T(#REF!)","v":{"$error":"#REF!"}},{"$f":"ESTIMATE!P295","v":0},null,{"$f":"T(ESTIMATE!S295)","v":""}]
[null,null,{"$f":"T(ESTIMATE!B296)","v":""},{"$f":"T(#REF!)","v":{"$error":"#REF!"}},{"$f":"T(#REF!)","v":{"$error":"#REF!"}},{"$f":"T(#REF!)","v":{"$error":"#REF!"}},{"$f":"T(#REF!)","v":{"$error":"#REF!"}},null,null,{"$f":"T(#REF!)","v":{"$error":"#REF!"}},{"$f":"T(#REF!)","v":{"$error":"#REF!"}},{"$f":"T(#REF!)","v":{"$error":"#REF!"}},{"$f":"T(#REF!)","v":{"$error":"#REF!"}},{"$f":"ESTIMATE!P296","v":0},null,{"$f":"T(ESTIMATE!S296)","v":""}]
[null,null,{"$f":"T(ESTIMATE!B297)","v":"Fencing"},{"$f":"T(#REF!)","v":{"$error":"#REF!"}},{"$f":"T(#REF!)","v":{"$error":"#REF!"}},{"$f":"T(#REF!)","v":{"$error":"#REF!"}},{"$f":"T(#REF!)","v":{"$error":"#REF!"}},null,null,{"$f":"T(#REF!)","v":{"$error":"#REF!"}},{"$f":"T(#REF!)","v":{"$error":"#REF!"}},{"$f":"T(#REF!)","v":{"$error":"#REF!"}},{"$f":"T(#REF!)","v":{"$error":"#REF!"}},{"$f":"ESTIMATE!P297","v":0},null,{"$f":"T(ESTIMATE!S297)","v":""}]
[null,null,{"$f":"T(ESTIMATE!B298)","v":"Chain link fencing"},{"$f":"T(#REF!)","v":{"$error":"#REF!"}},{"$f":"T(#REF!)","v":{"$error":"#REF!"}},{"$f":"T(#REF!)","v":{"$error":"#REF!"}},{"$f":"T(#REF!)","v":{"$error":"#REF!"}},null,null,{"$f":"T(#REF!)","v":{"$error":"#REF!"}},{"$f":"T(#REF!)","v":{"$error":"#REF!"}},{"$f":"T(#REF!)","v":{"$error":"#REF!"}},{"$f":"T(#REF!)","v":{"$error":"#REF!"}},{"$f":"ESTIMATE!P298","v":0},null,{"$f":"T(ESTIMATE!S298)","v":"lf"}]
[null,null,{"$f":"T(ESTIMATE!B299)","v":"Wood fencing"},{"$f":"T(#REF!)","v":{"$error":"#REF!"}},{"$f":"T(#REF!)","v":{"$error":"#REF!"}},{"$f":"T(#REF!)","v":{"$error":"#REF!"}},{"$f":"T(#REF!)","v":{"$error":"#REF!"}},null,null,{"$f":"T(#REF!)","v":{"$error":"#REF!"}},{"$f":"T(#REF!)","v":{"$error":"#REF!"}},{"$f":"T(#REF!)","v":{"$error":"#REF!"}},{"$f":"T(#REF!)","v":{"$error":"#REF!"}},{"$f":"ESTIMATE!P299","v":0},null,{"$f":"T(ESTIMATE!S299)","v":"lf"}]
[null,null,{"$f":"T(ESTIMATE!B300)","v":""},{"$f":"T(#REF!)","v":{"$error":"#REF!"}},{"$f":"T(#REF!)","v":{"$error":"#REF!"}},{"$f":"T(#REF!)","v":{"$error":"#REF!"}},{"$f":"T(#REF!)","v":{"$error":"#REF!"}},null,null,{"$f":"T(#REF!)","v":{"$error":"#REF!"}},{"$f":"T(#REF!)","v":{"$error":"#REF!"}},{"$f":"T(#REF!)","v":{"$error":"#REF!"}},{"$f":"T(#REF!)","v":{"$error":"#REF!"}},{"$f":"ESTIMATE!P300","v":0},null,{"$f":"T(ESTIMATE!S300)","v":""}]
[null,null,{"$f":"T(ESTIMATE!B301)","v":""},{"$f":"T(#REF!)","v":{"$error":"#REF!"}},{"$f":"T(#REF!)","v":{"$error":"#REF!"}},{"$f":"T(#REF!)","v":{"$error":"#REF!"}},{"$f":"T(#REF!)","v":{"$error":"#REF!"}},null,null,{"$f":"T(#REF!)","v":{"$error":"#REF!"}},{"$f":"T(#REF!)","v":{"$error":"#REF!"}},{"$f":"T(#REF!)","v":{"$error":"#REF!"}},{"$f":"T(#REF!)","v":{"$error":"#REF!"}},{"$f":"ESTIMATE!P301","v":0},null,{"$f":"T(ESTIMATE!S301)","v":""}]
[null,null,{"$f":"T(ESTIMATE!B302)","v":"Miscellaneous Specialties"},{"$f":"T(#REF!)","v":{"$error":"#REF!"}},{"$f":"T(#REF!)","v":{"$error":"#REF!"}},{"$f":"T(#REF!)","v":{"$error":"#REF!"}},{"$f":"T(#REF!)","v":{"$error":"#REF!"}},null,null,{"$f":"T(#REF!)","v":{"$error":"#REF!"}},{"$f":"T(#REF!)","v":{"$error":"#REF!"}},{"$f":"T(#REF!)","v":{"$error":"#REF!"}},{"$f":"T(#REF!)","v":{"$error":"#REF!"}},{"$f":"ESTIMATE!P302","v":0},null,{"$f":"T(ESTIMATE!S302)","v":""}]
[null,null,{"$f":"T(ESTIMATE!B303)","v":"New mailbox"},{"$f":"T(#REF!)","v":{"$error":"#REF!"}},{"$f":"T(#REF!)","v":{"$error":"#REF!"}},{"$f":"T(#REF!)","v":{"$error":"#REF!"}},{"$f":"T(#REF!)","v":{"$error":"#REF!"}},null,null,{"$f":"T(#REF!)","v":{"$error":"#REF!"}},{"$f":"T(#REF!)","v":{"$error":"#REF!"}},{"$f":"T(#REF!)","v":{"$error":"#REF!"}},{"$f":"T(#REF!)","v":{"$error":"#REF!"}},{"$f":"ESTIMATE!P303","v":0},null,{"$f":"T(ESTIMATE!S303)","v":"ea"}]
[null,null,{"$f":"T(ESTIMATE!B304)","v":"New address #"},{"$f":"T(#REF!)","v":{"$error":"#REF!"}},{"$f":"T(#REF!)","v":{"$error":"#REF!"}},{"$f":"T(#REF!)","v":{"$error":"#REF!"}},{"$f":"T(#REF!)","v":{"$error":"#REF!"}},null,null,{"$f":"T(#REF!)","v":{"$error":"#REF!"}},{"$f":"T(#REF!)","v":{"$error":"#REF!"}},{"$f":"T(#REF!)","v":{"$error":"#REF!"}},{"$f":"T(#REF!)","v":{"$error":"#REF!"}},{"$f":"ESTIMATE!P304","v":0},null,{"$f":"T(ESTIMATE!S304)","v":"ea"}]
[null,null,{"$f":"T(ESTIMATE!B305)","v":"Shutters"},{"$f":"T(#REF!)","v":{"$error":"#REF!"}},{"$f":"T(#REF!)","v":{"$error":"#REF!"}},{"$f":"T(#REF!)","v":{"$error":"#REF!"}},{"$f":"T(#REF!)","v":{"$error":"#REF!"}},null,null,{"$f":"T(#REF!)","v":{"$error":"#REF!"}},{"$f":"T(#REF!)","v":{"$error":"#REF!"}},{"$f":"T(#REF!)","v":{"$error":"#REF!"}},{"$f":"T(#REF!)","v":{"$error":"#REF!"}},{"$f":"ESTIMATE!P305","v":0},null,{"$f":"T(ESTIMATE!S305)","v":"ea"}]
[null,null,{"$f":"T(ESTIMATE!B306)","v":""},{"$f":"T(#REF!)","v":{"$error":"#REF!"}},{"$f":"T(#REF!)","v":{"$error":"#REF!"}},{"$f":"T(#REF!)","v":{"$error":"#REF!"}},{"$f":"T(#REF!)","v":{"$error":"#REF!"}},null,null,{"$f":"T(#REF!)","v":{"$error":"#REF!"}},{"$f":"T(#REF!)","v":{"$error":"#REF!"}},{"$f":"T(#REF!)","v":{"$error":"#REF!"}},{"$f":"T(#REF!)","v":{"$error":"#REF!"}},{"$f":"ESTIMATE!P306","v":0},null,{"$f":"T(ESTIMATE!S306)","v":""}]
[null,null,{"$f":"T(ESTIMATE!B307)","v":""},{"$f":"T(#REF!)","v":{"$error":"#REF!"}},{"$f":"T(#REF!)","v":{"$error":"#REF!"}},{"$f":"T(#REF!)","v":{"$error":"#REF!"}},{"$f":"T(#REF!)","v":{"$error":"#REF!"}},null,null,{"$f":"T(#REF!)","v":{"$error":"#REF!"}},{"$f":"T(#REF!)","v":{"$error":"#REF!"}},{"$f":"T(#REF!)","v":{"$error":"#REF!"}},{"$f":"T(#REF!)","v":{"$error":"#REF!"}},{"$f":"ESTIMATE!P307","v":0},null,{"$f":"T(ESTIMATE!S307)","v":""}]
[null,null,{"$f":"T(ESTIMATE!B308)","v":"Misc. Exterior Structures"},{"$f":"T(#REF!)","v":{"$error":"#REF!"}},{"$f":"T(#REF!)","v":{"$error":"#REF!"}},{"$f":"T(#REF!)","v":{"$error":"#REF!"}},{"$f":"T(#REF!)","v":{"$error":"#REF!"}},null,null,{"$f":"T(#REF!)","v":{"$error":"#REF!"}},{"$f":"T(#REF!)","v":{"$error":"#REF!"}},{"$f":"T(#REF!)","v":{"$error":"#REF!"}},{"$f":"T(#REF!)","v":{"$error":"#REF!"}},{"$f":"ESTIMATE!P308","v":0},null,{"$f":"T(ESTIMATE!S308)","v":""}]
[null,null,{"$f":"T(ESTIMATE!B309)","v":"Premanufactured carport"},{"$f":"T(#REF!)","v":{"$error":"#REF!"}},{"$f":"T(#REF!)","v":{"$error":"#REF!"}},{"$f":"T(#REF!)","v":{"$error":"#REF!"}},{"$f":"T(#REF!)","v":{"$error":"#REF!"}},null,null,{"$f":"T(#REF!)","v":{"$error":"#REF!"}},{"$f":"T(#REF!)","v":{"$error":"#REF!"}},{"$f":"T(#REF!)","v":{"$error":"#REF!"}},{"$f":"T(#REF!)","v":{"$error":"#REF!"}},{"$f":"ESTIMATE!P309","v":0},null,{"$f":"T(ESTIMATE!S309)","v":"ea"}]
[null,null,{"$f":"T(ESTIMATE!B310)","v":"Storage shed, wood"},{"$f":"T(#REF!)","v":{"$error":"#REF!"}},{"$f":"T(#REF!)","v":{"$error":"#REF!"}},{"$f":"T(#REF!)","v":{"$error":"#REF!"}},{"$f":"T(#REF!)","v":{"$error":"#REF!"}},null,null,{"$f":"T(#REF!)","v":{"$error":"#REF!"}},{"$f":"T(#REF!)","v":{"$error":"#REF!"}},{"$f":"T(#REF!)","v":{"$error":"#REF!"}},{"$f":"T(#REF!)","v":{"$error":"#REF!"}},{"$f":"ESTIMATE!P310","v":0},null,{"$f":"T(ESTIMATE!S310)","v":"ea"}]
[null,null,{"$f":"T(ESTIMATE!B311)","v":"Gazebo"},{"$f":"T(#REF!)","v":{"$error":"#REF!"}},{"$f":"T(#REF!)","v":{"$error":"#REF!"}},{"$f":"T(#REF!)","v":{"$error":"#REF!"}},{"$f":"T(#REF!)","v":{"$error":"#REF!"}},null,null,{"$f":"T(#REF!)","v":{"$error":"#REF!"}},{"$f":"T(#REF!)","v":{"$error":"#REF!"}},{"$f":"T(#REF!)","v":{"$error":"#REF!"}},{"$f":"T(#REF!)","v":{"$error":"#REF!"}},{"$f":"ESTIMATE!P311","v":0},null,{"$f":"T(ESTIMATE!S311)","v":"sf"}]
[null,null,{"$f":"T(ESTIMATE!B312)","v":"Covered patio, floor, roof frame, decking, treated"},{"$f":"T(#REF!)","v":{"$error":"#REF!"}},{"$f":"T(#REF!)","v":{"$error":"#REF!"}},{"$f":"T(#REF!)","v":{"$error":"#REF!"}},{"$f":"T(#REF!)","v":{"$error":"#REF!"}},null,null,{"$f":"T(#REF!)","v":{"$error":"#REF!"}},{"$f":"T(#REF!)","v":{"$error":"#REF!"}},{"$f":"T(#REF!)","v":{"$error":"#REF!"}},{"$f":"T(#REF!)","v":{"$error":"#REF!"}},{"$f":"ESTIMATE!P312","v":0},null,{"$f":"T(ESTIMATE!S312)","v":"sf"}]
[null,null,{"$f":"T(ESTIMATE!B313)","v":""},{"$f":"T(#REF!)","v":{"$error":"#REF!"}},{"$f":"T(#REF!)","v":{"$error":"#REF!"}},{"$f":"T(#REF!)","v":{"$error":"#REF!"}},{"$f":"T(#REF!)","v":{"$error":"#REF!"}},null,null,{"$f":"T(#REF!)","v":{"$error":"#REF!"}},{"$f":"T(#REF!)","v":{"$error":"#REF!"}},{"$f":"T(#REF!)","v":{"$error":"#REF!"}},{"$f":"T(#REF!)","v":{"$error":"#REF!"}},{"$f":"ESTIMATE!P313","v":0},null,{"$f":"T(ESTIMATE!S313)","v":""}]
[null,null,{"$f":"T(ESTIMATE!B314)","v":""},{"$f":"T(#REF!)","v":{"$error":"#REF!"}},{"$f":"T(#REF!)","v":{"$error":"#REF!"}},{"$f":"T(#REF!)","v":{"$error":"#REF!"}},{"$f":"T(#REF!)","v":{"$error":"#REF!"}},null,null,{"$f":"T(#REF!)","v":{"$error":"#REF!"}},{"$f":"T(#REF!)","v":{"$error":"#REF!"}},{"$f":"T(#REF!)","v":{"$error":"#REF!"}},{"$f":"T(#REF!)","v":{"$error":"#REF!"}},{"$f":"ESTIMATE!P314","v":0},null,{"$f":"T(ESTIMATE!S314)","v":""}]
[null,null,{"$f":"T(ESTIMATE!B315)","v":"Pools"},{"$f":"T(#REF!)","v":{"$error":"#REF!"}},{"$f":"T(#REF!)","v":{"$error":"#REF!"}},{"$f":"T(#REF!)","v":{"$error":"#REF!"}},{"$f":"T(#REF!)","v":{"$error":"#REF!"}},null,null,{"$f":"T(#REF!)","v":{"$error":"#REF!"}},{"$f":"T(#REF!)","v":{"$error":"#REF!"}},{"$f":"T(#REF!)","v":{"$error":"#REF!"}},{"$f":"T(#REF!)","v":{"$error":"#REF!"}},{"$f":"ESTIMATE!P315","v":0},null,{"$f":"T(ESTIMATE!S315)","v":""}]
[null,null,{"$f":"T(ESTIMATE!B316)","v":"New Pool structure"},{"$f":"T(#REF!)","v":{"$error":"#REF!"}},{"$f":"T(#REF!)","v":{"$error":"#REF!"}},{"$f":"T(#REF!)","v":{"$error":"#REF!"}},{"$f":"T(#REF!)","v":{"$error":"#REF!"}},null,null,{"$f":"T(#REF!)","v":{"$error":"#REF!"}},{"$f":"T(#REF!)","v":{"$error":"#REF!"}},{"$f":"T(#REF!)","v":{"$error":"#REF!"}},{"$f":"T(#REF!)","v":{"$error":"#REF!"}},{"$f":"ESTIMATE!P316","v":0},null,{"$f":"T(ESTIMATE!S316)","v":"sf"}]
[null,null,{"$f":"T(ESTIMATE!B317)","v":"Pool heater/motor"},{"$f":"T(#REF!)","v":{"$error":"#REF!"}},{"$f":"T(#REF!)","v":{"$error":"#REF!"}},{"$f":"T(#REF!)","v":{"$error":"#REF!"}},{"$f":"T(#REF!)","v":{"$error":"#REF!"}},null,null,{"$f":"T(#REF!)","v":{"$error":"#REF!"}},{"$f":"T(#REF!)","v":{"$error":"#REF!"}},{"$f":"T(#REF!)","v":{"$error":"#REF!"}},{"$f":"T(#REF!)","v":{"$error":"#REF!"}},{"$f":"ESTIMATE!P317","v":0},null,{"$f":"T(ESTIMATE!S317)","v":"ea"}]
[null,null,{"$f":"T(ESTIMATE!B318)","v":"Pool filter system"},{"$f":"T(#REF!)","v":{"$error":"#REF!"}},{"$f":"T(#REF!)","v":{"$error":"#REF!"}},{"$f":"T(#REF!)","v":{"$error":"#REF!"}},{"$f":"T(#REF!)","v":{"$error":"#REF!"}},null,null,{"$f":"T(#REF!)","v":{"$error":"#REF!"}},{"$f":"T(#REF!)","v":{"$error":"#REF!"}},{"$f":"T(#REF!)","v":{"$error":"#REF!"}},{"$f":"T(#REF!)","v":{"$error":"#REF!"}},{"$f":"ESTIMATE!P318","v":0},null,{"$f":"T(ESTIMATE!S318)","v":"ea"}]
[null,null,{"$f":"T(ESTIMATE!B319)","v":"Replaster existing pool wall"},{"$f":"T(#REF!)","v":{"$error":"#REF!"}},{"$f":"T(#REF!)","v":{"$error":"#REF!"}},{"$f":"T(#REF!)","v":{"$error":"#REF!"}},{"$f":"T(#REF!)","v":{"$error":"#REF!"}},null,null,{"$f":"T(#REF!)","v":{"$error":"#REF!"}},{"$f":"T(#REF!)","v":{"$error":"#REF!"}},{"$f":"T(#REF!)","v":{"$error":"#REF!"}},{"$f":"T(#REF!)","v":{"$error":"#REF!"}},{"$f":"ESTIMATE!P319","v":0},null,{"$f":"T(ESTIMATE!S319)","v":"sf"}]
[null,null,{"$f":"T(ESTIMATE!B320)","v":""},{"$f":"T(#REF!)","v":{"$error":"#REF!"}},{"$f":"T(#REF!)","v":{"$error":"#REF!"}},{"$f":"T(#REF!)","v":{"$error":"#REF!"}},{"$f":"T(#REF!)","v":{"$error":"#REF!"}},null,null,{"$f":"T(#REF!)","v":{"$error":"#REF!"}},{"$f":"T(#REF!)","v":{"$error":"#REF!"}},{"$f":"T(#REF!)","v":{"$error":"#REF!"}},{"$f":"T(#REF!)","v":{"$error":"#REF!"}},{"$f":"ESTIMATE!P320","v":0},null,{"$f":"T(ESTIMATE!S320)","v":""}]
[null,null,{"$f":"T(ESTIMATE!B321)","v":""},{"$f":"T(#REF!)","v":{"$error":"#REF!"}},{"$f":"T(#REF!)","v":{"$error":"#REF!"}},{"$f":"T(#REF!)","v":{"$error":"#REF!"}},{"$f":"T(#REF!)","v":{"$error":"#REF!"}},null,null,{"$f":"T(#REF!)","v":{"$error":"#REF!"}},{"$f":"T(#REF!)","v":{"$error":"#REF!"}},{"$f":"T(#REF!)","v":{"$error":"#REF!"}},{"$f":"T(#REF!)","v":{"$error":"#REF!"}},{"$f":"ESTIMATE!P321","v":0},null,{"$f":"T(ESTIMATE!S321)","v":""}]
[null,null,{"$f":"T(ESTIMATE!B322)","v":""},{"$f":"T(#REF!)","v":{"$error":"#REF!"}},{"$f":"T(#REF!)","v":{"$error":"#REF!"}},{"$f":"T(#REF!)","v":{"$error":"#REF!"}},{"$f":"T(#REF!)","v":{"$error":"#REF!"}},null,null,{"$f":"T(#REF!)","v":{"$error":"#REF!"}},{"$f":"T(#REF!)","v":{"$error":"#REF!"}},{"$f":"T(#REF!)","v":{"$error":"#REF!"}},{"$f":"T(#REF!)","v":{"$error":"#REF!"}},{"$f":"ESTIMATE!P322","v":0},null,{"$f":"T(ESTIMATE!S322)","v":""}]
[null,null,{"$f":"T(ESTIMATE!B323)","v":""},{"$f":"T(#REF!)","v":{"$error":"#REF!"}},{"$f":"T(#REF!)","v":{"$error":"#REF!"}},{"$f":"T(#REF!)","v":{"$error":"#REF!"}},{"$f":"T(#REF!)","v":{"$error":"#REF!"}},null,null,{"$f":"T(#REF!)","v":{"$error":"#REF!"}},{"$f":"T(#REF!)","v":{"$error":"#REF!"}},{"$f":"T(#REF!)","v":{"$error":"#REF!"}},{"$f":"T(#REF!)","v":{"$error":"#REF!"}},{"$f":"ESTIMATE!P323","v":0},null,{"$f":"T(ESTIMATE!S323)","v":""}]
[null,null,{"$f":"T(ESTIMATE!B324)","v":""},{"$f":"T(#REF!)","v":{"$error":"#REF!"}},{"$f":"T(#REF!)","v":{"$error":"#REF!"}},{"$f":"T(#REF!)","v":{"$error":"#REF!"}},{"$f":"T(#REF!)","v":{"$error":"#REF!"}},null,null,{"$f":"T(#REF!)","v":{"$error":"#REF!"}},{"$f":"T(#REF!)","v":{"$error":"#REF!"}},{"$f":"T(#REF!)","v":{"$error":"#REF!"}},{"$f":"T(#REF!)","v":{"$error":"#REF!"}},{"$f":"ESTIMATE!P324","v":0},null,{"$f":"T(ESTIMATE!S324)","v":""}]
[null,null,{"$f":"T(ESTIMATE!B325)","v":""},{"$f":"T(#REF!)","v":{"$error":"#REF!"}},{"$f":"T(#REF!)","v":{"$error":"#REF!"}},{"$f":"T(#REF!)","v":{"$error":"#REF!"}},{"$f":"T(#REF!)","v":{"$error":"#REF!"}},null,null,{"$f":"T(#REF!)","v":{"$error":"#REF!"}},{"$f":"T(#REF!)","v":{"$error":"#REF!"}},{"$f":"T(#REF!)","v":{"$error":"#REF!"}},{"$f":"T(#REF!)","v":{"$error":"#REF!"}},{"$f":"ESTIMATE!P325","v":0},null,{"$f":"T(ESTIMATE!S325)","v":""}]
[null,null,{"$f":"T(ESTIMATE!B326)","v":""},{"$f":"T(#REF!)","v":{"$error":"#REF!"}},{"$f":"T(#REF!)","v":{"$error":"#REF!"}},{"$f":"T(#REF!)","v":{"$error":"#REF!"}},{"$f":"T(#REF!)","v":{"$error":"#REF!"}},null,null,{"$f":"T(#REF!)","v":{"$error":"#REF!"}},{"$f":"T(#REF!)","v":{"$error":"#REF!"}},{"$f":"T(#REF!)","v":{"$error":"#REF!"}},{"$f":"T(#REF!)","v":{"$error":"#REF!"}},{"$f":"ESTIMATE!P326","v":0},null,{"$f":"T(ESTIMATE!S326)","v":""}]
[null,null,{"$f":"T(ESTIMATE!B331)","v":"LANDSCAPING"},{"$f":"T(#REF!)","v":{"$error":"#REF!"}},{"$f":"T(#REF!)","v":{"$error":"#REF!"}},{"$f":"T(#REF!)","v":{"$error":"#REF!"}},{"$f":"T(#REF!)","v":{"$error":"#REF!"}},null,null,{"$f":"T(#REF!)","v":{"$error":"#REF!"}},{"$f":"T(#REF!)","v":{"$error":"#REF!"}},{"$f":"T(#REF!)","v":{"$error":"#REF!"}},{"$f":"T(#REF!)","v":{"$error":"#REF!"}},{"$f":"SUM(N326:O365)","v":0}]
[null,null,{"$f":"T(ESTIMATE!B332)","v":"Landscaping bid/allowance, trees, bushes, flowers"},{"$f":"T(#REF!)","v":{"$error":"#REF!"}},{"$f":"T(#REF!)","v":{"$error":"#REF!"}},{"$f":"T(#REF!)","v":{"$error":"#REF!"}},{"$f":"T(#REF!)","v":{"$error":"#REF!"}},null,null,{"$f":"T(#REF!)","v":{"$error":"#REF!"}},{"$f":"T(#REF!)","v":{"$error":"#REF!"}},{"$f":"T(#REF!)","v":{"$error":"#REF!"}},{"$f":"T(#REF!)","v":{"$error":"#REF!"}},{"$f":"ESTIMATE!P332","v":0},null,{"$f":"T(ESTIMATE!S332)","v":"ls"}]
[null,null,{"$f":"T(ESTIMATE!B333)","v":"Sod"},{"$f":"T(#REF!)","v":{"$error":"#REF!"}},{"$f":"T(#REF!)","v":{"$error":"#REF!"}},{"$f":"T(#REF!)","v":{"$error":"#REF!"}},{"$f":"T(#REF!)","v":{"$error":"#REF!"}},null,null,{"$f":"T(#REF!)","v":{"$error":"#REF!"}},{"$f":"T(#REF!)","v":{"$error":"#REF!"}},{"$f":"T(#REF!)","v":{"$error":"#REF!"}},{"$f":"T(#REF!)","v":{"$error":"#REF!"}},{"$f":"ESTIMATE!P333","v":0},null,{"$f":"T(ESTIMATE!S333)","v":"sf"}]
[null,null,{"$f":"T(ESTIMATE!B334)","v":"Seeding"},{"$f":"T(#REF!)","v":{"$error":"#REF!"}},{"$f":"T(#REF!)","v":{"$error":"#REF!"}},{"$f":"T(#REF!)","v":{"$error":"#REF!"}},{"$f":"T(#REF!)","v":{"$error":"#REF!"}},null,null,{"$f":"T(#REF!)","v":{"$error":"#REF!"}},{"$f":"T(#REF!)","v":{"$error":"#REF!"}},{"$f":"T(#REF!)","v":{"$error":"#REF!"}},{"$f":"T(#REF!)","v":{"$error":"#REF!"}},{"$f":"ESTIMATE!P334","v":0},null,{"$f":"T(ESTIMATE!S334)","v":"sf"}]
[null,null,{"$f":"T(ESTIMATE!B335)","v":"Shrubs/plantings, 1 gallon"},{"$f":"T(#REF!)","v":{"$error":"#REF!"}},{"$f":"T(#REF!)","v":{"$error":"#REF!"}},{"$f":"T(#REF!)","v":{"$error":"#REF!"}},{"$f":"T(#REF!)","v":{"$error":"#REF!"}},null,null,{"$f":"T(#REF!)","v":{"$error":"#REF!"}},{"$f":"T(#REF!)","v":{"$error":"#REF!"}},{"$f":"T(#REF!)","v":{"$error":"#REF!"}},{"$f":"T(#REF!)","v":{"$error":"#REF!"}},{"$f":"ESTIMATE!P335","v":0},null,{"$f":"T(ESTIMATE!S335)","v":"ea"}]
[null,null,{"$f":"T(ESTIMATE!B336)","v":"Shrubs/plantings, 2 gallon"},{"$f":"T(#REF!)","v":{"$error":"#REF!"}},{"$f":"T(#REF!)","v":{"$error":"#REF!"}},{"$f":"T(#REF!)","v":{"$error":"#REF!"}},{"$f":"T(#REF!)","v":{"$error":"#REF!"}},null,null,{"$f":"T(#REF!)","v":{"$error":"#REF!"}},{"$f":"T(#REF!)","v":{"$error":"#REF!"}},{"$f":"T(#REF!)","v":{"$error":"#REF!"}},{"$f":"T(#REF!)","v":{"$error":"#REF!"}},{"$f":"ESTIMATE!P336","v":0},null,{"$f":"T(ESTIMATE!S336)","v":"ea"}]
[null,null,{"$f":"T(ESTIMATE!B337)","v":"Shrubs/plantings, 5 gallon"},{"$f":"T(#REF!)","v":{"$error":"#REF!"}},{"$f":"T(#REF!)","v":{"$error":"#REF!"}},{"$f":"T(#REF!)","v":{"$error":"#REF!"}},{"$f":"T(#REF!)","v":{"$error":"#REF!"}},null,null,{"$f":"T(#REF!)","v":{"$error":"#REF!"}},{"$f":"T(#REF!)","v":{"$error":"#REF!"}},{"$f":"T(#REF!)","v":{"$error":"#REF!"}},{"$f":"T(#REF!)","v":{"$error":"#REF!"}},{"$f":"ESTIMATE!P337","v":0},null,{"$f":"T(ESTIMATE!S337)","v":"ea"}]
[null,null,{"$f":"T(ESTIMATE!B338)","v":"Small trees, 1-2\" caliper, 10 gallon"},{"$f":"T(#REF!)","v":{"$error":"#REF!"}},{"$f":"T(#REF!)","v":{"$error":"#REF!"}},{"$f":"T(#REF!)","v":{"$error":"#REF!"}},{"$f":"T(#REF!)","v":{"$error":"#REF!"}},null,null,{"$f":"T(#REF!)","v":{"$error":"#REF!"}},{"$f":"T(#REF!)","v":{"$error":"#REF!"}},{"$f":"T(#REF!)","v":{"$error":"#REF!"}},{"$f":"T(#REF!)","v":{"$error":"#REF!"}},{"$f":"ESTIMATE!P338","v":0},null,{"$f":"T(ESTIMATE!S338)","v":"ea"}]
[null,null,{"$f":"T(ESTIMATE!B339)","v":"Small trees, 1-2\" 15 gallon"},{"$f":"T(#REF!)","v":{"$error":"#REF!"}},{"$f":"T(#REF!)","v":{"$error":"#REF!"}},{"$f":"T(#REF!)","v":{"$error":"#REF!"}},{"$f":"T(#REF!)","v":{"$error":"#REF!"}},null,null,{"$f":"T(#REF!)","v":{"$error":"#REF!"}},{"$f":"T(#REF!)","v":{"$error":"#REF!"}},{"$f":"T(#REF!)","v":{"$error":"#REF!"}},{"$f":"T(#REF!)","v":{"$error":"#REF!"}},{"$f":"ESTIMATE!P339","v":0},null,{"$f":"T(ESTIMATE!S339)","v":"ea"}]
[null,null,{"$f":"T(ESTIMATE!B340)","v":"36\" box tree"},{"$f":"T(#REF!)","v":{"$error":"#REF!"}},{"$f":"T(#REF!)","v":{"$error":"#REF!"}},{"$f":"T(#REF!)","v":{"$error":"#REF!"}},{"$f":"T(#REF!)","v":{"$error":"#REF!"}},null,null,{"$f":"T(#REF!)","v":{"$error":"#REF!"}},{"$f":"T(#REF!)","v":{"$error":"#REF!"}},{"$f":"T(#REF!)","v":{"$error":"#REF!"}},{"$f":"T(#REF!)","v":{"$error":"#REF!"}},{"$f":"ESTIMATE!P340","v":0},null,{"$f":"T(ESTIMATE!S340)","v":"ea"}]
[null,null,{"$f":"T(ESTIMATE!B341)","v":"Mulch, standard 3\" thick"},{"$f":"T(#REF!)","v":{"$error":"#REF!"}},{"$f":"T(#REF!)","v":{"$error":"#REF!"}},{"$f":"T(#REF!)","v":{"$error":"#REF!"}},{"$f":"T(#REF!)","v":{"$error":"#REF!"}},null,null,{"$f":"T(#REF!)","v":{"$error":"#REF!"}},{"$f":"T(#REF!)","v":{"$error":"#REF!"}},{"$f":"T(#REF!)","v":{"$error":"#REF!"}},{"$f":"T(#REF!)","v":{"$error":"#REF!"}},{"$f":"ESTIMATE!P341","v":0},null,{"$f":"T(ESTIMATE!S341)","v":"sf"}]
[null,null,{"$f":"T(ESTIMATE!B342)","v":"Landscape rock, 3/4\""},{"$f":"T(#REF!)","v":{"$error":"#REF!"}},{"$f":"T(#REF!)","v":{"$error":"#REF!"}},{"$f":"T(#REF!)","v":{"$error":"#REF!"}},{"$f":"T(#REF!)","v":{"$error":"#REF!"}},null,null,{"$f":"T(#REF!)","v":{"$error":"#REF!"}},{"$f":"T(#REF!)","v":{"$error":"#REF!"}},{"$f":"T(#REF!)","v":{"$error":"#REF!"}},{"$f":"T(#REF!)","v":{"$error":"#REF!"}},{"$f":"ESTIMATE!P342","v":0},null,{"$f":"T(ESTIMATE!S342)","v":"sf"}]
[null,null,{"$f":"T(ESTIMATE!B343)","v":"Cobble stone rock"},{"$f":"T(#REF!)","v":{"$error":"#REF!"}},{"$f":"T(#REF!)","v":{"$error":"#REF!"}},{"$f":"T(#REF!)","v":{"$error":"#REF!"}},{"$f":"T(#REF!)","v":{"$error":"#REF!"}},null,null,{"$f":"T(#REF!)","v":{"$error":"#REF!"}},{"$f":"T(#REF!)","v":{"$error":"#REF!"}},{"$f":"T(#REF!)","v":{"$error":"#REF!"}},{"$f":"T(#REF!)","v":{"$error":"#REF!"}},{"$f":"ESTIMATE!P343","v":0},null,{"$f":"T(ESTIMATE!S343)","v":"sf"}]
[null,null,{"$f":"T(ESTIMATE!B344)","v":"Tree removal, per tree"},{"$f":"T(#REF!)","v":{"$error":"#REF!"}},{"$f":"T(#REF!)","v":{"$error":"#REF!"}},{"$f":"T(#REF!)","v":{"$error":"#REF!"}},{"$f":"T(#REF!)","v":{"$error":"#REF!"}},null,null,{"$f":"T(#REF!)","v":{"$error":"#REF!"}},{"$f":"T(#REF!)","v":{"$error":"#REF!"}},{"$f":"T(#REF!)","v":{"$error":"#REF!"}},{"$f":"T(#REF!)","v":{"$error":"#REF!"}},{"$f":"ESTIMATE!P344","v":0},null,{"$f":"T(ESTIMATE!S344)","v":"ea"}]
[null,null,{"$f":"T(ESTIMATE!B345)","v":"Stacked, retaining wall"},{"$f":"T(#REF!)","v":{"$error":"#REF!"}},{"$f":"T(#REF!)","v":{"$error":"#REF!"}},{"$f":"T(#REF!)","v":{"$error":"#REF!"}},{"$f":"T(#REF!)","v":{"$error":"#REF!"}},null,null,{"$f":"T(#REF!)","v":{"$error":"#REF!"}},{"$f":"T(#REF!)","v":{"$error":"#REF!"}},{"$f":"T(#REF!)","v":{"$error":"#REF!"}},{"$f":"T(#REF!)","v":{"$error":"#REF!"}},{"$f":"ESTIMATE!P345","v":0},null,{"$f":"T(ESTIMATE!S345)","v":"sf"}]
[null,null,{"$f":"T(ESTIMATE!B346)","v":""},{"$f":"T(#REF!)","v":{"$error":"#REF!"}},{"$f":"T(#REF!)","v":{"$error":"#REF!"}},{"$f":"T(#REF!)","v":{"$error":"#REF!"}},{"$f":"T(#REF!)","v":{"$error":"#REF!"}},null,null,{"$f":"T(#REF!)","v":{"$error":"#REF!"}},{"$f":"T(#REF!)","v":{"$error":"#REF!"}},{"$f":"T(#REF!)","v":{"$error":"#REF!"}},{"$f":"T(#REF!)","v":{"$error":"#REF!"}},{"$f":"ESTIMATE!P346","v":0},null,{"$f":"T(ESTIMATE!S346)","v":""}]
[null,null,{"$f":"T(ESTIMATE!B347)","v":""},{"$f":"T(#REF!)","v":{"$error":"#REF!"}},{"$f":"T(#REF!)","v":{"$error":"#REF!"}},{"$f":"T(#REF!)","v":{"$error":"#REF!"}},{"$f":"T(#REF!)","v":{"$error":"#REF!"}},null,null,{"$f":"T(#REF!)","v":{"$error":"#REF!"}},{"$f":"T(#REF!)","v":{"$error":"#REF!"}},{"$f":"T(#REF!)","v":{"$error":"#REF!"}},{"$f":"T(#REF!)","v":{"$error":"#REF!"}},{"$f":"ESTIMATE!P347","v":0},null,{"$f":"T(ESTIMATE!S347)","v":""}]
[null,null,{"$f":"T(ESTIMATE!B348)","v":""},{"$f":"T(#REF!)","v":{"$error":"#REF!"}},{"$f":"T(#REF!)","v":{"$error":"#REF!"}},{"$f":"T(#REF!)","v":{"$error":"#REF!"}},{"$f":"T(#REF!)","v":{"$error":"#REF!"}},null,null,{"$f":"T(#REF!)","v":{"$error":"#REF!"}},{"$f":"T(#REF!)","v":{"$error":"#REF!"}},{"$f":"T(#REF!)","v":{"$error":"#REF!"}},{"$f":"T(#REF!)","v":{"$error":"#REF!"}},{"$f":"ESTIMATE!P348","v":0},null,{"$f":"T(ESTIMATE!S348)","v":""}]
[null,null,{"$f":"T(ESTIMATE!B349)","v":""},{"$f":"T(#REF!)","v":{"$error":"#REF!"}},{"$f":"T(#REF!)","v":{"$error":"#REF!"}},{"$f":"T(#REF!)","v":{"$error":"#REF!"}},{"$f":"T(#REF!)","v":{"$error":"#REF!"}},null,null,{"$f":"T(#REF!)","v":{"$error":"#REF!"}},{"$f":"T(#REF!)","v":{"$error":"#REF!"}},{"$f":"T(#REF!)","v":{"$error":"#REF!"}},{"$f":"T(#REF!)","v":{"$error":"#REF!"}},{"$f":"ESTIMATE!P349","v":0},null,{"$f":"T(ESTIMATE!S349)","v":""}]
[null,null,{"$f":"T(ESTIMATE!B350)","v":""},{"$f":"T(#REF!)","v":{"$error":"#REF!"}},{"$f":"T(#REF!)","v":{"$error":"#REF!"}},{"$f":"T(#REF!)","v":{"$error":"#REF!"}},{"$f":"T(#REF!)","v":{"$error":"#REF!"}},null,null,{"$f":"T(#REF!)","v":{"$error":"#REF!"}},{"$f":"T(#REF!)","v":{"$error":"#REF!"}},{"$f":"T(#REF!)","v":{"$error":"#REF!"}},{"$f":"T(#REF!)","v":{"$error":"#REF!"}},{"$f":"ESTIMATE!P350","v":0},null,{"$f":"T(ESTIMATE!S350)","v":""}]
[null,null,{"$f":"T(ESTIMATE!B351)","v":""},{"$f":"T(#REF!)","v":{"$error":"#REF!"}},{"$f":"T(#REF!)","v":{"$error":"#REF!"}},{"$f":"T(#REF!)","v":{"$error":"#REF!"}},{"$f":"T(#REF!)","v":{"$error":"#REF!"}},null,null,{"$f":"T(#REF!)","v":{"$error":"#REF!"}},{"$f":"T(#REF!)","v":{"$error":"#REF!"}},{"$f":"T(#REF!)","v":{"$error":"#REF!"}},{"$f":"T(#REF!)","v":{"$error":"#REF!"}},{"$f":"ESTIMATE!P351","v":0},null,{"$f":"T(ESTIMATE!S351)","v":""}]
[null,null,{"$f":"T(ESTIMATE!B352)","v":""},{"$f":"T(#REF!)","v":{"$error":"#REF!"}},{"$f":"T(#REF!)","v":{"$error":"#REF!"}},{"$f":"T(#REF!)","v":{"$error":"#REF!"}},{"$f":"T(#REF!)","v":{"$error":"#REF!"}},null,null,{"$f":"T(#REF!)","v":{"$error":"#REF!"}},{"$f":"T(#REF!)","v":{"$error":"#REF!"}},{"$f":"T(#REF!)","v":{"$error":"#REF!"}},{"$f":"T(#REF!)","v":{"$error":"#REF!"}},{"$f":"ESTIMATE!P352","v":0},null,{"$f":"T(ESTIMATE!S352)","v":""}]
[null,null,{"$f":"T(ESTIMATE!B353)","v":""},{"$f":"T(#REF!)","v":{"$error":"#REF!"}},{"$f":"T(#REF!)","v":{"$error":"#REF!"}},{"$f":"T(#REF!)","v":{"$error":"#REF!"}},{"$f":"T(#REF!)","v":{"$error":"#REF!"}},null,null,{"$f":"T(#REF!)","v":{"$error":"#REF!"}},{"$f":"T(#REF!)","v":{"$error":"#REF!"}},{"$f":"T(#REF!)","v":{"$error":"#REF!"}},{"$f":"T(#REF!)","v":{"$error":"#REF!"}},{"$f":"ESTIMATE!P353","v":0},null,{"$f":"T(ESTIMATE!S353)","v":""}]
[null,null,{"$f":"T(ESTIMATE!B354)","v":""},{"$f":"T(#REF!)","v":{"$error":"#REF!"}},{"$f":"T(#REF!)","v":{"$error":"#REF!"}},{"$f":"T(#REF!)","v":{"$error":"#REF!"}},{"$f":"T(#REF!)","v":{"$error":"#REF!"}},null,null,{"$f":"T(#REF!)","v":{"$error":"#REF!"}},{"$f":"T(#REF!)","v":{"$error":"#REF!"}},{"$f":"T(#REF!)","v":{"$error":"#REF!"}},{"$f":"T(#REF!)","v":{"$error":"#REF!"}},{"$f":"ESTIMATE!P354","v":0},null,{"$f":"T(ESTIMATE!S354)","v":""}]
[null,null,{"$f":"T(ESTIMATE!B355)","v":""},{"$f":"T(#REF!)","v":{"$error":"#REF!"}},{"$f":"T(#REF!)","v":{"$error":"#REF!"}},{"$f":"T(#REF!)","v":{"$error":"#REF!"}},{"$f":"T(#REF!)","v":{"$error":"#REF!"}},null,null,{"$f":"T(#REF!)","v":{"$error":"#REF!"}},{"$f":"T(#REF!)","v":{"$error":"#REF!"}},{"$f":"T(#REF!)","v":{"$error":"#REF!"}},{"$f":"T(#REF!)","v":{"$error":"#REF!"}},{"$f":"ESTIMATE!P355","v":0},null,{"$f":"T(ESTIMATE!S355)","v":""}]
[null,null,{"$f":"T(ESTIMATE!B356)","v":""},{"$f":"T(#REF!)","v":{"$error":"#REF!"}},{"$f":"T(#REF!)","v":{"$error":"#REF!"}},{"$f":"T(#REF!)","v":{"$error":"#REF!"}},{"$f":"T(#REF!)","v":{"$error":"#REF!"}},null,null,{"$f":"T(#REF!)","v":{"$error":"#REF!"}},{"$f":"T(#REF!)","v":{"$error":"#REF!"}},{"$f":"T(#REF!)","v":{"$error":"#REF!"}},{"$f":"T(#REF!)","v":{"$error":"#REF!"}},{"$f":"ESTIMATE!P356","v":0},null,{"$f":"T(ESTIMATE!S356)","v":""}]
[null,null,{"$f":"T(ESTIMATE!B357)","v":""},{"$f":"T(#REF!)","v":{"$error":"#REF!"}},{"$f":"T(#REF!)","v":{"$error":"#REF!"}},{"$f":"T(#REF!)","v":{"$error":"#REF!"}},{"$f":"T(#REF!)","v":{"$error":"#REF!"}},null,null,{"$f":"T(#REF!)","v":{"$error":"#REF!"}},{"$f":"T(#REF!)","v":{"$error":"#REF!"}},{"$f":"T(#REF!)","v":{"$error":"#REF!"}},{"$f":"T(#REF!)","v":{"$error":"#REF!"}},{"$f":"ESTIMATE!P357","v":0},null,{"$f":"T(ESTIMATE!S357)","v":""}]
[null,null,{"$f":"T(ESTIMATE!B358)","v":""},{"$f":"T(#REF!)","v":{"$error":"#REF!"}},{"$f":"T(#REF!)","v":{"$error":"#REF!"}},{"$f":"T(#REF!)","v":{"$error":"#REF!"}},{"$f":"T(#REF!)","v":{"$error":"#REF!"}},null,null,{"$f":"T(#REF!)","v":{"$error":"#REF!"}},{"$f":"T(#REF!)","v":{"$error":"#REF!"}},{"$f":"T(#REF!)","v":{"$error":"#REF!"}},{"$f":"T(#REF!)","v":{"$error":"#REF!"}},{"$f":"ESTIMATE!P358","v":0},null,{"$f":"T(ESTIMATE!S358)","v":""}]
[null,null,{"$f":"T(ESTIMATE!B359)","v":""},{"$f":"T(#REF!)","v":{"$error":"#REF!"}},{"$f":"T(#REF!)","v":{"$error":"#REF!"}},{"$f":"T(#REF!)","v":{"$error":"#REF!"}},{"$f":"T(#REF!)","v":{"$error":"#REF!"}},null,null,{"$f":"T(#REF!)","v":{"$error":"#REF!"}},{"$f":"T(#REF!)","v":{"$error":"#REF!"}},{"$f":"T(#REF!)","v":{"$error":"#REF!"}},{"$f":"T(#REF!)","v":{"$error":"#REF!"}},{"$f":"ESTIMATE!P359","v":0},null,{"$f":"T(ESTIMATE!S359)","v":""}]
[null,null,{"$f":"T(ESTIMATE!B360)","v":""},{"$f":"T(#REF!)","v":{"$error":"#REF!"}},{"$f":"T(#REF!)","v":{"$error":"#REF!"}},{"$f":"T(#REF!)","v":{"$error":"#REF!"}},{"$f":"T(#REF!)","v":{"$error":"#REF!"}},null,null,{"$f":"T(#REF!)","v":{"$error":"#REF!"}},{"$f":"T(#REF!)","v":{"$error":"#REF!"}},{"$f":"T(#REF!)","v":{"$error":"#REF!"}},{"$f":"T(#REF!)","v":{"$error":"#REF!"}},{"$f":"ESTIMATE!P360","v":0},null,{"$f":"T(ESTIMATE!S360)","v":""}]
[null,null,{"$f":"T(ESTIMATE!B361)","v":""},{"$f":"T(#REF!)","v":{"$error":"#REF!"}},{"$f":"T(#REF!)","v":{"$error":"#REF!"}},{"$f":"T(#REF!)","v":{"$error":"#REF!"}},{"$f":"T(#REF!)","v":{"$error":"#REF!"}},null,null,{"$f":"T(#REF!)","v":{"$error":"#REF!"}},{"$f":"T(#REF!)","v":{"$error":"#REF!"}},{"$f":"T(#REF!)","v":{"$error":"#REF!"}},{"$f":"T(#REF!)","v":{"$error":"#REF!"}},{"$f":"ESTIMATE!P361","v":0},null,{"$f":"T(ESTIMATE!S361)","v":""}]
[null,null,{"$f":"T(ESTIMATE!B362)","v":""},{"$f":"T(#REF!)","v":{"$error":"#REF!"}},{"$f":"T(#REF!)","v":{"$error":"#REF!"}},{"$f":"T(#REF!)","v":{"$error":"#REF!"}},{"$f":"T(#REF!)","v":{"$error":"#REF!"}},null,null,{"$f":"T(#REF!)","v":{"$error":"#REF!"}},{"$f":"T(#REF!)","v":{"$error":"#REF!"}},{"$f":"T(#REF!)","v":{"$error":"#REF!"}},{"$f":"T(#REF!)","v":{"$error":"#REF!"}},{"$f":"ESTIMATE!P362","v":0},null,{"$f":"T(ESTIMATE!S362)","v":""}]
[null,null,{"$f":"T(ESTIMATE!B363)","v":""},{"$f":"T(#REF!)","v":{"$error":"#REF!"}},{"$f":"T(#REF!)","v":{"$error":"#REF!"}},{"$f":"T(#REF!)","v":{"$error":"#REF!"}},{"$f":"T(#REF!)","v":{"$error":"#REF!"}},null,null,{"$f":"T(#REF!)","v":{"$error":"#REF!"}},{"$f":"T(#REF!)","v":{"$error":"#REF!"}},{"$f":"T(#REF!)","v":{"$error":"#REF!"}},{"$f":"T(#REF!)","v":{"$error":"#REF!"}},{"$f":"ESTIMATE!P363","v":0},null,{"$f":"T(ESTIMATE!S363)","v":""}]
[null,null,{"$f":"T(ESTIMATE!B364)","v":""},{"$f":"T(#REF!)","v":{"$error":"#REF!"}},{"$f":"T(#REF!)","v":{"$error":"#REF!"}},{"$f":"T(#REF!)","v":{"$error":"#REF!"}},{"$f":"T(#REF!)","v":{"$error":"#REF!"}},null,null,{"$f":"T(#REF!)","v":{"$error":"#REF!"}},{"$f":"T(#REF!)","v":{"$error":"#REF!"}},{"$f":"T(#REF!)","v":{"$error":"#REF!"}},{"$f":"T(#REF!)","v":{"$error":"#REF!"}},{"$f":"ESTIMATE!P364","v":0},null,{"$f":"T(ESTIMATE!S364)","v":""}]
[null,null,{"$f":"T(ESTIMATE!B365)","v":""},{"$f":"T(#REF!)","v":{"$error":"#REF!"}},{"$f":"T(#REF!)","v":{"$error":"#REF!"}},{"$f":"T(#REF!)","v":{"$error":"#REF!"}},{"$f":"T(#REF!)","v":{"$error":"#REF!"}},null,null,{"$f":"T(#REF!)","v":{"$error":"#REF!"}},{"$f":"T(#REF!)","v":{"$error":"#REF!"}},{"$f":"T(#REF!)","v":{"$error":"#REF!"}},{"$f":"T(#REF!)","v":{"$error":"#REF!"}},{"$f":"ESTIMATE!P365","v":0},null,{"$f":"T(ESTIMATE!S365)","v":""}]
[null,null,{"$f":"T(ESTIMATE!B366)","v":""},{"$f":"T(#REF!)","v":{"$error":"#REF!"}},{"$f":"T(#REF!)","v":{"$error":"#REF!"}},{"$f":"T(#REF!)","v":{"$error":"#REF!"}},{"$f":"T(#REF!)","v":{"$error":"#REF!"}},null,null,{"$f":"T(#REF!)","v":{"$error":"#REF!"}},{"$f":"T(#REF!)","v":{"$error":"#REF!"}},{"$f":"T(#REF!)","v":{"$error":"#REF!"}},{"$f":"T(#REF!)","v":{"$error":"#REF!"}},{"$f":"ESTIMATE!P366","v":0},null,{"$f":"T(ESTIMATE!S366)","v":""}]
[null,null,{"$f":"T(ESTIMATE!B367)","v":""},{"$f":"T(#REF!)","v":{"$error":"#REF!"}},{"$f":"T(#REF!)","v":{"$error":"#REF!"}},{"$f":"T(#REF!)","v":{"$error":"#REF!"}},{"$f":"T(#REF!)","v":{"$error":"#REF!"}},null,null,{"$f":"T(#REF!)","v":{"$error":"#REF!"}},{"$f":"T(#REF!)","v":{"$error":"#REF!"}},{"$f":"T(#REF!)","v":{"$error":"#REF!"}},{"$f":"T(#REF!)","v":{"$error":"#REF!"}},{"$f":"ESTIMATE!P367","v":0},null,{"$f":"T(ESTIMATE!S367)","v":""}]
[null,null,{"$f":"T(ESTIMATE!B368)","v":""},{"$f":"T(#REF!)","v":{"$error":"#REF!"}},{"$f":"T(#REF!)","v":{"$error":"#REF!"}},{"$f":"T(#REF!)","v":{"$error":"#REF!"}},{"$f":"T(#REF!)","v":{"$error":"#REF!"}},null,null,{"$f":"T(#REF!)","v":{"$error":"#REF!"}},{"$f":"T(#REF!)","v":{"$error":"#REF!"}},{"$f":"T(#REF!)","v":{"$error":"#REF!"}},{"$f":"T(#REF!)","v":{"$error":"#REF!"}},{"$f":"ESTIMATE!P368","v":0},null,{"$f":"T(ESTIMATE!S368)","v":""}]
[null,null,{"$f":"T(ESTIMATE!B369)","v":""},{"$f":"T(#REF!)","v":{"$error":"#REF!"}},{"$f":"T(#REF!)","v":{"$error":"#REF!"}},{"$f":"T(#REF!)","v":{"$error":"#REF!"}},{"$f":"T(#REF!)","v":{"$error":"#REF!"}},null,null,{"$f":"T(#REF!)","v":{"$error":"#REF!"}},{"$f":"T(#REF!)","v":{"$error":"#REF!"}},{"$f":"T(#REF!)","v":{"$error":"#REF!"}},{"$f":"T(#REF!)","v":{"$error":"#REF!"}},{"$f":"ESTIMATE!P369","v":0},null,{"$f":"T(ESTIMATE!S369)","v":""}]
[null,null,{"$f":"T(ESTIMATE!B370)","v":""},{"$f":"T(#REF!)","v":{"$error":"#REF!"}},{"$f":"T(#REF!)","v":{"$error":"#REF!"}},{"$f":"T(#REF!)","v":{"$error":"#REF!"}},{"$f":"T(#REF!)","v":{"$error":"#REF!"}},null,null,{"$f":"T(#REF!)","v":{"$error":"#REF!"}},{"$f":"T(#REF!)","v":{"$error":"#REF!"}},{"$f":"T(#REF!)","v":{"$error":"#REF!"}},{"$f":"T(#REF!)","v":{"$error":"#REF!"}},{"$f":"ESTIMATE!P370","v":0},null,{"$f":"T(ESTIMATE!S370)","v":""}]
[null,null,{"$f":"T(ESTIMATE!B371)","v":""},{"$f":"T(#REF!)","v":{"$error":"#REF!"}},{"$f":"T(#REF!)","v":{"$error":"#REF!"}},{"$f":"T(#REF!)","v":{"$error":"#REF!"}},{"$f":"T(#REF!)","v":{"$error":"#REF!"}},null,null,{"$f":"T(#REF!)","v":{"$error":"#REF!"}},{"$f":"T(#REF!)","v":{"$error":"#REF!"}},{"$f":"T(#REF!)","v":{"$error":"#REF!"}},{"$f":"T(#REF!)","v":{"$error":"#REF!"}},{"$f":"ESTIMATE!P371","v":0},null,{"$f":"T(ESTIMATE!S371)","v":""}]
[null,null,{"$f":"T(ESTIMATE!B376)","v":"KITCHENS"},{"$f":"T(#REF!)","v":{"$error":"#REF!"}},{"$f":"T(#REF!)","v":{"$error":"#REF!"}},{"$f":"T(#REF!)","v":{"$error":"#REF!"}},{"$f":"T(#REF!)","v":{"$error":"#REF!"}},null,null,{"$f":"T(#REF!)","v":{"$error":"#REF!"}},{"$f":"T(#REF!)","v":{"$error":"#REF!"}},{"$f":"T(#REF!)","v":{"$error":"#REF!"}},{"$f":"T(#REF!)","v":{"$error":"#REF!"}},{"$f":"SUM(N367:O406)","v":0}]
[null,null,{"$f":"T(ESTIMATE!B377)","v":"Kitchen Installation bid/allowance"},{"$f":"T(#REF!)","v":{"$error":"#REF!"}},{"$f":"T(#REF!)","v":{"$error":"#REF!"}},{"$f":"T(#REF!)","v":{"$error":"#REF!"}},{"$f":"T(#REF!)","v":{"$error":"#REF!"}},null,null,{"$f":"T(#REF!)","v":{"$error":"#REF!"}},{"$f":"T(#REF!)","v":{"$error":"#REF!"}},{"$f":"T(#REF!)","v":{"$error":"#REF!"}},{"$f":"T(#REF!)","v":{"$error":"#REF!"}},{"$f":"ESTIMATE!P377","v":0},null,{"$f":"T(ESTIMATE!S377)","v":"ls"}]
[null,null,{"$f":"T(ESTIMATE!B378)","v":"Kitchen Material bid/allowance"},{"$f":"T(#REF!)","v":{"$error":"#REF!"}},{"$f":"T(#REF!)","v":{"$error":"#REF!"}},{"$f":"T(#REF!)","v":{"$error":"#REF!"}},{"$f":"T(#REF!)","v":{"$error":"#REF!"}},null,null,{"$f":"T(#REF!)","v":{"$error":"#REF!"}},{"$f":"T(#REF!)","v":{"$error":"#REF!"}},{"$f":"T(#REF!)","v":{"$error":"#REF!"}},{"$f":"T(#REF!)","v":{"$error":"#REF!"}},{"$f":"ESTIMATE!P378","v":0},null,{"$f":"T(ESTIMATE!S378)","v":"ls"}]
[null,null,{"$f":"T(ESTIMATE!B379)","v":""},{"$f":"T(#REF!)","v":{"$error":"#REF!"}},{"$f":"T(#REF!)","v":{"$error":"#REF!"}},{"$f":"T(#REF!)","v":{"$error":"#REF!"}},{"$f":"T(#REF!)","v":{"$error":"#REF!"}},null,null,{"$f":"T(#REF!)","v":{"$error":"#REF!"}},{"$f":"T(#REF!)","v":{"$error":"#REF!"}},{"$f":"T(#REF!)","v":{"$error":"#REF!"}},{"$f":"T(#REF!)","v":{"$error":"#REF!"}},{"$f":"ESTIMATE!P379","v":0},null,{"$f":"T(ESTIMATE!S379)","v":""}]
[null,null,{"$f":"T(ESTIMATE!B380)","v":"Kitchens, Lump Sum"},{"$f":"T(#REF!)","v":{"$error":"#REF!"}},{"$f":"T(#REF!)","v":{"$error":"#REF!"}},{"$f":"T(#REF!)","v":{"$error":"#REF!"}},{"$f":"T(#REF!)","v":{"$error":"#REF!"}},null,null,{"$f":"T(#REF!)","v":{"$error":"#REF!"}},{"$f":"T(#REF!)","v":{"$error":"#REF!"}},{"$f":"T(#REF!)","v":{"$error":"#REF!"}},{"$f":"T(#REF!)","v":{"$error":"#REF!"}},{"$f":"ESTIMATE!P380","v":0},null,{"$f":"T(ESTIMATE!S380)","v":""}]
[null,null,{"$f":"T(ESTIMATE!B381)","v":"High end, (cabinets, countertops, MEP rough-in)"},{"$f":"T(#REF!)","v":{"$error":"#REF!"}},{"$f":"T(#REF!)","v":{"$error":"#REF!"}},{"$f":"T(#REF!)","v":{"$error":"#REF!"}},{"$f":"T(#REF!)","v":{"$error":"#REF!"}},null,null,{"$f":"T(#REF!)","v":{"$error":"#REF!"}},{"$f":"T(#REF!)","v":{"$error":"#REF!"}},{"$f":"T(#REF!)","v":{"$error":"#REF!"}},{"$f":"T(#REF!)","v":{"$error":"#REF!"}},{"$f":"ESTIMATE!P381","v":0},null,{"$f":"T(ESTIMATE!S381)","v":"ls"}]
[null,null,{"$f":"T(ESTIMATE!B382)","v":"Average, (cabinets, countertops, MEP rough-in)"},{"$f":"T(#REF!)","v":{"$error":"#REF!"}},{"$f":"T(#REF!)","v":{"$error":"#REF!"}},{"$f":"T(#REF!)","v":{"$error":"#REF!"}},{"$f":"T(#REF!)","v":{"$error":"#REF!"}},null,null,{"$f":"T(#REF!)","v":{"$error":"#REF!"}},{"$f":"T(#REF!)","v":{"$error":"#REF!"}},{"$f":"T(#REF!)","v":{"$error":"#REF!"}},{"$f":"T(#REF!)","v":{"$error":"#REF!"}},{"$f":"ESTIMATE!P382","v":0},null,{"$f":"T(ESTIMATE!S382)","v":"ls"}]
[null,null,{"$f":"T(ESTIMATE!B383)","v":"Economy, (cabinets, countertops, MEP rough-in)"},{"$f":"T(#REF!)","v":{"$error":"#REF!"}},{"$f":"T(#REF!)","v":{"$error":"#REF!"}},{"$f":"T(#REF!)","v":{"$error":"#REF!"}},{"$f":"T(#REF!)","v":{"$error":"#REF!"}},null,null,{"$f":"T(#REF!)","v":{"$error":"#REF!"}},{"$f":"T(#REF!)","v":{"$error":"#REF!"}},{"$f":"T(#REF!)","v":{"$error":"#REF!"}},{"$f":"T(#REF!)","v":{"$error":"#REF!"}},{"$f":"ESTIMATE!P383","v":0},null,{"$f":"T(ESTIMATE!S383)","v":"ls"}]
[null,null,{"$f":"T(ESTIMATE!B384)","v":""},{"$f":"T(#REF!)","v":{"$error":"#REF!"}},{"$f":"T(#REF!)","v":{"$error":"#REF!"}},{"$f":"T(#REF!)","v":{"$error":"#REF!"}},{"$f":"T(#REF!)","v":{"$error":"#REF!"}},null,null,{"$f":"T(#REF!)","v":{"$error":"#REF!"}},{"$f":"T(#REF!)","v":{"$error":"#REF!"}},{"$f":"T(#REF!)","v":{"$error":"#REF!"}},{"$f":"T(#REF!)","v":{"$error":"#REF!"}},{"$f":"ESTIMATE!P384","v":0},null,{"$f":"T(ESTIMATE!S384)","v":""}]
[null,null,{"$f":"T(ESTIMATE!B385)","v":"Kitchens, Detailed, Average"},{"$f":"T(#REF!)","v":{"$error":"#REF!"}},{"$f":"T(#REF!)","v":{"$error":"#REF!"}},{"$f":"T(#REF!)","v":{"$error":"#REF!"}},{"$f":"T(#REF!)","v":{"$error":"#REF!"}},null,null,{"$f":"T(#REF!)","v":{"$error":"#REF!"}},{"$f":"T(#REF!)","v":{"$error":"#REF!"}},{"$f":"T(#REF!)","v":{"$error":"#REF!"}},{"$f":"T(#REF!)","v":{"$error":"#REF!"}},{"$f":"ESTIMATE!P385","v":0},null,{"$f":"T(ESTIMATE!S385)","v":""}]
[null,null,{"$f":"T(ESTIMATE!B386)","v":"Cabinetry/Countertops"},{"$f":"T(#REF!)","v":{"$error":"#REF!"}},{"$f":"T(#REF!)","v":{"$error":"#REF!"}},{"$f":"T(#REF!)","v":{"$error":"#REF!"}},{"$f":"T(#REF!)","v":{"$error":"#REF!"}},null,null,{"$f":"T(#REF!)","v":{"$error":"#REF!"}},{"$f":"T(#REF!)","v":{"$error":"#REF!"}},{"$f":"T(#REF!)","v":{"$error":"#REF!"}},{"$f":"T(#REF!)","v":{"$error":"#REF!"}},{"$f":"ESTIMATE!P386","v":0},null,{"$f":"T(ESTIMATE!S386)","v":""}]
[null,null,{"$f":"T(ESTIMATE!B387)","v":"Kitchen Base Cabinetry"},{"$f":"T(#REF!)","v":{"$error":"#REF!"}},{"$f":"T(#REF!)","v":{"$error":"#REF!"}},{"$f":"T(#REF!)","v":{"$error":"#REF!"}},{"$f":"T(#REF!)","v":{"$error":"#REF!"}},null,null,{"$f":"T(#REF!)","v":{"$error":"#REF!"}},{"$f":"T(#REF!)","v":{"$error":"#REF!"}},{"$f":"T(#REF!)","v":{"$error":"#REF!"}},{"$f":"T(#REF!)","v":{"$error":"#REF!"}},{"$f":"ESTIMATE!P387","v":0},null,{"$f":"T(ESTIMATE!S387)","v":"lf"}]
[null,null,{"$f":"T(ESTIMATE!B388)","v":"Kitchen Upper Cabinetry"},{"$f":"T(#REF!)","v":{"$error":"#REF!"}},{"$f":"T(#REF!)","v":{"$error":"#REF!"}},{"$f":"T(#REF!)","v":{"$error":"#REF!"}},{"$f":"T(#REF!)","v":{"$error":"#REF!"}},null,null,{"$f":"T(#REF!)","v":{"$error":"#REF!"}},{"$f":"T(#REF!)","v":{"$error":"#REF!"}},{"$f":"T(#REF!)","v":{"$error":"#REF!"}},{"$f":"T(#REF!)","v":{"$error":"#REF!"}},{"$f":"ESTIMATE!P388","v":0},null,{"$f":"T(ESTIMATE!S388)","v":"lf"}]
[null,null,{"$f":"T(ESTIMATE!B389)","v":"Kitchen Pantry Cabinet"},{"$f":"T(#REF!)","v":{"$error":"#REF!"}},{"$f":"T(#REF!)","v":{"$error":"#REF!"}},{"$f":"T(#REF!)","v":{"$error":"#REF!"}},{"$f":"T(#REF!)","v":{"$error":"#REF!"}},null,null,{"$f":"T(#REF!)","v":{"$error":"#REF!"}},{"$f":"T(#REF!)","v":{"$error":"#REF!"}},{"$f":"T(#REF!)","v":{"$error":"#REF!"}},{"$f":"T(#REF!)","v":{"$error":"#REF!"}},{"$f":"ESTIMATE!P389","v":0},null,{"$f":"T(ESTIMATE!S389)","v":"ea"}]
[null,null,{"$f":"T(ESTIMATE!B390)","v":"Plastic laminate countertop"},{"$f":"T(#REF!)","v":{"$error":"#REF!"}},{"$f":"T(#REF!)","v":{"$error":"#REF!"}},{"$f":"T(#REF!)","v":{"$error":"#REF!"}},{"$f":"T(#REF!)","v":{"$error":"#REF!"}},null,null,{"$f":"T(#REF!)","v":{"$error":"#REF!"}},{"$f":"T(#REF!)","v":{"$error":"#REF!"}},{"$f":"T(#REF!)","v":{"$error":"#REF!"}},{"$f":"T(#REF!)","v":{"$error":"#REF!"}},{"$f":"ESTIMATE!P390","v":0},null,{"$f":"T(ESTIMATE!S390)","v":"sf"}]
[null,null,{"$f":"T(ESTIMATE!B391)","v":"Replace cabinet doors, only"},{"$f":"T(#REF!)","v":{"$error":"#REF!"}},{"$f":"T(#REF!)","v":{"$error":"#REF!"}},{"$f":"T(#REF!)","v":{"$error":"#REF!"}},{"$f":"T(#REF!)","v":{"$error":"#REF!"}},null,null,{"$f":"T(#REF!)","v":{"$error":"#REF!"}},{"$f":"T(#REF!)","v":{"$error":"#REF!"}},{"$f":"T(#REF!)","v":{"$error":"#REF!"}},{"$f":"T(#REF!)","v":{"$error":"#REF!"}},{"$f":"ESTIMATE!P391","v":0},null,{"$f":"T(ESTIMATE!S391)","v":"ea"}]
[null,null,{"$f":"T(ESTIMATE!B392)","v":"New cabinet door pulls"},{"$f":"T(#REF!)","v":{"$error":"#REF!"}},{"$f":"T(#REF!)","v":{"$error":"#REF!"}},{"$f":"T(#REF!)","v":{"$error":"#REF!"}},{"$f":"T(#REF!)","v":{"$error":"#REF!"}},null,null,{"$f":"T(#REF!)","v":{"$error":"#REF!"}},{"$f":"T(#REF!)","v":{"$error":"#REF!"}},{"$f":"T(#REF!)","v":{"$error":"#REF!"}},{"$f":"T(#REF!)","v":{"$error":"#REF!"}},{"$f":"ESTIMATE!P392","v":0},null,{"$f":"T(ESTIMATE!S392)","v":"ea"}]
[null,null,{"$f":"T(ESTIMATE!B393)","v":"Stone/solid surface countertop, kitchen"},{"$f":"T(#REF!)","v":{"$error":"#REF!"}},{"$f":"T(#REF!)","v":{"$error":"#REF!"}},{"$f":"T(#REF!)","v":{"$error":"#REF!"}},{"$f":"T(#REF!)","v":{"$error":"#REF!"}},null,null,{"$f":"T(#REF!)","v":{"$error":"#REF!"}},{"$f":"T(#REF!)","v":{"$error":"#REF!"}},{"$f":"T(#REF!)","v":{"$error":"#REF!"}},{"$f":"T(#REF!)","v":{"$error":"#REF!"}},{"$f":"ESTIMATE!P393","v":0},null,{"$f":"T(ESTIMATE!S393)","v":"sf"}]
[null,null,{"$f":"T(ESTIMATE!B394)","v":"Plumbing"},{"$f":"T(#REF!)","v":{"$error":"#REF!"}},{"$f":"T(#REF!)","v":{"$error":"#REF!"}},{"$f":"T(#REF!)","v":{"$error":"#REF!"}},{"$f":"T(#REF!)","v":{"$error":"#REF!"}},null,null,{"$f":"T(#REF!)","v":{"$error":"#REF!"}},{"$f":"T(#REF!)","v":{"$error":"#REF!"}},{"$f":"T(#REF!)","v":{"$error":"#REF!"}},{"$f":"T(#REF!)","v":{"$error":"#REF!"}},{"$f":"ESTIMATE!P394","v":0},null,{"$f":"T(ESTIMATE!S394)","v":""}]
[null,null,{"$f":"T(ESTIMATE!B395)","v":"Kitchen sink bowl, stainless steel, undermount"},{"$f":"T(#REF!)","v":{"$error":"#REF!"}},{"$f":"T(#REF!)","v":{"$error":"#REF!"}},{"$f":"T(#REF!)","v":{"$error":"#REF!"}},{"$f":"T(#REF!)","v":{"$error":"#REF!"}},null,null,{"$f":"T(#REF!)","v":{"$error":"#REF!"}},{"$f":"T(#REF!)","v":{"$error":"#REF!"}},{"$f":"T(#REF!)","v":{"$error":"#REF!"}},{"$f":"T(#REF!)","v":{"$error":"#REF!"}},{"$f":"ESTIMATE!P395","v":0},null,{"$f":"T(ESTIMATE!S395)","v":"ea"}]
[null,null,{"$f":"T(ESTIMATE!B396)","v":"Kitchen faucet fixture"},{"$f":"T(#REF!)","v":{"$error":"#REF!"}},{"$f":"T(#REF!)","v":{"$error":"#REF!"}},{"$f":"T(#REF!)","v":{"$error":"#REF!"}},{"$f":"T(#REF!)","v":{"$error":"#REF!"}},null,null,{"$f":"T(#REF!)","v":{"$error":"#REF!"}},{"$f":"T(#REF!)","v":{"$error":"#REF!"}},{"$f":"T(#REF!)","v":{"$error":"#REF!"}},{"$f":"T(#REF!)","v":{"$error":"#REF!"}},{"$f":"ESTIMATE!P396","v":0},null,{"$f":"T(ESTIMATE!S396)","v":"ea"}]
[null,null,{"$f":"T(ESTIMATE!B397)","v":"Garbage disposal"},{"$f":"T(#REF!)","v":{"$error":"#REF!"}},{"$f":"T(#REF!)","v":{"$error":"#REF!"}},{"$f":"T(#REF!)","v":{"$error":"#REF!"}},{"$f":"T(#REF!)","v":{"$error":"#REF!"}},null,null,{"$f":"T(#REF!)","v":{"$error":"#REF!"}},{"$f":"T(#REF!)","v":{"$error":"#REF!"}},{"$f":"T(#REF!)","v":{"$error":"#REF!"}},{"$f":"T(#REF!)","v":{"$error":"#REF!"}},{"$f":"ESTIMATE!P397","v":0},null,{"$f":"T(ESTIMATE!S397)","v":"ea"}]
[null,null,{"$f":"T(ESTIMATE!B398)","v":"Hookup dishwasher"},{"$f":"T(#REF!)","v":{"$error":"#REF!"}},{"$f":"T(#REF!)","v":{"$error":"#REF!"}},{"$f":"T(#REF!)","v":{"$error":"#REF!"}},{"$f":"T(#REF!)","v":{"$error":"#REF!"}},null,null,{"$f":"T(#REF!)","v":{"$error":"#REF!"}},{"$f":"T(#REF!)","v":{"$error":"#REF!"}},{"$f":"T(#REF!)","v":{"$error":"#REF!"}},{"$f":"T(#REF!)","v":{"$error":"#REF!"}},{"$f":"ESTIMATE!P398","v":0},null,{"$f":"T(ESTIMATE!S398)","v":"ea"}]
[null,null,{"$f":"T(ESTIMATE!B399)","v":"Water supply line for refrigerator"},{"$f":"T(#REF!)","v":{"$error":"#REF!"}},{"$f":"T(#REF!)","v":{"$error":"#REF!"}},{"$f":"T(#REF!)","v":{"$error":"#REF!"}},{"$f":"T(#REF!)","v":{"$error":"#REF!"}},null,null,{"$f":"T(#REF!)","v":{"$error":"#REF!"}},{"$f":"T(#REF!)","v":{"$error":"#REF!"}},{"$f":"T(#REF!)","v":{"$error":"#REF!"}},{"$f":"T(#REF!)","v":{"$error":"#REF!"}},{"$f":"ESTIMATE!P399","v":0},null,{"$f":"T(ESTIMATE!S399)","v":"ea"}]
[null,null,{"$f":"T(ESTIMATE!B400)","v":""},{"$f":"T(#REF!)","v":{"$error":"#REF!"}},{"$f":"T(#REF!)","v":{"$error":"#REF!"}},{"$f":"T(#REF!)","v":{"$error":"#REF!"}},{"$f":"T(#REF!)","v":{"$error":"#REF!"}},null,null,{"$f":"T(#REF!)","v":{"$error":"#REF!"}},{"$f":"T(#REF!)","v":{"$error":"#REF!"}},{"$f":"T(#REF!)","v":{"$error":"#REF!"}},{"$f":"T(#REF!)","v":{"$error":"#REF!"}},{"$f":"ESTIMATE!P400","v":0},null,{"$f":"T(ESTIMATE!S400)","v":""}]
[null,null,{"$f":"T(ESTIMATE!B401)","v":"Appliance Package"},{"$f":"T(#REF!)","v":{"$error":"#REF!"}},{"$f":"T(#REF!)","v":{"$error":"#REF!"}},{"$f":"T(#REF!)","v":{"$error":"#REF!"}},{"$f":"T(#REF!)","v":{"$error":"#REF!"}},null,null,{"$f":"T(#REF!)","v":{"$error":"#REF!"}},{"$f":"T(#REF!)","v":{"$error":"#REF!"}},{"$f":"T(#REF!)","v":{"$error":"#REF!"}},{"$f":"T(#REF!)","v":{"$error":"#REF!"}},{"$f":"ESTIMATE!P401","v":0},null,{"$f":"T(ESTIMATE!S401)","v":""}]
[null,null,{"$f":"T(ESTIMATE!B402)","v":"High end, (fridge, range, hood, dw, microwave)"},{"$f":"T(#REF!)","v":{"$error":"#REF!"}},{"$f":"T(#REF!)","v":{"$error":"#REF!"}},{"$f":"T(#REF!)","v":{"$error":"#REF!"}},{"$f":"T(#REF!)","v":{"$error":"#REF!"}},null,null,{"$f":"T(#REF!)","v":{"$error":"#REF!"}},{"$f":"T(#REF!)","v":{"$error":"#REF!"}},{"$f":"T(#REF!)","v":{"$error":"#REF!"}},{"$f":"T(#REF!)","v":{"$error":"#REF!"}},{"$f":"ESTIMATE!P402","v":0},null,{"$f":"T(ESTIMATE!S402)","v":"ls"}]
[null,null,{"$f":"T(ESTIMATE!B403)","v":"Average, (fridge, range, hood, dw, microwave)"},{"$f":"T(#REF!)","v":{"$error":"#REF!"}},{"$f":"T(#REF!)","v":{"$error":"#REF!"}},{"$f":"T(#REF!)","v":{"$error":"#REF!"}},{"$f":"T(#REF!)","v":{"$error":"#REF!"}},null,null,{"$f":"T(#REF!)","v":{"$error":"#REF!"}},{"$f":"T(#REF!)","v":{"$error":"#REF!"}},{"$f":"T(#REF!)","v":{"$error":"#REF!"}},{"$f":"T(#REF!)","v":{"$error":"#REF!"}},{"$f":"ESTIMATE!P403","v":0},null,{"$f":"T(ESTIMATE!S403)","v":"ls"}]
[null,null,{"$f":"T(ESTIMATE!B404)","v":"Economy, (fridge, range, hood, dw, microwave)"},{"$f":"T(#REF!)","v":{"$error":"#REF!"}},{"$f":"T(#REF!)","v":{"$error":"#REF!"}},{"$f":"T(#REF!)","v":{"$error":"#REF!"}},{"$f":"T(#REF!)","v":{"$error":"#REF!"}},null,null,{"$f":"T(#REF!)","v":{"$error":"#REF!"}},{"$f":"T(#REF!)","v":{"$error":"#REF!"}},{"$f":"T(#REF!)","v":{"$error":"#REF!"}},{"$f":"T(#REF!)","v":{"$error":"#REF!"}},{"$f":"ESTIMATE!P404","v":0},null,{"$f":"T(ESTIMATE!S404)","v":"ls"}]
[null,null,{"$f":"T(ESTIMATE!B405)","v":""},{"$f":"T(#REF!)","v":{"$error":"#REF!"}},{"$f":"T(#REF!)","v":{"$error":"#REF!"}},{"$f":"T(#REF!)","v":{"$error":"#REF!"}},{"$f":"T(#REF!)","v":{"$error":"#REF!"}},null,null,{"$f":"T(#REF!)","v":{"$error":"#REF!"}},{"$f":"T(#REF!)","v":{"$error":"#REF!"}},{"$f":"T(#REF!)","v":{"$error":"#REF!"}},{"$f":"T(#REF!)","v":{"$error":"#REF!"}},{"$f":"ESTIMATE!P405","v":0},null,{"$f":"T(ESTIMATE!S405)","v":""}]
[null,null,{"$f":"T(ESTIMATE!B406)","v":"Appliances, Detailed, Average"},{"$f":"T(#REF!)","v":{"$error":"#REF!"}},{"$f":"T(#REF!)","v":{"$error":"#REF!"}},{"$f":"T(#REF!)","v":{"$error":"#REF!"}},{"$f":"T(#REF!)","v":{"$error":"#REF!"}},null,null,{"$f":"T(#REF!)","v":{"$error":"#REF!"}},{"$f":"T(#REF!)","v":{"$error":"#REF!"}},{"$f":"T(#REF!)","v":{"$error":"#REF!"}},{"$f":"T(#REF!)","v":{"$error":"#REF!"}},{"$f":"ESTIMATE!P406","v":0},null,{"$f":"T(ESTIMATE!S406)","v":""}]
[null,null,{"$f":"T(ESTIMATE!B407)","v":"Refrigerator, average"},{"$f":"T(#REF!)","v":{"$error":"#REF!"}},{"$f":"T(#REF!)","v":{"$error":"#REF!"}},{"$f":"T(#REF!)","v":{"$error":"#REF!"}},{"$f":"T(#REF!)","v":{"$error":"#REF!"}},null,null,{"$f":"T(#REF!)","v":{"$error":"#REF!"}},{"$f":"T(#REF!)","v":{"$error":"#REF!"}},{"$f":"T(#REF!)","v":{"$error":"#REF!"}},{"$f":"T(#REF!)","v":{"$error":"#REF!"}},{"$f":"ESTIMATE!P407","v":0},null,{"$f":"T(ESTIMATE!S407)","v":"ea"}]
[null,null,{"$f":"T(ESTIMATE!B408)","v":"Range, average"},{"$f":"T(#REF!)","v":{"$error":"#REF!"}},{"$f":"T(#REF!)","v":{"$error":"#REF!"}},{"$f":"T(#REF!)","v":{"$error":"#REF!"}},{"$f":"T(#REF!)","v":{"$error":"#REF!"}},null,null,{"$f":"T(#REF!)","v":{"$error":"#REF!"}},{"$f":"T(#REF!)","v":{"$error":"#REF!"}},{"$f":"T(#REF!)","v":{"$error":"#REF!"}},{"$f":"T(#REF!)","v":{"$error":"#REF!"}},{"$f":"ESTIMATE!P408","v":0},null,{"$f":"T(ESTIMATE!S408)","v":"ea"}]
[null,null,{"$f":"T(ESTIMATE!B409)","v":"Range Hood, average"},{"$f":"T(#REF!)","v":{"$error":"#REF!"}},{"$f":"T(#REF!)","v":{"$error":"#REF!"}},{"$f":"T(#REF!)","v":{"$error":"#REF!"}},{"$f":"T(#REF!)","v":{"$error":"#REF!"}},null,null,{"$f":"T(#REF!)","v":{"$error":"#REF!"}},{"$f":"T(#REF!)","v":{"$error":"#REF!"}},{"$f":"T(#REF!)","v":{"$error":"#REF!"}},{"$f":"T(#REF!)","v":{"$error":"#REF!"}},{"$f":"ESTIMATE!P409","v":0},null,{"$f":"T(ESTIMATE!S409)","v":"ea"}]
[null,null,{"$f":"T(ESTIMATE!B410)","v":"Dishwasher, average"},{"$f":"T(#REF!)","v":{"$error":"#REF!"}},{"$f":"T(#REF!)","v":{"$error":"#REF!"}},{"$f":"T(#REF!)","v":{"$error":"#REF!"}},{"$f":"T(#REF!)","v":{"$error":"#REF!"}},null,null,{"$f":"T(#REF!)","v":{"$error":"#REF!"}},{"$f":"T(#REF!)","v":{"$error":"#REF!"}},{"$f":"T(#REF!)","v":{"$error":"#REF!"}},{"$f":"T(#REF!)","v":{"$error":"#REF!"}},{"$f":"ESTIMATE!P410","v":0},null,{"$f":"T(ESTIMATE!S410)","v":"ea"}]
[null,null,{"$f":"T(ESTIMATE!B411)","v":"Microwave, average"},{"$f":"T(#REF!)","v":{"$error":"#REF!"}},{"$f":"T(#REF!)","v":{"$error":"#REF!"}},{"$f":"T(#REF!)","v":{"$error":"#REF!"}},{"$f":"T(#REF!)","v":{"$error":"#REF!"}},null,null,{"$f":"T(#REF!)","v":{"$error":"#REF!"}},{"$f":"T(#REF!)","v":{"$error":"#REF!"}},{"$f":"T(#REF!)","v":{"$error":"#REF!"}},{"$f":"T(#REF!)","v":{"$error":"#REF!"}},{"$f":"ESTIMATE!P411","v":0},null,{"$f":"T(ESTIMATE!S411)","v":"ea"}]
[null,null,{"$f":"T(ESTIMATE!B412)","v":"Appliance delivery"},{"$f":"T(#REF!)","v":{"$error":"#REF!"}},{"$f":"T(#REF!)","v":{"$error":"#REF!"}},{"$f":"T(#REF!)","v":{"$error":"#REF!"}},{"$f":"T(#REF!)","v":{"$error":"#REF!"}},null,null,{"$f":"T(#REF!)","v":{"$error":"#REF!"}},{"$f":"T(#REF!)","v":{"$error":"#REF!"}},{"$f":"T(#REF!)","v":{"$error":"#REF!"}},{"$f":"T(#REF!)","v":{"$error":"#REF!"}},{"$f":"ESTIMATE!P412","v":0},null,{"$f":"T(ESTIMATE!S412)","v":"ea"}]
[null,null,{"$f":"T(ESTIMATE!B413)","v":""},{"$f":"T(#REF!)","v":{"$error":"#REF!"}},{"$f":"T(#REF!)","v":{"$error":"#REF!"}},{"$f":"T(#REF!)","v":{"$error":"#REF!"}},{"$f":"T(#REF!)","v":{"$error":"#REF!"}},null,null,{"$f":"T(#REF!)","v":{"$error":"#REF!"}},{"$f":"T(#REF!)","v":{"$error":"#REF!"}},{"$f":"T(#REF!)","v":{"$error":"#REF!"}},{"$f":"T(#REF!)","v":{"$error":"#REF!"}},{"$f":"ESTIMATE!P413","v":0},null,{"$f":"T(ESTIMATE!S413)","v":""}]
[null,null,{"$f":"T(ESTIMATE!B414)","v":""},{"$f":"T(#REF!)","v":{"$error":"#REF!"}},{"$f":"T(#REF!)","v":{"$error":"#REF!"}},{"$f":"T(#REF!)","v":{"$error":"#REF!"}},{"$f":"T(#REF!)","v":{"$error":"#REF!"}},null,null,{"$f":"T(#REF!)","v":{"$error":"#REF!"}},{"$f":"T(#REF!)","v":{"$error":"#REF!"}},{"$f":"T(#REF!)","v":{"$error":"#REF!"}},{"$f":"T(#REF!)","v":{"$error":"#REF!"}},{"$f":"ESTIMATE!P414","v":0},null,{"$f":"T(ESTIMATE!S414)","v":""}]
[null,null,{"$f":"T(ESTIMATE!B415)","v":""},{"$f":"T(#REF!)","v":{"$error":"#REF!"}},{"$f":"T(#REF!)","v":{"$error":"#REF!"}},{"$f":"T(#REF!)","v":{"$error":"#REF!"}},{"$f":"T(#REF!)","v":{"$error":"#REF!"}},null,null,{"$f":"T(#REF!)","v":{"$error":"#REF!"}},{"$f":"T(#REF!)","v":{"$error":"#REF!"}},{"$f":"T(#REF!)","v":{"$error":"#REF!"}},{"$f":"T(#REF!)","v":{"$error":"#REF!"}},{"$f":"ESTIMATE!P415","v":0},null,{"$f":"T(ESTIMATE!S415)","v":""}]
[null,null,{"$f":"T(ESTIMATE!B416)","v":""},{"$f":"T(#REF!)","v":{"$error":"#REF!"}},{"$f":"T(#REF!)","v":{"$error":"#REF!"}},{"$f":"T(#REF!)","v":{"$error":"#REF!"}},{"$f":"T(#REF!)","v":{"$error":"#REF!"}},null,null,{"$f":"T(#REF!)","v":{"$error":"#REF!"}},{"$f":"T(#REF!)","v":{"$error":"#REF!"}},{"$f":"T(#REF!)","v":{"$error":"#REF!"}},{"$f":"T(#REF!)","v":{"$error":"#REF!"}},{"$f":"ESTIMATE!P416","v":0},null,{"$f":"T(ESTIMATE!S416)","v":""}]
[null,null,{"$f":"T(ESTIMATE!B421)","v":"BATHROOMS"},{"$f":"T(#REF!)","v":{"$error":"#REF!"}},{"$f":"T(#REF!)","v":{"$error":"#REF!"}},{"$f":"T(#REF!)","v":{"$error":"#REF!"}},{"$f":"T(#REF!)","v":{"$error":"#REF!"}},null,null,{"$f":"T(#REF!)","v":{"$error":"#REF!"}},{"$f":"T(#REF!)","v":{"$error":"#REF!"}},{"$f":"T(#REF!)","v":{"$error":"#REF!"}},{"$f":"T(#REF!)","v":{"$error":"#REF!"}},{"$f":"SUM(N408:O447)","v":0}]
[null,null,{"$f":"T(ESTIMATE!B422)","v":"Bathroom Installation bid/allowance"},{"$f":"T(#REF!)","v":{"$error":"#REF!"}},{"$f":"T(#REF!)","v":{"$error":"#REF!"}},{"$f":"T(#REF!)","v":{"$error":"#REF!"}},{"$f":"T(#REF!)","v":{"$error":"#REF!"}},null,null,{"$f":"T(#REF!)","v":{"$error":"#REF!"}},{"$f":"T(#REF!)","v":{"$error":"#REF!"}},{"$f":"T(#REF!)","v":{"$error":"#REF!"}},{"$f":"T(#REF!)","v":{"$error":"#REF!"}},{"$f":"ESTIMATE!P422","v":0},null,{"$f":"T(ESTIMATE!S422)","v":"ls"}]
[null,null,{"$f":"T(ESTIMATE!B423)","v":"Bathroom Material bid/allowance"},{"$f":"T(#REF!)","v":{"$error":"#REF!"}},{"$f":"T(#REF!)","v":{"$error":"#REF!"}},{"$f":"T(#REF!)","v":{"$error":"#REF!"}},{"$f":"T(#REF!)","v":{"$error":"#REF!"}},null,null,{"$f":"T(#REF!)","v":{"$error":"#REF!"}},{"$f":"T(#REF!)","v":{"$error":"#REF!"}},{"$f":"T(#REF!)","v":{"$error":"#REF!"}},{"$f":"T(#REF!)","v":{"$error":"#REF!"}},{"$f":"ESTIMATE!P423","v":0},null,{"$f":"T(ESTIMATE!S423)","v":"ls"}]
[null,null,{"$f":"T(ESTIMATE!B424)","v":""},{"$f":"T(#REF!)","v":{"$error":"#REF!"}},{"$f":"T(#REF!)","v":{"$error":"#REF!"}},{"$f":"T(#REF!)","v":{"$error":"#REF!"}},{"$f":"T(#REF!)","v":{"$error":"#REF!"}},null,null,{"$f":"T(#REF!)","v":{"$error":"#REF!"}},{"$f":"T(#REF!)","v":{"$error":"#REF!"}},{"$f":"T(#REF!)","v":{"$error":"#REF!"}},{"$f":"T(#REF!)","v":{"$error":"#REF!"}},{"$f":"ESTIMATE!P424","v":0},null,{"$f":"T(ESTIMATE!S424)","v":""}]
[null,null,{"$f":"T(ESTIMATE!B425)","v":"Bathroom, Lump Sum, Replace Existing"},{"$f":"T(#REF!)","v":{"$error":"#REF!"}},{"$f":"T(#REF!)","v":{"$error":"#REF!"}},{"$f":"T(#REF!)","v":{"$error":"#REF!"}},{"$f":"T(#REF!)","v":{"$error":"#REF!"}},null,null,{"$f":"T(#REF!)","v":{"$error":"#REF!"}},{"$f":"T(#REF!)","v":{"$error":"#REF!"}},{"$f":"T(#REF!)","v":{"$error":"#REF!"}},{"$f":"T(#REF!)","v":{"$error":"#REF!"}},{"$f":"ESTIMATE!P425","v":0},null,{"$f":"T(ESTIMATE!S425)","v":""}]
[null,null,{"$f":"T(ESTIMATE!B426)","v":"Full bathrooms"},{"$f":"T(#REF!)","v":{"$error":"#REF!"}},{"$f":"T(#REF!)","v":{"$error":"#REF!"}},{"$f":"T(#REF!)","v":{"$error":"#REF!"}},{"$f":"T(#REF!)","v":{"$error":"#REF!"}},null,null,{"$f":"T(#REF!)","v":{"$error":"#REF!"}},{"$f":"T(#REF!)","v":{"$error":"#REF!"}},{"$f":"T(#REF!)","v":{"$error":"#REF!"}},{"$f":"T(#REF!)","v":{"$error":"#REF!"}},{"$f":"ESTIMATE!P426","v":0},null,{"$f":"T(ESTIMATE!S426)","v":""}]
[null,null,{"$f":"T(ESTIMATE!B427)","v":"High end, (new finishes, fixtures, MEP finish work)"},{"$f":"T(#REF!)","v":{"$error":"#REF!"}},{"$f":"T(#REF!)","v":{"$error":"#REF!"}},{"$f":"T(#REF!)","v":{"$error":"#REF!"}},{"$f":"T(#REF!)","v":{"$error":"#REF!"}},null,null,{"$f":"T(#REF!)","v":{"$error":"#REF!"}},{"$f":"T(#REF!)","v":{"$error":"#REF!"}},{"$f":"T(#REF!)","v":{"$error":"#REF!"}},{"$f":"T(#REF!)","v":{"$error":"#REF!"}},{"$f":"ESTIMATE!P427","v":0},null,{"$f":"T(ESTIMATE!S427)","v":"ea"}]
[null,null,{"$f":"T(ESTIMATE!B428)","v":"Average, (new finishes, fixtures, MEP finish work)"},{"$f":"T(#REF!)","v":{"$error":"#REF!"}},{"$f":"T(#REF!)","v":{"$error":"#REF!"}},{"$f":"T(#REF!)","v":{"$error":"#REF!"}},{"$f":"T(#REF!)","v":{"$error":"#REF!"}},null,null,{"$f":"T(#REF!)","v":{"$error":"#REF!"}},{"$f":"T(#REF!)","v":{"$error":"#REF!"}},{"$f":"T(#REF!)","v":{"$error":"#REF!"}},{"$f":"T(#REF!)","v":{"$error":"#REF!"}},{"$f":"ESTIMATE!P428","v":0},null,{"$f":"T(ESTIMATE!S428)","v":"ea"}]
[null,null,{"$f":"T(ESTIMATE!B429)","v":"Economy, (new finishes, fixtures, MEP finish work)"},{"$f":"T(#REF!)","v":{"$error":"#REF!"}},{"$f":"T(#REF!)","v":{"$error":"#REF!"}},{"$f":"T(#REF!)","v":{"$error":"#REF!"}},{"$f":"T(#REF!)","v":{"$error":"#REF!"}},null,null,{"$f":"T(#REF!)","v":{"$error":"#REF!"}},{"$f":"T(#REF!)","v":{"$error":"#REF!"}},{"$f":"T(#REF!)","v":{"$error":"#REF!"}},{"$f":"T(#REF!)","v":{"$error":"#REF!"}},{"$f":"ESTIMATE!P429","v":0},null,{"$f":"T(ESTIMATE!S429)","v":"ea"}]
[null,null,{"$f":"T(ESTIMATE!B430)","v":"Half bathrooms"},{"$f":"T(#REF!)","v":{"$error":"#REF!"}},{"$f":"T(#REF!)","v":{"$error":"#REF!"}},{"$f":"T(#REF!)","v":{"$error":"#REF!"}},{"$f":"T(#REF!)","v":{"$error":"#REF!"}},null,null,{"$f":"T(#REF!)","v":{"$error":"#REF!"}},{"$f":"T(#REF!)","v":{"$error":"#REF!"}},{"$f":"T(#REF!)","v":{"$error":"#REF!"}},{"$f":"T(#REF!)","v":{"$error":"#REF!"}},{"$f":"ESTIMATE!P430","v":0},null,{"$f":"T(ESTIMATE!S430)","v":""}]
[null,null,{"$f":"T(ESTIMATE!B431)","v":"High end, (new finishes, fixtures, MEP finish work)"},{"$f":"T(#REF!)","v":{"$error":"#REF!"}},{"$f":"T(#REF!)","v":{"$error":"#REF!"}},{"$f":"T(#REF!)","v":{"$error":"#REF!"}},{"$f":"T(#REF!)","v":{"$error":"#REF!"}},null,null,{"$f":"T(#REF!)","v":{"$error":"#REF!"}},{"$f":"T(#REF!)","v":{"$error":"#REF!"}},{"$f":"T(#REF!)","v":{"$error":"#REF!"}},{"$f":"T(#REF!)","v":{"$error":"#REF!"}},{"$f":"ESTIMATE!P431","v":0},null,{"$f":"T(ESTIMATE!S431)","v":"ea"}]
[null,null,{"$f":"T(ESTIMATE!B432)","v":"Average, (new finishes, fixtures, MEP finish work)"},{"$f":"T(#REF!)","v":{"$error":"#REF!"}},{"$f":"T(#REF!)","v":{"$error":"#REF!"}},{"$f":"T(#REF!)","v":{"$error":"#REF!"}},{"$f":"T(#REF!)","v":{"$error":"#REF!"}},null,null,{"$f":"T(#REF!)","v":{"$error":"#REF!"}},{"$f":"T(#REF!)","v":{"$error":"#REF!"}},{"$f":"T(#REF!)","v":{"$error":"#REF!"}},{"$f":"T(#REF!)","v":{"$error":"#REF!"}},{"$f":"ESTIMATE!P432","v":0},null,{"$f":"T(ESTIMATE!S432)","v":"ea"}]
[null,null,{"$f":"T(ESTIMATE!B433)","v":"Economy, (new finishes, fixtures, MEP finish work)"},{"$f":"T(#REF!)","v":{"$error":"#REF!"}},{"$f":"T(#REF!)","v":{"$error":"#REF!"}},{"$f":"T(#REF!)","v":{"$error":"#REF!"}},{"$f":"T(#REF!)","v":{"$error":"#REF!"}},null,null,{"$f":"T(#REF!)","v":{"$error":"#REF!"}},{"$f":"T(#REF!)","v":{"$error":"#REF!"}},{"$f":"T(#REF!)","v":{"$error":"#REF!"}},{"$f":"T(#REF!)","v":{"$error":"#REF!"}},{"$f":"ESTIMATE!P433","v":0},null,{"$f":"T(ESTIMATE!S433)","v":"ea"}]
[null,null,{"$f":"T(ESTIMATE!B434)","v":"+Add for MEP rough-in or relocation work"},{"$f":"T(#REF!)","v":{"$error":"#REF!"}},{"$f":"T(#REF!)","v":{"$error":"#REF!"}},{"$f":"T(#REF!)","v":{"$error":"#REF!"}},{"$f":"T(#REF!)","v":{"$error":"#REF!"}},null,null,{"$f":"T(#REF!)","v":{"$error":"#REF!"}},{"$f":"T(#REF!)","v":{"$error":"#REF!"}},{"$f":"T(#REF!)","v":{"$error":"#REF!"}},{"$f":"T(#REF!)","v":{"$error":"#REF!"}},{"$f":"ESTIMATE!P434","v":0},null,{"$f":"T(ESTIMATE!S434)","v":"ea"}]
[null,null,{"$f":"T(ESTIMATE!B435)","v":""},{"$f":"T(#REF!)","v":{"$error":"#REF!"}},{"$f":"T(#REF!)","v":{"$error":"#REF!"}},{"$f":"T(#REF!)","v":{"$error":"#REF!"}},{"$f":"T(#REF!)","v":{"$error":"#REF!"}},null,null,{"$f":"T(#REF!)","v":{"$error":"#REF!"}},{"$f":"T(#REF!)","v":{"$error":"#REF!"}},{"$f":"T(#REF!)","v":{"$error":"#REF!"}},{"$f":"T(#REF!)","v":{"$error":"#REF!"}},{"$f":"ESTIMATE!P435","v":0},null,{"$f":"T(ESTIMATE!S435)","v":""}]
[null,null,{"$f":"T(ESTIMATE!B436)","v":"Bathrooms, Detailed, Average"},{"$f":"T(#REF!)","v":{"$error":"#REF!"}},{"$f":"T(#REF!)","v":{"$error":"#REF!"}},{"$f":"T(#REF!)","v":{"$error":"#REF!"}},{"$f":"T(#REF!)","v":{"$error":"#REF!"}},null,null,{"$f":"T(#REF!)","v":{"$error":"#REF!"}},{"$f":"T(#REF!)","v":{"$error":"#REF!"}},{"$f":"T(#REF!)","v":{"$error":"#REF!"}},{"$f":"T(#REF!)","v":{"$error":"#REF!"}},{"$f":"ESTIMATE!P436","v":0},null,{"$f":"T(ESTIMATE!S436)","v":""}]
[null,null,{"$f":"T(ESTIMATE!B437)","v":"Vanities/Countertop"},{"$f":"T(#REF!)","v":{"$error":"#REF!"}},{"$f":"T(#REF!)","v":{"$error":"#REF!"}},{"$f":"T(#REF!)","v":{"$error":"#REF!"}},{"$f":"T(#REF!)","v":{"$error":"#REF!"}},null,null,{"$f":"T(#REF!)","v":{"$error":"#REF!"}},{"$f":"T(#REF!)","v":{"$error":"#REF!"}},{"$f":"T(#REF!)","v":{"$error":"#REF!"}},{"$f":"T(#REF!)","v":{"$error":"#REF!"}},{"$f":"ESTIMATE!P437","v":0},null,{"$f":"T(ESTIMATE!S437)","v":""}]
[null,null,{"$f":"T(ESTIMATE!B438)","v":"Vanity cabinet"},{"$f":"T(#REF!)","v":{"$error":"#REF!"}},{"$f":"T(#REF!)","v":{"$error":"#REF!"}},{"$f":"T(#REF!)","v":{"$error":"#REF!"}},{"$f":"T(#REF!)","v":{"$error":"#REF!"}},null,null,{"$f":"T(#REF!)","v":{"$error":"#REF!"}},{"$f":"T(#REF!)","v":{"$error":"#REF!"}},{"$f":"T(#REF!)","v":{"$error":"#REF!"}},{"$f":"T(#REF!)","v":{"$error":"#REF!"}},{"$f":"ESTIMATE!P438","v":0},null,{"$f":"T(ESTIMATE!S438)","v":"ea"}]
[null,null,{"$f":"T(ESTIMATE!B439)","v":"New cabinet door pulls"},{"$f":"T(#REF!)","v":{"$error":"#REF!"}},{"$f":"T(#REF!)","v":{"$error":"#REF!"}},{"$f":"T(#REF!)","v":{"$error":"#REF!"}},{"$f":"T(#REF!)","v":{"$error":"#REF!"}},null,null,{"$f":"T(#REF!)","v":{"$error":"#REF!"}},{"$f":"T(#REF!)","v":{"$error":"#REF!"}},{"$f":"T(#REF!)","v":{"$error":"#REF!"}},{"$f":"T(#REF!)","v":{"$error":"#REF!"}},{"$f":"ESTIMATE!P439","v":0},null,{"$f":"T(ESTIMATE!S439)","v":"ea"}]
[null,null,{"$f":"T(ESTIMATE!B440)","v":"Vanity countertop, stone/solid surface"},{"$f":"T(#REF!)","v":{"$error":"#REF!"}},{"$f":"T(#REF!)","v":{"$error":"#REF!"}},{"$f":"T(#REF!)","v":{"$error":"#REF!"}},{"$f":"T(#REF!)","v":{"$error":"#REF!"}},null,null,{"$f":"T(#REF!)","v":{"$error":"#REF!"}},{"$f":"T(#REF!)","v":{"$error":"#REF!"}},{"$f":"T(#REF!)","v":{"$error":"#REF!"}},{"$f":"T(#REF!)","v":{"$error":"#REF!"}},{"$f":"ESTIMATE!P440","v":0},null,{"$f":"T(ESTIMATE!S440)","v":"sf"}]
[null,null,{"$f":"T(ESTIMATE!B441)","v":"Finishes"},{"$f":"T(#REF!)","v":{"$error":"#REF!"}},{"$f":"T(#REF!)","v":{"$error":"#REF!"}},{"$f":"T(#REF!)","v":{"$error":"#REF!"}},{"$f":"T(#REF!)","v":{"$error":"#REF!"}},null,null,{"$f":"T(#REF!)","v":{"$error":"#REF!"}},{"$f":"T(#REF!)","v":{"$error":"#REF!"}},{"$f":"T(#REF!)","v":{"$error":"#REF!"}},{"$f":"T(#REF!)","v":{"$error":"#REF!"}},{"$f":"ESTIMATE!P441","v":0},null,{"$f":"T(ESTIMATE!S441)","v":""}]
[null,null,{"$f":"T(ESTIMATE!B442)","v":"Shower tile, standard"},{"$f":"T(#REF!)","v":{"$error":"#REF!"}},{"$f":"T(#REF!)","v":{"$error":"#REF!"}},{"$f":"T(#REF!)","v":{"$error":"#REF!"}},{"$f":"T(#REF!)","v":{"$error":"#REF!"}},null,null,{"$f":"T(#REF!)","v":{"$error":"#REF!"}},{"$f":"T(#REF!)","v":{"$error":"#REF!"}},{"$f":"T(#REF!)","v":{"$error":"#REF!"}},{"$f":"T(#REF!)","v":{"$error":"#REF!"}},{"$f":"ESTIMATE!P442","v":0},null,{"$f":"T(ESTIMATE!S442)","v":"sf"}]
[null,null,{"$f":"T(ESTIMATE!B443)","v":"Shower tile, accent mosaic tile"},{"$f":"T(#REF!)","v":{"$error":"#REF!"}},{"$f":"T(#REF!)","v":{"$error":"#REF!"}},{"$f":"T(#REF!)","v":{"$error":"#REF!"}},{"$f":"T(#REF!)","v":{"$error":"#REF!"}},null,null,{"$f":"T(#REF!)","v":{"$error":"#REF!"}},{"$f":"T(#REF!)","v":{"$error":"#REF!"}},{"$f":"T(#REF!)","v":{"$error":"#REF!"}},{"$f":"T(#REF!)","v":{"$error":"#REF!"}},{"$f":"ESTIMATE!P443","v":0},null,{"$f":"T(ESTIMATE!S443)","v":"sf"}]
[null,null,{"$f":"T(ESTIMATE!B444)","v":"Floor tile, bathrooms"},{"$f":"T(#REF!)","v":{"$error":"#REF!"}},{"$f":"T(#REF!)","v":{"$error":"#REF!"}},{"$f":"T(#REF!)","v":{"$error":"#REF!"}},{"$f":"T(#REF!)","v":{"$error":"#REF!"}},null,null,{"$f":"T(#REF!)","v":{"$error":"#REF!"}},{"$f":"T(#REF!)","v":{"$error":"#REF!"}},{"$f":"T(#REF!)","v":{"$error":"#REF!"}},{"$f":"T(#REF!)","v":{"$error":"#REF!"}},{"$f":"ESTIMATE!P444","v":0},null,{"$f":"T(ESTIMATE!S444)","v":"sf"}]
[null,null,{"$f":"T(ESTIMATE!B445)","v":"Plumbing"},{"$f":"T(#REF!)","v":{"$error":"#REF!"}},{"$f":"T(#REF!)","v":{"$error":"#REF!"}},{"$f":"T(#REF!)","v":{"$error":"#REF!"}},{"$f":"T(#REF!)","v":{"$error":"#REF!"}},null,null,{"$f":"T(#REF!)","v":{"$error":"#REF!"}},{"$f":"T(#REF!)","v":{"$error":"#REF!"}},{"$f":"T(#REF!)","v":{"$error":"#REF!"}},{"$f":"T(#REF!)","v":{"$error":"#REF!"}},{"$f":"ESTIMATE!P445","v":0},null,{"$f":"T(ESTIMATE!S445)","v":""}]
[null,null,{"$f":"T(ESTIMATE!B446)","v":"Bathroom faucet fixture"},{"$f":"T(#REF!)","v":{"$error":"#REF!"}},{"$f":"T(#REF!)","v":{"$error":"#REF!"}},{"$f":"T(#REF!)","v":{"$error":"#REF!"}},{"$f":"T(#REF!)","v":{"$error":"#REF!"}},null,null,{"$f":"T(#REF!)","v":{"$error":"#REF!"}},{"$f":"T(#REF!)","v":{"$error":"#REF!"}},{"$f":"T(#REF!)","v":{"$error":"#REF!"}},{"$f":"T(#REF!)","v":{"$error":"#REF!"}},{"$f":"ESTIMATE!P446","v":0},null,{"$f":"T(ESTIMATE!S446)","v":"ea"}]
[null,null,{"$f":"T(ESTIMATE!B447)","v":"Fiberglass shower stall"},{"$f":"T(#REF!)","v":{"$error":"#REF!"}},{"$f":"T(#REF!)","v":{"$error":"#REF!"}},{"$f":"T(#REF!)","v":{"$error":"#REF!"}},{"$f":"T(#REF!)","v":{"$error":"#REF!"}},null,null,{"$f":"T(#REF!)","v":{"$error":"#REF!"}},{"$f":"T(#REF!)","v":{"$error":"#REF!"}},{"$f":"T(#REF!)","v":{"$error":"#REF!"}},{"$f":"T(#REF!)","v":{"$error":"#REF!"}},{"$f":"ESTIMATE!P447","v":0},null,{"$f":"T(ESTIMATE!S447)","v":"ea"}]
[null,null,{"$f":"T(ESTIMATE!B448)","v":"Fiberglass tub"},{"$f":"T(#REF!)","v":{"$error":"#REF!"}},{"$f":"T(#REF!)","v":{"$error":"#REF!"}},{"$f":"T(#REF!)","v":{"$error":"#REF!"}},{"$f":"T(#REF!)","v":{"$error":"#REF!"}},null,null,{"$f":"T(#REF!)","v":{"$error":"#REF!"}},{"$f":"T(#REF!)","v":{"$error":"#REF!"}},{"$f":"T(#REF!)","v":{"$error":"#REF!"}},{"$f":"T(#REF!)","v":{"$error":"#REF!"}},{"$f":"ESTIMATE!P448","v":0},null,{"$f":"T(ESTIMATE!S448)","v":"ea"}]
[null,null,{"$f":"T(ESTIMATE!B449)","v":"Fiberglass tub/shower surround"},{"$f":"T(#REF!)","v":{"$error":"#REF!"}},{"$f":"T(#REF!)","v":{"$error":"#REF!"}},{"$f":"T(#REF!)","v":{"$error":"#REF!"}},{"$f":"T(#REF!)","v":{"$error":"#REF!"}},null,null,{"$f":"T(#REF!)","v":{"$error":"#REF!"}},{"$f":"T(#REF!)","v":{"$error":"#REF!"}},{"$f":"T(#REF!)","v":{"$error":"#REF!"}},{"$f":"T(#REF!)","v":{"$error":"#REF!"}},{"$f":"ESTIMATE!P449","v":0},null,{"$f":"T(ESTIMATE!S449)","v":"ea"}]
[null,null,{"$f":"T(ESTIMATE!B450)","v":"Showerhead/tub kit"},{"$f":"T(#REF!)","v":{"$error":"#REF!"}},{"$f":"T(#REF!)","v":{"$error":"#REF!"}},{"$f":"T(#REF!)","v":{"$error":"#REF!"}},{"$f":"T(#REF!)","v":{"$error":"#REF!"}},null,null,{"$f":"T(#REF!)","v":{"$error":"#REF!"}},{"$f":"T(#REF!)","v":{"$error":"#REF!"}},{"$f":"T(#REF!)","v":{"$error":"#REF!"}},{"$f":"T(#REF!)","v":{"$error":"#REF!"}},{"$f":"ESTIMATE!P450","v":0},null,{"$f":"T(ESTIMATE!S450)","v":"ea"}]
[null,null,{"$f":"T(ESTIMATE!B451)","v":"Toilets"},{"$f":"T(#REF!)","v":{"$error":"#REF!"}},{"$f":"T(#REF!)","v":{"$error":"#REF!"}},{"$f":"T(#REF!)","v":{"$error":"#REF!"}},{"$f":"T(#REF!)","v":{"$error":"#REF!"}},null,null,{"$f":"T(#REF!)","v":{"$error":"#REF!"}},{"$f":"T(#REF!)","v":{"$error":"#REF!"}},{"$f":"T(#REF!)","v":{"$error":"#REF!"}},{"$f":"T(#REF!)","v":{"$error":"#REF!"}},{"$f":"ESTIMATE!P451","v":0},null,{"$f":"T(ESTIMATE!S451)","v":"ea"}]
[null,null,{"$f":"T(ESTIMATE!B452)","v":"Toilet seats"},{"$f":"T(#REF!)","v":{"$error":"#REF!"}},{"$f":"T(#REF!)","v":{"$error":"#REF!"}},{"$f":"T(#REF!)","v":{"$error":"#REF!"}},{"$f":"T(#REF!)","v":{"$error":"#REF!"}},null,null,{"$f":"T(#REF!)","v":{"$error":"#REF!"}},{"$f":"T(#REF!)","v":{"$error":"#REF!"}},{"$f":"T(#REF!)","v":{"$error":"#REF!"}},{"$f":"T(#REF!)","v":{"$error":"#REF!"}},{"$f":"ESTIMATE!P452","v":0},null,{"$f":"T(ESTIMATE!S452)","v":"ea"}]
[null,null,{"$f":"T(ESTIMATE!B453)","v":"Pedestal sink"},{"$f":"T(#REF!)","v":{"$error":"#REF!"}},{"$f":"T(#REF!)","v":{"$error":"#REF!"}},{"$f":"T(#REF!)","v":{"$error":"#REF!"}},{"$f":"T(#REF!)","v":{"$error":"#REF!"}},null,null,{"$f":"T(#REF!)","v":{"$error":"#REF!"}},{"$f":"T(#REF!)","v":{"$error":"#REF!"}},{"$f":"T(#REF!)","v":{"$error":"#REF!"}},{"$f":"T(#REF!)","v":{"$error":"#REF!"}},{"$f":"ESTIMATE!P453","v":0},null,{"$f":"T(ESTIMATE!S453)","v":"ea"}]
[null,null,{"$f":"T(ESTIMATE!B454)","v":"Electrical"},{"$f":"T(#REF!)","v":{"$error":"#REF!"}},{"$f":"T(#REF!)","v":{"$error":"#REF!"}},{"$f":"T(#REF!)","v":{"$error":"#REF!"}},{"$f":"T(#REF!)","v":{"$error":"#REF!"}},null,null,{"$f":"T(#REF!)","v":{"$error":"#REF!"}},{"$f":"T(#REF!)","v":{"$error":"#REF!"}},{"$f":"T(#REF!)","v":{"$error":"#REF!"}},{"$f":"T(#REF!)","v":{"$error":"#REF!"}},{"$f":"ESTIMATE!P454","v":0},null,{"$f":"T(ESTIMATE!S454)","v":""}]
[null,null,{"$f":"T(ESTIMATE!B455)","v":"Exhaust Fan"},{"$f":"T(#REF!)","v":{"$error":"#REF!"}},{"$f":"T(#REF!)","v":{"$error":"#REF!"}},{"$f":"T(#REF!)","v":{"$error":"#REF!"}},{"$f":"T(#REF!)","v":{"$error":"#REF!"}},null,null,{"$f":"T(#REF!)","v":{"$error":"#REF!"}},{"$f":"T(#REF!)","v":{"$error":"#REF!"}},{"$f":"T(#REF!)","v":{"$error":"#REF!"}},{"$f":"T(#REF!)","v":{"$error":"#REF!"}},{"$f":"ESTIMATE!P455","v":0},null,{"$f":"T(ESTIMATE!S455)","v":"ea"}]
[null,null,{"$f":"T(ESTIMATE!B456)","v":"Bathroom vanity light"},{"$f":"T(#REF!)","v":{"$error":"#REF!"}},{"$f":"T(#REF!)","v":{"$error":"#REF!"}},{"$f":"T(#REF!)","v":{"$error":"#REF!"}},{"$f":"T(#REF!)","v":{"$error":"#REF!"}},null,null,{"$f":"T(#REF!)","v":{"$error":"#REF!"}},{"$f":"T(#REF!)","v":{"$error":"#REF!"}},{"$f":"T(#REF!)","v":{"$error":"#REF!"}},{"$f":"T(#REF!)","v":{"$error":"#REF!"}},{"$f":"ESTIMATE!P456","v":0},null,{"$f":"T(ESTIMATE!S456)","v":"ea"}]
[null,null,{"$f":"T(ESTIMATE!B457)","v":"Accessories"},{"$f":"T(#REF!)","v":{"$error":"#REF!"}},{"$f":"T(#REF!)","v":{"$error":"#REF!"}},{"$f":"T(#REF!)","v":{"$error":"#REF!"}},{"$f":"T(#REF!)","v":{"$error":"#REF!"}},null,null,{"$f":"T(#REF!)","v":{"$error":"#REF!"}},{"$f":"T(#REF!)","v":{"$error":"#REF!"}},{"$f":"T(#REF!)","v":{"$error":"#REF!"}},{"$f":"T(#REF!)","v":{"$error":"#REF!"}},{"$f":"ESTIMATE!P457","v":0},null,{"$f":"T(ESTIMATE!S457)","v":""}]
[null,null,{"$f":"T(ESTIMATE!B458)","v":"Bath accessories, towel bar, toilet disp, ea bathroom"},{"$f":"T(#REF!)","v":{"$error":"#REF!"}},{"$f":"T(#REF!)","v":{"$error":"#REF!"}},{"$f":"T(#REF!)","v":{"$error":"#REF!"}},{"$f":"T(#REF!)","v":{"$error":"#REF!"}},null,null,{"$f":"T(#REF!)","v":{"$error":"#REF!"}},{"$f":"T(#REF!)","v":{"$error":"#REF!"}},{"$f":"T(#REF!)","v":{"$error":"#REF!"}},{"$f":"T(#REF!)","v":{"$error":"#REF!"}},{"$f":"ESTIMATE!P458","v":0},null,{"$f":"T(ESTIMATE!S458)","v":"ea"}]
[null,null,{"$f":"T(ESTIMATE!B459)","v":"Bathroom mirrors"},{"$f":"T(#REF!)","v":{"$error":"#REF!"}},{"$f":"T(#REF!)","v":{"$error":"#REF!"}},{"$f":"T(#REF!)","v":{"$error":"#REF!"}},{"$f":"T(#REF!)","v":{"$error":"#REF!"}},null,null,{"$f":"T(#REF!)","v":{"$error":"#REF!"}},{"$f":"T(#REF!)","v":{"$error":"#REF!"}},{"$f":"T(#REF!)","v":{"$error":"#REF!"}},{"$f":"T(#REF!)","v":{"$error":"#REF!"}},{"$f":"ESTIMATE!P459","v":0},null,{"$f":"T(ESTIMATE!S459)","v":"ea"}]
[null,null,{"$f":"T(ESTIMATE!B460)","v":""},{"$f":"T(#REF!)","v":{"$error":"#REF!"}},{"$f":"T(#REF!)","v":{"$error":"#REF!"}},{"$f":"T(#REF!)","v":{"$error":"#REF!"}},{"$f":"T(#REF!)","v":{"$error":"#REF!"}},null,null,{"$f":"T(#REF!)","v":{"$error":"#REF!"}},{"$f":"T(#REF!)","v":{"$error":"#REF!"}},{"$f":"T(#REF!)","v":{"$error":"#REF!"}},{"$f":"T(#REF!)","v":{"$error":"#REF!"}},{"$f":"ESTIMATE!P460","v":0},null,{"$f":"T(ESTIMATE!S460)","v":""}]
[null,null,{"$f":"T(ESTIMATE!B461)","v":""},{"$f":"T(#REF!)","v":{"$error":"#REF!"}},{"$f":"T(#REF!)","v":{"$error":"#REF!"}},{"$f":"T(#REF!)","v":{"$error":"#REF!"}},{"$f":"T(#REF!)","v":{"$error":"#REF!"}},null,null,{"$f":"T(#REF!)","v":{"$error":"#REF!"}},{"$f":"T(#REF!)","v":{"$error":"#REF!"}},{"$f":"T(#REF!)","v":{"$error":"#REF!"}},{"$f":"T(#REF!)","v":{"$error":"#REF!"}},{"$f":"ESTIMATE!P461","v":0},null,{"$f":"T(ESTIMATE!S461)","v":""}]
[null,null,{"$f":"T(ESTIMATE!B466)","v":"DOORS & TRIM"},{"$f":"T(#REF!)","v":{"$error":"#REF!"}},{"$f":"T(#REF!)","v":{"$error":"#REF!"}},{"$f":"T(#REF!)","v":{"$error":"#REF!"}},{"$f":"T(#REF!)","v":{"$error":"#REF!"}},null,null,{"$f":"T(#REF!)","v":{"$error":"#REF!"}},{"$f":"T(#REF!)","v":{"$error":"#REF!"}},{"$f":"T(#REF!)","v":{"$error":"#REF!"}},{"$f":"T(#REF!)","v":{"$error":"#REF!"}},{"$f":"SUM(N449:O488)","v":0}]
[null,null,{"$f":"T(ESTIMATE!B467)","v":"Finish carpentry bid/allowance"},{"$f":"T(#REF!)","v":{"$error":"#REF!"}},{"$f":"T(#REF!)","v":{"$error":"#REF!"}},{"$f":"T(#REF!)","v":{"$error":"#REF!"}},{"$f":"T(#REF!)","v":{"$error":"#REF!"}},null,null,{"$f":"T(#REF!)","v":{"$error":"#REF!"}},{"$f":"T(#REF!)","v":{"$error":"#REF!"}},{"$f":"T(#REF!)","v":{"$error":"#REF!"}},{"$f":"T(#REF!)","v":{"$error":"#REF!"}},{"$f":"ESTIMATE!P467","v":0},null,{"$f":"T(ESTIMATE!S467)","v":"ls"}]
[null,null,{"$f":"T(ESTIMATE!B468)","v":"Interior door, prehung, hollow-core door"},{"$f":"T(#REF!)","v":{"$error":"#REF!"}},{"$f":"T(#REF!)","v":{"$error":"#REF!"}},{"$f":"T(#REF!)","v":{"$error":"#REF!"}},{"$f":"T(#REF!)","v":{"$error":"#REF!"}},null,null,{"$f":"T(#REF!)","v":{"$error":"#REF!"}},{"$f":"T(#REF!)","v":{"$error":"#REF!"}},{"$f":"T(#REF!)","v":{"$error":"#REF!"}},{"$f":"T(#REF!)","v":{"$error":"#REF!"}},{"$f":"ESTIMATE!P468","v":0},null,{"$f":"T(ESTIMATE!S468)","v":"ea"}]
[null,null,{"$f":"T(ESTIMATE!B469)","v":"Interior mirrored, sliding, closet doors"},{"$f":"T(#REF!)","v":{"$error":"#REF!"}},{"$f":"T(#REF!)","v":{"$error":"#REF!"}},{"$f":"T(#REF!)","v":{"$error":"#REF!"}},{"$f":"T(#REF!)","v":{"$error":"#REF!"}},null,null,{"$f":"T(#REF!)","v":{"$error":"#REF!"}},{"$f":"T(#REF!)","v":{"$error":"#REF!"}},{"$f":"T(#REF!)","v":{"$error":"#REF!"}},{"$f":"T(#REF!)","v":{"$error":"#REF!"}},{"$f":"ESTIMATE!P469","v":0},null,{"$f":"T(ESTIMATE!S469)","v":"ea"}]
[null,null,{"$f":"T(ESTIMATE!B470)","v":"Interior bi-fold, closet doors"},{"$f":"T(#REF!)","v":{"$error":"#REF!"}},{"$f":"T(#REF!)","v":{"$error":"#REF!"}},{"$f":"T(#REF!)","v":{"$error":"#REF!"}},{"$f":"T(#REF!)","v":{"$error":"#REF!"}},null,null,{"$f":"T(#REF!)","v":{"$error":"#REF!"}},{"$f":"T(#REF!)","v":{"$error":"#REF!"}},{"$f":"T(#REF!)","v":{"$error":"#REF!"}},{"$f":"T(#REF!)","v":{"$error":"#REF!"}},{"$f":"ESTIMATE!P470","v":0},null,{"$f":"T(ESTIMATE!S470)","v":"ea"}]
[null,null,{"$f":"T(ESTIMATE!B471)","v":"Door hardware, knobs only"},{"$f":"T(#REF!)","v":{"$error":"#REF!"}},{"$f":"T(#REF!)","v":{"$error":"#REF!"}},{"$f":"T(#REF!)","v":{"$error":"#REF!"}},{"$f":"T(#REF!)","v":{"$error":"#REF!"}},null,null,{"$f":"T(#REF!)","v":{"$error":"#REF!"}},{"$f":"T(#REF!)","v":{"$error":"#REF!"}},{"$f":"T(#REF!)","v":{"$error":"#REF!"}},{"$f":"T(#REF!)","v":{"$error":"#REF!"}},{"$f":"ESTIMATE!P471","v":0},null,{"$f":"T(ESTIMATE!S471)","v":"ea"}]
[null,null,{"$f":"T(ESTIMATE!B472)","v":"Door casings"},{"$f":"T(#REF!)","v":{"$error":"#REF!"}},{"$f":"T(#REF!)","v":{"$error":"#REF!"}},{"$f":"T(#REF!)","v":{"$error":"#REF!"}},{"$f":"T(#REF!)","v":{"$error":"#REF!"}},null,null,{"$f":"T(#REF!)","v":{"$error":"#REF!"}},{"$f":"T(#REF!)","v":{"$error":"#REF!"}},{"$f":"T(#REF!)","v":{"$error":"#REF!"}},{"$f":"T(#REF!)","v":{"$error":"#REF!"}},{"$f":"ESTIMATE!P472","v":0},null,{"$f":"T(ESTIMATE!S472)","v":"ea"}]
[null,null,{"$f":"T(ESTIMATE!B473)","v":"Window casings"},{"$f":"T(#REF!)","v":{"$error":"#REF!"}},{"$f":"T(#REF!)","v":{"$error":"#REF!"}},{"$f":"T(#REF!)","v":{"$error":"#REF!"}},{"$f":"T(#REF!)","v":{"$error":"#REF!"}},null,null,{"$f":"T(#REF!)","v":{"$error":"#REF!"}},{"$f":"T(#REF!)","v":{"$error":"#REF!"}},{"$f":"T(#REF!)","v":{"$error":"#REF!"}},{"$f":"T(#REF!)","v":{"$error":"#REF!"}},{"$f":"ESTIMATE!P473","v":0},null,{"$f":"T(ESTIMATE!S473)","v":"ea"}]
[null,null,{"$f":"T(ESTIMATE!B474)","v":"Window sills"},{"$f":"T(#REF!)","v":{"$error":"#REF!"}},{"$f":"T(#REF!)","v":{"$error":"#REF!"}},{"$f":"T(#REF!)","v":{"$error":"#REF!"}},{"$f":"T(#REF!)","v":{"$error":"#REF!"}},null,null,{"$f":"T(#REF!)","v":{"$error":"#REF!"}},{"$f":"T(#REF!)","v":{"$error":"#REF!"}},{"$f":"T(#REF!)","v":{"$error":"#REF!"}},{"$f":"T(#REF!)","v":{"$error":"#REF!"}},{"$f":"ESTIMATE!P474","v":0},null,{"$f":"T(ESTIMATE!S474)","v":"lf"}]
[null,null,{"$f":"T(ESTIMATE!B475)","v":"Wood  base"},{"$f":"T(#REF!)","v":{"$error":"#REF!"}},{"$f":"T(#REF!)","v":{"$error":"#REF!"}},{"$f":"T(#REF!)","v":{"$error":"#REF!"}},{"$f":"T(#REF!)","v":{"$error":"#REF!"}},null,null,{"$f":"T(#REF!)","v":{"$error":"#REF!"}},{"$f":"T(#REF!)","v":{"$error":"#REF!"}},{"$f":"T(#REF!)","v":{"$error":"#REF!"}},{"$f":"T(#REF!)","v":{"$error":"#REF!"}},{"$f":"ESTIMATE!P475","v":0},null,{"$f":"T(ESTIMATE!S475)","v":"lf"}]
[null,null,{"$f":"T(ESTIMATE!B476)","v":"Crown molding"},{"$f":"T(#REF!)","v":{"$error":"#REF!"}},{"$f":"T(#REF!)","v":{"$error":"#REF!"}},{"$f":"T(#REF!)","v":{"$error":"#REF!"}},{"$f":"T(#REF!)","v":{"$error":"#REF!"}},null,null,{"$f":"T(#REF!)","v":{"$error":"#REF!"}},{"$f":"T(#REF!)","v":{"$error":"#REF!"}},{"$f":"T(#REF!)","v":{"$error":"#REF!"}},{"$f":"T(#REF!)","v":{"$error":"#REF!"}},{"$f":"ESTIMATE!P476","v":0},null,{"$f":"T(ESTIMATE!S476)","v":"lf"}]
[null,null,{"$f":"T(ESTIMATE!B477)","v":"Raised panel wood wainscoting"},{"$f":"T(#REF!)","v":{"$error":"#REF!"}},{"$f":"T(#REF!)","v":{"$error":"#REF!"}},{"$f":"T(#REF!)","v":{"$error":"#REF!"}},{"$f":"T(#REF!)","v":{"$error":"#REF!"}},null,null,{"$f":"T(#REF!)","v":{"$error":"#REF!"}},{"$f":"T(#REF!)","v":{"$error":"#REF!"}},{"$f":"T(#REF!)","v":{"$error":"#REF!"}},{"$f":"T(#REF!)","v":{"$error":"#REF!"}},{"$f":"ESTIMATE!P477","v":0},null,{"$f":"T(ESTIMATE!S477)","v":"lf"}]
[null,null,{"$f":"T(ESTIMATE!B478)","v":"Bead board wainscoting"},{"$f":"T(#REF!)","v":{"$error":"#REF!"}},{"$f":"T(#REF!)","v":{"$error":"#REF!"}},{"$f":"T(#REF!)","v":{"$error":"#REF!"}},{"$f":"T(#REF!)","v":{"$error":"#REF!"}},null,null,{"$f":"T(#REF!)","v":{"$error":"#REF!"}},{"$f":"T(#REF!)","v":{"$error":"#REF!"}},{"$f":"T(#REF!)","v":{"$error":"#REF!"}},{"$f":"T(#REF!)","v":{"$error":"#REF!"}},{"$f":"ESTIMATE!P478","v":0},null,{"$f":"T(ESTIMATE!S478)","v":"lf"}]
[null,null,{"$f":"T(ESTIMATE!B479)","v":"Fireplace mantel"},{"$f":"T(#REF!)","v":{"$error":"#REF!"}},{"$f":"T(#REF!)","v":{"$error":"#REF!"}},{"$f":"T(#REF!)","v":{"$error":"#REF!"}},{"$f":"T(#REF!)","v":{"$error":"#REF!"}},null,null,{"$f":"T(#REF!)","v":{"$error":"#REF!"}},{"$f":"T(#REF!)","v":{"$error":"#REF!"}},{"$f":"T(#REF!)","v":{"$error":"#REF!"}},{"$f":"T(#REF!)","v":{"$error":"#REF!"}},{"$f":"ESTIMATE!P479","v":0},null,{"$f":"T(ESTIMATE!S479)","v":"ea"}]
[null,null,{"$f":"T(ESTIMATE!B480)","v":"Wood columns"},{"$f":"T(#REF!)","v":{"$error":"#REF!"}},{"$f":"T(#REF!)","v":{"$error":"#REF!"}},{"$f":"T(#REF!)","v":{"$error":"#REF!"}},{"$f":"T(#REF!)","v":{"$error":"#REF!"}},null,null,{"$f":"T(#REF!)","v":{"$error":"#REF!"}},{"$f":"T(#REF!)","v":{"$error":"#REF!"}},{"$f":"T(#REF!)","v":{"$error":"#REF!"}},{"$f":"T(#REF!)","v":{"$error":"#REF!"}},{"$f":"ESTIMATE!P480","v":0},null,{"$f":"T(ESTIMATE!S480)","v":"ea"}]
[null,null,{"$f":"T(ESTIMATE!B481)","v":"Closet shelf and rod"},{"$f":"T(#REF!)","v":{"$error":"#REF!"}},{"$f":"T(#REF!)","v":{"$error":"#REF!"}},{"$f":"T(#REF!)","v":{"$error":"#REF!"}},{"$f":"T(#REF!)","v":{"$error":"#REF!"}},null,null,{"$f":"T(#REF!)","v":{"$error":"#REF!"}},{"$f":"T(#REF!)","v":{"$error":"#REF!"}},{"$f":"T(#REF!)","v":{"$error":"#REF!"}},{"$f":"T(#REF!)","v":{"$error":"#REF!"}},{"$f":"ESTIMATE!P481","v":0},null,{"$f":"T(ESTIMATE!S481)","v":"lf"}]
[null,null,{"$f":"T(ESTIMATE!B482)","v":"Closet kit, 8ft long"},{"$f":"T(#REF!)","v":{"$error":"#REF!"}},{"$f":"T(#REF!)","v":{"$error":"#REF!"}},{"$f":"T(#REF!)","v":{"$error":"#REF!"}},{"$f":"T(#REF!)","v":{"$error":"#REF!"}},null,null,{"$f":"T(#REF!)","v":{"$error":"#REF!"}},{"$f":"T(#REF!)","v":{"$error":"#REF!"}},{"$f":"T(#REF!)","v":{"$error":"#REF!"}},{"$f":"T(#REF!)","v":{"$error":"#REF!"}},{"$f":"ESTIMATE!P482","v":0},null,{"$f":"T(ESTIMATE!S482)","v":"lf"}]
[null,null,{"$f":"T(ESTIMATE!B483)","v":"Wood handrail - rail only"},{"$f":"T(#REF!)","v":{"$error":"#REF!"}},{"$f":"T(#REF!)","v":{"$error":"#REF!"}},{"$f":"T(#REF!)","v":{"$error":"#REF!"}},{"$f":"T(#REF!)","v":{"$error":"#REF!"}},null,null,{"$f":"T(#REF!)","v":{"$error":"#REF!"}},{"$f":"T(#REF!)","v":{"$error":"#REF!"}},{"$f":"T(#REF!)","v":{"$error":"#REF!"}},{"$f":"T(#REF!)","v":{"$error":"#REF!"}},{"$f":"ESTIMATE!P483","v":0},null,{"$f":"T(ESTIMATE!S483)","v":"lf"}]
[null,null,{"$f":"T(ESTIMATE!B484)","v":"Wood balusters"},{"$f":"T(#REF!)","v":{"$error":"#REF!"}},{"$f":"T(#REF!)","v":{"$error":"#REF!"}},{"$f":"T(#REF!)","v":{"$error":"#REF!"}},{"$f":"T(#REF!)","v":{"$error":"#REF!"}},null,null,{"$f":"T(#REF!)","v":{"$error":"#REF!"}},{"$f":"T(#REF!)","v":{"$error":"#REF!"}},{"$f":"T(#REF!)","v":{"$error":"#REF!"}},{"$f":"T(#REF!)","v":{"$error":"#REF!"}},{"$f":"ESTIMATE!P484","v":0},null,{"$f":"T(ESTIMATE!S484)","v":"lf"}]
[null,null,{"$f":"T(ESTIMATE!B485)","v":"Iron balusters"},{"$f":"T(#REF!)","v":{"$error":"#REF!"}},{"$f":"T(#REF!)","v":{"$error":"#REF!"}},{"$f":"T(#REF!)","v":{"$error":"#REF!"}},{"$f":"T(#REF!)","v":{"$error":"#REF!"}},null,null,{"$f":"T(#REF!)","v":{"$error":"#REF!"}},{"$f":"T(#REF!)","v":{"$error":"#REF!"}},{"$f":"T(#REF!)","v":{"$error":"#REF!"}},{"$f":"T(#REF!)","v":{"$error":"#REF!"}},{"$f":"ESTIMATE!P485","v":0},null,{"$f":"T(ESTIMATE!S485)","v":"lf"}]
[null,null,{"$f":"T(ESTIMATE!B486)","v":""},{"$f":"T(#REF!)","v":{"$error":"#REF!"}},{"$f":"T(#REF!)","v":{"$error":"#REF!"}},{"$f":"T(#REF!)","v":{"$error":"#REF!"}},{"$f":"T(#REF!)","v":{"$error":"#REF!"}},null,null,{"$f":"T(#REF!)","v":{"$error":"#REF!"}},{"$f":"T(#REF!)","v":{"$error":"#REF!"}},{"$f":"T(#REF!)","v":{"$error":"#REF!"}},{"$f":"T(#REF!)","v":{"$error":"#REF!"}},{"$f":"ESTIMATE!P486","v":0},null,{"$f":"T(ESTIMATE!S486)","v":""}]
[null,null,{"$f":"T(ESTIMATE!B487)","v":""},{"$f":"T(#REF!)","v":{"$error":"#REF!"}},{"$f":"T(#REF!)","v":{"$error":"#REF!"}},{"$f":"T(#REF!)","v":{"$error":"#REF!"}},{"$f":"T(#REF!)","v":{"$error":"#REF!"}},null,null,{"$f":"T(#REF!)","v":{"$error":"#REF!"}},{"$f":"T(#REF!)","v":{"$error":"#REF!"}},{"$f":"T(#REF!)","v":{"$error":"#REF!"}},{"$f":"T(#REF!)","v":{"$error":"#REF!"}},{"$f":"ESTIMATE!P487","v":0},null,{"$f":"T(ESTIMATE!S487)","v":""}]
[null,null,{"$f":"T(ESTIMATE!B488)","v":""},{"$f":"T(#REF!)","v":{"$error":"#REF!"}},{"$f":"T(#REF!)","v":{"$error":"#REF!"}},{"$f":"T(#REF!)","v":{"$error":"#REF!"}},{"$f":"T(#REF!)","v":{"$error":"#REF!"}},null,null,{"$f":"T(#REF!)","v":{"$error":"#REF!"}},{"$f":"T(#REF!)","v":{"$error":"#REF!"}},{"$f":"T(#REF!)","v":{"$error":"#REF!"}},{"$f":"T(#REF!)","v":{"$error":"#REF!"}},{"$f":"ESTIMATE!P488","v":0},null,{"$f":"T(ESTIMATE!S488)","v":""}]
[null,null,{"$f":"T(ESTIMATE!B489)","v":""},{"$f":"T(#REF!)","v":{"$error":"#REF!"}},{"$f":"T(#REF!)","v":{"$error":"#REF!"}},{"$f":"T(#REF!)","v":{"$error":"#REF!"}},{"$f":"T(#REF!)","v":{"$error":"#REF!"}},null,null,{"$f":"T(#REF!)","v":{"$error":"#REF!"}},{"$f":"T(#REF!)","v":{"$error":"#REF!"}},{"$f":"T(#REF!)","v":{"$error":"#REF!"}},{"$f":"T(#REF!)","v":{"$error":"#REF!"}},{"$f":"ESTIMATE!P489","v":0},null,{"$f":"T(ESTIMATE!S489)","v":""}]
[null,null,{"$f":"T(ESTIMATE!B490)","v":""},{"$f":"T(#REF!)","v":{"$error":"#REF!"}},{"$f":"T(#REF!)","v":{"$error":"#REF!"}},{"$f":"T(#REF!)","v":{"$error":"#REF!"}},{"$f":"T(#REF!)","v":{"$error":"#REF!"}},null,null,{"$f":"T(#REF!)","v":{"$error":"#REF!"}},{"$f":"T(#REF!)","v":{"$error":"#REF!"}},{"$f":"T(#REF!)","v":{"$error":"#REF!"}},{"$f":"T(#REF!)","v":{"$error":"#REF!"}},{"$f":"ESTIMATE!P490","v":0},null,{"$f":"T(ESTIMATE!S490)","v":""}]
[null,null,{"$f":"T(ESTIMATE!B491)","v":""},{"$f":"T(#REF!)","v":{"$error":"#REF!"}},{"$f":"T(#REF!)","v":{"$error":"#REF!"}},{"$f":"T(#REF!)","v":{"$error":"#REF!"}},{"$f":"T(#REF!)","v":{"$error":"#REF!"}},null,null,{"$f":"T(#REF!)","v":{"$error":"#REF!"}},{"$f":"T(#REF!)","v":{"$error":"#REF!"}},{"$f":"T(#REF!)","v":{"$error":"#REF!"}},{"$f":"T(#REF!)","v":{"$error":"#REF!"}},{"$f":"ESTIMATE!P491","v":0},null,{"$f":"T(ESTIMATE!S491)","v":""}]
[null,null,{"$f":"T(ESTIMATE!B492)","v":""},{"$f":"T(#REF!)","v":{"$error":"#REF!"}},{"$f":"T(#REF!)","v":{"$error":"#REF!"}},{"$f":"T(#REF!)","v":{"$error":"#REF!"}},{"$f":"T(#REF!)","v":{"$error":"#REF!"}},null,null,{"$f":"T(#REF!)","v":{"$error":"#REF!"}},{"$f":"T(#REF!)","v":{"$error":"#REF!"}},{"$f":"T(#REF!)","v":{"$error":"#REF!"}},{"$f":"T(#REF!)","v":{"$error":"#REF!"}},{"$f":"ESTIMATE!P492","v":0},null,{"$f":"T(ESTIMATE!S492)","v":""}]
[null,null,{"$f":"T(ESTIMATE!B493)","v":""},{"$f":"T(#REF!)","v":{"$error":"#REF!"}},{"$f":"T(#REF!)","v":{"$error":"#REF!"}},{"$f":"T(#REF!)","v":{"$error":"#REF!"}},{"$f":"T(#REF!)","v":{"$error":"#REF!"}},null,null,{"$f":"T(#REF!)","v":{"$error":"#REF!"}},{"$f":"T(#REF!)","v":{"$error":"#REF!"}},{"$f":"T(#REF!)","v":{"$error":"#REF!"}},{"$f":"T(#REF!)","v":{"$error":"#REF!"}},{"$f":"ESTIMATE!P493","v":0},null,{"$f":"T(ESTIMATE!S493)","v":""}]
[null,null,{"$f":"T(ESTIMATE!B494)","v":""},{"$f":"T(#REF!)","v":{"$error":"#REF!"}},{"$f":"T(#REF!)","v":{"$error":"#REF!"}},{"$f":"T(#REF!)","v":{"$error":"#REF!"}},{"$f":"T(#REF!)","v":{"$error":"#REF!"}},null,null,{"$f":"T(#REF!)","v":{"$error":"#REF!"}},{"$f":"T(#REF!)","v":{"$error":"#REF!"}},{"$f":"T(#REF!)","v":{"$error":"#REF!"}},{"$f":"T(#REF!)","v":{"$error":"#REF!"}},{"$f":"ESTIMATE!P494","v":0},null,{"$f":"T(ESTIMATE!S494)","v":""}]
[null,null,{"$f":"T(ESTIMATE!B495)","v":""},{"$f":"T(#REF!)","v":{"$error":"#REF!"}},{"$f":"T(#REF!)","v":{"$error":"#REF!"}},{"$f":"T(#REF!)","v":{"$error":"#REF!"}},{"$f":"T(#REF!)","v":{"$error":"#REF!"}},null,null,{"$f":"T(#REF!)","v":{"$error":"#REF!"}},{"$f":"T(#REF!)","v":{"$error":"#REF!"}},{"$f":"T(#REF!)","v":{"$error":"#REF!"}},{"$f":"T(#REF!)","v":{"$error":"#REF!"}},{"$f":"ESTIMATE!P495","v":0},null,{"$f":"T(ESTIMATE!S495)","v":""}]
[null,null,{"$f":"T(ESTIMATE!B496)","v":""},{"$f":"T(#REF!)","v":{"$error":"#REF!"}},{"$f":"T(#REF!)","v":{"$error":"#REF!"}},{"$f":"T(#REF!)","v":{"$error":"#REF!"}},{"$f":"T(#REF!)","v":{"$error":"#REF!"}},null,null,{"$f":"T(#REF!)","v":{"$error":"#REF!"}},{"$f":"T(#REF!)","v":{"$error":"#REF!"}},{"$f":"T(#REF!)","v":{"$error":"#REF!"}},{"$f":"T(#REF!)","v":{"$error":"#REF!"}},{"$f":"ESTIMATE!P496","v":0},null,{"$f":"T(ESTIMATE!S496)","v":""}]
[null,null,{"$f":"T(ESTIMATE!B497)","v":""},{"$f":"T(#REF!)","v":{"$error":"#REF!"}},{"$f":"T(#REF!)","v":{"$error":"#REF!"}},{"$f":"T(#REF!)","v":{"$error":"#REF!"}},{"$f":"T(#REF!)","v":{"$error":"#REF!"}},null,null,{"$f":"T(#REF!)","v":{"$error":"#REF!"}},{"$f":"T(#REF!)","v":{"$error":"#REF!"}},{"$f":"T(#REF!)","v":{"$error":"#REF!"}},{"$f":"T(#REF!)","v":{"$error":"#REF!"}},{"$f":"ESTIMATE!P497","v":0},null,{"$f":"T(ESTIMATE!S497)","v":""}]
[null,null,{"$f":"T(ESTIMATE!B498)","v":""},{"$f":"T(#REF!)","v":{"$error":"#REF!"}},{"$f":"T(#REF!)","v":{"$error":"#REF!"}},{"$f":"T(#REF!)","v":{"$error":"#REF!"}},{"$f":"T(#REF!)","v":{"$error":"#REF!"}},null,null,{"$f":"T(#REF!)","v":{"$error":"#REF!"}},{"$f":"T(#REF!)","v":{"$error":"#REF!"}},{"$f":"T(#REF!)","v":{"$error":"#REF!"}},{"$f":"T(#REF!)","v":{"$error":"#REF!"}},{"$f":"ESTIMATE!P498","v":0},null,{"$f":"T(ESTIMATE!S498)","v":""}]
[null,null,{"$f":"T(ESTIMATE!B499)","v":""},{"$f":"T(#REF!)","v":{"$error":"#REF!"}},{"$f":"T(#REF!)","v":{"$error":"#REF!"}},{"$f":"T(#REF!)","v":{"$error":"#REF!"}},{"$f":"T(#REF!)","v":{"$error":"#REF!"}},null,null,{"$f":"T(#REF!)","v":{"$error":"#REF!"}},{"$f":"T(#REF!)","v":{"$error":"#REF!"}},{"$f":"T(#REF!)","v":{"$error":"#REF!"}},{"$f":"T(#REF!)","v":{"$error":"#REF!"}},{"$f":"ESTIMATE!P499","v":0},null,{"$f":"T(ESTIMATE!S499)","v":""}]
[null,null,{"$f":"T(ESTIMATE!B500)","v":""},{"$f":"T(#REF!)","v":{"$error":"#REF!"}},{"$f":"T(#REF!)","v":{"$error":"#REF!"}},{"$f":"T(#REF!)","v":{"$error":"#REF!"}},{"$f":"T(#REF!)","v":{"$error":"#REF!"}},null,null,{"$f":"T(#REF!)","v":{"$error":"#REF!"}},{"$f":"T(#REF!)","v":{"$error":"#REF!"}},{"$f":"T(#REF!)","v":{"$error":"#REF!"}},{"$f":"T(#REF!)","v":{"$error":"#REF!"}},{"$f":"ESTIMATE!P500","v":0},null,{"$f":"T(ESTIMATE!S500)","v":""}]
[null,null,{"$f":"T(ESTIMATE!B501)","v":""},{"$f":"T(#REF!)","v":{"$error":"#REF!"}},{"$f":"T(#REF!)","v":{"$error":"#REF!"}},{"$f":"T(#REF!)","v":{"$error":"#REF!"}},{"$f":"T(#REF!)","v":{"$error":"#REF!"}},null,null,{"$f":"T(#REF!)","v":{"$error":"#REF!"}},{"$f":"T(#REF!)","v":{"$error":"#REF!"}},{"$f":"T(#REF!)","v":{"$error":"#REF!"}},{"$f":"T(#REF!)","v":{"$error":"#REF!"}},{"$f":"ESTIMATE!P501","v":0},null,{"$f":"T(ESTIMATE!S501)","v":""}]
[null,null,{"$f":"T(ESTIMATE!B502)","v":""},{"$f":"T(#REF!)","v":{"$error":"#REF!"}},{"$f":"T(#REF!)","v":{"$error":"#REF!"}},{"$f":"T(#REF!)","v":{"$error":"#REF!"}},{"$f":"T(#REF!)","v":{"$error":"#REF!"}},null,null,{"$f":"T(#REF!)","v":{"$error":"#REF!"}},{"$f":"T(#REF!)","v":{"$error":"#REF!"}},{"$f":"T(#REF!)","v":{"$error":"#REF!"}},{"$f":"T(#REF!)","v":{"$error":"#REF!"}},{"$f":"ESTIMATE!P502","v":0},null,{"$f":"T(ESTIMATE!S502)","v":""}]
[null,null,{"$f":"T(ESTIMATE!B503)","v":""},{"$f":"T(#REF!)","v":{"$error":"#REF!"}},{"$f":"T(#REF!)","v":{"$error":"#REF!"}},{"$f":"T(#REF!)","v":{"$error":"#REF!"}},{"$f":"T(#REF!)","v":{"$error":"#REF!"}},null,null,{"$f":"T(#REF!)","v":{"$error":"#REF!"}},{"$f":"T(#REF!)","v":{"$error":"#REF!"}},{"$f":"T(#REF!)","v":{"$error":"#REF!"}},{"$f":"T(#REF!)","v":{"$error":"#REF!"}},{"$f":"ESTIMATE!P503","v":0},null,{"$f":"T(ESTIMATE!S503)","v":""}]
[null,null,{"$f":"T(ESTIMATE!B504)","v":""},{"$f":"T(#REF!)","v":{"$error":"#REF!"}},{"$f":"T(#REF!)","v":{"$error":"#REF!"}},{"$f":"T(#REF!)","v":{"$error":"#REF!"}},{"$f":"T(#REF!)","v":{"$error":"#REF!"}},null,null,{"$f":"T(#REF!)","v":{"$error":"#REF!"}},{"$f":"T(#REF!)","v":{"$error":"#REF!"}},{"$f":"T(#REF!)","v":{"$error":"#REF!"}},{"$f":"T(#REF!)","v":{"$error":"#REF!"}},{"$f":"ESTIMATE!P504","v":0},null,{"$f":"T(ESTIMATE!S504)","v":""}]
[null,null,{"$f":"T(ESTIMATE!B505)","v":""},{"$f":"T(#REF!)","v":{"$error":"#REF!"}},{"$f":"T(#REF!)","v":{"$error":"#REF!"}},{"$f":"T(#REF!)","v":{"$error":"#REF!"}},{"$f":"T(#REF!)","v":{"$error":"#REF!"}},null,null,{"$f":"T(#REF!)","v":{"$error":"#REF!"}},{"$f":"T(#REF!)","v":{"$error":"#REF!"}},{"$f":"T(#REF!)","v":{"$error":"#REF!"}},{"$f":"T(#REF!)","v":{"$error":"#REF!"}},{"$f":"ESTIMATE!P505","v":0},null,{"$f":"T(ESTIMATE!S505)","v":""}]
[null,null,{"$f":"T(ESTIMATE!B506)","v":""},{"$f":"T(#REF!)","v":{"$error":"#REF!"}},{"$f":"T(#REF!)","v":{"$error":"#REF!"}},{"$f":"T(#REF!)","v":{"$error":"#REF!"}},{"$f":"T(#REF!)","v":{"$error":"#REF!"}},null,null,{"$f":"T(#REF!)","v":{"$error":"#REF!"}},{"$f":"T(#REF!)","v":{"$error":"#REF!"}},{"$f":"T(#REF!)","v":{"$error":"#REF!"}},{"$f":"T(#REF!)","v":{"$error":"#REF!"}},{"$f":"ESTIMATE!P506","v":0},null,{"$f":"T(ESTIMATE!S506)","v":""}]
[null,null,{"$f":"T(ESTIMATE!B511)","v":"FRAMING & DRYWALL"},{"$f":"T(#REF!)","v":{"$error":"#REF!"}},{"$f":"T(#REF!)","v":{"$error":"#REF!"}},{"$f":"T(#REF!)","v":{"$error":"#REF!"}},{"$f":"T(#REF!)","v":{"$error":"#REF!"}},null,null,{"$f":"T(#REF!)","v":{"$error":"#REF!"}},{"$f":"T(#REF!)","v":{"$error":"#REF!"}},{"$f":"T(#REF!)","v":{"$error":"#REF!"}},{"$f":"T(#REF!)","v":{"$error":"#REF!"}},{"$f":"SUM(N490:O529)","v":0}]
[null,null,{"$f":"T(ESTIMATE!B512)","v":"Framing"},{"$f":"T(#REF!)","v":{"$error":"#REF!"}},{"$f":"T(#REF!)","v":{"$error":"#REF!"}},{"$f":"T(#REF!)","v":{"$error":"#REF!"}},{"$f":"T(#REF!)","v":{"$error":"#REF!"}},null,null,{"$f":"T(#REF!)","v":{"$error":"#REF!"}},{"$f":"T(#REF!)","v":{"$error":"#REF!"}},{"$f":"T(#REF!)","v":{"$error":"#REF!"}},{"$f":"T(#REF!)","v":{"$error":"#REF!"}},{"$f":"ESTIMATE!P512","v":0},null,{"$f":"T(ESTIMATE!S512)","v":""}]
[null,null,{"$f":"T(ESTIMATE!B513)","v":"Structural framing bid/allowance, case by case"},{"$f":"T(#REF!)","v":{"$error":"#REF!"}},{"$f":"T(#REF!)","v":{"$error":"#REF!"}},{"$f":"T(#REF!)","v":{"$error":"#REF!"}},{"$f":"T(#REF!)","v":{"$error":"#REF!"}},null,null,{"$f":"T(#REF!)","v":{"$error":"#REF!"}},{"$f":"T(#REF!)","v":{"$error":"#REF!"}},{"$f":"T(#REF!)","v":{"$error":"#REF!"}},{"$f":"T(#REF!)","v":{"$error":"#REF!"}},{"$f":"ESTIMATE!P513","v":0},null,{"$f":"T(ESTIMATE!S513)","v":"ls"}]
[null,null,{"$f":"T(ESTIMATE!B514)","v":"Subflooring, 3/4\" plywood"},{"$f":"T(#REF!)","v":{"$error":"#REF!"}},{"$f":"T(#REF!)","v":{"$error":"#REF!"}},{"$f":"T(#REF!)","v":{"$error":"#REF!"}},{"$f":"T(#REF!)","v":{"$error":"#REF!"}},null,null,{"$f":"T(#REF!)","v":{"$error":"#REF!"}},{"$f":"T(#REF!)","v":{"$error":"#REF!"}},{"$f":"T(#REF!)","v":{"$error":"#REF!"}},{"$f":"T(#REF!)","v":{"$error":"#REF!"}},{"$f":"ESTIMATE!P514","v":0},null,{"$f":"T(ESTIMATE!S514)","v":"sf"}]
[null,null,{"$f":"T(ESTIMATE!B515)","v":"Interior wall framing"},{"$f":"T(#REF!)","v":{"$error":"#REF!"}},{"$f":"T(#REF!)","v":{"$error":"#REF!"}},{"$f":"T(#REF!)","v":{"$error":"#REF!"}},{"$f":"T(#REF!)","v":{"$error":"#REF!"}},null,null,{"$f":"T(#REF!)","v":{"$error":"#REF!"}},{"$f":"T(#REF!)","v":{"$error":"#REF!"}},{"$f":"T(#REF!)","v":{"$error":"#REF!"}},{"$f":"T(#REF!)","v":{"$error":"#REF!"}},{"$f":"ESTIMATE!P515","v":0},null,{"$f":"T(ESTIMATE!S515)","v":"sf"}]
[null,null,{"$f":"T(ESTIMATE!B516)","v":"Structural/Exterior wall framing"},{"$f":"T(#REF!)","v":{"$error":"#REF!"}},{"$f":"T(#REF!)","v":{"$error":"#REF!"}},{"$f":"T(#REF!)","v":{"$error":"#REF!"}},{"$f":"T(#REF!)","v":{"$error":"#REF!"}},null,null,{"$f":"T(#REF!)","v":{"$error":"#REF!"}},{"$f":"T(#REF!)","v":{"$error":"#REF!"}},{"$f":"T(#REF!)","v":{"$error":"#REF!"}},{"$f":"T(#REF!)","v":{"$error":"#REF!"}},{"$f":"ESTIMATE!P516","v":0},null,{"$f":"T(ESTIMATE!S516)","v":"sf"}]
[null,null,{"$f":"T(ESTIMATE!B517)","v":"Rough-in openings"},{"$f":"T(#REF!)","v":{"$error":"#REF!"}},{"$f":"T(#REF!)","v":{"$error":"#REF!"}},{"$f":"T(#REF!)","v":{"$error":"#REF!"}},{"$f":"T(#REF!)","v":{"$error":"#REF!"}},null,null,{"$f":"T(#REF!)","v":{"$error":"#REF!"}},{"$f":"T(#REF!)","v":{"$error":"#REF!"}},{"$f":"T(#REF!)","v":{"$error":"#REF!"}},{"$f":"T(#REF!)","v":{"$error":"#REF!"}},{"$f":"ESTIMATE!P517","v":0},null,{"$f":"T(ESTIMATE!S517)","v":"ea"}]
[null,null,{"$f":"T(ESTIMATE!B518)","v":"Floor joists/ceiling joists"},{"$f":"T(#REF!)","v":{"$error":"#REF!"}},{"$f":"T(#REF!)","v":{"$error":"#REF!"}},{"$f":"T(#REF!)","v":{"$error":"#REF!"}},{"$f":"T(#REF!)","v":{"$error":"#REF!"}},null,null,{"$f":"T(#REF!)","v":{"$error":"#REF!"}},{"$f":"T(#REF!)","v":{"$error":"#REF!"}},{"$f":"T(#REF!)","v":{"$error":"#REF!"}},{"$f":"T(#REF!)","v":{"$error":"#REF!"}},{"$f":"ESTIMATE!P518","v":0},null,{"$f":"T(ESTIMATE!S518)","v":"sf"}]
[null,null,{"$f":"T(ESTIMATE!B519)","v":"Roof framing/rafters"},{"$f":"T(#REF!)","v":{"$error":"#REF!"}},{"$f":"T(#REF!)","v":{"$error":"#REF!"}},{"$f":"T(#REF!)","v":{"$error":"#REF!"}},{"$f":"T(#REF!)","v":{"$error":"#REF!"}},null,null,{"$f":"T(#REF!)","v":{"$error":"#REF!"}},{"$f":"T(#REF!)","v":{"$error":"#REF!"}},{"$f":"T(#REF!)","v":{"$error":"#REF!"}},{"$f":"T(#REF!)","v":{"$error":"#REF!"}},{"$f":"ESTIMATE!P519","v":0},null,{"$f":"T(ESTIMATE!S519)","v":"sf"}]
[null,null,{"$f":"T(ESTIMATE!B520)","v":"Open load bearing/structural wall"},{"$f":"T(#REF!)","v":{"$error":"#REF!"}},{"$f":"T(#REF!)","v":{"$error":"#REF!"}},{"$f":"T(#REF!)","v":{"$error":"#REF!"}},{"$f":"T(#REF!)","v":{"$error":"#REF!"}},null,null,{"$f":"T(#REF!)","v":{"$error":"#REF!"}},{"$f":"T(#REF!)","v":{"$error":"#REF!"}},{"$f":"T(#REF!)","v":{"$error":"#REF!"}},{"$f":"T(#REF!)","v":{"$error":"#REF!"}},{"$f":"ESTIMATE!P520","v":0},null,{"$f":"T(ESTIMATE!S520)","v":"ea"}]
[null,null,{"$f":"T(ESTIMATE!B521)","v":""},{"$f":"T(#REF!)","v":{"$error":"#REF!"}},{"$f":"T(#REF!)","v":{"$error":"#REF!"}},{"$f":"T(#REF!)","v":{"$error":"#REF!"}},{"$f":"T(#REF!)","v":{"$error":"#REF!"}},null,null,{"$f":"T(#REF!)","v":{"$error":"#REF!"}},{"$f":"T(#REF!)","v":{"$error":"#REF!"}},{"$f":"T(#REF!)","v":{"$error":"#REF!"}},{"$f":"T(#REF!)","v":{"$error":"#REF!"}},{"$f":"ESTIMATE!P521","v":0},null,{"$f":"T(ESTIMATE!S521)","v":""}]
[null,null,{"$f":"T(ESTIMATE!B522)","v":""},{"$f":"T(#REF!)","v":{"$error":"#REF!"}},{"$f":"T(#REF!)","v":{"$error":"#REF!"}},{"$f":"T(#REF!)","v":{"$error":"#REF!"}},{"$f":"T(#REF!)","v":{"$error":"#REF!"}},null,null,{"$f":"T(#REF!)","v":{"$error":"#REF!"}},{"$f":"T(#REF!)","v":{"$error":"#REF!"}},{"$f":"T(#REF!)","v":{"$error":"#REF!"}},{"$f":"T(#REF!)","v":{"$error":"#REF!"}},{"$f":"ESTIMATE!P522","v":0},null,{"$f":"T(ESTIMATE!S522)","v":""}]
[null,null,{"$f":"T(ESTIMATE!B523)","v":"Insulation"},{"$f":"T(#REF!)","v":{"$error":"#REF!"}},{"$f":"T(#REF!)","v":{"$error":"#REF!"}},{"$f":"T(#REF!)","v":{"$error":"#REF!"}},{"$f":"T(#REF!)","v":{"$error":"#REF!"}},null,null,{"$f":"T(#REF!)","v":{"$error":"#REF!"}},{"$f":"T(#REF!)","v":{"$error":"#REF!"}},{"$f":"T(#REF!)","v":{"$error":"#REF!"}},{"$f":"T(#REF!)","v":{"$error":"#REF!"}},{"$f":"ESTIMATE!P523","v":0},null,{"$f":"T(ESTIMATE!S523)","v":""}]
[null,null,{"$f":"T(ESTIMATE!B524)","v":"Insulation bid/allowance"},{"$f":"T(#REF!)","v":{"$error":"#REF!"}},{"$f":"T(#REF!)","v":{"$error":"#REF!"}},{"$f":"T(#REF!)","v":{"$error":"#REF!"}},{"$f":"T(#REF!)","v":{"$error":"#REF!"}},null,null,{"$f":"T(#REF!)","v":{"$error":"#REF!"}},{"$f":"T(#REF!)","v":{"$error":"#REF!"}},{"$f":"T(#REF!)","v":{"$error":"#REF!"}},{"$f":"T(#REF!)","v":{"$error":"#REF!"}},{"$f":"ESTIMATE!P524","v":0},null,{"$f":"T(ESTIMATE!S524)","v":"ls"}]
[null,null,{"$f":"T(ESTIMATE!B525)","v":"Wall insulation"},{"$f":"T(#REF!)","v":{"$error":"#REF!"}},{"$f":"T(#REF!)","v":{"$error":"#REF!"}},{"$f":"T(#REF!)","v":{"$error":"#REF!"}},{"$f":"T(#REF!)","v":{"$error":"#REF!"}},null,null,{"$f":"T(#REF!)","v":{"$error":"#REF!"}},{"$f":"T(#REF!)","v":{"$error":"#REF!"}},{"$f":"T(#REF!)","v":{"$error":"#REF!"}},{"$f":"T(#REF!)","v":{"$error":"#REF!"}},{"$f":"ESTIMATE!P525","v":0},null,{"$f":"T(ESTIMATE!S525)","v":"sf"}]
[null,null,{"$f":"T(ESTIMATE!B526)","v":"Floor insulation"},{"$f":"T(#REF!)","v":{"$error":"#REF!"}},{"$f":"T(#REF!)","v":{"$error":"#REF!"}},{"$f":"T(#REF!)","v":{"$error":"#REF!"}},{"$f":"T(#REF!)","v":{"$error":"#REF!"}},null,null,{"$f":"T(#REF!)","v":{"$error":"#REF!"}},{"$f":"T(#REF!)","v":{"$error":"#REF!"}},{"$f":"T(#REF!)","v":{"$error":"#REF!"}},{"$f":"T(#REF!)","v":{"$error":"#REF!"}},{"$f":"ESTIMATE!P526","v":0},null,{"$f":"T(ESTIMATE!S526)","v":"sf"}]
[null,null,{"$f":"T(ESTIMATE!B527)","v":"Attic insulation, blown-in"},{"$f":"T(#REF!)","v":{"$error":"#REF!"}},{"$f":"T(#REF!)","v":{"$error":"#REF!"}},{"$f":"T(#REF!)","v":{"$error":"#REF!"}},{"$f":"T(#REF!)","v":{"$error":"#REF!"}},null,null,{"$f":"T(#REF!)","v":{"$error":"#REF!"}},{"$f":"T(#REF!)","v":{"$error":"#REF!"}},{"$f":"T(#REF!)","v":{"$error":"#REF!"}},{"$f":"T(#REF!)","v":{"$error":"#REF!"}},{"$f":"ESTIMATE!P527","v":0},null,{"$f":"T(ESTIMATE!S527)","v":"sf"}]
[null,null,{"$f":"T(ESTIMATE!B528)","v":""},{"$f":"T(#REF!)","v":{"$error":"#REF!"}},{"$f":"T(#REF!)","v":{"$error":"#REF!"}},{"$f":"T(#REF!)","v":{"$error":"#REF!"}},{"$f":"T(#REF!)","v":{"$error":"#REF!"}},null,null,{"$f":"T(#REF!)","v":{"$error":"#REF!"}},{"$f":"T(#REF!)","v":{"$error":"#REF!"}},{"$f":"T(#REF!)","v":{"$error":"#REF!"}},{"$f":"T(#REF!)","v":{"$error":"#REF!"}},{"$f":"ESTIMATE!P528","v":0},null,{"$f":"T(ESTIMATE!S528)","v":""}]
[null,null,{"$f":"T(ESTIMATE!B529)","v":""},{"$f":"T(#REF!)","v":{"$error":"#REF!"}},{"$f":"T(#REF!)","v":{"$error":"#REF!"}},{"$f":"T(#REF!)","v":{"$error":"#REF!"}},{"$f":"T(#REF!)","v":{"$error":"#REF!"}},null,null,{"$f":"T(#REF!)","v":{"$error":"#REF!"}},{"$f":"T(#REF!)","v":{"$error":"#REF!"}},{"$f":"T(#REF!)","v":{"$error":"#REF!"}},{"$f":"T(#REF!)","v":{"$error":"#REF!"}},{"$f":"ESTIMATE!P529","v":0},null,{"$f":"T(ESTIMATE!S529)","v":""}]
[null,null,{"$f":"T(ESTIMATE!B530)","v":"Walls/Ceilings"},{"$f":"T(#REF!)","v":{"$error":"#REF!"}},{"$f":"T(#REF!)","v":{"$error":"#REF!"}},{"$f":"T(#REF!)","v":{"$error":"#REF!"}},{"$f":"T(#REF!)","v":{"$error":"#REF!"}},null,null,{"$f":"T(#REF!)","v":{"$error":"#REF!"}},{"$f":"T(#REF!)","v":{"$error":"#REF!"}},{"$f":"T(#REF!)","v":{"$error":"#REF!"}},{"$f":"T(#REF!)","v":{"$error":"#REF!"}},{"$f":"ESTIMATE!P530","v":0},null,{"$f":"T(ESTIMATE!S530)","v":""}]
[null,null,{"$f":"T(ESTIMATE!B531)","v":"Drywall bid/allowance, case by case"},{"$f":"T(#REF!)","v":{"$error":"#REF!"}},{"$f":"T(#REF!)","v":{"$error":"#REF!"}},{"$f":"T(#REF!)","v":{"$error":"#REF!"}},{"$f":"T(#REF!)","v":{"$error":"#REF!"}},null,null,{"$f":"T(#REF!)","v":{"$error":"#REF!"}},{"$f":"T(#REF!)","v":{"$error":"#REF!"}},{"$f":"T(#REF!)","v":{"$error":"#REF!"}},{"$f":"T(#REF!)","v":{"$error":"#REF!"}},{"$f":"ESTIMATE!P531","v":0},null,{"$f":"T(ESTIMATE!S531)","v":"ls"}]
[null,null,{"$f":"T(ESTIMATE!B532)","v":"Drywall wallboard, 1/2\" thick, finish one side"},{"$f":"T(#REF!)","v":{"$error":"#REF!"}},{"$f":"T(#REF!)","v":{"$error":"#REF!"}},{"$f":"T(#REF!)","v":{"$error":"#REF!"}},{"$f":"T(#REF!)","v":{"$error":"#REF!"}},null,null,{"$f":"T(#REF!)","v":{"$error":"#REF!"}},{"$f":"T(#REF!)","v":{"$error":"#REF!"}},{"$f":"T(#REF!)","v":{"$error":"#REF!"}},{"$f":"T(#REF!)","v":{"$error":"#REF!"}},{"$f":"ESTIMATE!P532","v":0},null,{"$f":"T(ESTIMATE!S532)","v":"sf"}]
[null,null,{"$f":"T(ESTIMATE!B533)","v":"Drywall ceilings, 1/2\" thick"},{"$f":"T(#REF!)","v":{"$error":"#REF!"}},{"$f":"T(#REF!)","v":{"$error":"#REF!"}},{"$f":"T(#REF!)","v":{"$error":"#REF!"}},{"$f":"T(#REF!)","v":{"$error":"#REF!"}},null,null,{"$f":"T(#REF!)","v":{"$error":"#REF!"}},{"$f":"T(#REF!)","v":{"$error":"#REF!"}},{"$f":"T(#REF!)","v":{"$error":"#REF!"}},{"$f":"T(#REF!)","v":{"$error":"#REF!"}},{"$f":"ESTIMATE!P533","v":0},null,{"$f":"T(ESTIMATE!S533)","v":"sf"}]
[null,null,{"$f":"T(ESTIMATE!B534)","v":"Skim coating/texturing walls"},{"$f":"T(#REF!)","v":{"$error":"#REF!"}},{"$f":"T(#REF!)","v":{"$error":"#REF!"}},{"$f":"T(#REF!)","v":{"$error":"#REF!"}},{"$f":"T(#REF!)","v":{"$error":"#REF!"}},null,null,{"$f":"T(#REF!)","v":{"$error":"#REF!"}},{"$f":"T(#REF!)","v":{"$error":"#REF!"}},{"$f":"T(#REF!)","v":{"$error":"#REF!"}},{"$f":"T(#REF!)","v":{"$error":"#REF!"}},{"$f":"ESTIMATE!P534","v":0},null,{"$f":"T(ESTIMATE!S534)","v":"sf"}]
[null,null,{"$f":"T(ESTIMATE!B535)","v":"Skim coating/texturing ceilings"},{"$f":"T(#REF!)","v":{"$error":"#REF!"}},{"$f":"T(#REF!)","v":{"$error":"#REF!"}},{"$f":"T(#REF!)","v":{"$error":"#REF!"}},{"$f":"T(#REF!)","v":{"$error":"#REF!"}},null,null,{"$f":"T(#REF!)","v":{"$error":"#REF!"}},{"$f":"T(#REF!)","v":{"$error":"#REF!"}},{"$f":"T(#REF!)","v":{"$error":"#REF!"}},{"$f":"T(#REF!)","v":{"$error":"#REF!"}},{"$f":"ESTIMATE!P535","v":0},null,{"$f":"T(ESTIMATE!S535)","v":"sf"}]
[null,null,{"$f":"T(ESTIMATE!B536)","v":""},{"$f":"T(#REF!)","v":{"$error":"#REF!"}},{"$f":"T(#REF!)","v":{"$error":"#REF!"}},{"$f":"T(#REF!)","v":{"$error":"#REF!"}},{"$f":"T(#REF!)","v":{"$error":"#REF!"}},null,null,{"$f":"T(#REF!)","v":{"$error":"#REF!"}},{"$f":"T(#REF!)","v":{"$error":"#REF!"}},{"$f":"T(#REF!)","v":{"$error":"#REF!"}},{"$f":"T(#REF!)","v":{"$error":"#REF!"}},{"$f":"ESTIMATE!P536","v":0},null,{"$f":"T(ESTIMATE!S536)","v":""}]
[null,null,{"$f":"T(ESTIMATE!B537)","v":""},{"$f":"T(#REF!)","v":{"$error":"#REF!"}},{"$f":"T(#REF!)","v":{"$error":"#REF!"}},{"$f":"T(#REF!)","v":{"$error":"#REF!"}},{"$f":"T(#REF!)","v":{"$error":"#REF!"}},null,null,{"$f":"T(#REF!)","v":{"$error":"#REF!"}},{"$f":"T(#REF!)","v":{"$error":"#REF!"}},{"$f":"T(#REF!)","v":{"$error":"#REF!"}},{"$f":"T(#REF!)","v":{"$error":"#REF!"}},{"$f":"ESTIMATE!P537","v":0},null,{"$f":"T(ESTIMATE!S537)","v":""}]
[null,null,{"$f":"T(ESTIMATE!B538)","v":""},{"$f":"T(#REF!)","v":{"$error":"#REF!"}},{"$f":"T(#REF!)","v":{"$error":"#REF!"}},{"$f":"T(#REF!)","v":{"$error":"#REF!"}},{"$f":"T(#REF!)","v":{"$error":"#REF!"}},null,null,{"$f":"T(#REF!)","v":{"$error":"#REF!"}},{"$f":"T(#REF!)","v":{"$error":"#REF!"}},{"$f":"T(#REF!)","v":{"$error":"#REF!"}},{"$f":"T(#REF!)","v":{"$error":"#REF!"}},{"$f":"ESTIMATE!P538","v":0},null,{"$f":"T(ESTIMATE!S538)","v":""}]
[null,null,{"$f":"T(ESTIMATE!B539)","v":""},{"$f":"T(#REF!)","v":{"$error":"#REF!"}},{"$f":"T(#REF!)","v":{"$error":"#REF!"}},{"$f":"T(#REF!)","v":{"$error":"#REF!"}},{"$f":"T(#REF!)","v":{"$error":"#REF!"}},null,null,{"$f":"T(#REF!)","v":{"$error":"#REF!"}},{"$f":"T(#REF!)","v":{"$error":"#REF!"}},{"$f":"T(#REF!)","v":{"$error":"#REF!"}},{"$f":"T(#REF!)","v":{"$error":"#REF!"}},{"$f":"ESTIMATE!P539","v":0},null,{"$f":"T(ESTIMATE!S539)","v":""}]
[null,null,{"$f":"T(ESTIMATE!B540)","v":""},{"$f":"T(#REF!)","v":{"$error":"#REF!"}},{"$f":"T(#REF!)","v":{"$error":"#REF!"}},{"$f":"T(#REF!)","v":{"$error":"#REF!"}},{"$f":"T(#REF!)","v":{"$error":"#REF!"}},null,null,{"$f":"T(#REF!)","v":{"$error":"#REF!"}},{"$f":"T(#REF!)","v":{"$error":"#REF!"}},{"$f":"T(#REF!)","v":{"$error":"#REF!"}},{"$f":"T(#REF!)","v":{"$error":"#REF!"}},{"$f":"ESTIMATE!P540","v":0},null,{"$f":"T(ESTIMATE!S540)","v":""}]
[null,null,{"$f":"T(ESTIMATE!B541)","v":""},{"$f":"T(#REF!)","v":{"$error":"#REF!"}},{"$f":"T(#REF!)","v":{"$error":"#REF!"}},{"$f":"T(#REF!)","v":{"$error":"#REF!"}},{"$f":"T(#REF!)","v":{"$error":"#REF!"}},null,null,{"$f":"T(#REF!)","v":{"$error":"#REF!"}},{"$f":"T(#REF!)","v":{"$error":"#REF!"}},{"$f":"T(#REF!)","v":{"$error":"#REF!"}},{"$f":"T(#REF!)","v":{"$error":"#REF!"}},{"$f":"ESTIMATE!P541","v":0},null,{"$f":"T(ESTIMATE!S541)","v":""}]
[null,null,{"$f":"T(ESTIMATE!B542)","v":""},{"$f":"T(#REF!)","v":{"$error":"#REF!"}},{"$f":"T(#REF!)","v":{"$error":"#REF!"}},{"$f":"T(#REF!)","v":{"$error":"#REF!"}},{"$f":"T(#REF!)","v":{"$error":"#REF!"}},null,null,{"$f":"T(#REF!)","v":{"$error":"#REF!"}},{"$f":"T(#REF!)","v":{"$error":"#REF!"}},{"$f":"T(#REF!)","v":{"$error":"#REF!"}},{"$f":"T(#REF!)","v":{"$error":"#REF!"}},{"$f":"ESTIMATE!P542","v":0},null,{"$f":"T(ESTIMATE!S542)","v":""}]
[null,null,{"$f":"T(ESTIMATE!B543)","v":""},{"$f":"T(#REF!)","v":{"$error":"#REF!"}},{"$f":"T(#REF!)","v":{"$error":"#REF!"}},{"$f":"T(#REF!)","v":{"$error":"#REF!"}},{"$f":"T(#REF!)","v":{"$error":"#REF!"}},null,null,{"$f":"T(#REF!)","v":{"$error":"#REF!"}},{"$f":"T(#REF!)","v":{"$error":"#REF!"}},{"$f":"T(#REF!)","v":{"$error":"#REF!"}},{"$f":"T(#REF!)","v":{"$error":"#REF!"}},{"$f":"ESTIMATE!P543","v":0},null,{"$f":"T(ESTIMATE!S543)","v":""}]
[null,null,{"$f":"T(ESTIMATE!B544)","v":""},{"$f":"T(#REF!)","v":{"$error":"#REF!"}},{"$f":"T(#REF!)","v":{"$error":"#REF!"}},{"$f":"T(#REF!)","v":{"$error":"#REF!"}},{"$f":"T(#REF!)","v":{"$error":"#REF!"}},null,null,{"$f":"T(#REF!)","v":{"$error":"#REF!"}},{"$f":"T(#REF!)","v":{"$error":"#REF!"}},{"$f":"T(#REF!)","v":{"$error":"#REF!"}},{"$f":"T(#REF!)","v":{"$error":"#REF!"}},{"$f":"ESTIMATE!P544","v":0},null,{"$f":"T(ESTIMATE!S544)","v":""}]
[null,null,{"$f":"T(ESTIMATE!B545)","v":""},{"$f":"T(#REF!)","v":{"$error":"#REF!"}},{"$f":"T(#REF!)","v":{"$error":"#REF!"}},{"$f":"T(#REF!)","v":{"$error":"#REF!"}},{"$f":"T(#REF!)","v":{"$error":"#REF!"}},null,null,{"$f":"T(#REF!)","v":{"$error":"#REF!"}},{"$f":"T(#REF!)","v":{"$error":"#REF!"}},{"$f":"T(#REF!)","v":{"$error":"#REF!"}},{"$f":"T(#REF!)","v":{"$error":"#REF!"}},{"$f":"ESTIMATE!P545","v":0},null,{"$f":"T(ESTIMATE!S545)","v":""}]
[null,null,{"$f":"T(ESTIMATE!B546)","v":""},{"$f":"T(#REF!)","v":{"$error":"#REF!"}},{"$f":"T(#REF!)","v":{"$error":"#REF!"}},{"$f":"T(#REF!)","v":{"$error":"#REF!"}},{"$f":"T(#REF!)","v":{"$error":"#REF!"}},null,null,{"$f":"T(#REF!)","v":{"$error":"#REF!"}},{"$f":"T(#REF!)","v":{"$error":"#REF!"}},{"$f":"T(#REF!)","v":{"$error":"#REF!"}},{"$f":"T(#REF!)","v":{"$error":"#REF!"}},{"$f":"ESTIMATE!P546","v":0},null,{"$f":"T(ESTIMATE!S546)","v":""}]
[null,null,{"$f":"T(ESTIMATE!B547)","v":""},{"$f":"T(#REF!)","v":{"$error":"#REF!"}},{"$f":"T(#REF!)","v":{"$error":"#REF!"}},{"$f":"T(#REF!)","v":{"$error":"#REF!"}},{"$f":"T(#REF!)","v":{"$error":"#REF!"}},null,null,{"$f":"T(#REF!)","v":{"$error":"#REF!"}},{"$f":"T(#REF!)","v":{"$error":"#REF!"}},{"$f":"T(#REF!)","v":{"$error":"#REF!"}},{"$f":"T(#REF!)","v":{"$error":"#REF!"}},{"$f":"ESTIMATE!P547","v":0},null,{"$f":"T(ESTIMATE!S547)","v":""}]
[null,null,{"$f":"T(ESTIMATE!B548)","v":""},{"$f":"T(#REF!)","v":{"$error":"#REF!"}},{"$f":"T(#REF!)","v":{"$error":"#REF!"}},{"$f":"T(#REF!)","v":{"$error":"#REF!"}},{"$f":"T(#REF!)","v":{"$error":"#REF!"}},null,null,{"$f":"T(#REF!)","v":{"$error":"#REF!"}},{"$f":"T(#REF!)","v":{"$error":"#REF!"}},{"$f":"T(#REF!)","v":{"$error":"#REF!"}},{"$f":"T(#REF!)","v":{"$error":"#REF!"}},{"$f":"ESTIMATE!P548","v":0},null,{"$f":"T(ESTIMATE!S548)","v":""}]
[null,null,{"$f":"T(ESTIMATE!B549)","v":""},{"$f":"T(#REF!)","v":{"$error":"#REF!"}},{"$f":"T(#REF!)","v":{"$error":"#REF!"}},{"$f":"T(#REF!)","v":{"$error":"#REF!"}},{"$f":"T(#REF!)","v":{"$error":"#REF!"}},null,null,{"$f":"T(#REF!)","v":{"$error":"#REF!"}},{"$f":"T(#REF!)","v":{"$error":"#REF!"}},{"$f":"T(#REF!)","v":{"$error":"#REF!"}},{"$f":"T(#REF!)","v":{"$error":"#REF!"}},{"$f":"ESTIMATE!P549","v":0},null,{"$f":"T(ESTIMATE!S549)","v":""}]
[null,null,{"$f":"T(ESTIMATE!B550)","v":""},{"$f":"T(#REF!)","v":{"$error":"#REF!"}},{"$f":"T(#REF!)","v":{"$error":"#REF!"}},{"$f":"T(#REF!)","v":{"$error":"#REF!"}},{"$f":"T(#REF!)","v":{"$error":"#REF!"}},null,null,{"$f":"T(#REF!)","v":{"$error":"#REF!"}},{"$f":"T(#REF!)","v":{"$error":"#REF!"}},{"$f":"T(#REF!)","v":{"$error":"#REF!"}},{"$f":"T(#REF!)","v":{"$error":"#REF!"}},{"$f":"ESTIMATE!P550","v":0},null,{"$f":"T(ESTIMATE!S550)","v":""}]
[null,null,{"$f":"T(ESTIMATE!B551)","v":""},{"$f":"T(#REF!)","v":{"$error":"#REF!"}},{"$f":"T(#REF!)","v":{"$error":"#REF!"}},{"$f":"T(#REF!)","v":{"$error":"#REF!"}},{"$f":"T(#REF!)","v":{"$error":"#REF!"}},null,null,{"$f":"T(#REF!)","v":{"$error":"#REF!"}},{"$f":"T(#REF!)","v":{"$error":"#REF!"}},{"$f":"T(#REF!)","v":{"$error":"#REF!"}},{"$f":"T(#REF!)","v":{"$error":"#REF!"}},{"$f":"ESTIMATE!P551","v":0},null,{"$f":"T(ESTIMATE!S551)","v":""}]
[null,null,{"$f":"T(ESTIMATE!B556)","v":"FLOORING"},{"$f":"T(#REF!)","v":{"$error":"#REF!"}},{"$f":"T(#REF!)","v":{"$error":"#REF!"}},{"$f":"T(#REF!)","v":{"$error":"#REF!"}},{"$f":"T(#REF!)","v":{"$error":"#REF!"}},null,null,{"$f":"T(#REF!)","v":{"$error":"#REF!"}},{"$f":"T(#REF!)","v":{"$error":"#REF!"}},{"$f":"T(#REF!)","v":{"$error":"#REF!"}},{"$f":"T(#REF!)","v":{"$error":"#REF!"}},{"$f":"SUM(N531:O570)","v":0}]
[null,null,{"$f":"T(ESTIMATE!B557)","v":"Flooring bid/allowance"},{"$f":"T(#REF!)","v":{"$error":"#REF!"}},{"$f":"T(#REF!)","v":{"$error":"#REF!"}},{"$f":"T(#REF!)","v":{"$error":"#REF!"}},{"$f":"T(#REF!)","v":{"$error":"#REF!"}},null,null,{"$f":"T(#REF!)","v":{"$error":"#REF!"}},{"$f":"T(#REF!)","v":{"$error":"#REF!"}},{"$f":"T(#REF!)","v":{"$error":"#REF!"}},{"$f":"T(#REF!)","v":{"$error":"#REF!"}},{"$f":"ESTIMATE!P557","v":0},null,{"$f":"T(ESTIMATE!S557)","v":"ls"}]
[null,null,{"$f":"T(ESTIMATE!B558)","v":"Carpeting"},{"$f":"T(#REF!)","v":{"$error":"#REF!"}},{"$f":"T(#REF!)","v":{"$error":"#REF!"}},{"$f":"T(#REF!)","v":{"$error":"#REF!"}},{"$f":"T(#REF!)","v":{"$error":"#REF!"}},null,null,{"$f":"T(#REF!)","v":{"$error":"#REF!"}},{"$f":"T(#REF!)","v":{"$error":"#REF!"}},{"$f":"T(#REF!)","v":{"$error":"#REF!"}},{"$f":"T(#REF!)","v":{"$error":"#REF!"}},{"$f":"ESTIMATE!P558","v":0},null,{"$f":"T(ESTIMATE!S558)","v":""}]
[null,null,{"$f":"T(ESTIMATE!B559)","v":"Carpet, economy grade"},{"$f":"T(#REF!)","v":{"$error":"#REF!"}},{"$f":"T(#REF!)","v":{"$error":"#REF!"}},{"$f":"T(#REF!)","v":{"$error":"#REF!"}},{"$f":"T(#REF!)","v":{"$error":"#REF!"}},null,null,{"$f":"T(#REF!)","v":{"$error":"#REF!"}},{"$f":"T(#REF!)","v":{"$error":"#REF!"}},{"$f":"T(#REF!)","v":{"$error":"#REF!"}},{"$f":"T(#REF!)","v":{"$error":"#REF!"}},{"$f":"ESTIMATE!P559","v":0},null,{"$f":"T(ESTIMATE!S559)","v":"sf"}]
[null,null,{"$f":"T(ESTIMATE!B560)","v":"Carpet average grade"},{"$f":"T(#REF!)","v":{"$error":"#REF!"}},{"$f":"T(#REF!)","v":{"$error":"#REF!"}},{"$f":"T(#REF!)","v":{"$error":"#REF!"}},{"$f":"T(#REF!)","v":{"$error":"#REF!"}},null,null,{"$f":"T(#REF!)","v":{"$error":"#REF!"}},{"$f":"T(#REF!)","v":{"$error":"#REF!"}},{"$f":"T(#REF!)","v":{"$error":"#REF!"}},{"$f":"T(#REF!)","v":{"$error":"#REF!"}},{"$f":"ESTIMATE!P560","v":0},null,{"$f":"T(ESTIMATE!S560)","v":"sf"}]
[null,null,{"$f":"T(ESTIMATE!B561)","v":"Carpet, premium grade"},{"$f":"T(#REF!)","v":{"$error":"#REF!"}},{"$f":"T(#REF!)","v":{"$error":"#REF!"}},{"$f":"T(#REF!)","v":{"$error":"#REF!"}},{"$f":"T(#REF!)","v":{"$error":"#REF!"}},null,null,{"$f":"T(#REF!)","v":{"$error":"#REF!"}},{"$f":"T(#REF!)","v":{"$error":"#REF!"}},{"$f":"T(#REF!)","v":{"$error":"#REF!"}},{"$f":"T(#REF!)","v":{"$error":"#REF!"}},{"$f":"ESTIMATE!P561","v":0},null,{"$f":"T(ESTIMATE!S561)","v":"sf"}]
[null,null,{"$f":"T(ESTIMATE!B562)","v":""},{"$f":"T(#REF!)","v":{"$error":"#REF!"}},{"$f":"T(#REF!)","v":{"$error":"#REF!"}},{"$f":"T(#REF!)","v":{"$error":"#REF!"}},{"$f":"T(#REF!)","v":{"$error":"#REF!"}},null,null,{"$f":"T(#REF!)","v":{"$error":"#REF!"}},{"$f":"T(#REF!)","v":{"$error":"#REF!"}},{"$f":"T(#REF!)","v":{"$error":"#REF!"}},{"$f":"T(#REF!)","v":{"$error":"#REF!"}},{"$f":"ESTIMATE!P562","v":0},null,{"$f":"T(ESTIMATE!S562)","v":""}]
[null,null,{"$f":"T(ESTIMATE!B563)","v":""},{"$f":"T(#REF!)","v":{"$error":"#REF!"}},{"$f":"T(#REF!)","v":{"$error":"#REF!"}},{"$f":"T(#REF!)","v":{"$error":"#REF!"}},{"$f":"T(#REF!)","v":{"$error":"#REF!"}},null,null,{"$f":"T(#REF!)","v":{"$error":"#REF!"}},{"$f":"T(#REF!)","v":{"$error":"#REF!"}},{"$f":"T(#REF!)","v":{"$error":"#REF!"}},{"$f":"T(#REF!)","v":{"$error":"#REF!"}},{"$f":"ESTIMATE!P563","v":0},null,{"$f":"T(ESTIMATE!S563)","v":""}]
[null,null,{"$f":"T(ESTIMATE!B564)","v":"Sheet Vinyl"},{"$f":"T(#REF!)","v":{"$error":"#REF!"}},{"$f":"T(#REF!)","v":{"$error":"#REF!"}},{"$f":"T(#REF!)","v":{"$error":"#REF!"}},{"$f":"T(#REF!)","v":{"$error":"#REF!"}},null,null,{"$f":"T(#REF!)","v":{"$error":"#REF!"}},{"$f":"T(#REF!)","v":{"$error":"#REF!"}},{"$f":"T(#REF!)","v":{"$error":"#REF!"}},{"$f":"T(#REF!)","v":{"$error":"#REF!"}},{"$f":"ESTIMATE!P564","v":0},null,{"$f":"T(ESTIMATE!S564)","v":""}]
[null,null,{"$f":"T(ESTIMATE!B565)","v":"Sheet vinyl, economy grade"},{"$f":"T(#REF!)","v":{"$error":"#REF!"}},{"$f":"T(#REF!)","v":{"$error":"#REF!"}},{"$f":"T(#REF!)","v":{"$error":"#REF!"}},{"$f":"T(#REF!)","v":{"$error":"#REF!"}},null,null,{"$f":"T(#REF!)","v":{"$error":"#REF!"}},{"$f":"T(#REF!)","v":{"$error":"#REF!"}},{"$f":"T(#REF!)","v":{"$error":"#REF!"}},{"$f":"T(#REF!)","v":{"$error":"#REF!"}},{"$f":"ESTIMATE!P565","v":0},null,{"$f":"T(ESTIMATE!S565)","v":"sf"}]
[null,null,{"$f":"T(ESTIMATE!B566)","v":"Sheet vinyl, average grade"},{"$f":"T(#REF!)","v":{"$error":"#REF!"}},{"$f":"T(#REF!)","v":{"$error":"#REF!"}},{"$f":"T(#REF!)","v":{"$error":"#REF!"}},{"$f":"T(#REF!)","v":{"$error":"#REF!"}},null,null,{"$f":"T(#REF!)","v":{"$error":"#REF!"}},{"$f":"T(#REF!)","v":{"$error":"#REF!"}},{"$f":"T(#REF!)","v":{"$error":"#REF!"}},{"$f":"T(#REF!)","v":{"$error":"#REF!"}},{"$f":"ESTIMATE!P566","v":0},null,{"$f":"T(ESTIMATE!S566)","v":"sf"}]
[null,null,{"$f":"T(ESTIMATE!B567)","v":"Sheet vinyl, premium grade"},{"$f":"T(#REF!)","v":{"$error":"#REF!"}},{"$f":"T(#REF!)","v":{"$error":"#REF!"}},{"$f":"T(#REF!)","v":{"$error":"#REF!"}},{"$f":"T(#REF!)","v":{"$error":"#REF!"}},null,null,{"$f":"T(#REF!)","v":{"$error":"#REF!"}},{"$f":"T(#REF!)","v":{"$error":"#REF!"}},{"$f":"T(#REF!)","v":{"$error":"#REF!"}},{"$f":"T(#REF!)","v":{"$error":"#REF!"}},{"$f":"ESTIMATE!P567","v":0},null,{"$f":"T(ESTIMATE!S567)","v":"sf"}]
[null,null,{"$f":"T(ESTIMATE!B568)","v":""},{"$f":"T(#REF!)","v":{"$error":"#REF!"}},{"$f":"T(#REF!)","v":{"$error":"#REF!"}},{"$f":"T(#REF!)","v":{"$error":"#REF!"}},{"$f":"T(#REF!)","v":{"$error":"#REF!"}},null,null,{"$f":"T(#REF!)","v":{"$error":"#REF!"}},{"$f":"T(#REF!)","v":{"$error":"#REF!"}},{"$f":"T(#REF!)","v":{"$error":"#REF!"}},{"$f":"T(#REF!)","v":{"$error":"#REF!"}},{"$f":"ESTIMATE!P568","v":0},null,{"$f":"T(ESTIMATE!S568)","v":""}]
[null,null,{"$f":"T(ESTIMATE!B569)","v":""},{"$f":"T(#REF!)","v":{"$error":"#REF!"}},{"$f":"T(#REF!)","v":{"$error":"#REF!"}},{"$f":"T(#REF!)","v":{"$error":"#REF!"}},{"$f":"T(#REF!)","v":{"$error":"#REF!"}},null,null,{"$f":"T(#REF!)","v":{"$error":"#REF!"}},{"$f":"T(#REF!)","v":{"$error":"#REF!"}},{"$f":"T(#REF!)","v":{"$error":"#REF!"}},{"$f":"T(#REF!)","v":{"$error":"#REF!"}},{"$f":"ESTIMATE!P569","v":0},null,{"$f":"T(ESTIMATE!S569)","v":""}]
[null,null,{"$f":"T(ESTIMATE!B570)","v":"Vinyl Tile"},{"$f":"T(#REF!)","v":{"$error":"#REF!"}},{"$f":"T(#REF!)","v":{"$error":"#REF!"}},{"$f":"T(#REF!)","v":{"$error":"#REF!"}},{"$f":"T(#REF!)","v":{"$error":"#REF!"}},null,null,{"$f":"T(#REF!)","v":{"$error":"#REF!"}},{"$f":"T(#REF!)","v":{"$error":"#REF!"}},{"$f":"T(#REF!)","v":{"$error":"#REF!"}},{"$f":"T(#REF!)","v":{"$error":"#REF!"}},{"$f":"ESTIMATE!P570","v":0},null,{"$f":"T(ESTIMATE!S570)","v":""}]
[null,null,{"$f":"T(ESTIMATE!B571)","v":"Vinyl tile, economy grade"},{"$f":"T(#REF!)","v":{"$error":"#REF!"}},{"$f":"T(#REF!)","v":{"$error":"#REF!"}},{"$f":"T(#REF!)","v":{"$error":"#REF!"}},{"$f":"T(#REF!)","v":{"$error":"#REF!"}},null,null,{"$f":"T(#REF!)","v":{"$error":"#REF!"}},{"$f":"T(#REF!)","v":{"$error":"#REF!"}},{"$f":"T(#REF!)","v":{"$error":"#REF!"}},{"$f":"T(#REF!)","v":{"$error":"#REF!"}},{"$f":"ESTIMATE!P571","v":0},null,{"$f":"T(ESTIMATE!S571)","v":"sf"}]
[null,null,{"$f":"T(ESTIMATE!B572)","v":"Vinyl tile, average grade"},{"$f":"T(#REF!)","v":{"$error":"#REF!"}},{"$f":"T(#REF!)","v":{"$error":"#REF!"}},{"$f":"T(#REF!)","v":{"$error":"#REF!"}},{"$f":"T(#REF!)","v":{"$error":"#REF!"}},null,null,{"$f":"T(#REF!)","v":{"$error":"#REF!"}},{"$f":"T(#REF!)","v":{"$error":"#REF!"}},{"$f":"T(#REF!)","v":{"$error":"#REF!"}},{"$f":"T(#REF!)","v":{"$error":"#REF!"}},{"$f":"ESTIMATE!P572","v":0},null,{"$f":"T(ESTIMATE!S572)","v":"sf"}]
[null,null,{"$f":"T(ESTIMATE!B573)","v":"Vinyl tile, premium grade"},{"$f":"T(#REF!)","v":{"$error":"#REF!"}},{"$f":"T(#REF!)","v":{"$error":"#REF!"}},{"$f":"T(#REF!)","v":{"$error":"#REF!"}},{"$f":"T(#REF!)","v":{"$error":"#REF!"}},null,null,{"$f":"T(#REF!)","v":{"$error":"#REF!"}},{"$f":"T(#REF!)","v":{"$error":"#REF!"}},{"$f":"T(#REF!)","v":{"$error":"#REF!"}},{"$f":"T(#REF!)","v":{"$error":"#REF!"}},{"$f":"ESTIMATE!P573","v":0},null,{"$f":"T(ESTIMATE!S573)","v":"sf"}]
[null,null,{"$f":"T(ESTIMATE!B574)","v":"Clean and wax vinyl"},{"$f":"T(#REF!)","v":{"$error":"#REF!"}},{"$f":"T(#REF!)","v":{"$error":"#REF!"}},{"$f":"T(#REF!)","v":{"$error":"#REF!"}},{"$f":"T(#REF!)","v":{"$error":"#REF!"}},null,null,{"$f":"T(#REF!)","v":{"$error":"#REF!"}},{"$f":"T(#REF!)","v":{"$error":"#REF!"}},{"$f":"T(#REF!)","v":{"$error":"#REF!"}},{"$f":"T(#REF!)","v":{"$error":"#REF!"}},{"$f":"ESTIMATE!P574","v":0},null,{"$f":"T(ESTIMATE!S574)","v":"sf"}]
[null,null,{"$f":"T(ESTIMATE!B575)","v":""},{"$f":"T(#REF!)","v":{"$error":"#REF!"}},{"$f":"T(#REF!)","v":{"$error":"#REF!"}},{"$f":"T(#REF!)","v":{"$error":"#REF!"}},{"$f":"T(#REF!)","v":{"$error":"#REF!"}},null,null,{"$f":"T(#REF!)","v":{"$error":"#REF!"}},{"$f":"T(#REF!)","v":{"$error":"#REF!"}},{"$f":"T(#REF!)","v":{"$error":"#REF!"}},{"$f":"T(#REF!)","v":{"$error":"#REF!"}},{"$f":"ESTIMATE!P575","v":0},null,{"$f":"T(ESTIMATE!S575)","v":""}]
[null,null,{"$f":"T(ESTIMATE!B576)","v":""},{"$f":"T(#REF!)","v":{"$error":"#REF!"}},{"$f":"T(#REF!)","v":{"$error":"#REF!"}},{"$f":"T(#REF!)","v":{"$error":"#REF!"}},{"$f":"T(#REF!)","v":{"$error":"#REF!"}},null,null,{"$f":"T(#REF!)","v":{"$error":"#REF!"}},{"$f":"T(#REF!)","v":{"$error":"#REF!"}},{"$f":"T(#REF!)","v":{"$error":"#REF!"}},{"$f":"T(#REF!)","v":{"$error":"#REF!"}},{"$f":"ESTIMATE!P576","v":0},null,{"$f":"T(ESTIMATE!S576)","v":""}]
[null,null,{"$f":"T(ESTIMATE!B577)","v":"Laminate Flooring"},{"$f":"T(#REF!)","v":{"$error":"#REF!"}},{"$f":"T(#REF!)","v":{"$error":"#REF!"}},{"$f":"T(#REF!)","v":{"$error":"#REF!"}},{"$f":"T(#REF!)","v":{"$error":"#REF!"}},null,null,{"$f":"T(#REF!)","v":{"$error":"#REF!"}},{"$f":"T(#REF!)","v":{"$error":"#REF!"}},{"$f":"T(#REF!)","v":{"$error":"#REF!"}},{"$f":"T(#REF!)","v":{"$error":"#REF!"}},{"$f":"ESTIMATE!P577","v":0},null,{"$f":"T(ESTIMATE!S577)","v":""}]
[null,null,{"$f":"T(ESTIMATE!B578)","v":"Laminate wood flooring, economy grade"},{"$f":"T(#REF!)","v":{"$error":"#REF!"}},{"$f":"T(#REF!)","v":{"$error":"#REF!"}},{"$f":"T(#REF!)","v":{"$error":"#REF!"}},{"$f":"T(#REF!)","v":{"$error":"#REF!"}},null,null,{"$f":"T(#REF!)","v":{"$error":"#REF!"}},{"$f":"T(#REF!)","v":{"$error":"#REF!"}},{"$f":"T(#REF!)","v":{"$error":"#REF!"}},{"$f":"T(#REF!)","v":{"$error":"#REF!"}},{"$f":"ESTIMATE!P578","v":0},null,{"$f":"T(ESTIMATE!S578)","v":"sf"}]
[null,null,{"$f":"T(ESTIMATE!B579)","v":"Laminate wood flooring, average grade"},{"$f":"T(#REF!)","v":{"$error":"#REF!"}},{"$f":"T(#REF!)","v":{"$error":"#REF!"}},{"$f":"T(#REF!)","v":{"$error":"#REF!"}},{"$f":"T(#REF!)","v":{"$error":"#REF!"}},null,null,{"$f":"T(#REF!)","v":{"$error":"#REF!"}},{"$f":"T(#REF!)","v":{"$error":"#REF!"}},{"$f":"T(#REF!)","v":{"$error":"#REF!"}},{"$f":"T(#REF!)","v":{"$error":"#REF!"}},{"$f":"ESTIMATE!P579","v":0},null,{"$f":"T(ESTIMATE!S579)","v":"sf"}]
[null,null,{"$f":"T(ESTIMATE!B580)","v":"Laminate wood flooring, premium grade"},{"$f":"T(#REF!)","v":{"$error":"#REF!"}},{"$f":"T(#REF!)","v":{"$error":"#REF!"}},{"$f":"T(#REF!)","v":{"$error":"#REF!"}},{"$f":"T(#REF!)","v":{"$error":"#REF!"}},null,null,{"$f":"T(#REF!)","v":{"$error":"#REF!"}},{"$f":"T(#REF!)","v":{"$error":"#REF!"}},{"$f":"T(#REF!)","v":{"$error":"#REF!"}},{"$f":"T(#REF!)","v":{"$error":"#REF!"}},{"$f":"ESTIMATE!P580","v":0},null,{"$f":"T(ESTIMATE!S580)","v":"sf"}]
[null,null,{"$f":"T(ESTIMATE!B581)","v":""},{"$f":"T(#REF!)","v":{"$error":"#REF!"}},{"$f":"T(#REF!)","v":{"$error":"#REF!"}},{"$f":"T(#REF!)","v":{"$error":"#REF!"}},{"$f":"T(#REF!)","v":{"$error":"#REF!"}},null,null,{"$f":"T(#REF!)","v":{"$error":"#REF!"}},{"$f":"T(#REF!)","v":{"$error":"#REF!"}},{"$f":"T(#REF!)","v":{"$error":"#REF!"}},{"$f":"T(#REF!)","v":{"$error":"#REF!"}},{"$f":"ESTIMATE!P581","v":0},null,{"$f":"T(ESTIMATE!S581)","v":""}]
[null,null,{"$f":"T(ESTIMATE!B582)","v":""},{"$f":"T(#REF!)","v":{"$error":"#REF!"}},{"$f":"T(#REF!)","v":{"$error":"#REF!"}},{"$f":"T(#REF!)","v":{"$error":"#REF!"}},{"$f":"T(#REF!)","v":{"$error":"#REF!"}},null,null,{"$f":"T(#REF!)","v":{"$error":"#REF!"}},{"$f":"T(#REF!)","v":{"$error":"#REF!"}},{"$f":"T(#REF!)","v":{"$error":"#REF!"}},{"$f":"T(#REF!)","v":{"$error":"#REF!"}},{"$f":"ESTIMATE!P582","v":0},null,{"$f":"T(ESTIMATE!S582)","v":""}]
[null,null,{"$f":"T(ESTIMATE!B583)","v":"Hardwood Flooring"},{"$f":"T(#REF!)","v":{"$error":"#REF!"}},{"$f":"T(#REF!)","v":{"$error":"#REF!"}},{"$f":"T(#REF!)","v":{"$error":"#REF!"}},{"$f":"T(#REF!)","v":{"$error":"#REF!"}},null,null,{"$f":"T(#REF!)","v":{"$error":"#REF!"}},{"$f":"T(#REF!)","v":{"$error":"#REF!"}},{"$f":"T(#REF!)","v":{"$error":"#REF!"}},{"$f":"T(#REF!)","v":{"$error":"#REF!"}},{"$f":"ESTIMATE!P583","v":0},null,{"$f":"T(ESTIMATE!S583)","v":""}]
[null,null,{"$f":"T(ESTIMATE!B584)","v":"Hardwood flooring, economy grade"},{"$f":"T(#REF!)","v":{"$error":"#REF!"}},{"$f":"T(#REF!)","v":{"$error":"#REF!"}},{"$f":"T(#REF!)","v":{"$error":"#REF!"}},{"$f":"T(#REF!)","v":{"$error":"#REF!"}},null,null,{"$f":"T(#REF!)","v":{"$error":"#REF!"}},{"$f":"T(#REF!)","v":{"$error":"#REF!"}},{"$f":"T(#REF!)","v":{"$error":"#REF!"}},{"$f":"T(#REF!)","v":{"$error":"#REF!"}},{"$f":"ESTIMATE!P584","v":0},null,{"$f":"T(ESTIMATE!S584)","v":"sf"}]
[null,null,{"$f":"T(ESTIMATE!B585)","v":"Hardwood flooring, average grade"},{"$f":"T(#REF!)","v":{"$error":"#REF!"}},{"$f":"T(#REF!)","v":{"$error":"#REF!"}},{"$f":"T(#REF!)","v":{"$error":"#REF!"}},{"$f":"T(#REF!)","v":{"$error":"#REF!"}},null,null,{"$f":"T(#REF!)","v":{"$error":"#REF!"}},{"$f":"T(#REF!)","v":{"$error":"#REF!"}},{"$f":"T(#REF!)","v":{"$error":"#REF!"}},{"$f":"T(#REF!)","v":{"$error":"#REF!"}},{"$f":"ESTIMATE!P585","v":0},null,{"$f":"T(ESTIMATE!S585)","v":"sf"}]
[null,null,{"$f":"T(ESTIMATE!B586)","v":"Hardwood flooring, premium grade"},{"$f":"T(#REF!)","v":{"$error":"#REF!"}},{"$f":"T(#REF!)","v":{"$error":"#REF!"}},{"$f":"T(#REF!)","v":{"$error":"#REF!"}},{"$f":"T(#REF!)","v":{"$error":"#REF!"}},null,null,{"$f":"T(#REF!)","v":{"$error":"#REF!"}},{"$f":"T(#REF!)","v":{"$error":"#REF!"}},{"$f":"T(#REF!)","v":{"$error":"#REF!"}},{"$f":"T(#REF!)","v":{"$error":"#REF!"}},{"$f":"ESTIMATE!P586","v":0},null,{"$f":"T(ESTIMATE!S586)","v":"sf"}]
[null,null,{"$f":"T(ESTIMATE!B587)","v":"Floor refinishing"},{"$f":"T(#REF!)","v":{"$error":"#REF!"}},{"$f":"T(#REF!)","v":{"$error":"#REF!"}},{"$f":"T(#REF!)","v":{"$error":"#REF!"}},{"$f":"T(#REF!)","v":{"$error":"#REF!"}},null,null,{"$f":"T(#REF!)","v":{"$error":"#REF!"}},{"$f":"T(#REF!)","v":{"$error":"#REF!"}},{"$f":"T(#REF!)","v":{"$error":"#REF!"}},{"$f":"T(#REF!)","v":{"$error":"#REF!"}},{"$f":"ESTIMATE!P587","v":0},null,{"$f":"T(ESTIMATE!S587)","v":"sf"}]
[null,null,{"$f":"T(ESTIMATE!B588)","v":""},{"$f":"T(#REF!)","v":{"$error":"#REF!"}},{"$f":"T(#REF!)","v":{"$error":"#REF!"}},{"$f":"T(#REF!)","v":{"$error":"#REF!"}},{"$f":"T(#REF!)","v":{"$error":"#REF!"}},null,null,{"$f":"T(#REF!)","v":{"$error":"#REF!"}},{"$f":"T(#REF!)","v":{"$error":"#REF!"}},{"$f":"T(#REF!)","v":{"$error":"#REF!"}},{"$f":"T(#REF!)","v":{"$error":"#REF!"}},{"$f":"ESTIMATE!P588","v":0},null,{"$f":"T(ESTIMATE!S588)","v":""}]
[null,null,{"$f":"T(ESTIMATE!B589)","v":""},{"$f":"T(#REF!)","v":{"$error":"#REF!"}},{"$f":"T(#REF!)","v":{"$error":"#REF!"}},{"$f":"T(#REF!)","v":{"$error":"#REF!"}},{"$f":"T(#REF!)","v":{"$error":"#REF!"}},null,null,{"$f":"T(#REF!)","v":{"$error":"#REF!"}},{"$f":"T(#REF!)","v":{"$error":"#REF!"}},{"$f":"T(#REF!)","v":{"$error":"#REF!"}},{"$f":"T(#REF!)","v":{"$error":"#REF!"}},{"$f":"ESTIMATE!P589","v":0},null,{"$f":"T(ESTIMATE!S589)","v":""}]
[null,null,{"$f":"T(ESTIMATE!B590)","v":"Tiling"},{"$f":"T(#REF!)","v":{"$error":"#REF!"}},{"$f":"T(#REF!)","v":{"$error":"#REF!"}},{"$f":"T(#REF!)","v":{"$error":"#REF!"}},{"$f":"T(#REF!)","v":{"$error":"#REF!"}},null,null,{"$f":"T(#REF!)","v":{"$error":"#REF!"}},{"$f":"T(#REF!)","v":{"$error":"#REF!"}},{"$f":"T(#REF!)","v":{"$error":"#REF!"}},{"$f":"T(#REF!)","v":{"$error":"#REF!"}},{"$f":"ESTIMATE!P590","v":0},null,{"$f":"T(ESTIMATE!S590)","v":""}]
[null,null,{"$f":"T(ESTIMATE!B591)","v":"Tile flooring, economy grade (tile, backer, grout, accs)"},{"$f":"T(#REF!)","v":{"$error":"#REF!"}},{"$f":"T(#REF!)","v":{"$error":"#REF!"}},{"$f":"T(#REF!)","v":{"$error":"#REF!"}},{"$f":"T(#REF!)","v":{"$error":"#REF!"}},null,null,{"$f":"T(#REF!)","v":{"$error":"#REF!"}},{"$f":"T(#REF!)","v":{"$error":"#REF!"}},{"$f":"T(#REF!)","v":{"$error":"#REF!"}},{"$f":"T(#REF!)","v":{"$error":"#REF!"}},{"$f":"ESTIMATE!P591","v":0},null,{"$f":"T(ESTIMATE!S591)","v":"sf"}]
[null,null,{"$f":"T(ESTIMATE!B592)","v":"Tile flooring, average grade (tile, backer, grout, accs)"},{"$f":"T(#REF!)","v":{"$error":"#REF!"}},{"$f":"T(#REF!)","v":{"$error":"#REF!"}},{"$f":"T(#REF!)","v":{"$error":"#REF!"}},{"$f":"T(#REF!)","v":{"$error":"#REF!"}},null,null,{"$f":"T(#REF!)","v":{"$error":"#REF!"}},{"$f":"T(#REF!)","v":{"$error":"#REF!"}},{"$f":"T(#REF!)","v":{"$error":"#REF!"}},{"$f":"T(#REF!)","v":{"$error":"#REF!"}},{"$f":"ESTIMATE!P592","v":0},null,{"$f":"T(ESTIMATE!S592)","v":"sf"}]
[null,null,{"$f":"T(ESTIMATE!B593)","v":"Tile flooring, premium grade (tile, backer, grout, accs)"},{"$f":"T(#REF!)","v":{"$error":"#REF!"}},{"$f":"T(#REF!)","v":{"$error":"#REF!"}},{"$f":"T(#REF!)","v":{"$error":"#REF!"}},{"$f":"T(#REF!)","v":{"$error":"#REF!"}},null,null,{"$f":"T(#REF!)","v":{"$error":"#REF!"}},{"$f":"T(#REF!)","v":{"$error":"#REF!"}},{"$f":"T(#REF!)","v":{"$error":"#REF!"}},{"$f":"T(#REF!)","v":{"$error":"#REF!"}},{"$f":"ESTIMATE!P593","v":0},null,{"$f":"T(ESTIMATE!S593)","v":"sf"}]
[null,null,{"$f":"T(ESTIMATE!B594)","v":""},{"$f":"T(#REF!)","v":{"$error":"#REF!"}},{"$f":"T(#REF!)","v":{"$error":"#REF!"}},{"$f":"T(#REF!)","v":{"$error":"#REF!"}},{"$f":"T(#REF!)","v":{"$error":"#REF!"}},null,null,{"$f":"T(#REF!)","v":{"$error":"#REF!"}},{"$f":"T(#REF!)","v":{"$error":"#REF!"}},{"$f":"T(#REF!)","v":{"$error":"#REF!"}},{"$f":"T(#REF!)","v":{"$error":"#REF!"}},{"$f":"ESTIMATE!P594","v":0},null,{"$f":"T(ESTIMATE!S594)","v":""}]
[null,null,{"$f":"T(ESTIMATE!B595)","v":""},{"$f":"T(#REF!)","v":{"$error":"#REF!"}},{"$f":"T(#REF!)","v":{"$error":"#REF!"}},{"$f":"T(#REF!)","v":{"$error":"#REF!"}},{"$f":"T(#REF!)","v":{"$error":"#REF!"}},null,null,{"$f":"T(#REF!)","v":{"$error":"#REF!"}},{"$f":"T(#REF!)","v":{"$error":"#REF!"}},{"$f":"T(#REF!)","v":{"$error":"#REF!"}},{"$f":"T(#REF!)","v":{"$error":"#REF!"}},{"$f":"ESTIMATE!P595","v":0},null,{"$f":"T(ESTIMATE!S595)","v":""}]
[null,null,{"$f":"T(ESTIMATE!B596)","v":""},{"$f":"T(#REF!)","v":{"$error":"#REF!"}},{"$f":"T(#REF!)","v":{"$error":"#REF!"}},{"$f":"T(#REF!)","v":{"$error":"#REF!"}},{"$f":"T(#REF!)","v":{"$error":"#REF!"}},null,null,{"$f":"T(#REF!)","v":{"$error":"#REF!"}},{"$f":"T(#REF!)","v":{"$error":"#REF!"}},{"$f":"T(#REF!)","v":{"$error":"#REF!"}},{"$f":"T(#REF!)","v":{"$error":"#REF!"}},{"$f":"ESTIMATE!P596","v":0},null,{"$f":"T(ESTIMATE!S596)","v":""}]
[null,null,{"$f":"T(ESTIMATE!B601)","v":"PAINTING"},{"$f":"T(#REF!)","v":{"$error":"#REF!"}},{"$f":"T(#REF!)","v":{"$error":"#REF!"}},{"$f":"T(#REF!)","v":{"$error":"#REF!"}},{"$f":"T(#REF!)","v":{"$error":"#REF!"}},null,null,{"$f":"T(#REF!)","v":{"$error":"#REF!"}},{"$f":"T(#REF!)","v":{"$error":"#REF!"}},{"$f":"T(#REF!)","v":{"$error":"#REF!"}},{"$f":"T(#REF!)","v":{"$error":"#REF!"}},{"$f":"SUM(N572:O611)","v":0}]
[null,null,{"$f":"T(ESTIMATE!B602)","v":"Painting Installation bid/allowance"},{"$f":"T(#REF!)","v":{"$error":"#REF!"}},{"$f":"T(#REF!)","v":{"$error":"#REF!"}},{"$f":"T(#REF!)","v":{"$error":"#REF!"}},{"$f":"T(#REF!)","v":{"$error":"#REF!"}},null,null,{"$f":"T(#REF!)","v":{"$error":"#REF!"}},{"$f":"T(#REF!)","v":{"$error":"#REF!"}},{"$f":"T(#REF!)","v":{"$error":"#REF!"}},{"$f":"T(#REF!)","v":{"$error":"#REF!"}},{"$f":"ESTIMATE!P602","v":0},null,{"$f":"T(ESTIMATE!S602)","v":""}]
[null,null,{"$f":"T(ESTIMATE!B603)","v":"Painting Material bid/allowance"},{"$f":"T(#REF!)","v":{"$error":"#REF!"}},{"$f":"T(#REF!)","v":{"$error":"#REF!"}},{"$f":"T(#REF!)","v":{"$error":"#REF!"}},{"$f":"T(#REF!)","v":{"$error":"#REF!"}},null,null,{"$f":"T(#REF!)","v":{"$error":"#REF!"}},{"$f":"T(#REF!)","v":{"$error":"#REF!"}},{"$f":"T(#REF!)","v":{"$error":"#REF!"}},{"$f":"T(#REF!)","v":{"$error":"#REF!"}},{"$f":"ESTIMATE!P603","v":0},null,{"$f":"T(ESTIMATE!S603)","v":""}]
[null,null,{"$f":"T(ESTIMATE!B604)","v":""},{"$f":"T(#REF!)","v":{"$error":"#REF!"}},{"$f":"T(#REF!)","v":{"$error":"#REF!"}},{"$f":"T(#REF!)","v":{"$error":"#REF!"}},{"$f":"T(#REF!)","v":{"$error":"#REF!"}},null,null,{"$f":"T(#REF!)","v":{"$error":"#REF!"}},{"$f":"T(#REF!)","v":{"$error":"#REF!"}},{"$f":"T(#REF!)","v":{"$error":"#REF!"}},{"$f":"T(#REF!)","v":{"$error":"#REF!"}},{"$f":"ESTIMATE!P604","v":0},null,{"$f":"T(ESTIMATE!S604)","v":""}]
[null,null,{"$f":"T(ESTIMATE!B605)","v":"Painting, Lump Sum"},{"$f":"T(#REF!)","v":{"$error":"#REF!"}},{"$f":"T(#REF!)","v":{"$error":"#REF!"}},{"$f":"T(#REF!)","v":{"$error":"#REF!"}},{"$f":"T(#REF!)","v":{"$error":"#REF!"}},null,null,{"$f":"T(#REF!)","v":{"$error":"#REF!"}},{"$f":"T(#REF!)","v":{"$error":"#REF!"}},{"$f":"T(#REF!)","v":{"$error":"#REF!"}},{"$f":"T(#REF!)","v":{"$error":"#REF!"}},{"$f":"ESTIMATE!P605","v":0},null,{"$f":"T(ESTIMATE!S605)","v":""}]
[null,null,{"$f":"T(ESTIMATE!B606)","v":"Painting, both exterior & interior (property sf)"},{"$f":"T(#REF!)","v":{"$error":"#REF!"}},{"$f":"T(#REF!)","v":{"$error":"#REF!"}},{"$f":"T(#REF!)","v":{"$error":"#REF!"}},{"$f":"T(#REF!)","v":{"$error":"#REF!"}},null,null,{"$f":"T(#REF!)","v":{"$error":"#REF!"}},{"$f":"T(#REF!)","v":{"$error":"#REF!"}},{"$f":"T(#REF!)","v":{"$error":"#REF!"}},{"$f":"T(#REF!)","v":{"$error":"#REF!"}},{"$f":"ESTIMATE!P606","v":0},null,{"$f":"T(ESTIMATE!S606)","v":"sf"}]
[null,null,{"$f":"T(ESTIMATE!B607)","v":""},{"$f":"T(#REF!)","v":{"$error":"#REF!"}},{"$f":"T(#REF!)","v":{"$error":"#REF!"}},{"$f":"T(#REF!)","v":{"$error":"#REF!"}},{"$f":"T(#REF!)","v":{"$error":"#REF!"}},null,null,{"$f":"T(#REF!)","v":{"$error":"#REF!"}},{"$f":"T(#REF!)","v":{"$error":"#REF!"}},{"$f":"T(#REF!)","v":{"$error":"#REF!"}},{"$f":"T(#REF!)","v":{"$error":"#REF!"}},{"$f":"ESTIMATE!P607","v":0},null,{"$f":"T(ESTIMATE!S607)","v":""}]
[null,null,{"$f":"T(ESTIMATE!B608)","v":""},{"$f":"T(#REF!)","v":{"$error":"#REF!"}},{"$f":"T(#REF!)","v":{"$error":"#REF!"}},{"$f":"T(#REF!)","v":{"$error":"#REF!"}},{"$f":"T(#REF!)","v":{"$error":"#REF!"}},null,null,{"$f":"T(#REF!)","v":{"$error":"#REF!"}},{"$f":"T(#REF!)","v":{"$error":"#REF!"}},{"$f":"T(#REF!)","v":{"$error":"#REF!"}},{"$f":"T(#REF!)","v":{"$error":"#REF!"}},{"$f":"ESTIMATE!P608","v":0},null,{"$f":"T(ESTIMATE!S608)","v":""}]
[null,null,{"$f":"T(ESTIMATE!B609)","v":"Exterior Painting"},{"$f":"T(#REF!)","v":{"$error":"#REF!"}},{"$f":"T(#REF!)","v":{"$error":"#REF!"}},{"$f":"T(#REF!)","v":{"$error":"#REF!"}},{"$f":"T(#REF!)","v":{"$error":"#REF!"}},null,null,{"$f":"T(#REF!)","v":{"$error":"#REF!"}},{"$f":"T(#REF!)","v":{"$error":"#REF!"}},{"$f":"T(#REF!)","v":{"$error":"#REF!"}},{"$f":"T(#REF!)","v":{"$error":"#REF!"}},{"$f":"ESTIMATE!P609","v":0},null,{"$f":"T(ESTIMATE!S609)","v":""}]
[null,null,{"$f":"T(ESTIMATE!B610)","v":"Exterior painting, bid/allowance"},{"$f":"T(#REF!)","v":{"$error":"#REF!"}},{"$f":"T(#REF!)","v":{"$error":"#REF!"}},{"$f":"T(#REF!)","v":{"$error":"#REF!"}},{"$f":"T(#REF!)","v":{"$error":"#REF!"}},null,null,{"$f":"T(#REF!)","v":{"$error":"#REF!"}},{"$f":"T(#REF!)","v":{"$error":"#REF!"}},{"$f":"T(#REF!)","v":{"$error":"#REF!"}},{"$f":"T(#REF!)","v":{"$error":"#REF!"}},{"$f":"ESTIMATE!P610","v":0},null,{"$f":"T(ESTIMATE!S610)","v":"ls"}]
[null,null,{"$f":"T(ESTIMATE!B611)","v":"Exterior painting materials allowance"},{"$f":"T(#REF!)","v":{"$error":"#REF!"}},{"$f":"T(#REF!)","v":{"$error":"#REF!"}},{"$f":"T(#REF!)","v":{"$error":"#REF!"}},{"$f":"T(#REF!)","v":{"$error":"#REF!"}},null,null,{"$f":"T(#REF!)","v":{"$error":"#REF!"}},{"$f":"T(#REF!)","v":{"$error":"#REF!"}},{"$f":"T(#REF!)","v":{"$error":"#REF!"}},{"$f":"T(#REF!)","v":{"$error":"#REF!"}},{"$f":"ESTIMATE!P611","v":0},null,{"$f":"T(ESTIMATE!S611)","v":"gal"}]
[null,null,{"$f":"T(ESTIMATE!B612)","v":"Prep/clean siding"},{"$f":"T(#REF!)","v":{"$error":"#REF!"}},{"$f":"T(#REF!)","v":{"$error":"#REF!"}},{"$f":"T(#REF!)","v":{"$error":"#REF!"}},{"$f":"T(#REF!)","v":{"$error":"#REF!"}},null,null,{"$f":"T(#REF!)","v":{"$error":"#REF!"}},{"$f":"T(#REF!)","v":{"$error":"#REF!"}},{"$f":"T(#REF!)","v":{"$error":"#REF!"}},{"$f":"T(#REF!)","v":{"$error":"#REF!"}},{"$f":"ESTIMATE!P612","v":0},null,{"$f":"T(ESTIMATE!S612)","v":"sf"}]
[null,null,{"$f":"T(ESTIMATE!B613)","v":"Paint siding"},{"$f":"T(#REF!)","v":{"$error":"#REF!"}},{"$f":"T(#REF!)","v":{"$error":"#REF!"}},{"$f":"T(#REF!)","v":{"$error":"#REF!"}},{"$f":"T(#REF!)","v":{"$error":"#REF!"}},null,null,{"$f":"T(#REF!)","v":{"$error":"#REF!"}},{"$f":"T(#REF!)","v":{"$error":"#REF!"}},{"$f":"T(#REF!)","v":{"$error":"#REF!"}},{"$f":"T(#REF!)","v":{"$error":"#REF!"}},{"$f":"ESTIMATE!P613","v":0},null,{"$f":"T(ESTIMATE!S613)","v":"sf"}]
[null,null,{"$f":"T(ESTIMATE!B614)","v":"Paint exterior door"},{"$f":"T(#REF!)","v":{"$error":"#REF!"}},{"$f":"T(#REF!)","v":{"$error":"#REF!"}},{"$f":"T(#REF!)","v":{"$error":"#REF!"}},{"$f":"T(#REF!)","v":{"$error":"#REF!"}},null,null,{"$f":"T(#REF!)","v":{"$error":"#REF!"}},{"$f":"T(#REF!)","v":{"$error":"#REF!"}},{"$f":"T(#REF!)","v":{"$error":"#REF!"}},{"$f":"T(#REF!)","v":{"$error":"#REF!"}},{"$f":"ESTIMATE!P614","v":0},null,{"$f":"T(ESTIMATE!S614)","v":"ea"}]
[null,null,{"$f":"T(ESTIMATE!B615)","v":"Paint trim only"},{"$f":"T(#REF!)","v":{"$error":"#REF!"}},{"$f":"T(#REF!)","v":{"$error":"#REF!"}},{"$f":"T(#REF!)","v":{"$error":"#REF!"}},{"$f":"T(#REF!)","v":{"$error":"#REF!"}},null,null,{"$f":"T(#REF!)","v":{"$error":"#REF!"}},{"$f":"T(#REF!)","v":{"$error":"#REF!"}},{"$f":"T(#REF!)","v":{"$error":"#REF!"}},{"$f":"T(#REF!)","v":{"$error":"#REF!"}},{"$f":"ESTIMATE!P615","v":0},null,{"$f":"T(ESTIMATE!S615)","v":"lf"}]
[null,null,{"$f":"T(ESTIMATE!B616)","v":"Sand & refinish decking"},{"$f":"T(#REF!)","v":{"$error":"#REF!"}},{"$f":"T(#REF!)","v":{"$error":"#REF!"}},{"$f":"T(#REF!)","v":{"$error":"#REF!"}},{"$f":"T(#REF!)","v":{"$error":"#REF!"}},null,null,{"$f":"T(#REF!)","v":{"$error":"#REF!"}},{"$f":"T(#REF!)","v":{"$error":"#REF!"}},{"$f":"T(#REF!)","v":{"$error":"#REF!"}},{"$f":"T(#REF!)","v":{"$error":"#REF!"}},{"$f":"ESTIMATE!P616","v":0},null,{"$f":"T(ESTIMATE!S616)","v":"sf"}]
[null,null,{"$f":"T(ESTIMATE!B617)","v":""},{"$f":"T(#REF!)","v":{"$error":"#REF!"}},{"$f":"T(#REF!)","v":{"$error":"#REF!"}},{"$f":"T(#REF!)","v":{"$error":"#REF!"}},{"$f":"T(#REF!)","v":{"$error":"#REF!"}},null,null,{"$f":"T(#REF!)","v":{"$error":"#REF!"}},{"$f":"T(#REF!)","v":{"$error":"#REF!"}},{"$f":"T(#REF!)","v":{"$error":"#REF!"}},{"$f":"T(#REF!)","v":{"$error":"#REF!"}},{"$f":"ESTIMATE!P617","v":0},null,{"$f":"T(ESTIMATE!S617)","v":""}]
[null,null,{"$f":"T(ESTIMATE!B618)","v":""},{"$f":"T(#REF!)","v":{"$error":"#REF!"}},{"$f":"T(#REF!)","v":{"$error":"#REF!"}},{"$f":"T(#REF!)","v":{"$error":"#REF!"}},{"$f":"T(#REF!)","v":{"$error":"#REF!"}},null,null,{"$f":"T(#REF!)","v":{"$error":"#REF!"}},{"$f":"T(#REF!)","v":{"$error":"#REF!"}},{"$f":"T(#REF!)","v":{"$error":"#REF!"}},{"$f":"T(#REF!)","v":{"$error":"#REF!"}},{"$f":"ESTIMATE!P618","v":0},null,{"$f":"T(ESTIMATE!S618)","v":""}]
[null,null,{"$f":"T(ESTIMATE!B619)","v":"Interior Painting"},{"$f":"T(#REF!)","v":{"$error":"#REF!"}},{"$f":"T(#REF!)","v":{"$error":"#REF!"}},{"$f":"T(#REF!)","v":{"$error":"#REF!"}},{"$f":"T(#REF!)","v":{"$error":"#REF!"}},null,null,{"$f":"T(#REF!)","v":{"$error":"#REF!"}},{"$f":"T(#REF!)","v":{"$error":"#REF!"}},{"$f":"T(#REF!)","v":{"$error":"#REF!"}},{"$f":"T(#REF!)","v":{"$error":"#REF!"}},{"$f":"ESTIMATE!P619","v":0},null,{"$f":"T(ESTIMATE!S619)","v":""}]
[null,null,{"$f":"T(ESTIMATE!B620)","v":"Interior painting, bid/allowance"},{"$f":"T(#REF!)","v":{"$error":"#REF!"}},{"$f":"T(#REF!)","v":{"$error":"#REF!"}},{"$f":"T(#REF!)","v":{"$error":"#REF!"}},{"$f":"T(#REF!)","v":{"$error":"#REF!"}},null,null,{"$f":"T(#REF!)","v":{"$error":"#REF!"}},{"$f":"T(#REF!)","v":{"$error":"#REF!"}},{"$f":"T(#REF!)","v":{"$error":"#REF!"}},{"$f":"T(#REF!)","v":{"$error":"#REF!"}},{"$f":"ESTIMATE!P620","v":0},null,{"$f":"T(ESTIMATE!S620)","v":"ls"}]
[null,null,{"$f":"T(ESTIMATE!B621)","v":"Interior painting materials allowance"},{"$f":"T(#REF!)","v":{"$error":"#REF!"}},{"$f":"T(#REF!)","v":{"$error":"#REF!"}},{"$f":"T(#REF!)","v":{"$error":"#REF!"}},{"$f":"T(#REF!)","v":{"$error":"#REF!"}},null,null,{"$f":"T(#REF!)","v":{"$error":"#REF!"}},{"$f":"T(#REF!)","v":{"$error":"#REF!"}},{"$f":"T(#REF!)","v":{"$error":"#REF!"}},{"$f":"T(#REF!)","v":{"$error":"#REF!"}},{"$f":"ESTIMATE!P621","v":0},null,{"$f":"T(ESTIMATE!S621)","v":"gal"}]
[null,null,{"$f":"T(ESTIMATE!B622)","v":"Paint doors & frames"},{"$f":"T(#REF!)","v":{"$error":"#REF!"}},{"$f":"T(#REF!)","v":{"$error":"#REF!"}},{"$f":"T(#REF!)","v":{"$error":"#REF!"}},{"$f":"T(#REF!)","v":{"$error":"#REF!"}},null,null,{"$f":"T(#REF!)","v":{"$error":"#REF!"}},{"$f":"T(#REF!)","v":{"$error":"#REF!"}},{"$f":"T(#REF!)","v":{"$error":"#REF!"}},{"$f":"T(#REF!)","v":{"$error":"#REF!"}},{"$f":"ESTIMATE!P622","v":0},null,{"$f":"T(ESTIMATE!S622)","v":"ea"}]
[null,null,{"$f":"T(ESTIMATE!B623)","v":"Paint walls"},{"$f":"T(#REF!)","v":{"$error":"#REF!"}},{"$f":"T(#REF!)","v":{"$error":"#REF!"}},{"$f":"T(#REF!)","v":{"$error":"#REF!"}},{"$f":"T(#REF!)","v":{"$error":"#REF!"}},null,null,{"$f":"T(#REF!)","v":{"$error":"#REF!"}},{"$f":"T(#REF!)","v":{"$error":"#REF!"}},{"$f":"T(#REF!)","v":{"$error":"#REF!"}},{"$f":"T(#REF!)","v":{"$error":"#REF!"}},{"$f":"ESTIMATE!P623","v":0},null,{"$f":"T(ESTIMATE!S623)","v":"sf"}]
[null,null,{"$f":"T(ESTIMATE!B624)","v":"Paint ceilings"},{"$f":"T(#REF!)","v":{"$error":"#REF!"}},{"$f":"T(#REF!)","v":{"$error":"#REF!"}},{"$f":"T(#REF!)","v":{"$error":"#REF!"}},{"$f":"T(#REF!)","v":{"$error":"#REF!"}},null,null,{"$f":"T(#REF!)","v":{"$error":"#REF!"}},{"$f":"T(#REF!)","v":{"$error":"#REF!"}},{"$f":"T(#REF!)","v":{"$error":"#REF!"}},{"$f":"T(#REF!)","v":{"$error":"#REF!"}},{"$f":"ESTIMATE!P624","v":0},null,{"$f":"T(ESTIMATE!S624)","v":"sf"}]
[null,null,{"$f":"T(ESTIMATE!B625)","v":"Paint wood base"},{"$f":"T(#REF!)","v":{"$error":"#REF!"}},{"$f":"T(#REF!)","v":{"$error":"#REF!"}},{"$f":"T(#REF!)","v":{"$error":"#REF!"}},{"$f":"T(#REF!)","v":{"$error":"#REF!"}},null,null,{"$f":"T(#REF!)","v":{"$error":"#REF!"}},{"$f":"T(#REF!)","v":{"$error":"#REF!"}},{"$f":"T(#REF!)","v":{"$error":"#REF!"}},{"$f":"T(#REF!)","v":{"$error":"#REF!"}},{"$f":"ESTIMATE!P625","v":0},null,{"$f":"T(ESTIMATE!S625)","v":"lf"}]
[null,null,{"$f":"T(ESTIMATE!B626)","v":"Strip, paint cabinets/vanities"},{"$f":"T(#REF!)","v":{"$error":"#REF!"}},{"$f":"T(#REF!)","v":{"$error":"#REF!"}},{"$f":"T(#REF!)","v":{"$error":"#REF!"}},{"$f":"T(#REF!)","v":{"$error":"#REF!"}},null,null,{"$f":"T(#REF!)","v":{"$error":"#REF!"}},{"$f":"T(#REF!)","v":{"$error":"#REF!"}},{"$f":"T(#REF!)","v":{"$error":"#REF!"}},{"$f":"T(#REF!)","v":{"$error":"#REF!"}},{"$f":"ESTIMATE!P626","v":0},null,{"$f":"T(ESTIMATE!S626)","v":"sf"}]
[null,null,{"$f":"T(ESTIMATE!B627)","v":""},{"$f":"T(#REF!)","v":{"$error":"#REF!"}},{"$f":"T(#REF!)","v":{"$error":"#REF!"}},{"$f":"T(#REF!)","v":{"$error":"#REF!"}},{"$f":"T(#REF!)","v":{"$error":"#REF!"}},null,null,{"$f":"T(#REF!)","v":{"$error":"#REF!"}},{"$f":"T(#REF!)","v":{"$error":"#REF!"}},{"$f":"T(#REF!)","v":{"$error":"#REF!"}},{"$f":"T(#REF!)","v":{"$error":"#REF!"}},{"$f":"ESTIMATE!P627","v":0},null,{"$f":"T(ESTIMATE!S627)","v":""}]
[null,null,{"$f":"T(ESTIMATE!B628)","v":""},{"$f":"T(#REF!)","v":{"$error":"#REF!"}},{"$f":"T(#REF!)","v":{"$error":"#REF!"}},{"$f":"T(#REF!)","v":{"$error":"#REF!"}},{"$f":"T(#REF!)","v":{"$error":"#REF!"}},null,null,{"$f":"T(#REF!)","v":{"$error":"#REF!"}},{"$f":"T(#REF!)","v":{"$error":"#REF!"}},{"$f":"T(#REF!)","v":{"$error":"#REF!"}},{"$f":"T(#REF!)","v":{"$error":"#REF!"}},{"$f":"ESTIMATE!P628","v":0},null,{"$f":"T(ESTIMATE!S628)","v":""}]
[null,null,{"$f":"T(ESTIMATE!B629)","v":""},{"$f":"T(#REF!)","v":{"$error":"#REF!"}},{"$f":"T(#REF!)","v":{"$error":"#REF!"}},{"$f":"T(#REF!)","v":{"$error":"#REF!"}},{"$f":"T(#REF!)","v":{"$error":"#REF!"}},null,null,{"$f":"T(#REF!)","v":{"$error":"#REF!"}},{"$f":"T(#REF!)","v":{"$error":"#REF!"}},{"$f":"T(#REF!)","v":{"$error":"#REF!"}},{"$f":"T(#REF!)","v":{"$error":"#REF!"}},{"$f":"ESTIMATE!P629","v":0},null,{"$f":"T(ESTIMATE!S629)","v":""}]
[null,null,{"$f":"T(ESTIMATE!B630)","v":""},{"$f":"T(#REF!)","v":{"$error":"#REF!"}},{"$f":"T(#REF!)","v":{"$error":"#REF!"}},{"$f":"T(#REF!)","v":{"$error":"#REF!"}},{"$f":"T(#REF!)","v":{"$error":"#REF!"}},null,null,{"$f":"T(#REF!)","v":{"$error":"#REF!"}},{"$f":"T(#REF!)","v":{"$error":"#REF!"}},{"$f":"T(#REF!)","v":{"$error":"#REF!"}},{"$f":"T(#REF!)","v":{"$error":"#REF!"}},{"$f":"ESTIMATE!P630","v":0},null,{"$f":"T(ESTIMATE!S630)","v":""}]
[null,null,{"$f":"T(ESTIMATE!B631)","v":""},{"$f":"T(#REF!)","v":{"$error":"#REF!"}},{"$f":"T(#REF!)","v":{"$error":"#REF!"}},{"$f":"T(#REF!)","v":{"$error":"#REF!"}},{"$f":"T(#REF!)","v":{"$error":"#REF!"}},null,null,{"$f":"T(#REF!)","v":{"$error":"#REF!"}},{"$f":"T(#REF!)","v":{"$error":"#REF!"}},{"$f":"T(#REF!)","v":{"$error":"#REF!"}},{"$f":"T(#REF!)","v":{"$error":"#REF!"}},{"$f":"ESTIMATE!P631","v":0},null,{"$f":"T(ESTIMATE!S631)","v":""}]
[null,null,{"$f":"T(ESTIMATE!B632)","v":""},{"$f":"T(#REF!)","v":{"$error":"#REF!"}},{"$f":"T(#REF!)","v":{"$error":"#REF!"}},{"$f":"T(#REF!)","v":{"$error":"#REF!"}},{"$f":"T(#REF!)","v":{"$error":"#REF!"}},null,null,{"$f":"T(#REF!)","v":{"$error":"#REF!"}},{"$f":"T(#REF!)","v":{"$error":"#REF!"}},{"$f":"T(#REF!)","v":{"$error":"#REF!"}},{"$f":"T(#REF!)","v":{"$error":"#REF!"}},{"$f":"ESTIMATE!P632","v":0},null,{"$f":"T(ESTIMATE!S632)","v":""}]
[null,null,{"$f":"T(ESTIMATE!B633)","v":""},{"$f":"T(#REF!)","v":{"$error":"#REF!"}},{"$f":"T(#REF!)","v":{"$error":"#REF!"}},{"$f":"T(#REF!)","v":{"$error":"#REF!"}},{"$f":"T(#REF!)","v":{"$error":"#REF!"}},null,null,{"$f":"T(#REF!)","v":{"$error":"#REF!"}},{"$f":"T(#REF!)","v":{"$error":"#REF!"}},{"$f":"T(#REF!)","v":{"$error":"#REF!"}},{"$f":"T(#REF!)","v":{"$error":"#REF!"}},{"$f":"ESTIMATE!P633","v":0},null,{"$f":"T(ESTIMATE!S633)","v":""}]
[null,null,{"$f":"T(ESTIMATE!B634)","v":""},{"$f":"T(#REF!)","v":{"$error":"#REF!"}},{"$f":"T(#REF!)","v":{"$error":"#REF!"}},{"$f":"T(#REF!)","v":{"$error":"#REF!"}},{"$f":"T(#REF!)","v":{"$error":"#REF!"}},null,null,{"$f":"T(#REF!)","v":{"$error":"#REF!"}},{"$f":"T(#REF!)","v":{"$error":"#REF!"}},{"$f":"T(#REF!)","v":{"$error":"#REF!"}},{"$f":"T(#REF!)","v":{"$error":"#REF!"}},{"$f":"ESTIMATE!P634","v":0},null,{"$f":"T(ESTIMATE!S634)","v":""}]
[null,null,{"$f":"T(ESTIMATE!B635)","v":""},{"$f":"T(#REF!)","v":{"$error":"#REF!"}},{"$f":"T(#REF!)","v":{"$error":"#REF!"}},{"$f":"T(#REF!)","v":{"$error":"#REF!"}},{"$f":"T(#REF!)","v":{"$error":"#REF!"}},null,null,{"$f":"T(#REF!)","v":{"$error":"#REF!"}},{"$f":"T(#REF!)","v":{"$error":"#REF!"}},{"$f":"T(#REF!)","v":{"$error":"#REF!"}},{"$f":"T(#REF!)","v":{"$error":"#REF!"}},{"$f":"ESTIMATE!P635","v":0},null,{"$f":"T(ESTIMATE!S635)","v":""}]
[null,null,{"$f":"T(ESTIMATE!B636)","v":""},{"$f":"T(#REF!)","v":{"$error":"#REF!"}},{"$f":"T(#REF!)","v":{"$error":"#REF!"}},{"$f":"T(#REF!)","v":{"$error":"#REF!"}},{"$f":"T(#REF!)","v":{"$error":"#REF!"}},null,null,{"$f":"T(#REF!)","v":{"$error":"#REF!"}},{"$f":"T(#REF!)","v":{"$error":"#REF!"}},{"$f":"T(#REF!)","v":{"$error":"#REF!"}},{"$f":"T(#REF!)","v":{"$error":"#REF!"}},{"$f":"ESTIMATE!P636","v":0},null,{"$f":"T(ESTIMATE!S636)","v":""}]
[null,null,{"$f":"T(ESTIMATE!B637)","v":""},{"$f":"T(#REF!)","v":{"$error":"#REF!"}},{"$f":"T(#REF!)","v":{"$error":"#REF!"}},{"$f":"T(#REF!)","v":{"$error":"#REF!"}},{"$f":"T(#REF!)","v":{"$error":"#REF!"}},null,null,{"$f":"T(#REF!)","v":{"$error":"#REF!"}},{"$f":"T(#REF!)","v":{"$error":"#REF!"}},{"$f":"T(#REF!)","v":{"$error":"#REF!"}},{"$f":"T(#REF!)","v":{"$error":"#REF!"}},{"$f":"ESTIMATE!P637","v":0},null,{"$f":"T(ESTIMATE!S637)","v":""}]
[null,null,{"$f":"T(ESTIMATE!B638)","v":""},{"$f":"T(#REF!)","v":{"$error":"#REF!"}},{"$f":"T(#REF!)","v":{"$error":"#REF!"}},{"$f":"T(#REF!)","v":{"$error":"#REF!"}},{"$f":"T(#REF!)","v":{"$error":"#REF!"}},null,null,{"$f":"T(#REF!)","v":{"$error":"#REF!"}},{"$f":"T(#REF!)","v":{"$error":"#REF!"}},{"$f":"T(#REF!)","v":{"$error":"#REF!"}},{"$f":"T(#REF!)","v":{"$error":"#REF!"}},{"$f":"ESTIMATE!P638","v":0},null,{"$f":"T(ESTIMATE!S638)","v":""}]
[null,null,{"$f":"T(ESTIMATE!B639)","v":""},{"$f":"T(#REF!)","v":{"$error":"#REF!"}},{"$f":"T(#REF!)","v":{"$error":"#REF!"}},{"$f":"T(#REF!)","v":{"$error":"#REF!"}},{"$f":"T(#REF!)","v":{"$error":"#REF!"}},null,null,{"$f":"T(#REF!)","v":{"$error":"#REF!"}},{"$f":"T(#REF!)","v":{"$error":"#REF!"}},{"$f":"T(#REF!)","v":{"$error":"#REF!"}},{"$f":"T(#REF!)","v":{"$error":"#REF!"}},{"$f":"ESTIMATE!P639","v":0},null,{"$f":"T(ESTIMATE!S639)","v":""}]
[null,null,{"$f":"T(ESTIMATE!B640)","v":""},{"$f":"T(#REF!)","v":{"$error":"#REF!"}},{"$f":"T(#REF!)","v":{"$error":"#REF!"}},{"$f":"T(#REF!)","v":{"$error":"#REF!"}},{"$f":"T(#REF!)","v":{"$error":"#REF!"}},null,null,{"$f":"T(#REF!)","v":{"$error":"#REF!"}},{"$f":"T(#REF!)","v":{"$error":"#REF!"}},{"$f":"T(#REF!)","v":{"$error":"#REF!"}},{"$f":"T(#REF!)","v":{"$error":"#REF!"}},{"$f":"ESTIMATE!P640","v":0},null,{"$f":"T(ESTIMATE!S640)","v":""}]
[null,null,{"$f":"T(ESTIMATE!B641)","v":""},{"$f":"T(#REF!)","v":{"$error":"#REF!"}},{"$f":"T(#REF!)","v":{"$error":"#REF!"}},{"$f":"T(#REF!)","v":{"$error":"#REF!"}},{"$f":"T(#REF!)","v":{"$error":"#REF!"}},null,null,{"$f":"T(#REF!)","v":{"$error":"#REF!"}},{"$f":"T(#REF!)","v":{"$error":"#REF!"}},{"$f":"T(#REF!)","v":{"$error":"#REF!"}},{"$f":"T(#REF!)","v":{"$error":"#REF!"}},{"$f":"ESTIMATE!P641","v":0},null,{"$f":"T(ESTIMATE!S641)","v":""}]
[null,null,{"$f":"T(ESTIMATE!B646)","v":"PLUMBING"},{"$f":"T(#REF!)","v":{"$error":"#REF!"}},{"$f":"T(#REF!)","v":{"$error":"#REF!"}},{"$f":"T(#REF!)","v":{"$error":"#REF!"}},{"$f":"T(#REF!)","v":{"$error":"#REF!"}},null,null,{"$f":"T(#REF!)","v":{"$error":"#REF!"}},{"$f":"T(#REF!)","v":{"$error":"#REF!"}},{"$f":"T(#REF!)","v":{"$error":"#REF!"}},{"$f":"T(#REF!)","v":{"$error":"#REF!"}},{"$f":"SUM(N613:O652)","v":0}]
[null,null,{"$f":"T(ESTIMATE!B647)","v":"Plumbing, bid/allowance"},{"$f":"T(#REF!)","v":{"$error":"#REF!"}},{"$f":"T(#REF!)","v":{"$error":"#REF!"}},{"$f":"T(#REF!)","v":{"$error":"#REF!"}},{"$f":"T(#REF!)","v":{"$error":"#REF!"}},null,null,{"$f":"T(#REF!)","v":{"$error":"#REF!"}},{"$f":"T(#REF!)","v":{"$error":"#REF!"}},{"$f":"T(#REF!)","v":{"$error":"#REF!"}},{"$f":"T(#REF!)","v":{"$error":"#REF!"}},{"$f":"ESTIMATE!P647","v":0},null,{"$f":"T(ESTIMATE!S647)","v":"ls"}]
[null,null,{"$f":"T(ESTIMATE!B648)","v":""},{"$f":"T(#REF!)","v":{"$error":"#REF!"}},{"$f":"T(#REF!)","v":{"$error":"#REF!"}},{"$f":"T(#REF!)","v":{"$error":"#REF!"}},{"$f":"T(#REF!)","v":{"$error":"#REF!"}},null,null,{"$f":"T(#REF!)","v":{"$error":"#REF!"}},{"$f":"T(#REF!)","v":{"$error":"#REF!"}},{"$f":"T(#REF!)","v":{"$error":"#REF!"}},{"$f":"T(#REF!)","v":{"$error":"#REF!"}},{"$f":"ESTIMATE!P648","v":0},null,{"$f":"T(ESTIMATE!S648)","v":""}]
[null,null,{"$f":"T(ESTIMATE!B649)","v":"Plumbing Work, Per Hour"},{"$f":"T(#REF!)","v":{"$error":"#REF!"}},{"$f":"T(#REF!)","v":{"$error":"#REF!"}},{"$f":"T(#REF!)","v":{"$error":"#REF!"}},{"$f":"T(#REF!)","v":{"$error":"#REF!"}},null,null,{"$f":"T(#REF!)","v":{"$error":"#REF!"}},{"$f":"T(#REF!)","v":{"$error":"#REF!"}},{"$f":"T(#REF!)","v":{"$error":"#REF!"}},{"$f":"T(#REF!)","v":{"$error":"#REF!"}},{"$f":"ESTIMATE!P649","v":0},null,{"$f":"T(ESTIMATE!S649)","v":""}]
[null,null,{"$f":"T(ESTIMATE!B650)","v":"Plumbing rough-in, per hour"},{"$f":"T(#REF!)","v":{"$error":"#REF!"}},{"$f":"T(#REF!)","v":{"$error":"#REF!"}},{"$f":"T(#REF!)","v":{"$error":"#REF!"}},{"$f":"T(#REF!)","v":{"$error":"#REF!"}},null,null,{"$f":"T(#REF!)","v":{"$error":"#REF!"}},{"$f":"T(#REF!)","v":{"$error":"#REF!"}},{"$f":"T(#REF!)","v":{"$error":"#REF!"}},{"$f":"T(#REF!)","v":{"$error":"#REF!"}},{"$f":"ESTIMATE!P650","v":0},null,{"$f":"T(ESTIMATE!S650)","v":"hrs"}]
[null,null,{"$f":"T(ESTIMATE!B651)","v":"Plumbing finish work, per hour"},{"$f":"T(#REF!)","v":{"$error":"#REF!"}},{"$f":"T(#REF!)","v":{"$error":"#REF!"}},{"$f":"T(#REF!)","v":{"$error":"#REF!"}},{"$f":"T(#REF!)","v":{"$error":"#REF!"}},null,null,{"$f":"T(#REF!)","v":{"$error":"#REF!"}},{"$f":"T(#REF!)","v":{"$error":"#REF!"}},{"$f":"T(#REF!)","v":{"$error":"#REF!"}},{"$f":"T(#REF!)","v":{"$error":"#REF!"}},{"$f":"ESTIMATE!P651","v":0},null,{"$f":"T(ESTIMATE!S651)","v":"hrs"}]
[null,null,{"$f":"T(ESTIMATE!B652)","v":""},{"$f":"T(#REF!)","v":{"$error":"#REF!"}},{"$f":"T(#REF!)","v":{"$error":"#REF!"}},{"$f":"T(#REF!)","v":{"$error":"#REF!"}},{"$f":"T(#REF!)","v":{"$error":"#REF!"}},null,null,{"$f":"T(#REF!)","v":{"$error":"#REF!"}},{"$f":"T(#REF!)","v":{"$error":"#REF!"}},{"$f":"T(#REF!)","v":{"$error":"#REF!"}},{"$f":"T(#REF!)","v":{"$error":"#REF!"}},{"$f":"ESTIMATE!P652","v":0},null,{"$f":"T(ESTIMATE!S652)","v":""}]
[null,null,{"$f":"T(ESTIMATE!B653)","v":"Plumbing Work, per SF"},{"$f":"T(#REF!)","v":{"$error":"#REF!"}},{"$f":"T(#REF!)","v":{"$error":"#REF!"}},{"$f":"T(#REF!)","v":{"$error":"#REF!"}},{"$f":"T(#REF!)","v":{"$error":"#REF!"}},null,null,{"$f":"T(#REF!)","v":{"$error":"#REF!"}},{"$f":"T(#REF!)","v":{"$error":"#REF!"}},{"$f":"T(#REF!)","v":{"$error":"#REF!"}},{"$f":"T(#REF!)","v":{"$error":"#REF!"}},{"$f":"ESTIMATE!P653","v":0},null,{"$f":"T(ESTIMATE!S653)","v":""}]
[null,null,{"$f":"T(ESTIMATE!B654)","v":"New plumbing system throughout (waste/supply)"},{"$f":"T(#REF!)","v":{"$error":"#REF!"}},{"$f":"T(#REF!)","v":{"$error":"#REF!"}},{"$f":"T(#REF!)","v":{"$error":"#REF!"}},{"$f":"T(#REF!)","v":{"$error":"#REF!"}},null,null,{"$f":"T(#REF!)","v":{"$error":"#REF!"}},{"$f":"T(#REF!)","v":{"$error":"#REF!"}},{"$f":"T(#REF!)","v":{"$error":"#REF!"}},{"$f":"T(#REF!)","v":{"$error":"#REF!"}},{"$f":"ESTIMATE!P654","v":0},null,{"$f":"T(ESTIMATE!S654)","v":"sf"}]
[null,null,{"$f":"T(ESTIMATE!B655)","v":"New gas lines to kitchen/fireplace"},{"$f":"T(#REF!)","v":{"$error":"#REF!"}},{"$f":"T(#REF!)","v":{"$error":"#REF!"}},{"$f":"T(#REF!)","v":{"$error":"#REF!"}},{"$f":"T(#REF!)","v":{"$error":"#REF!"}},null,null,{"$f":"T(#REF!)","v":{"$error":"#REF!"}},{"$f":"T(#REF!)","v":{"$error":"#REF!"}},{"$f":"T(#REF!)","v":{"$error":"#REF!"}},{"$f":"T(#REF!)","v":{"$error":"#REF!"}},{"$f":"ESTIMATE!P655","v":0},null,{"$f":"T(ESTIMATE!S655)","v":"sf"}]
[null,null,{"$f":"T(ESTIMATE!B656)","v":""},{"$f":"T(#REF!)","v":{"$error":"#REF!"}},{"$f":"T(#REF!)","v":{"$error":"#REF!"}},{"$f":"T(#REF!)","v":{"$error":"#REF!"}},{"$f":"T(#REF!)","v":{"$error":"#REF!"}},null,null,{"$f":"T(#REF!)","v":{"$error":"#REF!"}},{"$f":"T(#REF!)","v":{"$error":"#REF!"}},{"$f":"T(#REF!)","v":{"$error":"#REF!"}},{"$f":"T(#REF!)","v":{"$error":"#REF!"}},{"$f":"ESTIMATE!P656","v":0},null,{"$f":"T(ESTIMATE!S656)","v":""}]
[null,null,{"$f":"T(ESTIMATE!B657)","v":"Plumbing, Detailed"},{"$f":"T(#REF!)","v":{"$error":"#REF!"}},{"$f":"T(#REF!)","v":{"$error":"#REF!"}},{"$f":"T(#REF!)","v":{"$error":"#REF!"}},{"$f":"T(#REF!)","v":{"$error":"#REF!"}},null,null,{"$f":"T(#REF!)","v":{"$error":"#REF!"}},{"$f":"T(#REF!)","v":{"$error":"#REF!"}},{"$f":"T(#REF!)","v":{"$error":"#REF!"}},{"$f":"T(#REF!)","v":{"$error":"#REF!"}},{"$f":"ESTIMATE!P657","v":0},null,{"$f":"T(ESTIMATE!S657)","v":""}]
[null,null,{"$f":"T(ESTIMATE!B658)","v":"Miscellaneous"},{"$f":"T(#REF!)","v":{"$error":"#REF!"}},{"$f":"T(#REF!)","v":{"$error":"#REF!"}},{"$f":"T(#REF!)","v":{"$error":"#REF!"}},{"$f":"T(#REF!)","v":{"$error":"#REF!"}},null,null,{"$f":"T(#REF!)","v":{"$error":"#REF!"}},{"$f":"T(#REF!)","v":{"$error":"#REF!"}},{"$f":"T(#REF!)","v":{"$error":"#REF!"}},{"$f":"T(#REF!)","v":{"$error":"#REF!"}},{"$f":"ESTIMATE!P658","v":0},null,{"$f":"T(ESTIMATE!S658)","v":""}]
[null,null,{"$f":"T(ESTIMATE!B659)","v":"Concrete demo for below slab rough-in"},{"$f":"T(#REF!)","v":{"$error":"#REF!"}},{"$f":"T(#REF!)","v":{"$error":"#REF!"}},{"$f":"T(#REF!)","v":{"$error":"#REF!"}},{"$f":"T(#REF!)","v":{"$error":"#REF!"}},null,null,{"$f":"T(#REF!)","v":{"$error":"#REF!"}},{"$f":"T(#REF!)","v":{"$error":"#REF!"}},{"$f":"T(#REF!)","v":{"$error":"#REF!"}},{"$f":"T(#REF!)","v":{"$error":"#REF!"}},{"$f":"ESTIMATE!P659","v":0},null,{"$f":"T(ESTIMATE!S659)","v":"sf"}]
[null,null,{"$f":"T(ESTIMATE!B660)","v":"Concrete patching for below slab rough-in"},{"$f":"T(#REF!)","v":{"$error":"#REF!"}},{"$f":"T(#REF!)","v":{"$error":"#REF!"}},{"$f":"T(#REF!)","v":{"$error":"#REF!"}},{"$f":"T(#REF!)","v":{"$error":"#REF!"}},null,null,{"$f":"T(#REF!)","v":{"$error":"#REF!"}},{"$f":"T(#REF!)","v":{"$error":"#REF!"}},{"$f":"T(#REF!)","v":{"$error":"#REF!"}},{"$f":"T(#REF!)","v":{"$error":"#REF!"}},{"$f":"ESTIMATE!P660","v":0},null,{"$f":"T(ESTIMATE!S660)","v":"sf"}]
[null,null,{"$f":"T(ESTIMATE!B661)","v":"New sanitary line below slab rough-in"},{"$f":"T(#REF!)","v":{"$error":"#REF!"}},{"$f":"T(#REF!)","v":{"$error":"#REF!"}},{"$f":"T(#REF!)","v":{"$error":"#REF!"}},{"$f":"T(#REF!)","v":{"$error":"#REF!"}},null,null,{"$f":"T(#REF!)","v":{"$error":"#REF!"}},{"$f":"T(#REF!)","v":{"$error":"#REF!"}},{"$f":"T(#REF!)","v":{"$error":"#REF!"}},{"$f":"T(#REF!)","v":{"$error":"#REF!"}},{"$f":"ESTIMATE!P661","v":0},null,{"$f":"T(ESTIMATE!S661)","v":"lf"}]
[null,null,{"$f":"T(ESTIMATE!B662)","v":"New sanitary line, outside"},{"$f":"T(#REF!)","v":{"$error":"#REF!"}},{"$f":"T(#REF!)","v":{"$error":"#REF!"}},{"$f":"T(#REF!)","v":{"$error":"#REF!"}},{"$f":"T(#REF!)","v":{"$error":"#REF!"}},null,null,{"$f":"T(#REF!)","v":{"$error":"#REF!"}},{"$f":"T(#REF!)","v":{"$error":"#REF!"}},{"$f":"T(#REF!)","v":{"$error":"#REF!"}},{"$f":"T(#REF!)","v":{"$error":"#REF!"}},{"$f":"ESTIMATE!P662","v":0},null,{"$f":"T(ESTIMATE!S662)","v":"lf"}]
[null,null,{"$f":"T(ESTIMATE!B663)","v":"Replace gas hot water heater, 40 gallon"},{"$f":"T(#REF!)","v":{"$error":"#REF!"}},{"$f":"T(#REF!)","v":{"$error":"#REF!"}},{"$f":"T(#REF!)","v":{"$error":"#REF!"}},{"$f":"T(#REF!)","v":{"$error":"#REF!"}},null,null,{"$f":"T(#REF!)","v":{"$error":"#REF!"}},{"$f":"T(#REF!)","v":{"$error":"#REF!"}},{"$f":"T(#REF!)","v":{"$error":"#REF!"}},{"$f":"T(#REF!)","v":{"$error":"#REF!"}},{"$f":"ESTIMATE!P663","v":0},null,{"$f":"T(ESTIMATE!S663)","v":"ea"}]
[null,null,{"$f":"T(ESTIMATE!B664)","v":"Replace existing sump pump, 1/2 HP"},{"$f":"T(#REF!)","v":{"$error":"#REF!"}},{"$f":"T(#REF!)","v":{"$error":"#REF!"}},{"$f":"T(#REF!)","v":{"$error":"#REF!"}},{"$f":"T(#REF!)","v":{"$error":"#REF!"}},null,null,{"$f":"T(#REF!)","v":{"$error":"#REF!"}},{"$f":"T(#REF!)","v":{"$error":"#REF!"}},{"$f":"T(#REF!)","v":{"$error":"#REF!"}},{"$f":"T(#REF!)","v":{"$error":"#REF!"}},{"$f":"ESTIMATE!P664","v":0},null,{"$f":"T(ESTIMATE!S664)","v":"ea"}]
[null,null,{"$f":"T(ESTIMATE!B665)","v":"Kitchens (duplicate from Kitchens section)"},{"$f":"T(#REF!)","v":{"$error":"#REF!"}},{"$f":"T(#REF!)","v":{"$error":"#REF!"}},{"$f":"T(#REF!)","v":{"$error":"#REF!"}},{"$f":"T(#REF!)","v":{"$error":"#REF!"}},null,null,{"$f":"T(#REF!)","v":{"$error":"#REF!"}},{"$f":"T(#REF!)","v":{"$error":"#REF!"}},{"$f":"T(#REF!)","v":{"$error":"#REF!"}},{"$f":"T(#REF!)","v":{"$error":"#REF!"}},{"$f":"ESTIMATE!P665","v":0},null,{"$f":"T(ESTIMATE!S665)","v":""}]
[null,null,{"$f":"T(ESTIMATE!B666)","v":"Kitchen sink bowl, stainless steel, undermount"},{"$f":"T(#REF!)","v":{"$error":"#REF!"}},{"$f":"T(#REF!)","v":{"$error":"#REF!"}},{"$f":"T(#REF!)","v":{"$error":"#REF!"}},{"$f":"T(#REF!)","v":{"$error":"#REF!"}},null,null,{"$f":"T(#REF!)","v":{"$error":"#REF!"}},{"$f":"T(#REF!)","v":{"$error":"#REF!"}},{"$f":"T(#REF!)","v":{"$error":"#REF!"}},{"$f":"T(#REF!)","v":{"$error":"#REF!"}},{"$f":"ESTIMATE!P666","v":0},null,{"$f":"T(ESTIMATE!S666)","v":"ea"}]
[null,null,{"$f":"T(ESTIMATE!B667)","v":"Kitchen faucet fixture"},{"$f":"T(#REF!)","v":{"$error":"#REF!"}},{"$f":"T(#REF!)","v":{"$error":"#REF!"}},{"$f":"T(#REF!)","v":{"$error":"#REF!"}},{"$f":"T(#REF!)","v":{"$error":"#REF!"}},null,null,{"$f":"T(#REF!)","v":{"$error":"#REF!"}},{"$f":"T(#REF!)","v":{"$error":"#REF!"}},{"$f":"T(#REF!)","v":{"$error":"#REF!"}},{"$f":"T(#REF!)","v":{"$error":"#REF!"}},{"$f":"ESTIMATE!P667","v":0},null,{"$f":"T(ESTIMATE!S667)","v":"ea"}]
[null,null,{"$f":"T(ESTIMATE!B668)","v":"Garbage disposal"},{"$f":"T(#REF!)","v":{"$error":"#REF!"}},{"$f":"T(#REF!)","v":{"$error":"#REF!"}},{"$f":"T(#REF!)","v":{"$error":"#REF!"}},{"$f":"T(#REF!)","v":{"$error":"#REF!"}},null,null,{"$f":"T(#REF!)","v":{"$error":"#REF!"}},{"$f":"T(#REF!)","v":{"$error":"#REF!"}},{"$f":"T(#REF!)","v":{"$error":"#REF!"}},{"$f":"T(#REF!)","v":{"$error":"#REF!"}},{"$f":"ESTIMATE!P668","v":0},null,{"$f":"T(ESTIMATE!S668)","v":"ea"}]
[null,null,{"$f":"T(ESTIMATE!B669)","v":"Hookup dishwasher"},{"$f":"T(#REF!)","v":{"$error":"#REF!"}},{"$f":"T(#REF!)","v":{"$error":"#REF!"}},{"$f":"T(#REF!)","v":{"$error":"#REF!"}},{"$f":"T(#REF!)","v":{"$error":"#REF!"}},null,null,{"$f":"T(#REF!)","v":{"$error":"#REF!"}},{"$f":"T(#REF!)","v":{"$error":"#REF!"}},{"$f":"T(#REF!)","v":{"$error":"#REF!"}},{"$f":"T(#REF!)","v":{"$error":"#REF!"}},{"$f":"ESTIMATE!P669","v":0},null,{"$f":"T(ESTIMATE!S669)","v":"ea"}]
[null,null,{"$f":"T(ESTIMATE!B670)","v":"Water supply line for refrigerator"},{"$f":"T(#REF!)","v":{"$error":"#REF!"}},{"$f":"T(#REF!)","v":{"$error":"#REF!"}},{"$f":"T(#REF!)","v":{"$error":"#REF!"}},{"$f":"T(#REF!)","v":{"$error":"#REF!"}},null,null,{"$f":"T(#REF!)","v":{"$error":"#REF!"}},{"$f":"T(#REF!)","v":{"$error":"#REF!"}},{"$f":"T(#REF!)","v":{"$error":"#REF!"}},{"$f":"T(#REF!)","v":{"$error":"#REF!"}},{"$f":"ESTIMATE!P670","v":0},null,{"$f":"T(ESTIMATE!S670)","v":"ea"}]
[null,null,{"$f":"T(ESTIMATE!B671)","v":"Bathrooms (duplicate from Bathrooms section)"},{"$f":"T(#REF!)","v":{"$error":"#REF!"}},{"$f":"T(#REF!)","v":{"$error":"#REF!"}},{"$f":"T(#REF!)","v":{"$error":"#REF!"}},{"$f":"T(#REF!)","v":{"$error":"#REF!"}},null,null,{"$f":"T(#REF!)","v":{"$error":"#REF!"}},{"$f":"T(#REF!)","v":{"$error":"#REF!"}},{"$f":"T(#REF!)","v":{"$error":"#REF!"}},{"$f":"T(#REF!)","v":{"$error":"#REF!"}},{"$f":"ESTIMATE!P671","v":0},null,{"$f":"T(ESTIMATE!S671)","v":""}]
[null,null,{"$f":"T(ESTIMATE!B672)","v":"Bathroom faucet fixture"},{"$f":"T(#REF!)","v":{"$error":"#REF!"}},{"$f":"T(#REF!)","v":{"$error":"#REF!"}},{"$f":"T(#REF!)","v":{"$error":"#REF!"}},{"$f":"T(#REF!)","v":{"$error":"#REF!"}},null,null,{"$f":"T(#REF!)","v":{"$error":"#REF!"}},{"$f":"T(#REF!)","v":{"$error":"#REF!"}},{"$f":"T(#REF!)","v":{"$error":"#REF!"}},{"$f":"T(#REF!)","v":{"$error":"#REF!"}},{"$f":"ESTIMATE!P672","v":0},null,{"$f":"T(ESTIMATE!S672)","v":"ea"}]
[null,null,{"$f":"T(ESTIMATE!B673)","v":"Fiberglass shower stall"},{"$f":"T(#REF!)","v":{"$error":"#REF!"}},{"$f":"T(#REF!)","v":{"$error":"#REF!"}},{"$f":"T(#REF!)","v":{"$error":"#REF!"}},{"$f":"T(#REF!)","v":{"$error":"#REF!"}},null,null,{"$f":"T(#REF!)","v":{"$error":"#REF!"}},{"$f":"T(#REF!)","v":{"$error":"#REF!"}},{"$f":"T(#REF!)","v":{"$error":"#REF!"}},{"$f":"T(#REF!)","v":{"$error":"#REF!"}},{"$f":"ESTIMATE!P673","v":0},null,{"$f":"T(ESTIMATE!S673)","v":"ea"}]
[null,null,{"$f":"T(ESTIMATE!B674)","v":"Fiberglass tub"},{"$f":"T(#REF!)","v":{"$error":"#REF!"}},{"$f":"T(#REF!)","v":{"$error":"#REF!"}},{"$f":"T(#REF!)","v":{"$error":"#REF!"}},{"$f":"T(#REF!)","v":{"$error":"#REF!"}},null,null,{"$f":"T(#REF!)","v":{"$error":"#REF!"}},{"$f":"T(#REF!)","v":{"$error":"#REF!"}},{"$f":"T(#REF!)","v":{"$error":"#REF!"}},{"$f":"T(#REF!)","v":{"$error":"#REF!"}},{"$f":"ESTIMATE!P674","v":0},null,{"$f":"T(ESTIMATE!S674)","v":"ea"}]
[null,null,{"$f":"T(ESTIMATE!B675)","v":"Fiberglass tub/shower surround"},{"$f":"T(#REF!)","v":{"$error":"#REF!"}},{"$f":"T(#REF!)","v":{"$error":"#REF!"}},{"$f":"T(#REF!)","v":{"$error":"#REF!"}},{"$f":"T(#REF!)","v":{"$error":"#REF!"}},null,null,{"$f":"T(#REF!)","v":{"$error":"#REF!"}},{"$f":"T(#REF!)","v":{"$error":"#REF!"}},{"$f":"T(#REF!)","v":{"$error":"#REF!"}},{"$f":"T(#REF!)","v":{"$error":"#REF!"}},{"$f":"ESTIMATE!P675","v":0},null,{"$f":"T(ESTIMATE!S675)","v":"ea"}]
[null,null,{"$f":"T(ESTIMATE!B676)","v":"Showerhead/tub kit"},{"$f":"T(#REF!)","v":{"$error":"#REF!"}},{"$f":"T(#REF!)","v":{"$error":"#REF!"}},{"$f":"T(#REF!)","v":{"$error":"#REF!"}},{"$f":"T(#REF!)","v":{"$error":"#REF!"}},null,null,{"$f":"T(#REF!)","v":{"$error":"#REF!"}},{"$f":"T(#REF!)","v":{"$error":"#REF!"}},{"$f":"T(#REF!)","v":{"$error":"#REF!"}},{"$f":"T(#REF!)","v":{"$error":"#REF!"}},{"$f":"ESTIMATE!P676","v":0},null,{"$f":"T(ESTIMATE!S676)","v":"ea"}]
[null,null,{"$f":"T(ESTIMATE!B677)","v":"Toilets"},{"$f":"T(#REF!)","v":{"$error":"#REF!"}},{"$f":"T(#REF!)","v":{"$error":"#REF!"}},{"$f":"T(#REF!)","v":{"$error":"#REF!"}},{"$f":"T(#REF!)","v":{"$error":"#REF!"}},null,null,{"$f":"T(#REF!)","v":{"$error":"#REF!"}},{"$f":"T(#REF!)","v":{"$error":"#REF!"}},{"$f":"T(#REF!)","v":{"$error":"#REF!"}},{"$f":"T(#REF!)","v":{"$error":"#REF!"}},{"$f":"ESTIMATE!P677","v":0},null,{"$f":"T(ESTIMATE!S677)","v":"ea"}]
[null,null,{"$f":"T(ESTIMATE!B678)","v":"Toilet seats"},{"$f":"T(#REF!)","v":{"$error":"#REF!"}},{"$f":"T(#REF!)","v":{"$error":"#REF!"}},{"$f":"T(#REF!)","v":{"$error":"#REF!"}},{"$f":"T(#REF!)","v":{"$error":"#REF!"}},null,null,{"$f":"T(#REF!)","v":{"$error":"#REF!"}},{"$f":"T(#REF!)","v":{"$error":"#REF!"}},{"$f":"T(#REF!)","v":{"$error":"#REF!"}},{"$f":"T(#REF!)","v":{"$error":"#REF!"}},{"$f":"ESTIMATE!P678","v":0},null,{"$f":"T(ESTIMATE!S678)","v":"ea"}]
[null,null,{"$f":"T(ESTIMATE!B679)","v":"Pedestal sink"},{"$f":"T(#REF!)","v":{"$error":"#REF!"}},{"$f":"T(#REF!)","v":{"$error":"#REF!"}},{"$f":"T(#REF!)","v":{"$error":"#REF!"}},{"$f":"T(#REF!)","v":{"$error":"#REF!"}},null,null,{"$f":"T(#REF!)","v":{"$error":"#REF!"}},{"$f":"T(#REF!)","v":{"$error":"#REF!"}},{"$f":"T(#REF!)","v":{"$error":"#REF!"}},{"$f":"T(#REF!)","v":{"$error":"#REF!"}},{"$f":"ESTIMATE!P679","v":0},null,{"$f":"T(ESTIMATE!S679)","v":"ea"}]
[null,null,{"$f":"T(ESTIMATE!B680)","v":""},{"$f":"T(#REF!)","v":{"$error":"#REF!"}},{"$f":"T(#REF!)","v":{"$error":"#REF!"}},{"$f":"T(#REF!)","v":{"$error":"#REF!"}},{"$f":"T(#REF!)","v":{"$error":"#REF!"}},null,null,{"$f":"T(#REF!)","v":{"$error":"#REF!"}},{"$f":"T(#REF!)","v":{"$error":"#REF!"}},{"$f":"T(#REF!)","v":{"$error":"#REF!"}},{"$f":"T(#REF!)","v":{"$error":"#REF!"}},{"$f":"ESTIMATE!P680","v":0},null,{"$f":"T(ESTIMATE!S680)","v":""}]
[null,null,{"$f":"T(ESTIMATE!B681)","v":""},{"$f":"T(#REF!)","v":{"$error":"#REF!"}},{"$f":"T(#REF!)","v":{"$error":"#REF!"}},{"$f":"T(#REF!)","v":{"$error":"#REF!"}},{"$f":"T(#REF!)","v":{"$error":"#REF!"}},null,null,{"$f":"T(#REF!)","v":{"$error":"#REF!"}},{"$f":"T(#REF!)","v":{"$error":"#REF!"}},{"$f":"T(#REF!)","v":{"$error":"#REF!"}},{"$f":"T(#REF!)","v":{"$error":"#REF!"}},{"$f":"ESTIMATE!P681","v":0},null,{"$f":"T(ESTIMATE!S681)","v":""}]
[null,null,{"$f":"T(ESTIMATE!B682)","v":""},{"$f":"T(#REF!)","v":{"$error":"#REF!"}},{"$f":"T(#REF!)","v":{"$error":"#REF!"}},{"$f":"T(#REF!)","v":{"$error":"#REF!"}},{"$f":"T(#REF!)","v":{"$error":"#REF!"}},null,null,{"$f":"T(#REF!)","v":{"$error":"#REF!"}},{"$f":"T(#REF!)","v":{"$error":"#REF!"}},{"$f":"T(#REF!)","v":{"$error":"#REF!"}},{"$f":"T(#REF!)","v":{"$error":"#REF!"}},{"$f":"ESTIMATE!P682","v":0},null,{"$f":"T(ESTIMATE!S682)","v":""}]
[null,null,{"$f":"T(ESTIMATE!B683)","v":""},{"$f":"T(#REF!)","v":{"$error":"#REF!"}},{"$f":"T(#REF!)","v":{"$error":"#REF!"}},{"$f":"T(#REF!)","v":{"$error":"#REF!"}},{"$f":"T(#REF!)","v":{"$error":"#REF!"}},null,null,{"$f":"T(#REF!)","v":{"$error":"#REF!"}},{"$f":"T(#REF!)","v":{"$error":"#REF!"}},{"$f":"T(#REF!)","v":{"$error":"#REF!"}},{"$f":"T(#REF!)","v":{"$error":"#REF!"}},{"$f":"ESTIMATE!P683","v":0},null,{"$f":"T(ESTIMATE!S683)","v":""}]
[null,null,{"$f":"T(ESTIMATE!B684)","v":""},{"$f":"T(#REF!)","v":{"$error":"#REF!"}},{"$f":"T(#REF!)","v":{"$error":"#REF!"}},{"$f":"T(#REF!)","v":{"$error":"#REF!"}},{"$f":"T(#REF!)","v":{"$error":"#REF!"}},null,null,{"$f":"T(#REF!)","v":{"$error":"#REF!"}},{"$f":"T(#REF!)","v":{"$error":"#REF!"}},{"$f":"T(#REF!)","v":{"$error":"#REF!"}},{"$f":"T(#REF!)","v":{"$error":"#REF!"}},{"$f":"ESTIMATE!P684","v":0},null,{"$f":"T(ESTIMATE!S684)","v":""}]
[null,null,{"$f":"T(ESTIMATE!B685)","v":""},{"$f":"T(#REF!)","v":{"$error":"#REF!"}},{"$f":"T(#REF!)","v":{"$error":"#REF!"}},{"$f":"T(#REF!)","v":{"$error":"#REF!"}},{"$f":"T(#REF!)","v":{"$error":"#REF!"}},null,null,{"$f":"T(#REF!)","v":{"$error":"#REF!"}},{"$f":"T(#REF!)","v":{"$error":"#REF!"}},{"$f":"T(#REF!)","v":{"$error":"#REF!"}},{"$f":"T(#REF!)","v":{"$error":"#REF!"}},{"$f":"ESTIMATE!P685","v":0},null,{"$f":"T(ESTIMATE!S685)","v":""}]
[null,null,{"$f":"T(ESTIMATE!B686)","v":""},{"$f":"T(#REF!)","v":{"$error":"#REF!"}},{"$f":"T(#REF!)","v":{"$error":"#REF!"}},{"$f":"T(#REF!)","v":{"$error":"#REF!"}},{"$f":"T(#REF!)","v":{"$error":"#REF!"}},null,null,{"$f":"T(#REF!)","v":{"$error":"#REF!"}},{"$f":"T(#REF!)","v":{"$error":"#REF!"}},{"$f":"T(#REF!)","v":{"$error":"#REF!"}},{"$f":"T(#REF!)","v":{"$error":"#REF!"}},{"$f":"ESTIMATE!P686","v":0},null,{"$f":"T(ESTIMATE!S686)","v":""}]
[null,null,{"$f":"T(ESTIMATE!B691)","v":"HVAC"},{"$f":"T(#REF!)","v":{"$error":"#REF!"}},{"$f":"T(#REF!)","v":{"$error":"#REF!"}},{"$f":"T(#REF!)","v":{"$error":"#REF!"}},{"$f":"T(#REF!)","v":{"$error":"#REF!"}},null,null,{"$f":"T(#REF!)","v":{"$error":"#REF!"}},{"$f":"T(#REF!)","v":{"$error":"#REF!"}},{"$f":"T(#REF!)","v":{"$error":"#REF!"}},{"$f":"T(#REF!)","v":{"$error":"#REF!"}},{"$f":"SUM(N654:O693)","v":0}]
[null,null,{"$f":"T(ESTIMATE!B692)","v":"HVAC, bid/allowance"},{"$f":"T(#REF!)","v":{"$error":"#REF!"}},{"$f":"T(#REF!)","v":{"$error":"#REF!"}},{"$f":"T(#REF!)","v":{"$error":"#REF!"}},{"$f":"T(#REF!)","v":{"$error":"#REF!"}},null,null,{"$f":"T(#REF!)","v":{"$error":"#REF!"}},{"$f":"T(#REF!)","v":{"$error":"#REF!"}},{"$f":"T(#REF!)","v":{"$error":"#REF!"}},{"$f":"T(#REF!)","v":{"$error":"#REF!"}},{"$f":"ESTIMATE!P692","v":0},null,{"$f":"T(ESTIMATE!S692)","v":"ls"}]
[null,null,{"$f":"T(ESTIMATE!B693)","v":"HVAC Rough-In, per hour"},{"$f":"T(#REF!)","v":{"$error":"#REF!"}},{"$f":"T(#REF!)","v":{"$error":"#REF!"}},{"$f":"T(#REF!)","v":{"$error":"#REF!"}},{"$f":"T(#REF!)","v":{"$error":"#REF!"}},null,null,{"$f":"T(#REF!)","v":{"$error":"#REF!"}},{"$f":"T(#REF!)","v":{"$error":"#REF!"}},{"$f":"T(#REF!)","v":{"$error":"#REF!"}},{"$f":"T(#REF!)","v":{"$error":"#REF!"}},{"$f":"ESTIMATE!P693","v":0},null,{"$f":"T(ESTIMATE!S693)","v":"hrs"}]
[null,null,{"$f":"T(ESTIMATE!B694)","v":"HVAC Finish Work, per hour"},{"$f":"T(#REF!)","v":{"$error":"#REF!"}},{"$f":"T(#REF!)","v":{"$error":"#REF!"}},{"$f":"T(#REF!)","v":{"$error":"#REF!"}},{"$f":"T(#REF!)","v":{"$error":"#REF!"}},null,null,{"$f":"T(#REF!)","v":{"$error":"#REF!"}},{"$f":"T(#REF!)","v":{"$error":"#REF!"}},{"$f":"T(#REF!)","v":{"$error":"#REF!"}},{"$f":"T(#REF!)","v":{"$error":"#REF!"}},{"$f":"ESTIMATE!P694","v":0},null,{"$f":"T(ESTIMATE!S694)","v":"hrs"}]
[null,null,{"$f":"T(ESTIMATE!B695)","v":"Replace gas fired forced air unit, 1000 sf, 60k btus"},{"$f":"T(#REF!)","v":{"$error":"#REF!"}},{"$f":"T(#REF!)","v":{"$error":"#REF!"}},{"$f":"T(#REF!)","v":{"$error":"#REF!"}},{"$f":"T(#REF!)","v":{"$error":"#REF!"}},null,null,{"$f":"T(#REF!)","v":{"$error":"#REF!"}},{"$f":"T(#REF!)","v":{"$error":"#REF!"}},{"$f":"T(#REF!)","v":{"$error":"#REF!"}},{"$f":"T(#REF!)","v":{"$error":"#REF!"}},{"$f":"ESTIMATE!P695","v":0},null,{"$f":"T(ESTIMATE!S695)","v":"ea"}]
[null,null,{"$f":"T(ESTIMATE!B696)","v":"Replace gas fired forced air unit, 2,000, 80k btus"},{"$f":"T(#REF!)","v":{"$error":"#REF!"}},{"$f":"T(#REF!)","v":{"$error":"#REF!"}},{"$f":"T(#REF!)","v":{"$error":"#REF!"}},{"$f":"T(#REF!)","v":{"$error":"#REF!"}},null,null,{"$f":"T(#REF!)","v":{"$error":"#REF!"}},{"$f":"T(#REF!)","v":{"$error":"#REF!"}},{"$f":"T(#REF!)","v":{"$error":"#REF!"}},{"$f":"T(#REF!)","v":{"$error":"#REF!"}},{"$f":"ESTIMATE!P696","v":0},null,{"$f":"T(ESTIMATE!S696)","v":"ea"}]
[null,null,{"$f":"T(ESTIMATE!B697)","v":"Replace gas fired forced air unit, 3,000, 100k btus"},{"$f":"T(#REF!)","v":{"$error":"#REF!"}},{"$f":"T(#REF!)","v":{"$error":"#REF!"}},{"$f":"T(#REF!)","v":{"$error":"#REF!"}},{"$f":"T(#REF!)","v":{"$error":"#REF!"}},null,null,{"$f":"T(#REF!)","v":{"$error":"#REF!"}},{"$f":"T(#REF!)","v":{"$error":"#REF!"}},{"$f":"T(#REF!)","v":{"$error":"#REF!"}},{"$f":"T(#REF!)","v":{"$error":"#REF!"}},{"$f":"ESTIMATE!P697","v":0},null,{"$f":"T(ESTIMATE!S697)","v":"ea"}]
[null,null,{"$f":"T(ESTIMATE!B698)","v":"Replace air conditioning unit, ~1,000 sf, 2 ton"},{"$f":"T(#REF!)","v":{"$error":"#REF!"}},{"$f":"T(#REF!)","v":{"$error":"#REF!"}},{"$f":"T(#REF!)","v":{"$error":"#REF!"}},{"$f":"T(#REF!)","v":{"$error":"#REF!"}},null,null,{"$f":"T(#REF!)","v":{"$error":"#REF!"}},{"$f":"T(#REF!)","v":{"$error":"#REF!"}},{"$f":"T(#REF!)","v":{"$error":"#REF!"}},{"$f":"T(#REF!)","v":{"$error":"#REF!"}},{"$f":"ESTIMATE!P698","v":0},null,{"$f":"T(ESTIMATE!S698)","v":"ea"}]
[null,null,{"$f":"T(ESTIMATE!B699)","v":"Replace air conditioning unit, ~2,000 sf, 3.5 ton"},{"$f":"T(#REF!)","v":{"$error":"#REF!"}},{"$f":"T(#REF!)","v":{"$error":"#REF!"}},{"$f":"T(#REF!)","v":{"$error":"#REF!"}},{"$f":"T(#REF!)","v":{"$error":"#REF!"}},null,null,{"$f":"T(#REF!)","v":{"$error":"#REF!"}},{"$f":"T(#REF!)","v":{"$error":"#REF!"}},{"$f":"T(#REF!)","v":{"$error":"#REF!"}},{"$f":"T(#REF!)","v":{"$error":"#REF!"}},{"$f":"ESTIMATE!P699","v":0},null,{"$f":"T(ESTIMATE!S699)","v":"ea"}]
[null,null,{"$f":"T(ESTIMATE!B700)","v":"Replace air conditioning unit, ~3,000sf, 5 ton"},{"$f":"T(#REF!)","v":{"$error":"#REF!"}},{"$f":"T(#REF!)","v":{"$error":"#REF!"}},{"$f":"T(#REF!)","v":{"$error":"#REF!"}},{"$f":"T(#REF!)","v":{"$error":"#REF!"}},null,null,{"$f":"T(#REF!)","v":{"$error":"#REF!"}},{"$f":"T(#REF!)","v":{"$error":"#REF!"}},{"$f":"T(#REF!)","v":{"$error":"#REF!"}},{"$f":"T(#REF!)","v":{"$error":"#REF!"}},{"$f":"ESTIMATE!P700","v":0},null,{"$f":"T(ESTIMATE!S700)","v":"ea"}]
[null,null,{"$f":"T(ESTIMATE!B701)","v":"Hotel type, hot/cold packaged unit"},{"$f":"T(#REF!)","v":{"$error":"#REF!"}},{"$f":"T(#REF!)","v":{"$error":"#REF!"}},{"$f":"T(#REF!)","v":{"$error":"#REF!"}},{"$f":"T(#REF!)","v":{"$error":"#REF!"}},null,null,{"$f":"T(#REF!)","v":{"$error":"#REF!"}},{"$f":"T(#REF!)","v":{"$error":"#REF!"}},{"$f":"T(#REF!)","v":{"$error":"#REF!"}},{"$f":"T(#REF!)","v":{"$error":"#REF!"}},{"$f":"ESTIMATE!P701","v":0},null,{"$f":"T(ESTIMATE!S701)","v":"ea"}]
[null,null,{"$f":"T(ESTIMATE!B702)","v":"Window mounted unit"},{"$f":"T(#REF!)","v":{"$error":"#REF!"}},{"$f":"T(#REF!)","v":{"$error":"#REF!"}},{"$f":"T(#REF!)","v":{"$error":"#REF!"}},{"$f":"T(#REF!)","v":{"$error":"#REF!"}},null,null,{"$f":"T(#REF!)","v":{"$error":"#REF!"}},{"$f":"T(#REF!)","v":{"$error":"#REF!"}},{"$f":"T(#REF!)","v":{"$error":"#REF!"}},{"$f":"T(#REF!)","v":{"$error":"#REF!"}},{"$f":"ESTIMATE!P702","v":0},null,{"$f":"T(ESTIMATE!S702)","v":"ea"}]
[null,null,{"$f":"T(ESTIMATE!B703)","v":"HVAC equipment tune-up/service call"},{"$f":"T(#REF!)","v":{"$error":"#REF!"}},{"$f":"T(#REF!)","v":{"$error":"#REF!"}},{"$f":"T(#REF!)","v":{"$error":"#REF!"}},{"$f":"T(#REF!)","v":{"$error":"#REF!"}},null,null,{"$f":"T(#REF!)","v":{"$error":"#REF!"}},{"$f":"T(#REF!)","v":{"$error":"#REF!"}},{"$f":"T(#REF!)","v":{"$error":"#REF!"}},{"$f":"T(#REF!)","v":{"$error":"#REF!"}},{"$f":"ESTIMATE!P703","v":0},null,{"$f":"T(ESTIMATE!S703)","v":"ea"}]
[null,null,{"$f":"T(ESTIMATE!B704)","v":"Programmable thermostat"},{"$f":"T(#REF!)","v":{"$error":"#REF!"}},{"$f":"T(#REF!)","v":{"$error":"#REF!"}},{"$f":"T(#REF!)","v":{"$error":"#REF!"}},{"$f":"T(#REF!)","v":{"$error":"#REF!"}},null,null,{"$f":"T(#REF!)","v":{"$error":"#REF!"}},{"$f":"T(#REF!)","v":{"$error":"#REF!"}},{"$f":"T(#REF!)","v":{"$error":"#REF!"}},{"$f":"T(#REF!)","v":{"$error":"#REF!"}},{"$f":"ESTIMATE!P704","v":0},null,{"$f":"T(ESTIMATE!S704)","v":"ea"}]
[null,null,{"$f":"T(ESTIMATE!B705)","v":"Replace supply air grilles/returns"},{"$f":"T(#REF!)","v":{"$error":"#REF!"}},{"$f":"T(#REF!)","v":{"$error":"#REF!"}},{"$f":"T(#REF!)","v":{"$error":"#REF!"}},{"$f":"T(#REF!)","v":{"$error":"#REF!"}},null,null,{"$f":"T(#REF!)","v":{"$error":"#REF!"}},{"$f":"T(#REF!)","v":{"$error":"#REF!"}},{"$f":"T(#REF!)","v":{"$error":"#REF!"}},{"$f":"T(#REF!)","v":{"$error":"#REF!"}},{"$f":"ESTIMATE!P705","v":0},null,{"$f":"T(ESTIMATE!S705)","v":"ea"}]
[null,null,{"$f":"T(ESTIMATE!B706)","v":"Clean ductwork"},{"$f":"T(#REF!)","v":{"$error":"#REF!"}},{"$f":"T(#REF!)","v":{"$error":"#REF!"}},{"$f":"T(#REF!)","v":{"$error":"#REF!"}},{"$f":"T(#REF!)","v":{"$error":"#REF!"}},null,null,{"$f":"T(#REF!)","v":{"$error":"#REF!"}},{"$f":"T(#REF!)","v":{"$error":"#REF!"}},{"$f":"T(#REF!)","v":{"$error":"#REF!"}},{"$f":"T(#REF!)","v":{"$error":"#REF!"}},{"$f":"ESTIMATE!P706","v":0},null,{"$f":"T(ESTIMATE!S706)","v":"ls"}]
[null,null,{"$f":"T(ESTIMATE!B707)","v":""},{"$f":"T(#REF!)","v":{"$error":"#REF!"}},{"$f":"T(#REF!)","v":{"$error":"#REF!"}},{"$f":"T(#REF!)","v":{"$error":"#REF!"}},{"$f":"T(#REF!)","v":{"$error":"#REF!"}},null,null,{"$f":"T(#REF!)","v":{"$error":"#REF!"}},{"$f":"T(#REF!)","v":{"$error":"#REF!"}},{"$f":"T(#REF!)","v":{"$error":"#REF!"}},{"$f":"T(#REF!)","v":{"$error":"#REF!"}},{"$f":"ESTIMATE!P707","v":0},null,{"$f":"T(ESTIMATE!S707)","v":""}]
[null,null,{"$f":"T(ESTIMATE!B708)","v":""},{"$f":"T(#REF!)","v":{"$error":"#REF!"}},{"$f":"T(#REF!)","v":{"$error":"#REF!"}},{"$f":"T(#REF!)","v":{"$error":"#REF!"}},{"$f":"T(#REF!)","v":{"$error":"#REF!"}},null,null,{"$f":"T(#REF!)","v":{"$error":"#REF!"}},{"$f":"T(#REF!)","v":{"$error":"#REF!"}},{"$f":"T(#REF!)","v":{"$error":"#REF!"}},{"$f":"T(#REF!)","v":{"$error":"#REF!"}},{"$f":"ESTIMATE!P708","v":0},null,{"$f":"T(ESTIMATE!S708)","v":""}]
[null,null,{"$f":"T(ESTIMATE!B709)","v":""},{"$f":"T(#REF!)","v":{"$error":"#REF!"}},{"$f":"T(#REF!)","v":{"$error":"#REF!"}},{"$f":"T(#REF!)","v":{"$error":"#REF!"}},{"$f":"T(#REF!)","v":{"$error":"#REF!"}},null,null,{"$f":"T(#REF!)","v":{"$error":"#REF!"}},{"$f":"T(#REF!)","v":{"$error":"#REF!"}},{"$f":"T(#REF!)","v":{"$error":"#REF!"}},{"$f":"T(#REF!)","v":{"$error":"#REF!"}},{"$f":"ESTIMATE!P709","v":0},null,{"$f":"T(ESTIMATE!S709)","v":""}]
[null,null,{"$f":"T(ESTIMATE!B710)","v":""},{"$f":"T(#REF!)","v":{"$error":"#REF!"}},{"$f":"T(#REF!)","v":{"$error":"#REF!"}},{"$f":"T(#REF!)","v":{"$error":"#REF!"}},{"$f":"T(#REF!)","v":{"$error":"#REF!"}},null,null,{"$f":"T(#REF!)","v":{"$error":"#REF!"}},{"$f":"T(#REF!)","v":{"$error":"#REF!"}},{"$f":"T(#REF!)","v":{"$error":"#REF!"}},{"$f":"T(#REF!)","v":{"$error":"#REF!"}},{"$f":"ESTIMATE!P710","v":0},null,{"$f":"T(ESTIMATE!S710)","v":""}]
[null,null,{"$f":"T(ESTIMATE!B711)","v":""},{"$f":"T(#REF!)","v":{"$error":"#REF!"}},{"$f":"T(#REF!)","v":{"$error":"#REF!"}},{"$f":"T(#REF!)","v":{"$error":"#REF!"}},{"$f":"T(#REF!)","v":{"$error":"#REF!"}},null,null,{"$f":"T(#REF!)","v":{"$error":"#REF!"}},{"$f":"T(#REF!)","v":{"$error":"#REF!"}},{"$f":"T(#REF!)","v":{"$error":"#REF!"}},{"$f":"T(#REF!)","v":{"$error":"#REF!"}},{"$f":"ESTIMATE!P711","v":0},null,{"$f":"T(ESTIMATE!S711)","v":""}]
[null,null,{"$f":"T(ESTIMATE!B712)","v":""},{"$f":"T(#REF!)","v":{"$error":"#REF!"}},{"$f":"T(#REF!)","v":{"$error":"#REF!"}},{"$f":"T(#REF!)","v":{"$error":"#REF!"}},{"$f":"T(#REF!)","v":{"$error":"#REF!"}},null,null,{"$f":"T(#REF!)","v":{"$error":"#REF!"}},{"$f":"T(#REF!)","v":{"$error":"#REF!"}},{"$f":"T(#REF!)","v":{"$error":"#REF!"}},{"$f":"T(#REF!)","v":{"$error":"#REF!"}},{"$f":"ESTIMATE!P712","v":0},null,{"$f":"T(ESTIMATE!S712)","v":""}]
[null,null,{"$f":"T(ESTIMATE!B713)","v":""},{"$f":"T(#REF!)","v":{"$error":"#REF!"}},{"$f":"T(#REF!)","v":{"$error":"#REF!"}},{"$f":"T(#REF!)","v":{"$error":"#REF!"}},{"$f":"T(#REF!)","v":{"$error":"#REF!"}},null,null,{"$f":"T(#REF!)","v":{"$error":"#REF!"}},{"$f":"T(#REF!)","v":{"$error":"#REF!"}},{"$f":"T(#REF!)","v":{"$error":"#REF!"}},{"$f":"T(#REF!)","v":{"$error":"#REF!"}},{"$f":"ESTIMATE!P713","v":0},null,{"$f":"T(ESTIMATE!S713)","v":""}]
[null,null,{"$f":"T(ESTIMATE!B714)","v":""},{"$f":"T(#REF!)","v":{"$error":"#REF!"}},{"$f":"T(#REF!)","v":{"$error":"#REF!"}},{"$f":"T(#REF!)","v":{"$error":"#REF!"}},{"$f":"T(#REF!)","v":{"$error":"#REF!"}},null,null,{"$f":"T(#REF!)","v":{"$error":"#REF!"}},{"$f":"T(#REF!)","v":{"$error":"#REF!"}},{"$f":"T(#REF!)","v":{"$error":"#REF!"}},{"$f":"T(#REF!)","v":{"$error":"#REF!"}},{"$f":"ESTIMATE!P714","v":0},null,{"$f":"T(ESTIMATE!S714)","v":""}]
[null,null,{"$f":"T(ESTIMATE!B715)","v":""},{"$f":"T(#REF!)","v":{"$error":"#REF!"}},{"$f":"T(#REF!)","v":{"$error":"#REF!"}},{"$f":"T(#REF!)","v":{"$error":"#REF!"}},{"$f":"T(#REF!)","v":{"$error":"#REF!"}},null,null,{"$f":"T(#REF!)","v":{"$error":"#REF!"}},{"$f":"T(#REF!)","v":{"$error":"#REF!"}},{"$f":"T(#REF!)","v":{"$error":"#REF!"}},{"$f":"T(#REF!)","v":{"$error":"#REF!"}},{"$f":"ESTIMATE!P715","v":0},null,{"$f":"T(ESTIMATE!S715)","v":""}]
[null,null,{"$f":"T(ESTIMATE!B716)","v":""},{"$f":"T(#REF!)","v":{"$error":"#REF!"}},{"$f":"T(#REF!)","v":{"$error":"#REF!"}},{"$f":"T(#REF!)","v":{"$error":"#REF!"}},{"$f":"T(#REF!)","v":{"$error":"#REF!"}},null,null,{"$f":"T(#REF!)","v":{"$error":"#REF!"}},{"$f":"T(#REF!)","v":{"$error":"#REF!"}},{"$f":"T(#REF!)","v":{"$error":"#REF!"}},{"$f":"T(#REF!)","v":{"$error":"#REF!"}},{"$f":"ESTIMATE!P716","v":0},null,{"$f":"T(ESTIMATE!S716)","v":""}]
[null,null,{"$f":"T(ESTIMATE!B717)","v":""},{"$f":"T(#REF!)","v":{"$error":"#REF!"}},{"$f":"T(#REF!)","v":{"$error":"#REF!"}},{"$f":"T(#REF!)","v":{"$error":"#REF!"}},{"$f":"T(#REF!)","v":{"$error":"#REF!"}},null,null,{"$f":"T(#REF!)","v":{"$error":"#REF!"}},{"$f":"T(#REF!)","v":{"$error":"#REF!"}},{"$f":"T(#REF!)","v":{"$error":"#REF!"}},{"$f":"T(#REF!)","v":{"$error":"#REF!"}},{"$f":"ESTIMATE!P717","v":0},null,{"$f":"T(ESTIMATE!S717)","v":""}]
[null,null,{"$f":"T(ESTIMATE!B718)","v":""},{"$f":"T(#REF!)","v":{"$error":"#REF!"}},{"$f":"T(#REF!)","v":{"$error":"#REF!"}},{"$f":"T(#REF!)","v":{"$error":"#REF!"}},{"$f":"T(#REF!)","v":{"$error":"#REF!"}},null,null,{"$f":"T(#REF!)","v":{"$error":"#REF!"}},{"$f":"T(#REF!)","v":{"$error":"#REF!"}},{"$f":"T(#REF!)","v":{"$error":"#REF!"}},{"$f":"T(#REF!)","v":{"$error":"#REF!"}},{"$f":"ESTIMATE!P718","v":0},null,{"$f":"T(ESTIMATE!S718)","v":""}]
[null,null,{"$f":"T(ESTIMATE!B719)","v":""},{"$f":"T(#REF!)","v":{"$error":"#REF!"}},{"$f":"T(#REF!)","v":{"$error":"#REF!"}},{"$f":"T(#REF!)","v":{"$error":"#REF!"}},{"$f":"T(#REF!)","v":{"$error":"#REF!"}},null,null,{"$f":"T(#REF!)","v":{"$error":"#REF!"}},{"$f":"T(#REF!)","v":{"$error":"#REF!"}},{"$f":"T(#REF!)","v":{"$error":"#REF!"}},{"$f":"T(#REF!)","v":{"$error":"#REF!"}},{"$f":"ESTIMATE!P719","v":0},null,{"$f":"T(ESTIMATE!S719)","v":""}]
[null,null,{"$f":"T(ESTIMATE!B720)","v":""},{"$f":"T(#REF!)","v":{"$error":"#REF!"}},{"$f":"T(#REF!)","v":{"$error":"#REF!"}},{"$f":"T(#REF!)","v":{"$error":"#REF!"}},{"$f":"T(#REF!)","v":{"$error":"#REF!"}},null,null,{"$f":"T(#REF!)","v":{"$error":"#REF!"}},{"$f":"T(#REF!)","v":{"$error":"#REF!"}},{"$f":"T(#REF!)","v":{"$error":"#REF!"}},{"$f":"T(#REF!)","v":{"$error":"#REF!"}},{"$f":"ESTIMATE!P720","v":0},null,{"$f":"T(ESTIMATE!S720)","v":""}]
[null,null,{"$f":"T(ESTIMATE!B721)","v":""},{"$f":"T(#REF!)","v":{"$error":"#REF!"}},{"$f":"T(#REF!)","v":{"$error":"#REF!"}},{"$f":"T(#REF!)","v":{"$error":"#REF!"}},{"$f":"T(#REF!)","v":{"$error":"#REF!"}},null,null,{"$f":"T(#REF!)","v":{"$error":"#REF!"}},{"$f":"T(#REF!)","v":{"$error":"#REF!"}},{"$f":"T(#REF!)","v":{"$error":"#REF!"}},{"$f":"T(#REF!)","v":{"$error":"#REF!"}},{"$f":"ESTIMATE!P721","v":0},null,{"$f":"T(ESTIMATE!S721)","v":""}]
[null,null,{"$f":"T(ESTIMATE!B722)","v":""},{"$f":"T(#REF!)","v":{"$error":"#REF!"}},{"$f":"T(#REF!)","v":{"$error":"#REF!"}},{"$f":"T(#REF!)","v":{"$error":"#REF!"}},{"$f":"T(#REF!)","v":{"$error":"#REF!"}},null,null,{"$f":"T(#REF!)","v":{"$error":"#REF!"}},{"$f":"T(#REF!)","v":{"$error":"#REF!"}},{"$f":"T(#REF!)","v":{"$error":"#REF!"}},{"$f":"T(#REF!)","v":{"$error":"#REF!"}},{"$f":"ESTIMATE!P722","v":0},null,{"$f":"T(ESTIMATE!S722)","v":""}]
[null,null,{"$f":"T(ESTIMATE!B723)","v":""},{"$f":"T(#REF!)","v":{"$error":"#REF!"}},{"$f":"T(#REF!)","v":{"$error":"#REF!"}},{"$f":"T(#REF!)","v":{"$error":"#REF!"}},{"$f":"T(#REF!)","v":{"$error":"#REF!"}},null,null,{"$f":"T(#REF!)","v":{"$error":"#REF!"}},{"$f":"T(#REF!)","v":{"$error":"#REF!"}},{"$f":"T(#REF!)","v":{"$error":"#REF!"}},{"$f":"T(#REF!)","v":{"$error":"#REF!"}},{"$f":"ESTIMATE!P723","v":0},null,{"$f":"T(ESTIMATE!S723)","v":""}]
[null,null,{"$f":"T(ESTIMATE!B724)","v":""},{"$f":"T(#REF!)","v":{"$error":"#REF!"}},{"$f":"T(#REF!)","v":{"$error":"#REF!"}},{"$f":"T(#REF!)","v":{"$error":"#REF!"}},{"$f":"T(#REF!)","v":{"$error":"#REF!"}},null,null,{"$f":"T(#REF!)","v":{"$error":"#REF!"}},{"$f":"T(#REF!)","v":{"$error":"#REF!"}},{"$f":"T(#REF!)","v":{"$error":"#REF!"}},{"$f":"T(#REF!)","v":{"$error":"#REF!"}},{"$f":"ESTIMATE!P724","v":0},null,{"$f":"T(ESTIMATE!S724)","v":""}]
[null,null,{"$f":"T(ESTIMATE!B725)","v":""},{"$f":"T(#REF!)","v":{"$error":"#REF!"}},{"$f":"T(#REF!)","v":{"$error":"#REF!"}},{"$f":"T(#REF!)","v":{"$error":"#REF!"}},{"$f":"T(#REF!)","v":{"$error":"#REF!"}},null,null,{"$f":"T(#REF!)","v":{"$error":"#REF!"}},{"$f":"T(#REF!)","v":{"$error":"#REF!"}},{"$f":"T(#REF!)","v":{"$error":"#REF!"}},{"$f":"T(#REF!)","v":{"$error":"#REF!"}},{"$f":"ESTIMATE!P725","v":0},null,{"$f":"T(ESTIMATE!S725)","v":""}]
[null,null,{"$f":"T(ESTIMATE!B726)","v":""},{"$f":"T(#REF!)","v":{"$error":"#REF!"}},{"$f":"T(#REF!)","v":{"$error":"#REF!"}},{"$f":"T(#REF!)","v":{"$error":"#REF!"}},{"$f":"T(#REF!)","v":{"$error":"#REF!"}},null,null,{"$f":"T(#REF!)","v":{"$error":"#REF!"}},{"$f":"T(#REF!)","v":{"$error":"#REF!"}},{"$f":"T(#REF!)","v":{"$error":"#REF!"}},{"$f":"T(#REF!)","v":{"$error":"#REF!"}},{"$f":"ESTIMATE!P726","v":0},null,{"$f":"T(ESTIMATE!S726)","v":""}]
[null,null,{"$f":"T(ESTIMATE!B727)","v":""},{"$f":"T(#REF!)","v":{"$error":"#REF!"}},{"$f":"T(#REF!)","v":{"$error":"#REF!"}},{"$f":"T(#REF!)","v":{"$error":"#REF!"}},{"$f":"T(#REF!)","v":{"$error":"#REF!"}},null,null,{"$f":"T(#REF!)","v":{"$error":"#REF!"}},{"$f":"T(#REF!)","v":{"$error":"#REF!"}},{"$f":"T(#REF!)","v":{"$error":"#REF!"}},{"$f":"T(#REF!)","v":{"$error":"#REF!"}},{"$f":"ESTIMATE!P727","v":0},null,{"$f":"T(ESTIMATE!S727)","v":""}]
[null,null,{"$f":"T(ESTIMATE!B728)","v":""},{"$f":"T(#REF!)","v":{"$error":"#REF!"}},{"$f":"T(#REF!)","v":{"$error":"#REF!"}},{"$f":"T(#REF!)","v":{"$error":"#REF!"}},{"$f":"T(#REF!)","v":{"$error":"#REF!"}},null,null,{"$f":"T(#REF!)","v":{"$error":"#REF!"}},{"$f":"T(#REF!)","v":{"$error":"#REF!"}},{"$f":"T(#REF!)","v":{"$error":"#REF!"}},{"$f":"T(#REF!)","v":{"$error":"#REF!"}},{"$f":"ESTIMATE!P728","v":0},null,{"$f":"T(ESTIMATE!S728)","v":""}]
[null,null,{"$f":"T(ESTIMATE!B729)","v":""},{"$f":"T(#REF!)","v":{"$error":"#REF!"}},{"$f":"T(#REF!)","v":{"$error":"#REF!"}},{"$f":"T(#REF!)","v":{"$error":"#REF!"}},{"$f":"T(#REF!)","v":{"$error":"#REF!"}},null,null,{"$f":"T(#REF!)","v":{"$error":"#REF!"}},{"$f":"T(#REF!)","v":{"$error":"#REF!"}},{"$f":"T(#REF!)","v":{"$error":"#REF!"}},{"$f":"T(#REF!)","v":{"$error":"#REF!"}},{"$f":"ESTIMATE!P729","v":0},null,{"$f":"T(ESTIMATE!S729)","v":""}]
[null,null,{"$f":"T(ESTIMATE!B730)","v":""},{"$f":"T(#REF!)","v":{"$error":"#REF!"}},{"$f":"T(#REF!)","v":{"$error":"#REF!"}},{"$f":"T(#REF!)","v":{"$error":"#REF!"}},{"$f":"T(#REF!)","v":{"$error":"#REF!"}},null,null,{"$f":"T(#REF!)","v":{"$error":"#REF!"}},{"$f":"T(#REF!)","v":{"$error":"#REF!"}},{"$f":"T(#REF!)","v":{"$error":"#REF!"}},{"$f":"T(#REF!)","v":{"$error":"#REF!"}},{"$f":"ESTIMATE!P730","v":0},null,{"$f":"T(ESTIMATE!S730)","v":""}]
[null,null,{"$f":"T(ESTIMATE!B731)","v":""},{"$f":"T(#REF!)","v":{"$error":"#REF!"}},{"$f":"T(#REF!)","v":{"$error":"#REF!"}},{"$f":"T(#REF!)","v":{"$error":"#REF!"}},{"$f":"T(#REF!)","v":{"$error":"#REF!"}},null,null,{"$f":"T(#REF!)","v":{"$error":"#REF!"}},{"$f":"T(#REF!)","v":{"$error":"#REF!"}},{"$f":"T(#REF!)","v":{"$error":"#REF!"}},{"$f":"T(#REF!)","v":{"$error":"#REF!"}},{"$f":"ESTIMATE!P731","v":0},null,{"$f":"T(ESTIMATE!S731)","v":""}]
[null,null,{"$f":"T(ESTIMATE!B736)","v":"ELECTRICAL"},{"$f":"T(#REF!)","v":{"$error":"#REF!"}},{"$f":"T(#REF!)","v":{"$error":"#REF!"}},{"$f":"T(#REF!)","v":{"$error":"#REF!"}},{"$f":"T(#REF!)","v":{"$error":"#REF!"}},null,null,{"$f":"T(#REF!)","v":{"$error":"#REF!"}},{"$f":"T(#REF!)","v":{"$error":"#REF!"}},{"$f":"T(#REF!)","v":{"$error":"#REF!"}},{"$f":"T(#REF!)","v":{"$error":"#REF!"}},{"$f":"SUM(N695:O734)","v":0}]
[null,null,{"$f":"T(ESTIMATE!B737)","v":"Electrical, bid/allowance"},{"$f":"T(#REF!)","v":{"$error":"#REF!"}},{"$f":"T(#REF!)","v":{"$error":"#REF!"}},{"$f":"T(#REF!)","v":{"$error":"#REF!"}},{"$f":"T(#REF!)","v":{"$error":"#REF!"}},null,null,{"$f":"T(#REF!)","v":{"$error":"#REF!"}},{"$f":"T(#REF!)","v":{"$error":"#REF!"}},{"$f":"T(#REF!)","v":{"$error":"#REF!"}},{"$f":"T(#REF!)","v":{"$error":"#REF!"}},{"$f":"ESTIMATE!P737","v":0},null,{"$f":"T(ESTIMATE!S737)","v":"ls"}]
[null,null,{"$f":"T(ESTIMATE!B738)","v":""},{"$f":"T(#REF!)","v":{"$error":"#REF!"}},{"$f":"T(#REF!)","v":{"$error":"#REF!"}},{"$f":"T(#REF!)","v":{"$error":"#REF!"}},{"$f":"T(#REF!)","v":{"$error":"#REF!"}},null,null,{"$f":"T(#REF!)","v":{"$error":"#REF!"}},{"$f":"T(#REF!)","v":{"$error":"#REF!"}},{"$f":"T(#REF!)","v":{"$error":"#REF!"}},{"$f":"T(#REF!)","v":{"$error":"#REF!"}},{"$f":"ESTIMATE!P738","v":0},null,{"$f":"T(ESTIMATE!S738)","v":""}]
[null,null,{"$f":"T(ESTIMATE!B739)","v":"Electrical Work, Per Hour"},{"$f":"T(#REF!)","v":{"$error":"#REF!"}},{"$f":"T(#REF!)","v":{"$error":"#REF!"}},{"$f":"T(#REF!)","v":{"$error":"#REF!"}},{"$f":"T(#REF!)","v":{"$error":"#REF!"}},null,null,{"$f":"T(#REF!)","v":{"$error":"#REF!"}},{"$f":"T(#REF!)","v":{"$error":"#REF!"}},{"$f":"T(#REF!)","v":{"$error":"#REF!"}},{"$f":"T(#REF!)","v":{"$error":"#REF!"}},{"$f":"ESTIMATE!P739","v":0},null,{"$f":"T(ESTIMATE!S739)","v":""}]
[null,null,{"$f":"T(ESTIMATE!B740)","v":"Electrical rough-in, per hour"},{"$f":"T(#REF!)","v":{"$error":"#REF!"}},{"$f":"T(#REF!)","v":{"$error":"#REF!"}},{"$f":"T(#REF!)","v":{"$error":"#REF!"}},{"$f":"T(#REF!)","v":{"$error":"#REF!"}},null,null,{"$f":"T(#REF!)","v":{"$error":"#REF!"}},{"$f":"T(#REF!)","v":{"$error":"#REF!"}},{"$f":"T(#REF!)","v":{"$error":"#REF!"}},{"$f":"T(#REF!)","v":{"$error":"#REF!"}},{"$f":"ESTIMATE!P740","v":0},null,{"$f":"T(ESTIMATE!S740)","v":"hrs"}]
[null,null,{"$f":"T(ESTIMATE!B741)","v":"Electrical finish work, per hour"},{"$f":"T(#REF!)","v":{"$error":"#REF!"}},{"$f":"T(#REF!)","v":{"$error":"#REF!"}},{"$f":"T(#REF!)","v":{"$error":"#REF!"}},{"$f":"T(#REF!)","v":{"$error":"#REF!"}},null,null,{"$f":"T(#REF!)","v":{"$error":"#REF!"}},{"$f":"T(#REF!)","v":{"$error":"#REF!"}},{"$f":"T(#REF!)","v":{"$error":"#REF!"}},{"$f":"T(#REF!)","v":{"$error":"#REF!"}},{"$f":"ESTIMATE!P741","v":0},null,{"$f":"T(ESTIMATE!S741)","v":"hrs"}]
[null,null,{"$f":"T(ESTIMATE!B742)","v":""},{"$f":"T(#REF!)","v":{"$error":"#REF!"}},{"$f":"T(#REF!)","v":{"$error":"#REF!"}},{"$f":"T(#REF!)","v":{"$error":"#REF!"}},{"$f":"T(#REF!)","v":{"$error":"#REF!"}},null,null,{"$f":"T(#REF!)","v":{"$error":"#REF!"}},{"$f":"T(#REF!)","v":{"$error":"#REF!"}},{"$f":"T(#REF!)","v":{"$error":"#REF!"}},{"$f":"T(#REF!)","v":{"$error":"#REF!"}},{"$f":"ESTIMATE!P742","v":0},null,{"$f":"T(ESTIMATE!S742)","v":""}]
[null,null,{"$f":"T(ESTIMATE!B743)","v":"Electrical Work, per SF"},{"$f":"T(#REF!)","v":{"$error":"#REF!"}},{"$f":"T(#REF!)","v":{"$error":"#REF!"}},{"$f":"T(#REF!)","v":{"$error":"#REF!"}},{"$f":"T(#REF!)","v":{"$error":"#REF!"}},null,null,{"$f":"T(#REF!)","v":{"$error":"#REF!"}},{"$f":"T(#REF!)","v":{"$error":"#REF!"}},{"$f":"T(#REF!)","v":{"$error":"#REF!"}},{"$f":"T(#REF!)","v":{"$error":"#REF!"}},{"$f":"ESTIMATE!P743","v":0},null,{"$f":"T(ESTIMATE!S743)","v":""}]
[null,null,{"$f":"T(ESTIMATE!B744)","v":"Rewire entire house (new panel, circuits, outlets, lighting)"},{"$f":"T(#REF!)","v":{"$error":"#REF!"}},{"$f":"T(#REF!)","v":{"$error":"#REF!"}},{"$f":"T(#REF!)","v":{"$error":"#REF!"}},{"$f":"T(#REF!)","v":{"$error":"#REF!"}},null,null,{"$f":"T(#REF!)","v":{"$error":"#REF!"}},{"$f":"T(#REF!)","v":{"$error":"#REF!"}},{"$f":"T(#REF!)","v":{"$error":"#REF!"}},{"$f":"T(#REF!)","v":{"$error":"#REF!"}},{"$f":"ESTIMATE!P744","v":0},null,{"$f":"T(ESTIMATE!S744)","v":"sf"}]
[null,null,{"$f":"T(ESTIMATE!B745)","v":"Electrical, finish work only, etc (fixtures, cover plates, etc)"},{"$f":"T(#REF!)","v":{"$error":"#REF!"}},{"$f":"T(#REF!)","v":{"$error":"#REF!"}},{"$f":"T(#REF!)","v":{"$error":"#REF!"}},{"$f":"T(#REF!)","v":{"$error":"#REF!"}},null,null,{"$f":"T(#REF!)","v":{"$error":"#REF!"}},{"$f":"T(#REF!)","v":{"$error":"#REF!"}},{"$f":"T(#REF!)","v":{"$error":"#REF!"}},{"$f":"T(#REF!)","v":{"$error":"#REF!"}},{"$f":"ESTIMATE!P745","v":0},null,{"$f":"T(ESTIMATE!S745)","v":"sf"}]
[null,null,{"$f":"T(ESTIMATE!B746)","v":""},{"$f":"T(#REF!)","v":{"$error":"#REF!"}},{"$f":"T(#REF!)","v":{"$error":"#REF!"}},{"$f":"T(#REF!)","v":{"$error":"#REF!"}},{"$f":"T(#REF!)","v":{"$error":"#REF!"}},null,null,{"$f":"T(#REF!)","v":{"$error":"#REF!"}},{"$f":"T(#REF!)","v":{"$error":"#REF!"}},{"$f":"T(#REF!)","v":{"$error":"#REF!"}},{"$f":"T(#REF!)","v":{"$error":"#REF!"}},{"$f":"ESTIMATE!P746","v":0},null,{"$f":"T(ESTIMATE!S746)","v":""}]
[null,null,{"$f":"T(ESTIMATE!B747)","v":"Electrical work, Detailed"},{"$f":"T(#REF!)","v":{"$error":"#REF!"}},{"$f":"T(#REF!)","v":{"$error":"#REF!"}},{"$f":"T(#REF!)","v":{"$error":"#REF!"}},{"$f":"T(#REF!)","v":{"$error":"#REF!"}},null,null,{"$f":"T(#REF!)","v":{"$error":"#REF!"}},{"$f":"T(#REF!)","v":{"$error":"#REF!"}},{"$f":"T(#REF!)","v":{"$error":"#REF!"}},{"$f":"T(#REF!)","v":{"$error":"#REF!"}},{"$f":"ESTIMATE!P747","v":0},null,{"$f":"T(ESTIMATE!S747)","v":""}]
[null,null,{"$f":"T(ESTIMATE!B748)","v":"Miscellaneous"},{"$f":"T(#REF!)","v":{"$error":"#REF!"}},{"$f":"T(#REF!)","v":{"$error":"#REF!"}},{"$f":"T(#REF!)","v":{"$error":"#REF!"}},{"$f":"T(#REF!)","v":{"$error":"#REF!"}},null,null,{"$f":"T(#REF!)","v":{"$error":"#REF!"}},{"$f":"T(#REF!)","v":{"$error":"#REF!"}},{"$f":"T(#REF!)","v":{"$error":"#REF!"}},{"$f":"T(#REF!)","v":{"$error":"#REF!"}},{"$f":"ESTIMATE!P748","v":0},null,{"$f":"T(ESTIMATE!S748)","v":""}]
[null,null,{"$f":"T(ESTIMATE!B749)","v":"Replace electrical panel, 100 AMP"},{"$f":"T(#REF!)","v":{"$error":"#REF!"}},{"$f":"T(#REF!)","v":{"$error":"#REF!"}},{"$f":"T(#REF!)","v":{"$error":"#REF!"}},{"$f":"T(#REF!)","v":{"$error":"#REF!"}},null,null,{"$f":"T(#REF!)","v":{"$error":"#REF!"}},{"$f":"T(#REF!)","v":{"$error":"#REF!"}},{"$f":"T(#REF!)","v":{"$error":"#REF!"}},{"$f":"T(#REF!)","v":{"$error":"#REF!"}},{"$f":"ESTIMATE!P749","v":0},null,{"$f":"T(ESTIMATE!S749)","v":"ea"}]
[null,null,{"$f":"T(ESTIMATE!B750)","v":"Replace electrical panel, 200 AMP"},{"$f":"T(#REF!)","v":{"$error":"#REF!"}},{"$f":"T(#REF!)","v":{"$error":"#REF!"}},{"$f":"T(#REF!)","v":{"$error":"#REF!"}},{"$f":"T(#REF!)","v":{"$error":"#REF!"}},null,null,{"$f":"T(#REF!)","v":{"$error":"#REF!"}},{"$f":"T(#REF!)","v":{"$error":"#REF!"}},{"$f":"T(#REF!)","v":{"$error":"#REF!"}},{"$f":"T(#REF!)","v":{"$error":"#REF!"}},{"$f":"ESTIMATE!P750","v":0},null,{"$f":"T(ESTIMATE!S750)","v":"ea"}]
[null,null,{"$f":"T(ESTIMATE!B751)","v":"Replace outlets, light switches"},{"$f":"T(#REF!)","v":{"$error":"#REF!"}},{"$f":"T(#REF!)","v":{"$error":"#REF!"}},{"$f":"T(#REF!)","v":{"$error":"#REF!"}},{"$f":"T(#REF!)","v":{"$error":"#REF!"}},null,null,{"$f":"T(#REF!)","v":{"$error":"#REF!"}},{"$f":"T(#REF!)","v":{"$error":"#REF!"}},{"$f":"T(#REF!)","v":{"$error":"#REF!"}},{"$f":"T(#REF!)","v":{"$error":"#REF!"}},{"$f":"ESTIMATE!P751","v":0},null,{"$f":"T(ESTIMATE!S751)","v":"ea"}]
[null,null,{"$f":"T(ESTIMATE!B752)","v":"Replace GFI outlets/ground back to panel"},{"$f":"T(#REF!)","v":{"$error":"#REF!"}},{"$f":"T(#REF!)","v":{"$error":"#REF!"}},{"$f":"T(#REF!)","v":{"$error":"#REF!"}},{"$f":"T(#REF!)","v":{"$error":"#REF!"}},null,null,{"$f":"T(#REF!)","v":{"$error":"#REF!"}},{"$f":"T(#REF!)","v":{"$error":"#REF!"}},{"$f":"T(#REF!)","v":{"$error":"#REF!"}},{"$f":"T(#REF!)","v":{"$error":"#REF!"}},{"$f":"ESTIMATE!P752","v":0},null,{"$f":"T(ESTIMATE!S752)","v":"ea"}]
[null,null,{"$f":"T(ESTIMATE!B753)","v":"Exhaust Fan"},{"$f":"T(#REF!)","v":{"$error":"#REF!"}},{"$f":"T(#REF!)","v":{"$error":"#REF!"}},{"$f":"T(#REF!)","v":{"$error":"#REF!"}},{"$f":"T(#REF!)","v":{"$error":"#REF!"}},null,null,{"$f":"T(#REF!)","v":{"$error":"#REF!"}},{"$f":"T(#REF!)","v":{"$error":"#REF!"}},{"$f":"T(#REF!)","v":{"$error":"#REF!"}},{"$f":"T(#REF!)","v":{"$error":"#REF!"}},{"$f":"ESTIMATE!P753","v":0},null,{"$f":"T(ESTIMATE!S753)","v":"ea"}]
[null,null,{"$f":"T(ESTIMATE!B754)","v":"Smoke detectors"},{"$f":"T(#REF!)","v":{"$error":"#REF!"}},{"$f":"T(#REF!)","v":{"$error":"#REF!"}},{"$f":"T(#REF!)","v":{"$error":"#REF!"}},{"$f":"T(#REF!)","v":{"$error":"#REF!"}},null,null,{"$f":"T(#REF!)","v":{"$error":"#REF!"}},{"$f":"T(#REF!)","v":{"$error":"#REF!"}},{"$f":"T(#REF!)","v":{"$error":"#REF!"}},{"$f":"T(#REF!)","v":{"$error":"#REF!"}},{"$f":"ESTIMATE!P754","v":0},null,{"$f":"T(ESTIMATE!S754)","v":"ea"}]
[null,null,{"$f":"T(ESTIMATE!B755)","v":"Carbon monoxide detector"},{"$f":"T(#REF!)","v":{"$error":"#REF!"}},{"$f":"T(#REF!)","v":{"$error":"#REF!"}},{"$f":"T(#REF!)","v":{"$error":"#REF!"}},{"$f":"T(#REF!)","v":{"$error":"#REF!"}},null,null,{"$f":"T(#REF!)","v":{"$error":"#REF!"}},{"$f":"T(#REF!)","v":{"$error":"#REF!"}},{"$f":"T(#REF!)","v":{"$error":"#REF!"}},{"$f":"T(#REF!)","v":{"$error":"#REF!"}},{"$f":"ESTIMATE!P755","v":0},null,{"$f":"T(ESTIMATE!S755)","v":"ea"}]
[null,null,{"$f":"T(ESTIMATE!B756)","v":"Lighting"},{"$f":"T(#REF!)","v":{"$error":"#REF!"}},{"$f":"T(#REF!)","v":{"$error":"#REF!"}},{"$f":"T(#REF!)","v":{"$error":"#REF!"}},{"$f":"T(#REF!)","v":{"$error":"#REF!"}},null,null,{"$f":"T(#REF!)","v":{"$error":"#REF!"}},{"$f":"T(#REF!)","v":{"$error":"#REF!"}},{"$f":"T(#REF!)","v":{"$error":"#REF!"}},{"$f":"T(#REF!)","v":{"$error":"#REF!"}},{"$f":"ESTIMATE!P756","v":0},null,{"$f":"T(ESTIMATE!S756)","v":""}]
[null,null,{"$f":"T(ESTIMATE!B757)","v":"Track/Pendent light"},{"$f":"T(#REF!)","v":{"$error":"#REF!"}},{"$f":"T(#REF!)","v":{"$error":"#REF!"}},{"$f":"T(#REF!)","v":{"$error":"#REF!"}},{"$f":"T(#REF!)","v":{"$error":"#REF!"}},null,null,{"$f":"T(#REF!)","v":{"$error":"#REF!"}},{"$f":"T(#REF!)","v":{"$error":"#REF!"}},{"$f":"T(#REF!)","v":{"$error":"#REF!"}},{"$f":"T(#REF!)","v":{"$error":"#REF!"}},{"$f":"ESTIMATE!P757","v":0},null,{"$f":"T(ESTIMATE!S757)","v":"ea"}]
[null,null,{"$f":"T(ESTIMATE!B758)","v":"Chandelier light fixture"},{"$f":"T(#REF!)","v":{"$error":"#REF!"}},{"$f":"T(#REF!)","v":{"$error":"#REF!"}},{"$f":"T(#REF!)","v":{"$error":"#REF!"}},{"$f":"T(#REF!)","v":{"$error":"#REF!"}},null,null,{"$f":"T(#REF!)","v":{"$error":"#REF!"}},{"$f":"T(#REF!)","v":{"$error":"#REF!"}},{"$f":"T(#REF!)","v":{"$error":"#REF!"}},{"$f":"T(#REF!)","v":{"$error":"#REF!"}},{"$f":"ESTIMATE!P758","v":0},null,{"$f":"T(ESTIMATE!S758)","v":"ea"}]
[null,null,{"$f":"T(ESTIMATE!B759)","v":"Ceiling dome light"},{"$f":"T(#REF!)","v":{"$error":"#REF!"}},{"$f":"T(#REF!)","v":{"$error":"#REF!"}},{"$f":"T(#REF!)","v":{"$error":"#REF!"}},{"$f":"T(#REF!)","v":{"$error":"#REF!"}},null,null,{"$f":"T(#REF!)","v":{"$error":"#REF!"}},{"$f":"T(#REF!)","v":{"$error":"#REF!"}},{"$f":"T(#REF!)","v":{"$error":"#REF!"}},{"$f":"T(#REF!)","v":{"$error":"#REF!"}},{"$f":"ESTIMATE!P759","v":0},null,{"$f":"T(ESTIMATE!S759)","v":"ea"}]
[null,null,{"$f":"T(ESTIMATE!B760)","v":"Ceiling fan fixture"},{"$f":"T(#REF!)","v":{"$error":"#REF!"}},{"$f":"T(#REF!)","v":{"$error":"#REF!"}},{"$f":"T(#REF!)","v":{"$error":"#REF!"}},{"$f":"T(#REF!)","v":{"$error":"#REF!"}},null,null,{"$f":"T(#REF!)","v":{"$error":"#REF!"}},{"$f":"T(#REF!)","v":{"$error":"#REF!"}},{"$f":"T(#REF!)","v":{"$error":"#REF!"}},{"$f":"T(#REF!)","v":{"$error":"#REF!"}},{"$f":"ESTIMATE!P760","v":0},null,{"$f":"T(ESTIMATE!S760)","v":"ea"}]
[null,null,{"$f":"T(ESTIMATE!B761)","v":"Can lighting"},{"$f":"T(#REF!)","v":{"$error":"#REF!"}},{"$f":"T(#REF!)","v":{"$error":"#REF!"}},{"$f":"T(#REF!)","v":{"$error":"#REF!"}},{"$f":"T(#REF!)","v":{"$error":"#REF!"}},null,null,{"$f":"T(#REF!)","v":{"$error":"#REF!"}},{"$f":"T(#REF!)","v":{"$error":"#REF!"}},{"$f":"T(#REF!)","v":{"$error":"#REF!"}},{"$f":"T(#REF!)","v":{"$error":"#REF!"}},{"$f":"ESTIMATE!P761","v":0},null,{"$f":"T(ESTIMATE!S761)","v":"ea"}]
[null,null,{"$f":"T(ESTIMATE!B762)","v":"Exterior light fixture"},{"$f":"T(#REF!)","v":{"$error":"#REF!"}},{"$f":"T(#REF!)","v":{"$error":"#REF!"}},{"$f":"T(#REF!)","v":{"$error":"#REF!"}},{"$f":"T(#REF!)","v":{"$error":"#REF!"}},null,null,{"$f":"T(#REF!)","v":{"$error":"#REF!"}},{"$f":"T(#REF!)","v":{"$error":"#REF!"}},{"$f":"T(#REF!)","v":{"$error":"#REF!"}},{"$f":"T(#REF!)","v":{"$error":"#REF!"}},{"$f":"ESTIMATE!P762","v":0},null,{"$f":"T(ESTIMATE!S762)","v":"ea"}]
[null,null,{"$f":"T(ESTIMATE!B763)","v":""},{"$f":"T(#REF!)","v":{"$error":"#REF!"}},{"$f":"T(#REF!)","v":{"$error":"#REF!"}},{"$f":"T(#REF!)","v":{"$error":"#REF!"}},{"$f":"T(#REF!)","v":{"$error":"#REF!"}},null,null,{"$f":"T(#REF!)","v":{"$error":"#REF!"}},{"$f":"T(#REF!)","v":{"$error":"#REF!"}},{"$f":"T(#REF!)","v":{"$error":"#REF!"}},{"$f":"T(#REF!)","v":{"$error":"#REF!"}},{"$f":"ESTIMATE!P763","v":0},null,{"$f":"T(ESTIMATE!S763)","v":""}]
[null,null,{"$f":"T(ESTIMATE!B764)","v":""},{"$f":"T(#REF!)","v":{"$error":"#REF!"}},{"$f":"T(#REF!)","v":{"$error":"#REF!"}},{"$f":"T(#REF!)","v":{"$error":"#REF!"}},{"$f":"T(#REF!)","v":{"$error":"#REF!"}},null,null,{"$f":"T(#REF!)","v":{"$error":"#REF!"}},{"$f":"T(#REF!)","v":{"$error":"#REF!"}},{"$f":"T(#REF!)","v":{"$error":"#REF!"}},{"$f":"T(#REF!)","v":{"$error":"#REF!"}},{"$f":"ESTIMATE!P764","v":0},null,{"$f":"T(ESTIMATE!S764)","v":""}]
[null,null,{"$f":"T(ESTIMATE!B765)","v":""},{"$f":"T(#REF!)","v":{"$error":"#REF!"}},{"$f":"T(#REF!)","v":{"$error":"#REF!"}},{"$f":"T(#REF!)","v":{"$error":"#REF!"}},{"$f":"T(#REF!)","v":{"$error":"#REF!"}},null,null,{"$f":"T(#REF!)","v":{"$error":"#REF!"}},{"$f":"T(#REF!)","v":{"$error":"#REF!"}},{"$f":"T(#REF!)","v":{"$error":"#REF!"}},{"$f":"T(#REF!)","v":{"$error":"#REF!"}},{"$f":"ESTIMATE!P765","v":0},null,{"$f":"T(ESTIMATE!S765)","v":""}]
[null,null,{"$f":"T(ESTIMATE!B766)","v":""},{"$f":"T(#REF!)","v":{"$error":"#REF!"}},{"$f":"T(#REF!)","v":{"$error":"#REF!"}},{"$f":"T(#REF!)","v":{"$error":"#REF!"}},{"$f":"T(#REF!)","v":{"$error":"#REF!"}},null,null,{"$f":"T(#REF!)","v":{"$error":"#REF!"}},{"$f":"T(#REF!)","v":{"$error":"#REF!"}},{"$f":"T(#REF!)","v":{"$error":"#REF!"}},{"$f":"T(#REF!)","v":{"$error":"#REF!"}},{"$f":"ESTIMATE!P766","v":0},null,{"$f":"T(ESTIMATE!S766)","v":""}]
[null,null,{"$f":"T(ESTIMATE!B767)","v":""},{"$f":"T(#REF!)","v":{"$error":"#REF!"}},{"$f":"T(#REF!)","v":{"$error":"#REF!"}},{"$f":"T(#REF!)","v":{"$error":"#REF!"}},{"$f":"T(#REF!)","v":{"$error":"#REF!"}},null,null,{"$f":"T(#REF!)","v":{"$error":"#REF!"}},{"$f":"T(#REF!)","v":{"$error":"#REF!"}},{"$f":"T(#REF!)","v":{"$error":"#REF!"}},{"$f":"T(#REF!)","v":{"$error":"#REF!"}},{"$f":"ESTIMATE!P767","v":0},null,{"$f":"T(ESTIMATE!S767)","v":""}]
[null,null,{"$f":"T(ESTIMATE!B768)","v":""},{"$f":"T(#REF!)","v":{"$error":"#REF!"}},{"$f":"T(#REF!)","v":{"$error":"#REF!"}},{"$f":"T(#REF!)","v":{"$error":"#REF!"}},{"$f":"T(#REF!)","v":{"$error":"#REF!"}},null,null,{"$f":"T(#REF!)","v":{"$error":"#REF!"}},{"$f":"T(#REF!)","v":{"$error":"#REF!"}},{"$f":"T(#REF!)","v":{"$error":"#REF!"}},{"$f":"T(#REF!)","v":{"$error":"#REF!"}},{"$f":"ESTIMATE!P768","v":0},null,{"$f":"T(ESTIMATE!S768)","v":""}]
[null,null,{"$f":"T(ESTIMATE!B769)","v":""},{"$f":"T(#REF!)","v":{"$error":"#REF!"}},{"$f":"T(#REF!)","v":{"$error":"#REF!"}},{"$f":"T(#REF!)","v":{"$error":"#REF!"}},{"$f":"T(#REF!)","v":{"$error":"#REF!"}},null,null,{"$f":"T(#REF!)","v":{"$error":"#REF!"}},{"$f":"T(#REF!)","v":{"$error":"#REF!"}},{"$f":"T(#REF!)","v":{"$error":"#REF!"}},{"$f":"T(#REF!)","v":{"$error":"#REF!"}},{"$f":"ESTIMATE!P769","v":0},null,{"$f":"T(ESTIMATE!S769)","v":""}]
[null,null,{"$f":"T(ESTIMATE!B770)","v":""},{"$f":"T(#REF!)","v":{"$error":"#REF!"}},{"$f":"T(#REF!)","v":{"$error":"#REF!"}},{"$f":"T(#REF!)","v":{"$error":"#REF!"}},{"$f":"T(#REF!)","v":{"$error":"#REF!"}},null,null,{"$f":"T(#REF!)","v":{"$error":"#REF!"}},{"$f":"T(#REF!)","v":{"$error":"#REF!"}},{"$f":"T(#REF!)","v":{"$error":"#REF!"}},{"$f":"T(#REF!)","v":{"$error":"#REF!"}},{"$f":"ESTIMATE!P770","v":0},null,{"$f":"T(ESTIMATE!S770)","v":""}]
[null,null,{"$f":"T(ESTIMATE!B771)","v":""},{"$f":"T(#REF!)","v":{"$error":"#REF!"}},{"$f":"T(#REF!)","v":{"$error":"#REF!"}},{"$f":"T(#REF!)","v":{"$error":"#REF!"}},{"$f":"T(#REF!)","v":{"$error":"#REF!"}},null,null,{"$f":"T(#REF!)","v":{"$error":"#REF!"}},{"$f":"T(#REF!)","v":{"$error":"#REF!"}},{"$f":"T(#REF!)","v":{"$error":"#REF!"}},{"$f":"T(#REF!)","v":{"$error":"#REF!"}},{"$f":"ESTIMATE!P771","v":0},null,{"$f":"T(ESTIMATE!S771)","v":""}]
[null,null,{"$f":"T(ESTIMATE!B772)","v":""},{"$f":"T(#REF!)","v":{"$error":"#REF!"}},{"$f":"T(#REF!)","v":{"$error":"#REF!"}},{"$f":"T(#REF!)","v":{"$error":"#REF!"}},{"$f":"T(#REF!)","v":{"$error":"#REF!"}},null,null,{"$f":"T(#REF!)","v":{"$error":"#REF!"}},{"$f":"T(#REF!)","v":{"$error":"#REF!"}},{"$f":"T(#REF!)","v":{"$error":"#REF!"}},{"$f":"T(#REF!)","v":{"$error":"#REF!"}},{"$f":"ESTIMATE!P772","v":0},null,{"$f":"T(ESTIMATE!S772)","v":""}]
[null,null,{"$f":"T(ESTIMATE!B773)","v":""},{"$f":"T(#REF!)","v":{"$error":"#REF!"}},{"$f":"T(#REF!)","v":{"$error":"#REF!"}},{"$f":"T(#REF!)","v":{"$error":"#REF!"}},{"$f":"T(#REF!)","v":{"$error":"#REF!"}},null,null,{"$f":"T(#REF!)","v":{"$error":"#REF!"}},{"$f":"T(#REF!)","v":{"$error":"#REF!"}},{"$f":"T(#REF!)","v":{"$error":"#REF!"}},{"$f":"T(#REF!)","v":{"$error":"#REF!"}},{"$f":"ESTIMATE!P773","v":0},null,{"$f":"T(ESTIMATE!S773)","v":""}]
[null,null,{"$f":"T(ESTIMATE!B774)","v":""},{"$f":"T(#REF!)","v":{"$error":"#REF!"}},{"$f":"T(#REF!)","v":{"$error":"#REF!"}},{"$f":"T(#REF!)","v":{"$error":"#REF!"}},{"$f":"T(#REF!)","v":{"$error":"#REF!"}},null,null,{"$f":"T(#REF!)","v":{"$error":"#REF!"}},{"$f":"T(#REF!)","v":{"$error":"#REF!"}},{"$f":"T(#REF!)","v":{"$error":"#REF!"}},{"$f":"T(#REF!)","v":{"$error":"#REF!"}},{"$f":"ESTIMATE!P774","v":0},null,{"$f":"T(ESTIMATE!S774)","v":""}]
[null,null,{"$f":"T(ESTIMATE!B775)","v":""},{"$f":"T(#REF!)","v":{"$error":"#REF!"}},{"$f":"T(#REF!)","v":{"$error":"#REF!"}},{"$f":"T(#REF!)","v":{"$error":"#REF!"}},{"$f":"T(#REF!)","v":{"$error":"#REF!"}},null,null,{"$f":"T(#REF!)","v":{"$error":"#REF!"}},{"$f":"T(#REF!)","v":{"$error":"#REF!"}},{"$f":"T(#REF!)","v":{"$error":"#REF!"}},{"$f":"T(#REF!)","v":{"$error":"#REF!"}},{"$f":"ESTIMATE!P775","v":0},null,{"$f":"T(ESTIMATE!S775)","v":""}]
[null,null,{"$f":"T(ESTIMATE!B776)","v":""},{"$f":"T(#REF!)","v":{"$error":"#REF!"}},{"$f":"T(#REF!)","v":{"$error":"#REF!"}},{"$f":"T(#REF!)","v":{"$error":"#REF!"}},{"$f":"T(#REF!)","v":{"$error":"#REF!"}},null,null,{"$f":"T(#REF!)","v":{"$error":"#REF!"}},{"$f":"T(#REF!)","v":{"$error":"#REF!"}},{"$f":"T(#REF!)","v":{"$error":"#REF!"}},{"$f":"T(#REF!)","v":{"$error":"#REF!"}},{"$f":"ESTIMATE!P776","v":0},null,{"$f":"T(ESTIMATE!S776)","v":""}]
[null,null,{"$f":"T(ESTIMATE!B781)","v":"OTHER"},{"$f":"T(#REF!)","v":{"$error":"#REF!"}},{"$f":"T(#REF!)","v":{"$error":"#REF!"}},{"$f":"T(#REF!)","v":{"$error":"#REF!"}},{"$f":"T(#REF!)","v":{"$error":"#REF!"}},null,null,{"$f":"T(#REF!)","v":{"$error":"#REF!"}},{"$f":"T(#REF!)","v":{"$error":"#REF!"}},{"$f":"T(#REF!)","v":{"$error":"#REF!"}},{"$f":"T(#REF!)","v":{"$error":"#REF!"}},{"$f":"SUM(N736:O775)","v":0}]
[null,null,{"$f":"T(ESTIMATE!B782)","v":""},{"$f":"T(#REF!)","v":{"$error":"#REF!"}},{"$f":"T(#REF!)","v":{"$error":"#REF!"}},{"$f":"T(#REF!)","v":{"$error":"#REF!"}},{"$f":"T(#REF!)","v":{"$error":"#REF!"}},null,null,{"$f":"T(#REF!)","v":{"$error":"#REF!"}},{"$f":"T(#REF!)","v":{"$error":"#REF!"}},{"$f":"T(#REF!)","v":{"$error":"#REF!"}},{"$f":"T(#REF!)","v":{"$error":"#REF!"}},{"$f":"ESTIMATE!P782","v":0},null,{"$f":"T(ESTIMATE!S782)","v":""}]
[null,null,{"$f":"T(ESTIMATE!B783)","v":""},{"$f":"T(#REF!)","v":{"$error":"#REF!"}},{"$f":"T(#REF!)","v":{"$error":"#REF!"}},{"$f":"T(#REF!)","v":{"$error":"#REF!"}},{"$f":"T(#REF!)","v":{"$error":"#REF!"}},null,null,{"$f":"T(#REF!)","v":{"$error":"#REF!"}},{"$f":"T(#REF!)","v":{"$error":"#REF!"}},{"$f":"T(#REF!)","v":{"$error":"#REF!"}},{"$f":"T(#REF!)","v":{"$error":"#REF!"}},{"$f":"ESTIMATE!P783","v":0},null,{"$f":"T(ESTIMATE!S783)","v":""}]
[null,null,{"$f":"T(ESTIMATE!B784)","v":""},{"$f":"T(#REF!)","v":{"$error":"#REF!"}},{"$f":"T(#REF!)","v":{"$error":"#REF!"}},{"$f":"T(#REF!)","v":{"$error":"#REF!"}},{"$f":"T(#REF!)","v":{"$error":"#REF!"}},null,null,{"$f":"T(#REF!)","v":{"$error":"#REF!"}},{"$f":"T(#REF!)","v":{"$error":"#REF!"}},{"$f":"T(#REF!)","v":{"$error":"#REF!"}},{"$f":"T(#REF!)","v":{"$error":"#REF!"}},{"$f":"ESTIMATE!P784","v":0},null,{"$f":"T(ESTIMATE!S784)","v":""}]
[null,null,{"$f":"T(ESTIMATE!B785)","v":""},{"$f":"T(#REF!)","v":{"$error":"#REF!"}},{"$f":"T(#REF!)","v":{"$error":"#REF!"}},{"$f":"T(#REF!)","v":{"$error":"#REF!"}},{"$f":"T(#REF!)","v":{"$error":"#REF!"}},null,null,{"$f":"T(#REF!)","v":{"$error":"#REF!"}},{"$f":"T(#REF!)","v":{"$error":"#REF!"}},{"$f":"T(#REF!)","v":{"$error":"#REF!"}},{"$f":"T(#REF!)","v":{"$error":"#REF!"}},{"$f":"ESTIMATE!P785","v":0},null,{"$f":"T(ESTIMATE!S785)","v":""}]
[null,null,{"$f":"T(ESTIMATE!B786)","v":""},{"$f":"T(#REF!)","v":{"$error":"#REF!"}},{"$f":"T(#REF!)","v":{"$error":"#REF!"}},{"$f":"T(#REF!)","v":{"$error":"#REF!"}},{"$f":"T(#REF!)","v":{"$error":"#REF!"}},null,null,{"$f":"T(#REF!)","v":{"$error":"#REF!"}},{"$f":"T(#REF!)","v":{"$error":"#REF!"}},{"$f":"T(#REF!)","v":{"$error":"#REF!"}},{"$f":"T(#REF!)","v":{"$error":"#REF!"}},{"$f":"ESTIMATE!P786","v":0},null,{"$f":"T(ESTIMATE!S786)","v":""}]
[null,null,{"$f":"T(ESTIMATE!B787)","v":""},{"$f":"T(#REF!)","v":{"$error":"#REF!"}},{"$f":"T(#REF!)","v":{"$error":"#REF!"}},{"$f":"T(#REF!)","v":{"$error":"#REF!"}},{"$f":"T(#REF!)","v":{"$error":"#REF!"}},null,null,{"$f":"T(#REF!)","v":{"$error":"#REF!"}},{"$f":"T(#REF!)","v":{"$error":"#REF!"}},{"$f":"T(#REF!)","v":{"$error":"#REF!"}},{"$f":"T(#REF!)","v":{"$error":"#REF!"}},{"$f":"ESTIMATE!P787","v":0},null,{"$f":"T(ESTIMATE!S787)","v":""}]
[null,null,{"$f":"T(ESTIMATE!B788)","v":""},{"$f":"T(#REF!)","v":{"$error":"#REF!"}},{"$f":"T(#REF!)","v":{"$error":"#REF!"}},{"$f":"T(#REF!)","v":{"$error":"#REF!"}},{"$f":"T(#REF!)","v":{"$error":"#REF!"}},null,null,{"$f":"T(#REF!)","v":{"$error":"#REF!"}},{"$f":"T(#REF!)","v":{"$error":"#REF!"}},{"$f":"T(#REF!)","v":{"$error":"#REF!"}},{"$f":"T(#REF!)","v":{"$error":"#REF!"}},{"$f":"ESTIMATE!P788","v":0},null,{"$f":"T(ESTIMATE!S788)","v":""}]
[null,null,{"$f":"T(ESTIMATE!B789)","v":""},{"$f":"T(#REF!)","v":{"$error":"#REF!"}},{"$f":"T(#REF!)","v":{"$error":"#REF!"}},{"$f":"T(#REF!)","v":{"$error":"#REF!"}},{"$f":"T(#REF!)","v":{"$error":"#REF!"}},null,null,{"$f":"T(#REF!)","v":{"$error":"#REF!"}},{"$f":"T(#REF!)","v":{"$error":"#REF!"}},{"$f":"T(#REF!)","v":{"$error":"#REF!"}},{"$f":"T(#REF!)","v":{"$error":"#REF!"}},{"$f":"ESTIMATE!P789","v":0},null,{"$f":"T(ESTIMATE!S789)","v":""}]
[null,null,{"$f":"T(ESTIMATE!B790)","v":""},{"$f":"T(#REF!)","v":{"$error":"#REF!"}},{"$f":"T(#REF!)","v":{"$error":"#REF!"}},{"$f":"T(#REF!)","v":{"$error":"#REF!"}},{"$f":"T(#REF!)","v":{"$error":"#REF!"}},null,null,{"$f":"T(#REF!)","v":{"$error":"#REF!"}},{"$f":"T(#REF!)","v":{"$error":"#REF!"}},{"$f":"T(#REF!)","v":{"$error":"#REF!"}},{"$f":"T(#REF!)","v":{"$error":"#REF!"}},{"$f":"ESTIMATE!P790","v":0},null,{"$f":"T(ESTIMATE!S790)","v":""}]
[null,null,{"$f":"T(ESTIMATE!B791)","v":""},{"$f":"T(#REF!)","v":{"$error":"#REF!"}},{"$f":"T(#REF!)","v":{"$error":"#REF!"}},{"$f":"T(#REF!)","v":{"$error":"#REF!"}},{"$f":"T(#REF!)","v":{"$error":"#REF!"}},null,null,{"$f":"T(#REF!)","v":{"$error":"#REF!"}},{"$f":"T(#REF!)","v":{"$error":"#REF!"}},{"$f":"T(#REF!)","v":{"$error":"#REF!"}},{"$f":"T(#REF!)","v":{"$error":"#REF!"}},{"$f":"ESTIMATE!P791","v":0},null,{"$f":"T(ESTIMATE!S791)","v":""}]
[null,null,{"$f":"T(ESTIMATE!B792)","v":""},{"$f":"T(#REF!)","v":{"$error":"#REF!"}},{"$f":"T(#REF!)","v":{"$error":"#REF!"}},{"$f":"T(#REF!)","v":{"$error":"#REF!"}},{"$f":"T(#REF!)","v":{"$error":"#REF!"}},null,null,{"$f":"T(#REF!)","v":{"$error":"#REF!"}},{"$f":"T(#REF!)","v":{"$error":"#REF!"}},{"$f":"T(#REF!)","v":{"$error":"#REF!"}},{"$f":"T(#REF!)","v":{"$error":"#REF!"}},{"$f":"ESTIMATE!P792","v":0},null,{"$f":"T(ESTIMATE!S792)","v":""}]
[null,null,{"$f":"T(ESTIMATE!B793)","v":""},{"$f":"T(#REF!)","v":{"$error":"#REF!"}},{"$f":"T(#REF!)","v":{"$error":"#REF!"}},{"$f":"T(#REF!)","v":{"$error":"#REF!"}},{"$f":"T(#REF!)","v":{"$error":"#REF!"}},null,null,{"$f":"T(#REF!)","v":{"$error":"#REF!"}},{"$f":"T(#REF!)","v":{"$error":"#REF!"}},{"$f":"T(#REF!)","v":{"$error":"#REF!"}},{"$f":"T(#REF!)","v":{"$error":"#REF!"}},{"$f":"ESTIMATE!P793","v":0},null,{"$f":"T(ESTIMATE!S793)","v":""}]
[null,null,{"$f":"T(ESTIMATE!B794)","v":""},{"$f":"T(#REF!)","v":{"$error":"#REF!"}},{"$f":"T(#REF!)","v":{"$error":"#REF!"}},{"$f":"T(#REF!)","v":{"$error":"#REF!"}},{"$f":"T(#REF!)","v":{"$error":"#REF!"}},null,null,{"$f":"T(#REF!)","v":{"$error":"#REF!"}},{"$f":"T(#REF!)","v":{"$error":"#REF!"}},{"$f":"T(#REF!)","v":{"$error":"#REF!"}},{"$f":"T(#REF!)","v":{"$error":"#REF!"}},{"$f":"ESTIMATE!P794","v":0},null,{"$f":"T(ESTIMATE!S794)","v":""}]
[null,null,{"$f":"T(ESTIMATE!B795)","v":""},{"$f":"T(#REF!)","v":{"$error":"#REF!"}},{"$f":"T(#REF!)","v":{"$error":"#REF!"}},{"$f":"T(#REF!)","v":{"$error":"#REF!"}},{"$f":"T(#REF!)","v":{"$error":"#REF!"}},null,null,{"$f":"T(#REF!)","v":{"$error":"#REF!"}},{"$f":"T(#REF!)","v":{"$error":"#REF!"}},{"$f":"T(#REF!)","v":{"$error":"#REF!"}},{"$f":"T(#REF!)","v":{"$error":"#REF!"}},{"$f":"ESTIMATE!P795","v":0},null,{"$f":"T(ESTIMATE!S795)","v":""}]
[null,null,{"$f":"T(ESTIMATE!B796)","v":""},{"$f":"T(#REF!)","v":{"$error":"#REF!"}},{"$f":"T(#REF!)","v":{"$error":"#REF!"}},{"$f":"T(#REF!)","v":{"$error":"#REF!"}},{"$f":"T(#REF!)","v":{"$error":"#REF!"}},null,null,{"$f":"T(#REF!)","v":{"$error":"#REF!"}},{"$f":"T(#REF!)","v":{"$error":"#REF!"}},{"$f":"T(#REF!)","v":{"$error":"#REF!"}},{"$f":"T(#REF!)","v":{"$error":"#REF!"}},{"$f":"ESTIMATE!P796","v":0},null,{"$f":"T(ESTIMATE!S796)","v":""}]
[null,null,{"$f":"T(ESTIMATE!B797)","v":""},{"$f":"T(#REF!)","v":{"$error":"#REF!"}},{"$f":"T(#REF!)","v":{"$error":"#REF!"}},{"$f":"T(#REF!)","v":{"$error":"#REF!"}},{"$f":"T(#REF!)","v":{"$error":"#REF!"}},null,null,{"$f":"T(#REF!)","v":{"$error":"#REF!"}},{"$f":"T(#REF!)","v":{"$error":"#REF!"}},{"$f":"T(#REF!)","v":{"$error":"#REF!"}},{"$f":"T(#REF!)","v":{"$error":"#REF!"}},{"$f":"ESTIMATE!P797","v":0},null,{"$f":"T(ESTIMATE!S797)","v":""}]
[null,null,{"$f":"T(ESTIMATE!B798)","v":""},{"$f":"T(#REF!)","v":{"$error":"#REF!"}},{"$f":"T(#REF!)","v":{"$error":"#REF!"}},{"$f":"T(#REF!)","v":{"$error":"#REF!"}},{"$f":"T(#REF!)","v":{"$error":"#REF!"}},null,null,{"$f":"T(#REF!)","v":{"$error":"#REF!"}},{"$f":"T(#REF!)","v":{"$error":"#REF!"}},{"$f":"T(#REF!)","v":{"$error":"#REF!"}},{"$f":"T(#REF!)","v":{"$error":"#REF!"}},{"$f":"ESTIMATE!P798","v":0},null,{"$f":"T(ESTIMATE!S798)","v":""}]
[null,null,{"$f":"T(ESTIMATE!B799)","v":""},{"$f":"T(#REF!)","v":{"$error":"#REF!"}},{"$f":"T(#REF!)","v":{"$error":"#REF!"}},{"$f":"T(#REF!)","v":{"$error":"#REF!"}},{"$f":"T(#REF!)","v":{"$error":"#REF!"}},null,null,{"$f":"T(#REF!)","v":{"$error":"#REF!"}},{"$f":"T(#REF!)","v":{"$error":"#REF!"}},{"$f":"T(#REF!)","v":{"$error":"#REF!"}},{"$f":"T(#REF!)","v":{"$error":"#REF!"}},{"$f":"ESTIMATE!P799","v":0},null,{"$f":"T(ESTIMATE!S799)","v":""}]
[null,null,{"$f":"T(ESTIMATE!B800)","v":""},{"$f":"T(#REF!)","v":{"$error":"#REF!"}},{"$f":"T(#REF!)","v":{"$error":"#REF!"}},{"$f":"T(#REF!)","v":{"$error":"#REF!"}},{"$f":"T(#REF!)","v":{"$error":"#REF!"}},null,null,{"$f":"T(#REF!)","v":{"$error":"#REF!"}},{"$f":"T(#REF!)","v":{"$error":"#REF!"}},{"$f":"T(#REF!)","v":{"$error":"#REF!"}},{"$f":"T(#REF!)","v":{"$error":"#REF!"}},{"$f":"ESTIMATE!P800","v":0},null,{"$f":"T(ESTIMATE!S800)","v":""}]
[null,null,{"$f":"T(ESTIMATE!B801)","v":""},{"$f":"T(#REF!)","v":{"$error":"#REF!"}},{"$f":"T(#REF!)","v":{"$error":"#REF!"}},{"$f":"T(#REF!)","v":{"$error":"#REF!"}},{"$f":"T(#REF!)","v":{"$error":"#REF!"}},null,null,{"$f":"T(#REF!)","v":{"$error":"#REF!"}},{"$f":"T(#REF!)","v":{"$error":"#REF!"}},{"$f":"T(#REF!)","v":{"$error":"#REF!"}},{"$f":"T(#REF!)","v":{"$error":"#REF!"}},{"$f":"ESTIMATE!P801","v":0},null,{"$f":"T(ESTIMATE!S801)","v":""}]
[null,null,{"$f":"T(ESTIMATE!B802)","v":""},{"$f":"T(#REF!)","v":{"$error":"#REF!"}},{"$f":"T(#REF!)","v":{"$error":"#REF!"}},{"$f":"T(#REF!)","v":{"$error":"#REF!"}},{"$f":"T(#REF!)","v":{"$error":"#REF!"}},null,null,{"$f":"T(#REF!)","v":{"$error":"#REF!"}},{"$f":"T(#REF!)","v":{"$error":"#REF!"}},{"$f":"T(#REF!)","v":{"$error":"#REF!"}},{"$f":"T(#REF!)","v":{"$error":"#REF!"}},{"$f":"ESTIMATE!P802","v":0},null,{"$f":"T(ESTIMATE!S802)","v":""}]
[null,null,{"$f":"T(ESTIMATE!B803)","v":""},{"$f":"T(#REF!)","v":{"$error":"#REF!"}},{"$f":"T(#REF!)","v":{"$error":"#REF!"}},{"$f":"T(#REF!)","v":{"$error":"#REF!"}},{"$f":"T(#REF!)","v":{"$error":"#REF!"}},null,null,{"$f":"T(#REF!)","v":{"$error":"#REF!"}},{"$f":"T(#REF!)","v":{"$error":"#REF!"}},{"$f":"T(#REF!)","v":{"$error":"#REF!"}},{"$f":"T(#REF!)","v":{"$error":"#REF!"}},{"$f":"ESTIMATE!P803","v":0},null,{"$f":"T(ESTIMATE!S803)","v":""}]
[null,null,{"$f":"T(ESTIMATE!B804)","v":""},{"$f":"T(#REF!)","v":{"$error":"#REF!"}},{"$f":"T(#REF!)","v":{"$error":"#REF!"}},{"$f":"T(#REF!)","v":{"$error":"#REF!"}},{"$f":"T(#REF!)","v":{"$error":"#REF!"}},null,null,{"$f":"T(#REF!)","v":{"$error":"#REF!"}},{"$f":"T(#REF!)","v":{"$error":"#REF!"}},{"$f":"T(#REF!)","v":{"$error":"#REF!"}},{"$f":"T(#REF!)","v":{"$error":"#REF!"}},{"$f":"ESTIMATE!P804","v":0},null,{"$f":"T(ESTIMATE!S804)","v":""}]
[null,null,{"$f":"T(ESTIMATE!B805)","v":""},{"$f":"T(#REF!)","v":{"$error":"#REF!"}},{"$f":"T(#REF!)","v":{"$error":"#REF!"}},{"$f":"T(#REF!)","v":{"$error":"#REF!"}},{"$f":"T(#REF!)","v":{"$error":"#REF!"}},null,null,{"$f":"T(#REF!)","v":{"$error":"#REF!"}},{"$f":"T(#REF!)","v":{"$error":"#REF!"}},{"$f":"T(#REF!)","v":{"$error":"#REF!"}},{"$f":"T(#REF!)","v":{"$error":"#REF!"}},{"$f":"ESTIMATE!P805","v":0},null,{"$f":"T(ESTIMATE!S805)","v":""}]
[null,null,{"$f":"T(ESTIMATE!B806)","v":""},{"$f":"T(#REF!)","v":{"$error":"#REF!"}},{"$f":"T(#REF!)","v":{"$error":"#REF!"}},{"$f":"T(#REF!)","v":{"$error":"#REF!"}},{"$f":"T(#REF!)","v":{"$error":"#REF!"}},null,null,{"$f":"T(#REF!)","v":{"$error":"#REF!"}},{"$f":"T(#REF!)","v":{"$error":"#REF!"}},{"$f":"T(#REF!)","v":{"$error":"#REF!"}},{"$f":"T(#REF!)","v":{"$error":"#REF!"}},{"$f":"ESTIMATE!P806","v":0},null,{"$f":"T(ESTIMATE!S806)","v":""}]
[null,null,{"$f":"T(ESTIMATE!B807)","v":""},{"$f":"T(#REF!)","v":{"$error":"#REF!"}},{"$f":"T(#REF!)","v":{"$error":"#REF!"}},{"$f":"T(#REF!)","v":{"$error":"#REF!"}},{"$f":"T(#REF!)","v":{"$error":"#REF!"}},null,null,{"$f":"T(#REF!)","v":{"$error":"#REF!"}},{"$f":"T(#REF!)","v":{"$error":"#REF!"}},{"$f":"T(#REF!)","v":{"$error":"#REF!"}},{"$f":"T(#REF!)","v":{"$error":"#REF!"}},{"$f":"ESTIMATE!P807","v":0},null,{"$f":"T(ESTIMATE!S807)","v":""}]
[null,null,{"$f":"T(ESTIMATE!B808)","v":""},{"$f":"T(#REF!)","v":{"$error":"#REF!"}},{"$f":"T(#REF!)","v":{"$error":"#REF!"}},{"$f":"T(#REF!)","v":{"$error":"#REF!"}},{"$f":"T(#REF!)","v":{"$error":"#REF!"}},null,null,{"$f":"T(#REF!)","v":{"$error":"#REF!"}},{"$f":"T(#REF!)","v":{"$error":"#REF!"}},{"$f":"T(#REF!)","v":{"$error":"#REF!"}},{"$f":"T(#REF!)","v":{"$error":"#REF!"}},{"$f":"ESTIMATE!P808","v":0},null,{"$f":"T(ESTIMATE!S808)","v":""}]
[null,null,{"$f":"T(ESTIMATE!B809)","v":""},{"$f":"T(#REF!)","v":{"$error":"#REF!"}},{"$f":"T(#REF!)","v":{"$error":"#REF!"}},{"$f":"T(#REF!)","v":{"$error":"#REF!"}},{"$f":"T(#REF!)","v":{"$error":"#REF!"}},null,null,{"$f":"T(#REF!)","v":{"$error":"#REF!"}},{"$f":"T(#REF!)","v":{"$error":"#REF!"}},{"$f":"T(#REF!)","v":{"$error":"#REF!"}},{"$f":"T(#REF!)","v":{"$error":"#REF!"}},{"$f":"ESTIMATE!P809","v":0},null,{"$f":"T(ESTIMATE!S809)","v":""}]
[null,null,{"$f":"T(ESTIMATE!B810)","v":""},{"$f":"T(#REF!)","v":{"$error":"#REF!"}},{"$f":"T(#REF!)","v":{"$error":"#REF!"}},{"$f":"T(#REF!)","v":{"$error":"#REF!"}},{"$f":"T(#REF!)","v":{"$error":"#REF!"}},null,null,{"$f":"T(#REF!)","v":{"$error":"#REF!"}},{"$f":"T(#REF!)","v":{"$error":"#REF!"}},{"$f":"T(#REF!)","v":{"$error":"#REF!"}},{"$f":"T(#REF!)","v":{"$error":"#REF!"}},{"$f":"ESTIMATE!P810","v":0},null,{"$f":"T(ESTIMATE!S810)","v":""}]
[null,null,{"$f":"T(ESTIMATE!B811)","v":""},{"$f":"T(#REF!)","v":{"$error":"#REF!"}},{"$f":"T(#REF!)","v":{"$error":"#REF!"}},{"$f":"T(#REF!)","v":{"$error":"#REF!"}},{"$f":"T(#REF!)","v":{"$error":"#REF!"}},null,null,{"$f":"T(#REF!)","v":{"$error":"#REF!"}},{"$f":"T(#REF!)","v":{"$error":"#REF!"}},{"$f":"T(#REF!)","v":{"$error":"#REF!"}},{"$f":"T(#REF!)","v":{"$error":"#REF!"}},{"$f":"ESTIMATE!P811","v":0},null,{"$f":"T(ESTIMATE!S811)","v":""}]
[null,null,{"$f":"T(ESTIMATE!B812)","v":""},{"$f":"T(#REF!)","v":{"$error":"#REF!"}},{"$f":"T(#REF!)","v":{"$error":"#REF!"}},{"$f":"T(#REF!)","v":{"$error":"#REF!"}},{"$f":"T(#REF!)","v":{"$error":"#REF!"}},null,null,{"$f":"T(#REF!)","v":{"$error":"#REF!"}},{"$f":"T(#REF!)","v":{"$error":"#REF!"}},{"$f":"T(#REF!)","v":{"$error":"#REF!"}},{"$f":"T(#REF!)","v":{"$error":"#REF!"}},{"$f":"ESTIMATE!P812","v":0},null,{"$f":"T(ESTIMATE!S812)","v":""}]
[null,null,{"$f":"T(ESTIMATE!B813)","v":""},{"$f":"T(#REF!)","v":{"$error":"#REF!"}},{"$f":"T(#REF!)","v":{"$error":"#REF!"}},{"$f":"T(#REF!)","v":{"$error":"#REF!"}},{"$f":"T(#REF!)","v":{"$error":"#REF!"}},null,null,{"$f":"T(#REF!)","v":{"$error":"#REF!"}},{"$f":"T(#REF!)","v":{"$error":"#REF!"}},{"$f":"T(#REF!)","v":{"$error":"#REF!"}},{"$f":"T(#REF!)","v":{"$error":"#REF!"}},{"$f":"ESTIMATE!P813","v":0},null,{"$f":"T(ESTIMATE!S813)","v":""}]
[null,null,{"$f":"T(ESTIMATE!B814)","v":""},{"$f":"T(#REF!)","v":{"$error":"#REF!"}},{"$f":"T(#REF!)","v":{"$error":"#REF!"}},{"$f":"T(#REF!)","v":{"$error":"#REF!"}},{"$f":"T(#REF!)","v":{"$error":"#REF!"}},null,null,{"$f":"T(#REF!)","v":{"$error":"#REF!"}},{"$f":"T(#REF!)","v":{"$error":"#REF!"}},{"$f":"T(#REF!)","v":{"$error":"#REF!"}},{"$f":"T(#REF!)","v":{"$error":"#REF!"}},{"$f":"ESTIMATE!P814","v":0},null,{"$f":"T(ESTIMATE!S814)","v":""}]
[null,null,{"$f":"T(ESTIMATE!B815)","v":""},{"$f":"T(#REF!)","v":{"$error":"#REF!"}},{"$f":"T(#REF!)","v":{"$error":"#REF!"}},{"$f":"T(#REF!)","v":{"$error":"#REF!"}},{"$f":"T(#REF!)","v":{"$error":"#REF!"}},null,null,{"$f":"T(#REF!)","v":{"$error":"#REF!"}},{"$f":"T(#REF!)","v":{"$error":"#REF!"}},{"$f":"T(#REF!)","v":{"$error":"#REF!"}},{"$f":"T(#REF!)","v":{"$error":"#REF!"}},{"$f":"ESTIMATE!P815","v":0},null,{"$f":"T(ESTIMATE!S815)","v":""}]
[null,null,{"$f":"T(ESTIMATE!B816)","v":""},{"$f":"T(#REF!)","v":{"$error":"#REF!"}},{"$f":"T(#REF!)","v":{"$error":"#REF!"}},{"$f":"T(#REF!)","v":{"$error":"#REF!"}},{"$f":"T(#REF!)","v":{"$error":"#REF!"}},null,null,{"$f":"T(#REF!)","v":{"$error":"#REF!"}},{"$f":"T(#REF!)","v":{"$error":"#REF!"}},{"$f":"T(#REF!)","v":{"$error":"#REF!"}},{"$f":"T(#REF!)","v":{"$error":"#REF!"}},{"$f":"ESTIMATE!P816","v":0},null,{"$f":"T(ESTIMATE!S816)","v":""}]
[null,null,{"$f":"T(ESTIMATE!B817)","v":""},{"$f":"T(#REF!)","v":{"$error":"#REF!"}},{"$f":"T(#REF!)","v":{"$error":"#REF!"}},{"$f":"T(#REF!)","v":{"$error":"#REF!"}},{"$f":"T(#REF!)","v":{"$error":"#REF!"}},null,null,{"$f":"T(#REF!)","v":{"$error":"#REF!"}},{"$f":"T(#REF!)","v":{"$error":"#REF!"}},{"$f":"T(#REF!)","v":{"$error":"#REF!"}},{"$f":"T(#REF!)","v":{"$error":"#REF!"}},{"$f":"ESTIMATE!P817","v":0},null,{"$f":"T(ESTIMATE!S817)","v":""}]
[null,null,{"$f":"T(ESTIMATE!B818)","v":""},{"$f":"T(#REF!)","v":{"$error":"#REF!"}},{"$f":"T(#REF!)","v":{"$error":"#REF!"}},{"$f":"T(#REF!)","v":{"$error":"#REF!"}},{"$f":"T(#REF!)","v":{"$error":"#REF!"}},null,null,{"$f":"T(#REF!)","v":{"$error":"#REF!"}},{"$f":"T(#REF!)","v":{"$error":"#REF!"}},{"$f":"T(#REF!)","v":{"$error":"#REF!"}},{"$f":"T(#REF!)","v":{"$error":"#REF!"}},{"$f":"ESTIMATE!P818","v":0},null,{"$f":"T(ESTIMATE!S818)","v":""}]
[null,null,{"$f":"T(ESTIMATE!B819)","v":""},{"$f":"T(#REF!)","v":{"$error":"#REF!"}},{"$f":"T(#REF!)","v":{"$error":"#REF!"}},{"$f":"T(#REF!)","v":{"$error":"#REF!"}},{"$f":"T(#REF!)","v":{"$error":"#REF!"}},null,null,{"$f":"T(#REF!)","v":{"$error":"#REF!"}},{"$f":"T(#REF!)","v":{"$error":"#REF!"}},{"$f":"T(#REF!)","v":{"$error":"#REF!"}},{"$f":"T(#REF!)","v":{"$error":"#REF!"}},{"$f":"ESTIMATE!P819","v":0},null,{"$f":"T(ESTIMATE!S819)","v":""}]
[null,null,{"$f":"T(ESTIMATE!B820)","v":""},{"$f":"T(#REF!)","v":{"$error":"#REF!"}},{"$f":"T(#REF!)","v":{"$error":"#REF!"}},{"$f":"T(#REF!)","v":{"$error":"#REF!"}},{"$f":"T(#REF!)","v":{"$error":"#REF!"}},null,null,{"$f":"T(#REF!)","v":{"$error":"#REF!"}},{"$f":"T(#REF!)","v":{"$error":"#REF!"}},{"$f":"T(#REF!)","v":{"$error":"#REF!"}},{"$f":"T(#REF!)","v":{"$error":"#REF!"}},{"$f":"ESTIMATE!P820","v":0},null,{"$f":"T(ESTIMATE!S820)","v":""}]
[null,null,{"$f":"T(ESTIMATE!B821)","v":""},{"$f":"T(#REF!)","v":{"$error":"#REF!"}},{"$f":"T(#REF!)","v":{"$error":"#REF!"}},{"$f":"T(#REF!)","v":{"$error":"#REF!"}},{"$f":"T(#REF!)","v":{"$error":"#REF!"}},null,null,{"$f":"T(#REF!)","v":{"$error":"#REF!"}},{"$f":"T(#REF!)","v":{"$error":"#REF!"}},{"$f":"T(#REF!)","v":{"$error":"#REF!"}},{"$f":"T(#REF!)","v":{"$error":"#REF!"}},{"$f":"ESTIMATE!P821","v":0},null,{"$f":"T(ESTIMATE!S821)","v":""}]
[]
[null,null,"TOTAL CONSTRUCTION COSTS",null,null,null,null,null,null,null,null,null,null,null,null,null,null,null,null,null,null,null,null,null,{"$f":"IF(AF21=\"Allocate Adders\",ADDERS!AW6+ADDERS!BQ58,ADDERS!AW6)","v":0}]
[null,null,"TOTAL SOFT COSTS",null,null,null,null,null,null,null,null,null,null,null,null,null,null,null,null,null,null,null,null,null,{"$f":"IF(AF21=\"Allocate Adders\",ADDERS!BY58,ADDERS!AW58)","v":0}]
[null,null,"TOTAL PROPOSAL",null,null,null,null,null,null,null,null,null,null,null,null,null,null,null,null,null,null,null,null,null,{"$f":"ADDERS!AW60","v":0}]
[null,null,"All work to be completed in a workmanlike manner according to standard practices & local building codes.  Any alteration or deviation from the above specifications involving extra costs, will be executed only upon written and will be an extra charge over and above the estimate.  This proposal is subject to acceptance within ______ days and is void thereafter at the option of the undersigned."]
[]
[]
[]
[]
[]
[]
[null,null,"Acceptance of Proposal"]
[]
[]
[null,null,"The above prices, specifications and conditions are satisfactory and are hereby accepted.  You are authorized to do the work specified."]
[]
[]
[null,null,"SIGNATURE",null,null,null,null,null,null,null,null,null,null,null,null,null,null,null,null,"DATE"]
[]
[]
[]
[]
[null,null,{"$f":"T(Company_Name)","v":"Test Company"},null,null,null,null,null,null,{"$f":"Company_Phone","v":0},null,null,null,null,null,null,{"$f":"T(Company_Email)","v":"Test@test.com"},null,null,null,null,null,null,{"$f":"T(Company_Website)","v":""}]
[null,null,"© 2017 by RemodelCostSpreadsheet.com. All rights reserved"]

{"sheet":"BLANK PROPOSAL","index":12,"n_rows":65,"n_cols":30,"rows_kept":65,"cut":false,"hidden":true,"merged":[[37,2,37,10],[20,2,20,10],[21,2,21,10],[22,2,22,10],[23,2,23,10],[24,2,24,10],[25,2,25,10],[28,2,28,10],[29,2,29,10],[32,2,32,10],[33,2,33,10],[34,2,34,10],[35,2,35,10],[36,2,36,10],[30,2,30,10],[31,2,31,10],[37,11,37,13],[38,11,38,13],[35,11,35,13],[20,11,20,13],[21,11,21,13],[22,11,22,13],[23,11,23,13],[24,11,24,13],[27,11,27,13],[28,11,28,13],[29,11,29,13],[30,11,30,13],[31,11,31,13],[36,11,36,13],[33,11,33,13],[34,11,34,13],[47,2,51,13],[38,2,38,10],[39,2,39,10],[40,2,40,10],[41,11,41,13],[43,11,43,13],[39,11,39,13],[40,11,40,13],[41,2,41,10],[42,2,42,10],[45,2,45,10],[45,11,45,13],[43,2,43,10],[52,2,54,13],[55,2,56,13],[58,2,59,3],[58,4,59,8],[58,9,59,10],[58,11,59,13],[63,2,63,4],[63,5,63,7],[63,8,63,10],[63,11,63,13],[64,2,65,14],[26,11,26,13],[32,11,32,13],[26,2,26,10],[27,2,27,10],[18,2,19,10],[18,11,19,13],[25,11,25,13],[14,9,14,12],[16,2,16,13],[11,3,11,6],[11,9,11,12],[12,3,12,6],[12,9,12,12],[13,3,13,6],[13,9,13,12],[9,2,10,6],[9,8,10,12],[2,2,3,7],[2,9,3,13],[4,2,6,8],[7,2,8,8]]}
[]
[]
[null,null,"PROPOSAL"]
[]
[null,null,{"$f":"T(Street_Address)","v":"1234 N. Main St"}]
[]
[]
[null,null,{"$f":"T(City_State_Zip)","v":"Kansas City, MO 64116"}]
[]
[null,null,"Client Information:",null,null,null,null,null,{"$f":"T(Company_Name)","v":"Test Company"},null,null,null,null,null,null,null,null,null,null,null,null,null,null,null,null,null,null,null,null,"Raw Costs"]
[null,null,null,null,null,null,null,null,null,null,null,null,null,null,null,null,null,null,null,null,null,null,null,null,null,null,null,null,null,"Allocate Adders"]
[null,null,"Contact:",{"$f":"T(CLIENT_NAME)","v":"Test Client"},null,null,null,null,"Contact:",{"$f":"T(Company_Contact)","v":"Test Contact"}]
[null,null,"Phone #:",{"$f":"CLIENT_PHONE","v":8161234567},null,null,null,null,"Phone #:",{"$f":"Company_Phone","v":0}]
[null,null,"Email:",{"$f":"T(CLIENT_EMAIL)","v":""},null,null,null,null,"Email:",{"$f":"T(Company_Email)","v":"Test@test.com"}]
[null,null,null,null,null,null,null,null,"Website",{"$f":"T(Company_Website)","v":""}]
[]
[null,null,"We hereby propose to furnish labor, material & equipment - complete in accordance with the below specifications."]
[]
[null,null,"SCOPE OF WORK",null,null,null,null,null,null,null,null,"COST"]
[]
[]
[]
[]
[]
[]
[]
[null,null,{"$f":"T(ESTIMATE!N12)","v":""}]
[null,null,{"$f":"T(ESTIMATE!N13)","v":""}]
[null,null,{"$f":"T(ESTIMATE!N14)","v":""}]
[null,null,{"$f":"T(ESTIMATE!N15)","v":""}]
[null,null,{"$f":"T(ESTIMATE!N16)","v":""}]
[null,null,{"$f":"T(ESTIMATE!N17)","v":""}]
[null,null,{"$f":"T(ESTIMATE!N18)","v":""}]
[null,null,{"$f":"T(ESTIMATE!N19)","v":""}]
[null,null,{"$f":"T(ESTIMATE!N20)","v":""}]
[null,null,{"$f":"T(ESTIMATE!N21)","v":""}]
[null,null,{"$f":"T(ESTIMATE!N22)","v":""}]
[null,null,{"$f":"T(ESTIMATE!N23)","v":""}]
[null,null,{"$f":"T(ESTIMATE!N24)","v":""}]
[null,null,{"$f":"T(ESTIMATE!N25)","v":""}]
[null,null,{"$f":"T(ESTIMATE!N26)","v":""}]
[null,null,{"$f":"T(ESTIMATE!N31)","v":""}]
[null,null,{"$f":"T(ESTIMATE!N32)","v":""}]
[null,null,{"$f":"T(ESTIMATE!N33)","v":""}]
[]
[null,null,"TOTAL PROPOSAL",null,null,null,null,null,null,null,null,{"$f":"ADDERS!AW60","v":0}]
[]
[null,null,"All work to be completed in a workmanlike manner according to standard practices & local building codes.  Any alteration or deviation from the above specifications involving extra costs, will be executed only upon written and will be an extra charge over and above the estimate.  This proposal is subject to acceptance within ______ days and is void thereafter at the option of the undersigned."]
[]
[]
[]
[]
[null,null,"Acceptance of Proposal"]
[]
[]
[null,null,"The above prices, specifications and conditions are satisfactory and are hereby accepted.  You are authorized to do the work specified."]
[]
[]
[null,null,"SIGNATURE",null,null,null,null,null,null,"DATE"]
[]
[]
[]
[]
[null,null,{"$f":"T(Company_Name)","v":"Test Company"},null,null,{"$f":"(Company_Phone)","v":0},null,null,{"$f":"T(Company_Email)","v":"Test@test.com"},null,null,{"$f":"T(Company_Website)","v":""}]
[null,null,"© 2017 by RemodelCostSpreadsheet.com. All rights reserved"]

{"sheet":"GC SOFT COST REPORT","index":13,"n_rows":196,"n_cols":17,"rows_kept":196,"cut":false,"hidden":true,"merged":[[195,2,196,13],[12,3,12,6],[12,9,12,12],[13,3,13,6],[13,9,13,12],[14,3,14,6],[14,9,14,12],[4,2,6,9],[7,2,8,9],[10,2,11,6],[10,8,11,12],[29,2,29,6],[29,9,29,11],[29,12,29,13],[30,2,30,6],[30,12,30,13],[31,2,31,6],[31,12,31,13],[15,9,15,12],[17,2,18,4],[17,5,26,13],[19,2,21,4],[22,2,22,4],[24,2,24,4],[35,2,35,6],[35,12,35,13],[36,2,36,6],[36,12,36,13],[37,2,37,6],[37,12,37,13],[32,2,32,6],[32,12,32,13],[33,2,33,6],[33,12,33,13],[34,2,34,6],[34,12,34,13],[41,2,41,6],[41,12,41,13],[42,2,42,6],[42,12,42,13],[43,2,43,6],[43,12,43,13],[38,2,38,6],[38,12,38,13],[39,2,39,6],[39,12,39,13],[40,2,40,6],[40,12,40,13],[49,2,49,8],[49,12,49,13],[47,2,47,6],[47,12,47,13],[44,2,44,6],[44,12,44,13],[45,2,45,6],[45,12,45,13],[46,2,46,6],[46,12,46,13],[53,2,53,6],[53,12,53,13],[54,2,54,6],[54,12,54,13],[55,2,55,6],[55,12,55,13],[51,2,51,6],[51,12,51,13],[52,2,52,6],[52,12,52,13],[59,2,59,6],[59,12,59,13],[60,2,60,6],[60,12,60,13],[61,2,61,6],[61,12,61,13],[56,2,56,6],[56,12,56,13],[57,2,57,6],[57,12,57,13],[58,2,58,6],[58,12,58,13],[65,2,65,6],[65,12,65,13],[66,2,66,6],[66,12,66,13],[62,2,62,6],[62,12,62,13],[63,2,63,6],[63,12,63,13],[64,2,64,6],[64,12,64,13],[71,2,71,6],[71,12,71,13],[72,2,72,6],[72,12,72,13],[73,2,73,6],[73,12,73,13],[68,2,68,8],[68,12,68,13],[70,2,70,6],[70,12,70,13],[77,2,77,6],[77,12,77,13],[78,2,78,6],[78,12,78,13],[79,2,79,6],[79,12,79,13],[74,2,74,6],[74,12,74,13],[75,2,75,6],[75,12,75,13],[76,2,76,6],[76,12,76,13],[87,2,87,8],[87,12,87,13],[83,2,83,6],[83,12,83,13],[84,2,84,6],[84,12,84,13],[85,2,85,6],[85,12,85,13],[80,2,80,6],[80,12,80,13],[81,2,81,6],[81,12,81,13],[82,2,82,6],[82,12,82,13],[92,2,92,6],[92,12,92,13],[93,2,93,6],[93,12,93,13],[94,2,94,6],[94,12,94,13],[89,2,89,6],[89,12,89,13],[90,2,90,6],[90,12,90,13],[91,2,91,6],[91,12,91,13],[98,2,98,6],[98,12,98,13],[99,2,99,6],[99,12,99,13],[100,2,100,6],[100,12,100,13],[95,2,95,6],[95,12,95,13],[96,2,96,6],[96,12,96,13],[97,2,97,6],[97,12,97,13],[106,2,106,8],[106,12,106,13],[104,2,104,6],[104,12,104,13],[101,2,101,6],[101,12,101,13],[102,2,102,6],[102,12,102,13],[103,2,103,6],[103,12,103,13],[110,2,110,6],[110,12,110,13],[111,2,111,6],[111,12,111,13],[112,2,112,6],[112,12,112,13],[108,2,108,6],[108,12,108,13],[109,2,109,6],[109,12,109,13],[116,2,116,6],[116,12,116,13],[117,2,117,6],[117,12,117,13],[118,2,118,6],[118,12,118,13],[113,2,113,6],[113,12,113,13],[114,2,114,6],[114,12,114,13],[115,2,115,6],[115,12,115,13],[122,2,122,6],[122,12,122,13],[123,2,123,6],[123,12,123,13],[119,2,119,6],[119,12,119,13],[120,2,120,6],[120,12,120,13],[121,2,121,6],[121,12,121,13],[128,2,128,6],[128,12,128,13],[129,2,129,6],[129,12,129,13],[130,2,130,6],[130,12,130,13],[125,2,125,8],[125,12,125,13],[127,2,127,6],[127,12,127,13],[134,2,134,6],[134,12,134,13],[135,2,135,6],[135,12,135,13],[136,2,136,6],[136,12,136,13],[131,2,131,6],[131,12,131,13],[132,2,132,6],[132,12,132,13],[133,2,133,6],[133,12,133,13],[140,12,140,13],[141,2,141,6],[141,12,141,13],[142,2,142,6],[142,12,142,13],[137,2,137,6],[137,12,137,13],[138,2,138,6],[138,12,138,13],[139,2,139,6],[139,12,139,13],[166,8,166,9],[152,2,152,6],[152,12,152,13],[153,2,153,6],[153,12,153,13],[154,2,154,6],[154,12,154,13],[149,2,149,6],[149,12,149,13],[150,2,150,6],[150,12,150,13],[151,2,151,6],[151,12,151,13],[161,12,161,13],[158,2,158,6],[158,12,158,13],[194,2,194,4],[194,5,194,7],[194,8,194,10],[194,11,194,13],[171,8,171,9],[170,4,170,7],[174,8,174,9],[175,8,175,9],[176,8,176,9],[177,8,177,9],[172,8,172,9],[173,8,173,9],[190,2,191,7],[184,2,184,7],[185,2,185,7],[179,8,179,9],[180,8,180,9],[181,8,181,9],[171,2,171,7],[172,2,172,7],[173,2,173,7],[174,2,174,7],[175,2,175,7],[189,8,189,9],[190,8,191,9],[190,10,191,10],[190,11,191,11],[186,4,187,7],[186,8,187,9],[184,8,184,9],[185,8,185,9],[167,10,168,10],[167,11,168,11],[167,8,168,9],[167,4,168,7],[186,10,187,10],[186,11,187,11],[183,8,183,9],[178,8,178,9],[182,8,182,9],[183,2,183,7],[176,2,176,7],[177,2,177,7],[178,2,178,7],[182,2,182,7],[180,2,180,7],[179,2,179,7],[181,2,181,7],[2,2,3,13],[28,2,28,6],[163,2,163,8],[163,12,163,13],[161,2,161,6],[159,2,159,6],[159,12,159,13],[160,2,160,6],[160,12,160,13],[155,2,155,6],[155,12,155,13],[156,2,156,6],[156,12,156,13],[157,2,157,6],[157,12,157,13],[146,2,146,6],[146,12,146,13],[147,2,147,6],[147,12,147,13],[148,2,148,6],[148,12,148,13],[144,2,144,8],[144,12,144,13],[140,2,140,6]]}
[]
[]
[null,null,"GENERAL CONDITIONS & SOFT COSTS"]
[]
[null,null,{"$f":"T(Street_Address)","v":"1234 N. Main St"}]
[]
[]
[null,null,{"$f":"T(City_State_Zip)","v":"Kansas City, MO 64116"}]
[]
[]
[null,null,"Client Information:",null,null,null,null,null,{"$f":"T(Company_Name)","v":"Test Company"}]
[]
[null,null,"Contact:",{"$f":"T(CLIENT_NAME)","v":"Test Client"},null,null,null,null,"Contact:",{"$f":"T(Company_Contact)","v":"Test Contact"}]
[null,null,"Phone #:",null,null,null,null,null,"Phone #:",{"$f":"Company_Phone","v":0}]
[null,null,"Email:",null,null,null,null,null,"Email:",{"$f":"T(Company_Email)","v":"Test@test.com"}]
[null,null,null,null,null,null,null,null,"Website",{"$f":"T(Company_Website)","v":""}]
[]
[null,null,"Total GCs & Soft Costs",null,null,"Input a brief executive summary of the project."]
[]
[null,null,{"$f":"I191","v":0}]
[]
[]
[null,null,{"$f":"IFERROR(C20/PROJECT_SIZE,)","v":0}]
[]
[null,null,"Breakdown by Work Type"]
[null,null,"LAB/EQUIP","MAT'L","SUB"]
[null,null,{"$f":"GCS!AE3","v":0},{"$f":"GCS!AJ3","v":0},{"$f":"GCS!AO3","v":0}]
[null,null,null,null,null,null,null,null,null,null,null,null,null,null,null,null,"Allocate Adders"]
[null,null,"GENERAL CONDITIONS"]
[null,null,null,null,null,null,null,null,null,"Totals",null,null,{"$f":"C20","v":0}]
[null,null,"Description of Work",null,null,null,null,"QTY","Unit","Lab","Mat'l","Sub","Total Cost",null,"SORTER"]
[]
[null,null,{"$f":"T(GCS!B6)","v":"OFFICE PERSONNEL"},null,null,null,null,{"$f":"SUM(H34:H48)","v":0},null,null,null,null,null,null,{"$f":"H33","v":0}]
[null,null,{"$f":"T(GCS!B7)","v":"Project Manager 1"},null,null,null,null,{"$f":"GCS!Q7","v":0},{"$f":"T(GCS!T7)","v":"hrs"},{"$f":"(GCS!AE7)","v":0},{"$f":"GCS!AJ7","v":0},{"$f":"GCS!AO7","v":0},{"$f":"GCS!AU7","v":0},null,0]
[null,null,{"$f":"T(GCS!B8)","v":"Project Manager 2"},null,null,null,null,{"$f":"GCS!Q8","v":0},{"$f":"T(GCS!T8)","v":"hrs"},{"$f":"(GCS!AE8)","v":0},{"$f":"GCS!AJ8","v":0},{"$f":"GCS!AO8","v":0},{"$f":"GCS!AU8","v":0},null,0]
[null,null,{"$f":"T(GCS!B9)","v":"Project Manager 3"},null,null,null,null,{"$f":"GCS!Q9","v":0},{"$f":"T(GCS!T9)","v":"hrs"},{"$f":"(GCS!AE9)","v":0},{"$f":"GCS!AJ9","v":0},{"$f":"GCS!AO9","v":0},{"$f":"GCS!AU9","v":0},null,0]
[null,null,{"$f":"T(GCS!B10)","v":"Project Engineer"},null,null,null,null,{"$f":"GCS!Q10","v":0},{"$f":"T(GCS!T10)","v":"hrs"},{"$f":"(GCS!AE10)","v":0},{"$f":"GCS!AJ10","v":0},{"$f":"GCS!AO10","v":0},{"$f":"GCS!AU10","v":0},null,0]
[null,null,{"$f":"T(GCS!B11)","v":"Project Designer"},null,null,null,null,{"$f":"GCS!Q11","v":0},{"$f":"T(GCS!T11)","v":"hrs"},{"$f":"(GCS!AE11)","v":0},{"$f":"GCS!AJ11","v":0},{"$f":"GCS!AO11","v":0},{"$f":"GCS!AU11","v":0},null,0]
[null,null,{"$f":"T(GCS!B12)","v":"Project Estimator"},null,null,null,null,{"$f":"GCS!Q12","v":0},{"$f":"T(GCS!T12)","v":"hrs"},{"$f":"(GCS!AE12)","v":0},{"$f":"GCS!AJ12","v":0},{"$f":"GCS!AO12","v":0},{"$f":"GCS!AU12","v":0},null,0]
[null,null,{"$f":"T(GCS!B13)","v":"Project Administrator"},null,null,null,null,{"$f":"GCS!Q13","v":0},{"$f":"T(GCS!T13)","v":"hrs"},{"$f":"(GCS!AE13)","v":0},{"$f":"GCS!AJ13","v":0},{"$f":"GCS!AO13","v":0},{"$f":"GCS!AU13","v":0},null,0]
[null,null,{"$f":"T(GCS!B14)","v":"Other Office Personnel 1"},null,null,null,null,{"$f":"GCS!Q14","v":0},{"$f":"T(GCS!T14)","v":"hrs"},{"$f":"(GCS!AE14)","v":0},{"$f":"GCS!AJ14","v":0},{"$f":"GCS!AO14","v":0},{"$f":"GCS!AU14","v":0},null,0]
[null,null,{"$f":"T(GCS!B15)","v":"Other Office Personnel 2"},null,null,null,null,{"$f":"GCS!Q15","v":0},{"$f":"T(GCS!T15)","v":"hrs"},{"$f":"(GCS!AE15)","v":0},{"$f":"GCS!AJ15","v":0},{"$f":"GCS!AO15","v":0},{"$f":"GCS!AU15","v":0},null,0]
[null,null,{"$f":"T(GCS!B16)","v":"Other Office Personnel 2"},null,null,null,null,{"$f":"GCS!Q16","v":0},{"$f":"T(GCS!T16)","v":"hrs"},{"$f":"(GCS!AE16)","v":0},{"$f":"GCS!AJ16","v":0},{"$f":"GCS!AO16","v":0},{"$f":"GCS!AU16","v":0},null,0]
[null,null,{"$f":"T(GCS!B17)","v":""},null,null,null,null,{"$f":"GCS!Q17","v":0},{"$f":"T(GCS!T17)","v":""},{"$f":"(GCS!AE17)","v":0},{"$f":"GCS!AJ17","v":0},{"$f":"GCS!AO17","v":0},{"$f":"GCS!AU17","v":0},null,0]
[null,null,{"$f":"T(GCS!B18)","v":""},null,null,null,null,{"$f":"GCS!Q18","v":0},{"$f":"T(GCS!T18)","v":""},{"$f":"(GCS!AE18)","v":0},{"$f":"GCS!AJ18","v":0},{"$f":"GCS!AO18","v":0},{"$f":"GCS!AU18","v":0},null,0]
[null,null,{"$f":"T(GCS!B19)","v":""},null,null,null,null,{"$f":"GCS!Q19","v":0},{"$f":"T(GCS!T19)","v":""},{"$f":"(GCS!AE19)","v":0},{"$f":"GCS!AJ19","v":0},{"$f":"GCS!AO19","v":0},{"$f":"GCS!AU19","v":0},null,0]
[null,null,{"$f":"T(GCS!B20)","v":""},null,null,null,null,{"$f":"GCS!Q20","v":0},{"$f":"T(GCS!T20)","v":""},{"$f":"(GCS!AE20)","v":0},{"$f":"GCS!AJ20","v":0},{"$f":"GCS!AO20","v":0},{"$f":"GCS!AU20","v":0},null,0]
[null,null,{"$f":"T(GCS!B21)","v":""},null,null,null,null,{"$f":"GCS!Q21","v":0},{"$f":"T(GCS!T21)","v":""},{"$f":"(GCS!AE21)","v":0},{"$f":"GCS!AJ21","v":0},{"$f":"GCS!AO21","v":0},{"$f":"GCS!AU21","v":0},null,0]
[null,null,null,null,null,null,null,null,null,null,null,null,null,null,{"$f":"O50","v":0}]
[null,null,{"$f":"CONCATENATE(C33,\" \",\"TOTAL\")","v":"OFFICE PERSONNEL TOTAL"},null,null,null,null,null,null,{"$f":"SUM(J34:J49)","v":0},{"$f":"SUM(K34:K49)","v":0},{"$f":"SUM(L34:L49)","v":0},{"$f":"SUM(M34:N49)","v":0},null,{"$f":"SUM(O33:O48)","v":0}]
[null,null,null,null,null,null,null,null,null,null,null,null,null,null,{"$f":"O50","v":0}]
[null,null,{"$f":"T(GCS!B25)","v":"FIELD PERSONNEL"},null,null,null,null,{"$f":"SUM(H53:H67)","v":0},null,null,null,null,null,null,{"$f":"H52","v":0}]
[null,null,{"$f":"T(GCS!B26)","v":"Superintendent 1"},null,null,null,null,{"$f":"GCS!Q26","v":0},{"$f":"T(GCS!T26)","v":"hrs"},{"$f":"(GCS!AE26)","v":0},{"$f":"GCS!AJ26","v":0},{"$f":"GCS!AO26","v":0},{"$f":"GCS!AU26","v":0},null,0]
[null,null,{"$f":"T(GCS!B27)","v":"Superintendent 2"},null,null,null,null,{"$f":"GCS!Q27","v":0},{"$f":"T(GCS!T27)","v":"hrs"},{"$f":"(GCS!AE27)","v":0},{"$f":"GCS!AJ27","v":0},{"$f":"GCS!AO27","v":0},{"$f":"GCS!AU27","v":0},null,0]
[null,null,{"$f":"T(GCS!B28)","v":"Superintendent 3"},null,null,null,null,{"$f":"GCS!Q28","v":0},{"$f":"T(GCS!T28)","v":"hrs"},{"$f":"(GCS!AE28)","v":0},{"$f":"GCS!AJ28","v":0},{"$f":"GCS!AO28","v":0},{"$f":"GCS!AU28","v":0},null,0]
[null,null,{"$f":"T(GCS!B29)","v":"Field Project Engineer"},null,null,null,null,{"$f":"GCS!Q29","v":0},{"$f":"T(GCS!T29)","v":"hrs"},{"$f":"(GCS!AE29)","v":0},{"$f":"GCS!AJ29","v":0},{"$f":"GCS!AO29","v":0},{"$f":"GCS!AU29","v":0},null,0]
[null,null,{"$f":"T(GCS!B30)","v":"Foreman"},null,null,null,null,{"$f":"GCS!Q30","v":0},{"$f":"T(GCS!T30)","v":"hrs"},{"$f":"(GCS!AE30)","v":0},{"$f":"GCS!AJ30","v":0},{"$f":"GCS!AO30","v":0},{"$f":"GCS!AU30","v":0},null,0]
[null,null,{"$f":"T(GCS!B31)","v":"Apprentice"},null,null,null,null,{"$f":"GCS!Q31","v":0},{"$f":"T(GCS!T31)","v":"hrs"},{"$f":"(GCS!AE31)","v":0},{"$f":"GCS!AJ31","v":0},{"$f":"GCS!AO31","v":0},{"$f":"GCS!AU31","v":0},null,0]
[null,null,{"$f":"T(GCS!B32)","v":"Other Field Personnel 1"},null,null,null,null,{"$f":"GCS!Q32","v":0},{"$f":"T(GCS!T32)","v":"hrs"},{"$f":"(GCS!AE32)","v":0},{"$f":"GCS!AJ32","v":0},{"$f":"GCS!AO32","v":0},{"$f":"GCS!AU32","v":0},null,0]
[null,null,{"$f":"T(GCS!B33)","v":"Other Field Personnel 2"},null,null,null,null,{"$f":"GCS!Q33","v":0},{"$f":"T(GCS!T33)","v":"hrs"},{"$f":"(GCS!AE33)","v":0},{"$f":"GCS!AJ33","v":0},{"$f":"GCS!AO33","v":0},{"$f":"GCS!AU33","v":0},null,0]
[null,null,{"$f":"T(GCS!B34)","v":"Other Field Personnel 3"},null,null,null,null,{"$f":"GCS!Q34","v":0},{"$f":"T(GCS!T34)","v":"hrs"},{"$f":"(GCS!AE34)","v":0},{"$f":"GCS!AJ34","v":0},{"$f":"GCS!AO34","v":0},{"$f":"GCS!AU34","v":0},null,0]
[null,null,{"$f":"T(GCS!B35)","v":""},null,null,null,null,{"$f":"GCS!Q35","v":0},{"$f":"T(GCS!T35)","v":""},{"$f":"(GCS!AE35)","v":0},{"$f":"GCS!AJ35","v":0},{"$f":"GCS!AO35","v":0},{"$f":"GCS!AU35","v":0},null,0]
[null,null,{"$f":"T(GCS!B36)","v":""},null,null,null,null,{"$f":"GCS!Q36","v":0},{"$f":"T(GCS!T36)","v":""},{"$f":"(GCS!AE36)","v":0},{"$f":"GCS!AJ36","v":0},{"$f":"GCS!AO36","v":0},{"$f":"GCS!AU36","v":0},null,0]
[null,null,{"$f":"T(GCS!B37)","v":""},null,null,null,null,{"$f":"GCS!Q37","v":0},{"$f":"T(GCS!T37)","v":""},{"$f":"(GCS!AE37)","v":0},{"$f":"GCS!AJ37","v":0},{"$f":"GCS!AO37","v":0},{"$f":"GCS!AU37","v":0},null,0]
[null,null,{"$f":"T(GCS!B38)","v":""},null,null,null,null,{"$f":"GCS!Q38","v":0},{"$f":"T(GCS!T38)","v":""},{"$f":"(GCS!AE38)","v":0},{"$f":"GCS!AJ38","v":0},{"$f":"GCS!AO38","v":0},{"$f":"GCS!AU38","v":0},null,0]
[null,null,{"$f":"T(GCS!B39)","v":""},null,null,null,null,{"$f":"GCS!Q39","v":0},{"$f":"T(GCS!T39)","v":""},{"$f":"(GCS!AE39)","v":0},{"$f":"GCS!AJ39","v":0},{"$f":"GCS!AO39","v":0},{"$f":"GCS!AU39","v":0},null,0]
[null,null,{"$f":"T(GCS!B40)","v":""},null,null,null,null,{"$f":"GCS!Q40","v":0},{"$f":"T(GCS!T40)","v":""},{"$f":"(GCS!AE40)","v":0},{"$f":"GCS!AJ40","v":0},{"$f":"GCS!AO40","v":0},{"$f":"GCS!AU40","v":0},null,0]
[null,null,null,null,null,null,null,null,null,null,null,null,null,null,{"$f":"O69","v":0}]
[null,null,{"$f":"CONCATENATE(C52,\" \",\"TOTAL\")","v":"FIELD PERSONNEL TOTAL"},null,null,null,null,null,null,{"$f":"SUM(J53:J68)","v":0},{"$f":"SUM(K53:K68)","v":0},{"$f":"SUM(L53:L68)","v":0},{"$f":"SUM(M53:N68)","v":0},null,{"$f":"SUM(O52:O67)","v":0}]
[null,null,null,null,null,null,null,null,null,null,null,null,null,null,{"$f":"O69","v":0}]
[null,null,{"$f":"T(GCS!B44)","v":"TEMPORARY UTILITIES"},null,null,null,null,{"$f":"SUM(H72:H86)","v":0},null,null,null,null,null,null,{"$f":"H71","v":0}]
[null,null,{"$f":"T(GCS!B45)","v":"Temporary Electrical Usage"},null,null,null,null,{"$f":"GCS!Q45","v":0},{"$f":"T(GCS!T45)","v":"months"},{"$f":"(GCS!AE45)","v":0},{"$f":"GCS!AJ45","v":0},{"$f":"GCS!AO45","v":0},{"$f":"GCS!AU45","v":0},null,0]
[null,null,{"$f":"T(GCS!B46)","v":"Temporary Gas"},null,null,null,null,{"$f":"GCS!Q46","v":0},{"$f":"T(GCS!T46)","v":"months"},{"$f":"(GCS!AE46)","v":0},{"$f":"GCS!AJ46","v":0},{"$f":"GCS!AO46","v":0},{"$f":"GCS!AU46","v":0},null,0]
[null,null,{"$f":"T(GCS!B47)","v":"Temporary Water"},null,null,null,null,{"$f":"GCS!Q47","v":0},{"$f":"T(GCS!T47)","v":"months"},{"$f":"(GCS!AE47)","v":0},{"$f":"GCS!AJ47","v":0},{"$f":"GCS!AO47","v":0},{"$f":"GCS!AU47","v":0},null,0]
[null,null,{"$f":"T(GCS!B48)","v":"Temporary Toilets"},null,null,null,null,{"$f":"GCS!Q48","v":0},{"$f":"T(GCS!T48)","v":"months"},{"$f":"(GCS!AE48)","v":0},{"$f":"GCS!AJ48","v":0},{"$f":"GCS!AO48","v":0},{"$f":"GCS!AU48","v":0},null,0]
[null,null,{"$f":"T(GCS!B49)","v":"Temporary Lighting"},null,null,null,null,{"$f":"GCS!Q49","v":0},{"$f":"T(GCS!T49)","v":"months"},{"$f":"(GCS!AE49)","v":0},{"$f":"GCS!AJ49","v":0},{"$f":"GCS!AO49","v":0},{"$f":"GCS!AU49","v":0},null,0]
[null,null,{"$f":"T(GCS!B50)","v":"Temporary Heat"},null,null,null,null,{"$f":"GCS!Q50","v":0},{"$f":"T(GCS!T50)","v":"months"},{"$f":"(GCS!AE50)","v":0},{"$f":"GCS!AJ50","v":0},{"$f":"GCS!AO50","v":0},{"$f":"GCS!AU50","v":0},null,0]
[null,null,{"$f":"T(GCS!B51)","v":""},null,null,null,null,{"$f":"GCS!Q51","v":0},{"$f":"T(GCS!T51)","v":""},{"$f":"(GCS!AE51)","v":0},{"$f":"GCS!AJ51","v":0},{"$f":"GCS!AO51","v":0},{"$f":"GCS!AU51","v":0},null,0]
[null,null,{"$f":"T(GCS!B52)","v":""},null,null,null,null,{"$f":"GCS!Q52","v":0},{"$f":"T(GCS!T52)","v":""},{"$f":"(GCS!AE52)","v":0},{"$f":"GCS!AJ52","v":0},{"$f":"GCS!AO52","v":0},{"$f":"GCS!AU52","v":0},null,0]
[null,null,{"$f":"T(GCS!B53)","v":""},null,null,null,null,{"$f":"GCS!Q53","v":0},{"$f":"T(GCS!T53)","v":""},{"$f":"(GCS!AE53)","v":0},{"$f":"GCS!AJ53","v":0},{"$f":"GCS!AO53","v":0},{"$f":"GCS!AU53","v":0},null,0]
[null,null,{"$f":"T(GCS!B54)","v":""},null,null,null,null,{"$f":"GCS!Q54","v":0},{"$f":"T(GCS!T54)","v":""},{"$f":"(GCS!AE54)","v":0},{"$f":"GCS!AJ54","v":0},{"$f":"GCS!AO54","v":0},{"$f":"GCS!AU54","v":0},null,0]
[null,null,{"$f":"T(GCS!B55)","v":""},null,null,null,null,{"$f":"GCS!Q55","v":0},{"$f":"T(GCS!T55)","v":""},{"$f":"(GCS!AE55)","v":0},{"$f":"GCS!AJ55","v":0},{"$f":"GCS!AO55","v":0},{"$f":"GCS!AU55","v":0},null,0]
[null,null,{"$f":"T(GCS!B56)","v":""},null,null,null,null,{"$f":"GCS!Q56","v":0},{"$f":"T(GCS!T56)","v":""},{"$f":"(GCS!AE56)","v":0},{"$f":"GCS!AJ56","v":0},{"$f":"GCS!AO56","v":0},{"$f":"GCS!AU56","v":0},null,0]
[null,null,{"$f":"T(GCS!B57)","v":""},null,null,null,null,{"$f":"GCS!Q57","v":0},{"$f":"T(GCS!T57)","v":""},{"$f":"(GCS!AE57)","v":0},{"$f":"GCS!AJ57","v":0},{"$f":"GCS!AO57","v":0},{"$f":"GCS!AU57","v":0},null,0]
[null,null,{"$f":"T(GCS!B58)","v":""},null,null,null,null,{"$f":"GCS!Q58","v":0},{"$f":"T(GCS!T58)","v":""},{"$f":"(GCS!AE58)","v":0},{"$f":"GCS!AJ58","v":0},{"$f":"GCS!AO58","v":0},{"$f":"GCS!AU58","v":0},null,0]
[null,null,{"$f":"T(GCS!B59)","v":""},null,null,null,null,{"$f":"GCS!Q59","v":0},{"$f":"T(GCS!T59)","v":""},{"$f":"(GCS!AE59)","v":0},{"$f":"GCS!AJ59","v":0},{"$f":"GCS!AO59","v":0},{"$f":"GCS!AU59","v":0},null,0]
[null,null,null,null,null,null,null,null,null,null,null,null,null,null,{"$f":"O88","v":0}]
[null,null,{"$f":"CONCATENATE(C71,\" \",\"TOTAL\")","v":"TEMPORARY UTILITIES TOTAL"},null,null,null,null,null,null,{"$f":"SUM(J72:J87)","v":0},{"$f":"SUM(K72:K87)","v":0},{"$f":"SUM(L72:L87)","v":0},{"$f":"SUM(M72:N87)","v":0},null,{"$f":"SUM(O71:O86)","v":0}]
[null,null,null,null,null,null,null,null,null,null,null,null,null,null,{"$f":"O88","v":0}]
[null,null,{"$f":"T(GCS!B63)","v":"TEMPORARY PROJECT REQUIREMENTS"},null,null,null,null,{"$f":"SUM(H91:H105)","v":0},null,null,null,null,null,null,{"$f":"H90","v":0}]
[null,null,{"$f":"T(GCS!B64)","v":"Office trailer, place & remove"},null,null,null,null,{"$f":"GCS!Q64","v":0},{"$f":"T(GCS!T64)","v":"ea"},{"$f":"(GCS!AE64)","v":0},{"$f":"GCS!AJ64","v":0},{"$f":"GCS!AO64","v":0},{"$f":"GCS!AU64","v":0},null,0]
[null,null,{"$f":"T(GCS!B65)","v":"Office trailer rental"},null,null,null,null,{"$f":"GCS!Q65","v":0},{"$f":"T(GCS!T65)","v":"months"},{"$f":"(GCS!AE65)","v":0},{"$f":"GCS!AJ65","v":0},{"$f":"GCS!AO65","v":0},{"$f":"GCS!AU65","v":0},null,0]
[null,null,{"$f":"T(GCS!B66)","v":"Storage container, place & remove"},null,null,null,null,{"$f":"GCS!Q66","v":0},{"$f":"T(GCS!T66)","v":"ea"},{"$f":"(GCS!AE66)","v":0},{"$f":"GCS!AJ66","v":0},{"$f":"GCS!AO66","v":0},{"$f":"GCS!AU66","v":0},null,0]
[null,null,{"$f":"T(GCS!B67)","v":"Storage container rental"},null,null,null,null,{"$f":"GCS!Q67","v":0},{"$f":"T(GCS!T67)","v":"months"},{"$f":"(GCS!AE67)","v":0},{"$f":"GCS!AJ67","v":0},{"$f":"GCS!AO67","v":0},{"$f":"GCS!AU67","v":0},null,0]
[null,null,{"$f":"T(GCS!B68)","v":"Scaffolding, place & remove"},null,null,null,null,{"$f":"GCS!Q68","v":0},{"$f":"T(GCS!T68)","v":"months"},{"$f":"(GCS!AE68)","v":0},{"$f":"GCS!AJ68","v":0},{"$f":"GCS!AO68","v":0},{"$f":"GCS!AU68","v":0},null,0]
[null,null,{"$f":"T(GCS!B69)","v":"Scaffolding rental"},null,null,null,null,{"$f":"GCS!Q69","v":0},{"$f":"T(GCS!T69)","v":"months"},{"$f":"(GCS!AE69)","v":0},{"$f":"GCS!AJ69","v":0},{"$f":"GCS!AO69","v":0},{"$f":"GCS!AU69","v":0},null,0]
[null,null,{"$f":"T(GCS!B70)","v":"Temporary Fencing"},null,null,null,null,{"$f":"GCS!Q70","v":0},{"$f":"T(GCS!T70)","v":"lf"},{"$f":"(GCS!AE70)","v":0},{"$f":"GCS!AJ70","v":0},{"$f":"GCS!AO70","v":0},{"$f":"GCS!AU70","v":0},null,0]
[null,null,{"$f":"T(GCS!B71)","v":"Zip-wall, plastic partitions"},null,null,null,null,{"$f":"GCS!Q71","v":0},{"$f":"T(GCS!T71)","v":"lf"},{"$f":"(GCS!AE71)","v":0},{"$f":"GCS!AJ71","v":0},{"$f":"GCS!AO71","v":0},{"$f":"GCS!AU71","v":0},null,0]
[null,null,{"$f":"T(GCS!B72)","v":"Temporary drywall partitions"},null,null,null,null,{"$f":"GCS!Q72","v":0},{"$f":"T(GCS!T72)","v":"lf"},{"$f":"(GCS!AE72)","v":0},{"$f":"GCS!AJ72","v":0},{"$f":"GCS!AO72","v":0},{"$f":"GCS!AU72","v":0},null,0]
[null,null,{"$f":"T(GCS!B73)","v":"Temporary floor protection, RAM board"},null,null,null,null,{"$f":"GCS!Q73","v":0},{"$f":"T(GCS!T73)","v":"sf"},{"$f":"(GCS!AE73)","v":0},{"$f":"GCS!AJ73","v":0},{"$f":"GCS!AO73","v":0},{"$f":"GCS!AU73","v":0},null,0]
[null,null,{"$f":"T(GCS!B74)","v":"Miscellaneous coverings/protections"},null,null,null,null,{"$f":"GCS!Q74","v":0},{"$f":"T(GCS!T74)","v":"sf"},{"$f":"(GCS!AE74)","v":0},{"$f":"GCS!AJ74","v":0},{"$f":"GCS!AO74","v":0},{"$f":"GCS!AU74","v":0},null,0]
[null,null,{"$f":"T(GCS!B75)","v":""},null,null,null,null,{"$f":"GCS!Q75","v":0},{"$f":"T(GCS!T75)","v":""},{"$f":"(GCS!AE75)","v":0},{"$f":"GCS!AJ75","v":0},{"$f":"GCS!AO75","v":0},{"$f":"GCS!AU75","v":0},null,0]
[null,null,{"$f":"T(GCS!B76)","v":""},null,null,null,null,{"$f":"GCS!Q76","v":0},{"$f":"T(GCS!T76)","v":""},{"$f":"(GCS!AE76)","v":0},{"$f":"GCS!AJ76","v":0},{"$f":"GCS!AO76","v":0},{"$f":"GCS!AU76","v":0},null,0]
[null,null,{"$f":"T(GCS!B77)","v":""},null,null,null,null,{"$f":"GCS!Q77","v":0},{"$f":"T(GCS!T77)","v":""},{"$f":"(GCS!AE77)","v":0},{"$f":"GCS!AJ77","v":0},{"$f":"GCS!AO77","v":0},{"$f":"GCS!AU77","v":0},null,0]
[null,null,{"$f":"T(GCS!B78)","v":""},null,null,null,null,{"$f":"GCS!Q78","v":0},{"$f":"T(GCS!T78)","v":""},{"$f":"(GCS!AE78)","v":0},{"$f":"GCS!AJ78","v":0},{"$f":"GCS!AO78","v":0},{"$f":"GCS!AU78","v":0},null,0]
[null,null,null,null,null,null,null,null,null,null,null,null,null,null,{"$f":"O107","v":0}]
[null,null,{"$f":"CONCATENATE(C90,\" \",\"TOTAL\")","v":"TEMPORARY PROJECT REQUIREMENTS TOTAL"},null,null,null,null,null,null,{"$f":"SUM(J91:J106)","v":0},{"$f":"SUM(K91:K106)","v":0},{"$f":"SUM(L91:L106)","v":0},{"$f":"SUM(M91:N106)","v":0},null,{"$f":"SUM(O90:O105)","v":0}]
[null,null,null,null,null,null,null,null,null,null,null,null,null,null,{"$f":"O107","v":0}]
[null,null,{"$f":"T(GCS!B82)","v":"EQUIPMENT"},null,null,null,null,{"$f":"SUM(H110:H124)","v":0},null,null,null,null,null,null,{"$f":"H109","v":0}]
[null,null,{"$f":"T(GCS!B83)","v":"Flatbed truck"},null,null,null,null,{"$f":"GCS!Q83","v":0},{"$f":"T(GCS!T83)","v":"hrs"},{"$f":"(GCS!AE83)","v":0},{"$f":"GCS!AJ83","v":0},{"$f":"GCS!AO83","v":0},{"$f":"GCS!AU83","v":0},null,0]
[null,null,{"$f":"T(GCS!B84)","v":"Skid steer loader, Bobcat"},null,null,null,null,{"$f":"GCS!Q84","v":0},{"$f":"T(GCS!T84)","v":"hrs"},{"$f":"(GCS!AE84)","v":0},{"$f":"GCS!AJ84","v":0},{"$f":"GCS!AO84","v":0},{"$f":"GCS!AU84","v":0},null,0]
[null,null,{"$f":"T(GCS!B85)","v":"Generators"},null,null,null,null,{"$f":"GCS!Q85","v":0},{"$f":"T(GCS!T85)","v":"hrs"},{"$f":"(GCS!AE85)","v":0},{"$f":"GCS!AJ85","v":0},{"$f":"GCS!AO85","v":0},{"$f":"GCS!AU85","v":0},null,0]
[null,null,{"$f":"T(GCS!B86)","v":"Space heater"},null,null,null,null,{"$f":"GCS!Q86","v":0},{"$f":"T(GCS!T86)","v":"hrs"},{"$f":"(GCS!AE86)","v":0},{"$f":"GCS!AJ86","v":0},{"$f":"GCS!AO86","v":0},{"$f":"GCS!AU86","v":0},null,0]
[null,null,{"$f":"T(GCS!B87)","v":"Air Compressors"},null,null,null,null,{"$f":"GCS!Q87","v":0},{"$f":"T(GCS!T87)","v":"hrs"},{"$f":"(GCS!AE87)","v":0},{"$f":"GCS!AJ87","v":0},{"$f":"GCS!AO87","v":0},{"$f":"GCS!AU87","v":0},null,0]
[null,null,{"$f":"T(GCS!B88)","v":""},null,null,null,null,{"$f":"GCS!Q88","v":0},{"$f":"T(GCS!T88)","v":""},{"$f":"(GCS!AE88)","v":0},{"$f":"GCS!AJ88","v":0},{"$f":"GCS!AO88","v":0},{"$f":"GCS!AU88","v":0},null,0]
[null,null,{"$f":"T(GCS!B89)","v":""},null,null,null,null,{"$f":"GCS!Q89","v":0},{"$f":"T(GCS!T89)","v":""},{"$f":"(GCS!AE89)","v":0},{"$f":"GCS!AJ89","v":0},{"$f":"GCS!AO89","v":0},{"$f":"GCS!AU89","v":0},null,0]
[null,null,{"$f":"T(GCS!B90)","v":""},null,null,null,null,{"$f":"GCS!Q90","v":0},{"$f":"T(GCS!T90)","v":""},{"$f":"(GCS!AE90)","v":0},{"$f":"GCS!AJ90","v":0},{"$f":"GCS!AO90","v":0},{"$f":"GCS!AU90","v":0},null,0]
[null,null,{"$f":"T(GCS!B91)","v":""},null,null,null,null,{"$f":"GCS!Q91","v":0},{"$f":"T(GCS!T91)","v":""},{"$f":"(GCS!AE91)","v":0},{"$f":"GCS!AJ91","v":0},{"$f":"GCS!AO91","v":0},{"$f":"GCS!AU91","v":0},null,0]
[null,null,{"$f":"T(GCS!B92)","v":""},null,null,null,null,{"$f":"GCS!Q92","v":0},{"$f":"T(GCS!T92)","v":""},{"$f":"(GCS!AE92)","v":0},{"$f":"GCS!AJ92","v":0},{"$f":"GCS!AO92","v":0},{"$f":"GCS!AU92","v":0},null,0]
[null,null,{"$f":"T(GCS!B93)","v":""},null,null,null,null,{"$f":"GCS!Q93","v":0},{"$f":"T(GCS!T93)","v":""},{"$f":"(GCS!AE93)","v":0},{"$f":"GCS!AJ93","v":0},{"$f":"GCS!AO93","v":0},{"$f":"GCS!AU93","v":0},null,0]
[null,null,{"$f":"T(GCS!B94)","v":""},null,null,null,null,{"$f":"GCS!Q94","v":0},{"$f":"T(GCS!T94)","v":""},{"$f":"(GCS!AE94)","v":0},{"$f":"GCS!AJ94","v":0},{"$f":"GCS!AO94","v":0},{"$f":"GCS!AU94","v":0},null,0]
[null,null,{"$f":"T(GCS!B95)","v":""},null,null,null,null,{"$f":"GCS!Q95","v":0},{"$f":"T(GCS!T95)","v":""},{"$f":"(GCS!AE95)","v":0},{"$f":"GCS!AJ95","v":0},{"$f":"GCS!AO95","v":0},{"$f":"GCS!AU95","v":0},null,0]
[null,null,{"$f":"T(GCS!B96)","v":""},null,null,null,null,{"$f":"GCS!Q96","v":0},{"$f":"T(GCS!T96)","v":""},{"$f":"(GCS!AE96)","v":0},{"$f":"GCS!AJ96","v":0},{"$f":"GCS!AO96","v":0},{"$f":"GCS!AU96","v":0},null,0]
[null,null,{"$f":"T(GCS!B97)","v":""},null,null,null,null,{"$f":"GCS!Q97","v":0},{"$f":"T(GCS!T97)","v":""},{"$f":"(GCS!AE97)","v":0},{"$f":"GCS!AJ97","v":0},{"$f":"GCS!AO97","v":0},{"$f":"GCS!AU97","v":0},null,0]
[null,null,null,null,null,null,null,null,null,null,null,null,null,null,{"$f":"O126","v":0}]
[null,null,{"$f":"CONCATENATE(C109,\" \",\"TOTAL\")","v":"EQUIPMENT TOTAL"},null,null,null,null,null,null,{"$f":"SUM(J110:J125)","v":0},{"$f":"SUM(K110:K125)","v":0},{"$f":"SUM(L110:L125)","v":0},{"$f":"SUM(M110:N125)","v":0},null,{"$f":"SUM(O109:O124)","v":0}]
[null,null,null,null,null,null,null,null,null,null,null,null,null,null,{"$f":"O126","v":0}]
[null,null,{"$f":"T(GCS!B101)","v":"CLEAN-UP"},null,null,null,null,{"$f":"SUM(H129:H143)","v":0},null,null,null,null,null,null,{"$f":"H128","v":0}]
[null,null,{"$f":"T(GCS!B102)","v":"General Clean-Up"},null,null,null,null,{"$f":"GCS!Q102","v":0},{"$f":"T(GCS!T102)","v":"weeks"},{"$f":"(GCS!AE102)","v":0},{"$f":"GCS!AJ102","v":0},{"$f":"GCS!AO102","v":0},{"$f":"GCS!AU102","v":0},null,0]
[null,null,{"$f":"T(GCS!B103)","v":"Final Clean-Up"},null,null,null,null,{"$f":"GCS!Q103","v":0},{"$f":"T(GCS!T103)","v":"hrs"},{"$f":"(GCS!AE103)","v":0},{"$f":"GCS!AJ103","v":0},{"$f":"GCS!AO103","v":0},{"$f":"GCS!AU103","v":0},null,0]
[null,null,{"$f":"T(GCS!B104)","v":"Dumpsters"},null,null,null,null,{"$f":"GCS!Q104","v":0},{"$f":"T(GCS!T104)","v":"ea"},{"$f":"(GCS!AE104)","v":0},{"$f":"GCS!AJ104","v":0},{"$f":"GCS!AO104","v":0},{"$f":"GCS!AU104","v":0},null,0]
[null,null,{"$f":"T(GCS!B105)","v":""},null,null,null,null,{"$f":"GCS!Q105","v":0},{"$f":"T(GCS!T105)","v":""},{"$f":"(GCS!AE105)","v":0},{"$f":"GCS!AJ105","v":0},{"$f":"GCS!AO105","v":0},{"$f":"GCS!AU105","v":0},null,0]
[null,null,{"$f":"T(GCS!B106)","v":""},null,null,null,null,{"$f":"GCS!Q106","v":0},{"$f":"T(GCS!T106)","v":""},{"$f":"(GCS!AE106)","v":0},{"$f":"GCS!AJ106","v":0},{"$f":"GCS!AO106","v":0},{"$f":"GCS!AU106","v":0},null,0]
[null,null,{"$f":"T(GCS!B107)","v":""},null,null,null,null,{"$f":"GCS!Q107","v":0},{"$f":"T(GCS!T107)","v":""},{"$f":"(GCS!AE107)","v":0},{"$f":"GCS!AJ107","v":0},{"$f":"GCS!AO107","v":0},{"$f":"GCS!AU107","v":0},null,0]
[null,null,{"$f":"T(GCS!B108)","v":""},null,null,null,null,{"$f":"GCS!Q108","v":0},{"$f":"T(GCS!T108)","v":""},{"$f":"(GCS!AE108)","v":0},{"$f":"GCS!AJ108","v":0},{"$f":"GCS!AO108","v":0},{"$f":"GCS!AU108","v":0},null,0]
[null,null,{"$f":"T(GCS!B109)","v":""},null,null,null,null,{"$f":"GCS!Q109","v":0},{"$f":"T(GCS!T109)","v":""},{"$f":"(GCS!AE109)","v":0},{"$f":"GCS!AJ109","v":0},{"$f":"GCS!AO109","v":0},{"$f":"GCS!AU109","v":0},null,0]
[null,null,{"$f":"T(GCS!B110)","v":""},null,null,null,null,{"$f":"GCS!Q110","v":0},{"$f":"T(GCS!T110)","v":""},{"$f":"(GCS!AE110)","v":0},{"$f":"GCS!AJ110","v":0},{"$f":"GCS!AO110","v":0},{"$f":"GCS!AU110","v":0},null,0]
[null,null,{"$f":"T(GCS!B111)","v":""},null,null,null,null,{"$f":"GCS!Q111","v":0},{"$f":"T(GCS!T111)","v":""},{"$f":"(GCS!AE111)","v":0},{"$f":"GCS!AJ111","v":0},{"$f":"GCS!AO111","v":0},{"$f":"GCS!AU111","v":0},null,0]
[null,null,{"$f":"T(GCS!B112)","v":""},null,null,null,null,{"$f":"GCS!Q112","v":0},{"$f":"T(GCS!T112)","v":""},{"$f":"(GCS!AE112)","v":0},{"$f":"GCS!AJ112","v":0},{"$f":"GCS!AO112","v":0},{"$f":"GCS!AU112","v":0},null,0]
[null,null,{"$f":"T(GCS!B113)","v":""},null,null,null,null,{"$f":"GCS!Q113","v":0},{"$f":"T(GCS!T113)","v":""},{"$f":"(GCS!AE113)","v":0},{"$f":"GCS!AJ113","v":0},{"$f":"GCS!AO113","v":0},{"$f":"GCS!AU113","v":0},null,0]
[null,null,{"$f":"T(GCS!B114)","v":""},null,null,null,null,{"$f":"GCS!Q114","v":0},{"$f":"T(GCS!T114)","v":""},{"$f":"(GCS!AE114)","v":0},{"$f":"GCS!AJ114","v":0},{"$f":"GCS!AO114","v":0},{"$f":"GCS!AU114","v":0},null,0]
[null,null,{"$f":"T(GCS!B115)","v":""},null,null,null,null,{"$f":"GCS!Q115","v":0},{"$f":"T(GCS!T115)","v":""},{"$f":"(GCS!AE115)","v":0},{"$f":"GCS!AJ115","v":0},{"$f":"GCS!AO115","v":0},{"$f":"GCS!AU115","v":0},null,0]
[null,null,{"$f":"T(GCS!B116)","v":""},null,null,null,null,{"$f":"GCS!Q116","v":0},{"$f":"T(GCS!T116)","v":""},{"$f":"(GCS!AE116)","v":0},{"$f":"GCS!AJ116","v":0},{"$f":"GCS!AO116","v":0},{"$f":"GCS!AU116","v":0},null,0]
[null,null,null,null,null,null,null,null,null,null,null,null,null,null,{"$f":"O145","v":0}]
[null,null,{"$f":"CONCATENATE(C128,\" \",\"TOTAL\")","v":"CLEAN-UP TOTAL"},null,null,null,null,null,null,{"$f":"SUM(J129:J144)","v":0},{"$f":"SUM(K129:K144)","v":0},{"$f":"SUM(L129:L144)","v":0},{"$f":"SUM(M129:N144)","v":0},null,{"$f":"SUM(O128:O143)","v":0}]
[null,null,null,null,null,null,null,null,null,null,null,null,null,null,{"$f":"O145","v":0}]
[null,null,{"$f":"T(GCS!B120)","v":"OTHER"},null,null,null,null,{"$f":"SUM(H148:H162)","v":0},null,null,null,null,null,null,{"$f":"H147","v":0}]
[null,null,{"$f":"T(GCS!B121)","v":""},null,null,null,null,{"$f":"GCS!Q121","v":0},{"$f":"T(GCS!T121)","v":""},{"$f":"(GCS!AE121)","v":0},{"$f":"GCS!AJ121","v":0},{"$f":"GCS!AO121","v":0},{"$f":"GCS!AU121","v":0},null,0]
[null,null,{"$f":"T(GCS!B122)","v":""},null,null,null,null,{"$f":"GCS!Q122","v":0},{"$f":"T(GCS!T122)","v":""},{"$f":"(GCS!AE122)","v":0},{"$f":"GCS!AJ122","v":0},{"$f":"GCS!AO122","v":0},{"$f":"GCS!AU122","v":0},null,0]
[null,null,{"$f":"T(GCS!B123)","v":""},null,null,null,null,{"$f":"GCS!Q123","v":0},{"$f":"T(GCS!T123)","v":""},{"$f":"(GCS!AE123)","v":0},{"$f":"GCS!AJ123","v":0},{"$f":"GCS!AO123","v":0},{"$f":"GCS!AU123","v":0},null,0]
[null,null,{"$f":"T(GCS!B124)","v":""},null,null,null,null,{"$f":"GCS!Q124","v":0},{"$f":"T(GCS!T124)","v":""},{"$f":"(GCS!AE124)","v":0},{"$f":"GCS!AJ124","v":0},{"$f":"GCS!AO124","v":0},{"$f":"GCS!AU124","v":0},null,0]
[null,null,{"$f":"T(GCS!B125)","v":""},null,null,null,null,{"$f":"GCS!Q125","v":0},{"$f":"T(GCS!T125)","v":""},{"$f":"(GCS!AE125)","v":0},{"$f":"GCS!AJ125","v":0},{"$f":"GCS!AO125","v":0},{"$f":"GCS!AU125","v":0},null,0]
[null,null,{"$f":"T(GCS!B126)","v":""},null,null,null,null,{"$f":"GCS!Q126","v":0},{"$f":"T(GCS!T126)","v":""},{"$f":"(GCS!AE126)","v":0},{"$f":"GCS!AJ126","v":0},{"$f":"GCS!AO126","v":0},{"$f":"GCS!AU126","v":0},null,0]
[null,null,{"$f":"T(GCS!B127)","v":""},null,null,null,null,{"$f":"GCS!Q127","v":0},{"$f":"T(GCS!T127)","v":""},{"$f":"(GCS!AE127)","v":0},{"$f":"GCS!AJ127","v":0},{"$f":"GCS!AO127","v":0},{"$f":"GCS!AU127","v":0},null,0]
[null,null,{"$f":"T(GCS!B128)","v":""},null,null,null,null,{"$f":"GCS!Q128","v":0},{"$f":"T(GCS!T128)","v":""},{"$f":"(GCS!AE128)","v":0},{"$f":"GCS!AJ128","v":0},{"$f":"GCS!AO128","v":0},{"$f":"GCS!AU128","v":0},null,0]
[null,null,{"$f":"T(GCS!B129)","v":""},null,null,null,null,{"$f":"GCS!Q129","v":0},{"$f":"T(GCS!T129)","v":""},{"$f":"(GCS!AE129)","v":0},{"$f":"GCS!AJ129","v":0},{"$f":"GCS!AO129","v":0},{"$f":"GCS!AU129","v":0},null,0]
[null,null,{"$f":"T(GCS!B130)","v":""},null,null,null,null,{"$f":"GCS!Q130","v":0},{"$f":"T(GCS!T130)","v":""},{"$f":"(GCS!AE130)","v":0},{"$f":"GCS!AJ130","v":0},{"$f":"GCS!AO130","v":0},{"$f":"GCS!AU130","v":0},null,0]
[null,null,{"$f":"T(GCS!B131)","v":""},null,null,null,null,{"$f":"GCS!Q131","v":0},{"$f":"T(GCS!T131)","v":""},{"$f":"(GCS!AE131)","v":0},{"$f":"GCS!AJ131","v":0},{"$f":"GCS!AO131","v":0},{"$f":"GCS!AU131","v":0},null,0]
[null,null,{"$f":"T(GCS!B132)","v":""},null,null,null,null,{"$f":"GCS!Q132","v":0},{"$f":"T(GCS!T132)","v":""},{"$f":"(GCS!AE132)","v":0},{"$f":"GCS!AJ132","v":0},{"$f":"GCS!AO132","v":0},{"$f":"GCS!AU132","v":0},null,0]
[null,null,{"$f":"T(GCS!B133)","v":""},null,null,null,null,{"$f":"GCS!Q133","v":0},{"$f":"T(GCS!T133)","v":""},{"$f":"(GCS!AE133)","v":0},{"$f":"GCS!AJ133","v":0},{"$f":"GCS!AO133","v":0},{"$f":"GCS!AU133","v":0},null,0]
[null,null,{"$f":"T(GCS!B134)","v":""},null,null,null,null,{"$f":"GCS!Q134","v":0},{"$f":"T(GCS!T134)","v":""},{"$f":"(GCS!AE134)","v":0},{"$f":"GCS!AJ134","v":0},{"$f":"GCS!AO134","v":0},{"$f":"GCS!AU134","v":0},null,0]
[null,null,{"$f":"T(GCS!B135)","v":""},null,null,null,null,{"$f":"GCS!Q135","v":0},{"$f":"T(GCS!T135)","v":""},{"$f":"(GCS!AE135)","v":0},{"$f":"GCS!AJ135","v":0},{"$f":"GCS!AO135","v":0},{"$f":"GCS!AU135","v":0},null,0]
[null,null,null,null,null,null,null,null,null,null,null,null,null,null,{"$f":"O164","v":0}]
[null,null,{"$f":"CONCATENATE(C147,\" \",\"TOTAL\")","v":"OTHER TOTAL"},null,null,null,null,null,null,{"$f":"SUM(J148:J163)","v":0},{"$f":"SUM(K148:K163)","v":0},{"$f":"SUM(L148:L163)","v":0},{"$f":"SUM(M148:N163)","v":0},null,{"$f":"SUM(O147:O162)","v":0}]
[null,null,null,null,null,null,null,null,null,null,null,null,null,null,{"$f":"O164","v":0}]
[]
[null,null,null,null,null,null,null,null,"total",null,"$/sf","% of cost"]
[null,null,null,null,"TOTAL GENERAL CONDITIONS",null,null,null,{"$f":"ADDERS!AN10","v":0},null,{"$f":"IFERROR(I168/PROJECT_SIZE,0)","v":0},{"$f":"IFERROR(I168/Total_Detailed_Estimate,0)","v":0}]
[]
[]
[null,null,null,null,"OTHER SOFT COSTS:"]
[null,null,{"$f":"T(ADDERS!J12)","v":"Building Permit (Lump Sum)"},null,null,null,null,null,{"$f":"ADDERS!AW13","v":0},null,{"$f":"IFERROR(I172/PROJECT_SIZE,0)","v":0},{"$f":"IFERROR(I172/Total_Detailed_Estimate,0)","v":0}]
[null,null,{"$f":"T(ADDERS!J15)","v":"Estimating Contingency (% of Subtotal Estimate)"},null,null,null,null,null,{"$f":"ADDERS!AW16","v":0},null,0,0]
[null,null,{"$f":"T(ADDERS!J18)","v":"Construction Contingency (% of Subtotal Estimate)"},null,null,null,null,null,{"$f":"ADDERS!AW19","v":0},null,0,0]
[null,null,{"$f":"T(ADDERS!J21)","v":"Remodeling Tax (% of Subtotal Estimate)"},null,null,null,null,null,{"$f":"ADDERS!AW22","v":0},null,0,0]
[null,null,{"$f":"T(ADDERS!J24)","v":"Warranty (% of Subtotal Estimate)"},null,null,null,null,null,{"$f":"ADDERS!AW25","v":0},null,0,0]
[null,null,{"$f":"T(ADDERS!J27)","v":"General Liability Insurance (% of Subtotal Estimate)"},null,null,null,null,null,{"$f":"ADDERS!AW28","v":0},null,0,0]
[null,null,{"$f":"T(ADDERS!J30)","v":"Builder's Risk Insurance (% of Subtotal Estimate)"},null,null,null,null,null,{"$f":"ADDERS!AW31","v":0},null,0,0]
[null,null,{"$f":"T(ADDERS!J33)","v":"Contractor's Profit (% of Subtotal Estimate)"},null,null,null,null,null,{"$f":"ADDERS!AW34","v":0},null,0,0]
[null,null,{"$f":"T(ADDERS!J36)","v":"Labor Markup (% of Labor Total)"},null,null,null,null,null,{"$f":"ADDERS!AW37","v":0},null,0,0]
[null,null,{"$f":"T(ADDERS!J39)","v":"Material Markup (% of Material Total)"},null,null,null,null,null,{"$f":"ADDERS!AW40","v":0},null,0,0]
[null,null,{"$f":"T(ADDERS!J42)","v":"Subcontractor  Markup (% of Sub Total)"},null,null,null,null,null,{"$f":"ADDERS!AW43","v":0},null,0,0]
[null,null,{"$f":"T(ADDERS!J45)","v":"P & P Bond (% of Subtotal Estimate)"},null,null,null,null,null,{"$f":"ADDERS!AW46","v":0},null,0,0]
[null,null,{"$f":"T(ADDERS!J48)","v":"Other 1"},null,null,null,null,null,{"$f":"ADDERS!AW49","v":0},null,0,0]
[null,null,{"$f":"T(ADDERS!J51)","v":"Other 2"},null,null,null,null,null,{"$f":"ADDERS!AW52","v":0},null,0,0]
[null,null,{"$f":"T(ADDERS!J54)","v":"Other 3"},null,null,null,null,null,{"$f":"ADDERS!AW55","v":0},null,0,0]
[null,null,null,null,"TOTAL OTHER SOFT COSTS",null,null,null,{"$f":"SUM(I172:J186)","v":0},null,{"$f":"IFERROR(I187/PROJECT_SIZE,0)","v":0},0]
[null,null,null,null,null,null,null,null,null,null,null,0]
[]
[null,null,null,null,null,null,null,null,"total",null,"$/sf","% of cost"]
[null,null,"TOTAL GENERAL CONDITIONS & SOFT COSTS",null,null,null,null,null,{"$f":"I168+I187","v":0},null,{"$f":"IFERROR(I191/PROJECT_SIZE,0)","v":0},{"$f":"IFERROR(I191/Total_Detailed_Estimate,0)","v":0}]
[null,null,null,null,null,null,null,null,null,null,null,{"$f":"IFERROR(I192/Total_Detailed_Estimate,0)","v":0}]
[]
[]
[null,null,{"$f":"T(Company_Name)","v":"Test Company"},null,null,{"$f":"(Company_Phone)","v":0},null,null,{"$f":"T(Company_Email)","v":"Test@test.com"},null,null,{"$f":"T(Company_Website)","v":""}]
[null,null,"© 2017 by RemodelCostSpreadsheet.com. All rights reserved"]